Back
From: metabase:user:320bfe00-2aae-11df-837a-5e0a49663a4f
Subject: PASS Router-Generic-0.021 v5.8.5 GNU/Linux
Date: 2015-04-19T04:14:08Z
This distribution has been tested as part of the CPAN Testers
project, supporting the Perl programming language. See
http://wiki.cpantesters.org/ for more information or email
questions to cpan-testers-discuss@perl.org
--
Dear John Drago,
This is a computer-generated report for Router-Generic-0.021
on perl 5.8.5, created by CPAN-Reporter-1.2014.
Thank you for uploading your work to CPAN. Congratulations!
All tests were successful.
Sections of this report:
* Tester comments
* Program output
* Prerequisites
* Environment and other context
------------------------------
TESTER COMMENTS
------------------------------
Additional comments from tester:
this report is from an automated smoke testing program
and was not reviewed by a human for accuracy
------------------------------
PROGRAM OUTPUT
------------------------------
Output from '/usr/bin/make test':
PERL_DL_NONLAZY=1 "/tmp/basesmoker-reloperl-ZLSm/bin/perl" "-MExtUtils::Command::MM" "-MTest::Harness" "-e" "undef *Test::Harness::Switches; test_harness(0, 'inc', 'blib/lib', 'blib/arch')" t/010-basic/*.t
t/010-basic/010-compile.t .... ok
t/010-basic/020-grammar.t .... ok
add_route: 1/1000
add_route: 2/1000
add_route: 3/1000
add_route: 4/1000
add_route: 5/1000
add_route: 6/1000
add_route: 7/1000
add_route: 8/1000
add_route: 9/1000
add_route: 10/1000
add_route: 11/1000
add_route: 12/1000
add_route: 13/1000
add_route: 14/1000
add_route: 15/1000
add_route: 16/1000
add_route: 17/1000
add_route: 18/1000
add_route: 19/1000
add_route: 20/1000
add_route: 21/1000
add_route: 22/1000
add_route: 23/1000
add_route: 24/1000
add_route: 25/1000
add_route: 26/1000
add_route: 27/1000
add_route: 28/1000
add_route: 29/1000
add_route: 30/1000
add_route: 31/1000
add_route: 32/1000
add_route: 33/1000
add_route: 34/1000
add_route: 35/1000
add_route: 36/1000
add_route: 37/1000
add_route: 38/1000
add_route: 39/1000
add_route: 40/1000
add_route: 41/1000
add_route: 42/1000
add_route: 43/1000
add_route: 44/1000
add_route: 45/1000
add_route: 46/1000
add_route: 47/1000
add_route: 48/1000
add_route: 49/1000
add_route: 50/1000
add_route: 51/1000
add_route: 52/1000
add_route: 53/1000
add_route: 54/1000
add_route: 55/1000
add_route: 56/1000
add_route: 57/1000
add_route: 58/1000
add_route: 59/1000
add_route: 60/1000
add_route: 61/1000
add_route: 62/1000
add_route: 63/1000
add_route: 64/1000
add_route: 65/1000
add_route: 66/1000
add_route: 67/1000
add_route: 68/1000
add_route: 69/1000
add_route: 70/1000
add_route: 71/1000
add_route: 72/1000
add_route: 73/1000
add_route: 74/1000
add_route: 75/1000
add_route: 76/1000
add_route: 77/1000
add_route: 78/1000
add_route: 79/1000
add_route: 80/1000
add_route: 81/1000
add_route: 82/1000
add_route: 83/1000
add_route: 84/1000
add_route: 85/1000
add_route: 86/1000
add_route: 87/1000
add_route: 88/1000
add_route: 89/1000
add_route: 90/1000
add_route: 91/1000
add_route: 92/1000
add_route: 93/1000
add_route: 94/1000
add_route: 95/1000
add_route: 96/1000
add_route: 97/1000
add_route: 98/1000
add_route: 99/1000
add_route: 100/1000
add_route: 101/1000
add_route: 102/1000
add_route: 103/1000
add_route: 104/1000
add_route: 105/1000
add_route: 106/1000
add_route: 107/1000
add_route: 108/1000
add_route: 109/1000
add_route: 110/1000
add_route: 111/1000
add_route: 112/1000
add_route: 113/1000
add_route: 114/1000
add_route: 115/1000
add_route: 116/1000
add_route: 117/1000
add_route: 118/1000
add_route: 119/1000
add_route: 120/1000
add_route: 121/1000
add_route: 122/1000
add_route: 123/1000
add_route: 124/1000
add_route: 125/1000
add_route: 126/1000
add_route: 127/1000
add_route: 128/1000
add_route: 129/1000
add_route: 130/1000
add_route: 131/1000
add_route: 132/1000
add_route: 133/1000
add_route: 134/1000
add_route: 135/1000
add_route: 136/1000
add_route: 137/1000
add_route: 138/1000
add_route: 139/1000
add_route: 140/1000
add_route: 141/1000
add_route: 142/1000
add_route: 143/1000
add_route: 144/1000
add_route: 145/1000
add_route: 146/1000
add_route: 147/1000
add_route: 148/1000
add_route: 149/1000
add_route: 150/1000
add_route: 151/1000
add_route: 152/1000
add_route: 153/1000
add_route: 154/1000
add_route: 155/1000
add_route: 156/1000
add_route: 157/1000
add_route: 158/1000
add_route: 159/1000
add_route: 160/1000
add_route: 161/1000
add_route: 162/1000
add_route: 163/1000
add_route: 164/1000
add_route: 165/1000
add_route: 166/1000
add_route: 167/1000
add_route: 168/1000
add_route: 169/1000
add_route: 170/1000
add_route: 171/1000
add_route: 172/1000
add_route: 173/1000
add_route: 174/1000
add_route: 175/1000
add_route: 176/1000
add_route: 177/1000
add_route: 178/1000
add_route: 179/1000
add_route: 180/1000
add_route: 181/1000
add_route: 182/1000
add_route: 183/1000
add_route: 184/1000
add_route: 185/1000
add_route: 186/1000
add_route: 187/1000
add_route: 188/1000
add_route: 189/1000
add_route: 190/1000
add_route: 191/1000
add_route: 192/1000
add_route: 193/1000
add_route: 194/1000
add_route: 195/1000
add_route: 196/1000
add_route: 197/1000
add_route: 198/1000
add_route: 199/1000
add_route: 200/1000
add_route: 201/1000
add_route: 202/1000
add_route: 203/1000
add_route: 204/1000
add_route: 205/1000
add_route: 206/1000
add_route: 207/1000
add_route: 208/1000
add_route: 209/1000
add_route: 210/1000
add_route: 211/1000
add_route: 212/1000
add_route: 213/1000
add_route: 214/1000
add_route: 215/1000
add_route: 216/1000
add_route: 217/1000
add_route: 218/1000
add_route: 219/1000
add_route: 220/1000
add_route: 221/1000
add_route: 222/1000
add_route: 223/1000
add_route: 224/1000
add_route: 225/1000
add_route: 226/1000
add_route: 227/1000
add_route: 228/1000
add_route: 229/1000
add_route: 230/1000
add_route: 231/1000
add_route: 232/1000
add_route: 233/1000
add_route: 234/1000
add_route: 235/1000
add_route: 236/1000
add_route: 237/1000
add_route: 238/1000
add_route: 239/1000
add_route: 240/1000
add_route: 241/1000
add_route: 242/1000
add_route: 243/1000
add_route: 244/1000
add_route: 245/1000
add_route: 246/1000
add_route: 247/1000
add_route: 248/1000
add_route: 249/1000
add_route: 250/1000
add_route: 251/1000
add_route: 252/1000
add_route: 253/1000
add_route: 254/1000
add_route: 255/1000
add_route: 256/1000
add_route: 257/1000
add_route: 258/1000
add_route: 259/1000
add_route: 260/1000
add_route: 261/1000
add_route: 262/1000
add_route: 263/1000
add_route: 264/1000
add_route: 265/1000
add_route: 266/1000
add_route: 267/1000
add_route: 268/1000
add_route: 269/1000
add_route: 270/1000
add_route: 271/1000
add_route: 272/1000
add_route: 273/1000
add_route: 274/1000
add_route: 275/1000
add_route: 276/1000
add_route: 277/1000
add_route: 278/1000
add_route: 279/1000
add_route: 280/1000
add_route: 281/1000
add_route: 282/1000
add_route: 283/1000
add_route: 284/1000
add_route: 285/1000
add_route: 286/1000
add_route: 287/1000
add_route: 288/1000
add_route: 289/1000
add_route: 290/1000
add_route: 291/1000
add_route: 292/1000
add_route: 293/1000
add_route: 294/1000
add_route: 295/1000
add_route: 296/1000
add_route: 297/1000
add_route: 298/1000
add_route: 299/1000
add_route: 300/1000
add_route: 301/1000
add_route: 302/1000
add_route: 303/1000
add_route: 304/1000
add_route: 305/1000
add_route: 306/1000
add_route: 307/1000
add_route: 308/1000
add_route: 309/1000
add_route: 310/1000
add_route: 311/1000
add_route: 312/1000
add_route: 313/1000
add_route: 314/1000
add_route: 315/1000
add_route: 316/1000
add_route: 317/1000
add_route: 318/1000
add_route: 319/1000
add_route: 320/1000
add_route: 321/1000
add_route: 322/1000
add_route: 323/1000
add_route: 324/1000
add_route: 325/1000
add_route: 326/1000
add_route: 327/1000
add_route: 328/1000
add_route: 329/1000
add_route: 330/1000
add_route: 331/1000
add_route: 332/1000
add_route: 333/1000
add_route: 334/1000
add_route: 335/1000
add_route: 336/1000
add_route: 337/1000
add_route: 338/1000
add_route: 339/1000
add_route: 340/1000
add_route: 341/1000
add_route: 342/1000
add_route: 343/1000
add_route: 344/1000
add_route: 345/1000
add_route: 346/1000
add_route: 347/1000
add_route: 348/1000
add_route: 349/1000
add_route: 350/1000
add_route: 351/1000
add_route: 352/1000
add_route: 353/1000
add_route: 354/1000
add_route: 355/1000
add_route: 356/1000
add_route: 357/1000
add_route: 358/1000
add_route: 359/1000
add_route: 360/1000
add_route: 361/1000
add_route: 362/1000
add_route: 363/1000
add_route: 364/1000
add_route: 365/1000
add_route: 366/1000
add_route: 367/1000
add_route: 368/1000
add_route: 369/1000
add_route: 370/1000
add_route: 371/1000
add_route: 372/1000
add_route: 373/1000
add_route: 374/1000
add_route: 375/1000
add_route: 376/1000
add_route: 377/1000
add_route: 378/1000
add_route: 379/1000
add_route: 380/1000
add_route: 381/1000
add_route: 382/1000
add_route: 383/1000
add_route: 384/1000
add_route: 385/1000
add_route: 386/1000
add_route: 387/1000
add_route: 388/1000
add_route: 389/1000
add_route: 390/1000
add_route: 391/1000
add_route: 392/1000
add_route: 393/1000
add_route: 394/1000
add_route: 395/1000
add_route: 396/1000
add_route: 397/1000
add_route: 398/1000
add_route: 399/1000
add_route: 400/1000
add_route: 401/1000
add_route: 402/1000
add_route: 403/1000
add_route: 404/1000
add_route: 405/1000
add_route: 406/1000
add_route: 407/1000
add_route: 408/1000
add_route: 409/1000
add_route: 410/1000
add_route: 411/1000
add_route: 412/1000
add_route: 413/1000
add_route: 414/1000
add_route: 415/1000
add_route: 416/1000
add_route: 417/1000
add_route: 418/1000
add_route: 419/1000
add_route: 420/1000
add_route: 421/1000
add_route: 422/1000
add_route: 423/1000
add_route: 424/1000
add_route: 425/1000
add_route: 426/1000
add_route: 427/1000
add_route: 428/1000
add_route: 429/1000
add_route: 430/1000
add_route: 431/1000
add_route: 432/1000
add_route: 433/1000
add_route: 434/1000
add_route: 435/1000
add_route: 436/1000
add_route: 437/1000
add_route: 438/1000
add_route: 439/1000
add_route: 440/1000
add_route: 441/1000
add_route: 442/1000
add_route: 443/1000
add_route: 444/1000
add_route: 445/1000
add_route: 446/1000
add_route: 447/1000
add_route: 448/1000
add_route: 449/1000
add_route: 450/1000
add_route: 451/1000
add_route: 452/1000
add_route: 453/1000
add_route: 454/1000
add_route: 455/1000
add_route: 456/1000
add_route: 457/1000
add_route: 458/1000
add_route: 459/1000
add_route: 460/1000
add_route: 461/1000
add_route: 462/1000
add_route: 463/1000
add_route: 464/1000
add_route: 465/1000
add_route: 466/1000
add_route: 467/1000
add_route: 468/1000
add_route: 469/1000
add_route: 470/1000
add_route: 471/1000
add_route: 472/1000
add_route: 473/1000
add_route: 474/1000
add_route: 475/1000
add_route: 476/1000
add_route: 477/1000
add_route: 478/1000
add_route: 479/1000
add_route: 480/1000
add_route: 481/1000
add_route: 482/1000
add_route: 483/1000
add_route: 484/1000
add_route: 485/1000
add_route: 486/1000
add_route: 487/1000
add_route: 488/1000
add_route: 489/1000
add_route: 490/1000
add_route: 491/1000
add_route: 492/1000
add_route: 493/1000
add_route: 494/1000
add_route: 495/1000
add_route: 496/1000
add_route: 497/1000
add_route: 498/1000
add_route: 499/1000
add_route: 500/1000
add_route: 501/1000
add_route: 502/1000
add_route: 503/1000
add_route: 504/1000
add_route: 505/1000
add_route: 506/1000
add_route: 507/1000
add_route: 508/1000
add_route: 509/1000
add_route: 510/1000
add_route: 511/1000
add_route: 512/1000
add_route: 513/1000
add_route: 514/1000
add_route: 515/1000
add_route: 516/1000
add_route: 517/1000
add_route: 518/1000
add_route: 519/1000
add_route: 520/1000
add_route: 521/1000
add_route: 522/1000
add_route: 523/1000
add_route: 524/1000
add_route: 525/1000
add_route: 526/1000
add_route: 527/1000
add_route: 528/1000
add_route: 529/1000
add_route: 530/1000
add_route: 531/1000
add_route: 532/1000
add_route: 533/1000
add_route: 534/1000
add_route: 535/1000
add_route: 536/1000
add_route: 537/1000
add_route: 538/1000
add_route: 539/1000
add_route: 540/1000
add_route: 541/1000
add_route: 542/1000
add_route: 543/1000
add_route: 544/1000
add_route: 545/1000
add_route: 546/1000
add_route: 547/1000
add_route: 548/1000
add_route: 549/1000
add_route: 550/1000
add_route: 551/1000
add_route: 552/1000
add_route: 553/1000
add_route: 554/1000
add_route: 555/1000
add_route: 556/1000
add_route: 557/1000
add_route: 558/1000
add_route: 559/1000
add_route: 560/1000
add_route: 561/1000
add_route: 562/1000
add_route: 563/1000
add_route: 564/1000
add_route: 565/1000
add_route: 566/1000
add_route: 567/1000
add_route: 568/1000
add_route: 569/1000
add_route: 570/1000
add_route: 571/1000
add_route: 572/1000
add_route: 573/1000
add_route: 574/1000
add_route: 575/1000
add_route: 576/1000
add_route: 577/1000
add_route: 578/1000
add_route: 579/1000
add_route: 580/1000
add_route: 581/1000
add_route: 582/1000
add_route: 583/1000
add_route: 584/1000
add_route: 585/1000
add_route: 586/1000
add_route: 587/1000
add_route: 588/1000
add_route: 589/1000
add_route: 590/1000
add_route: 591/1000
add_route: 592/1000
add_route: 593/1000
add_route: 594/1000
add_route: 595/1000
add_route: 596/1000
add_route: 597/1000
add_route: 598/1000
add_route: 599/1000
add_route: 600/1000
add_route: 601/1000
add_route: 602/1000
add_route: 603/1000
add_route: 604/1000
add_route: 605/1000
add_route: 606/1000
add_route: 607/1000
add_route: 608/1000
add_route: 609/1000
add_route: 610/1000
add_route: 611/1000
add_route: 612/1000
add_route: 613/1000
add_route: 614/1000
add_route: 615/1000
add_route: 616/1000
add_route: 617/1000
add_route: 618/1000
add_route: 619/1000
add_route: 620/1000
add_route: 621/1000
add_route: 622/1000
add_route: 623/1000
add_route: 624/1000
add_route: 625/1000
add_route: 626/1000
add_route: 627/1000
add_route: 628/1000
add_route: 629/1000
add_route: 630/1000
add_route: 631/1000
add_route: 632/1000
add_route: 633/1000
add_route: 634/1000
add_route: 635/1000
add_route: 636/1000
add_route: 637/1000
add_route: 638/1000
add_route: 639/1000
add_route: 640/1000
add_route: 641/1000
add_route: 642/1000
add_route: 643/1000
add_route: 644/1000
add_route: 645/1000
add_route: 646/1000
add_route: 647/1000
add_route: 648/1000
add_route: 649/1000
add_route: 650/1000
add_route: 651/1000
add_route: 652/1000
add_route: 653/1000
add_route: 654/1000
add_route: 655/1000
add_route: 656/1000
add_route: 657/1000
add_route: 658/1000
add_route: 659/1000
add_route: 660/1000
add_route: 661/1000
add_route: 662/1000
add_route: 663/1000
add_route: 664/1000
add_route: 665/1000
add_route: 666/1000
add_route: 667/1000
add_route: 668/1000
add_route: 669/1000
add_route: 670/1000
add_route: 671/1000
add_route: 672/1000
add_route: 673/1000
add_route: 674/1000
add_route: 675/1000
add_route: 676/1000
add_route: 677/1000
add_route: 678/1000
add_route: 679/1000
add_route: 680/1000
add_route: 681/1000
add_route: 682/1000
add_route: 683/1000
add_route: 684/1000
add_route: 685/1000
add_route: 686/1000
add_route: 687/1000
add_route: 688/1000
add_route: 689/1000
add_route: 690/1000
add_route: 691/1000
add_route: 692/1000
add_route: 693/1000
add_route: 694/1000
add_route: 695/1000
add_route: 696/1000
add_route: 697/1000
add_route: 698/1000
add_route: 699/1000
add_route: 700/1000
add_route: 701/1000
add_route: 702/1000
add_route: 703/1000
add_route: 704/1000
add_route: 705/1000
add_route: 706/1000
add_route: 707/1000
add_route: 708/1000
add_route: 709/1000
add_route: 710/1000
add_route: 711/1000
add_route: 712/1000
add_route: 713/1000
add_route: 714/1000
add_route: 715/1000
add_route: 716/1000
add_route: 717/1000
add_route: 718/1000
add_route: 719/1000
add_route: 720/1000
add_route: 721/1000
add_route: 722/1000
add_route: 723/1000
add_route: 724/1000
add_route: 725/1000
add_route: 726/1000
add_route: 727/1000
add_route: 728/1000
add_route: 729/1000
add_route: 730/1000
add_route: 731/1000
add_route: 732/1000
add_route: 733/1000
add_route: 734/1000
add_route: 735/1000
add_route: 736/1000
add_route: 737/1000
add_route: 738/1000
add_route: 739/1000
add_route: 740/1000
add_route: 741/1000
add_route: 742/1000
add_route: 743/1000
add_route: 744/1000
add_route: 745/1000
add_route: 746/1000
add_route: 747/1000
add_route: 748/1000
add_route: 749/1000
add_route: 750/1000
add_route: 751/1000
add_route: 752/1000
add_route: 753/1000
add_route: 754/1000
add_route: 755/1000
add_route: 756/1000
add_route: 757/1000
add_route: 758/1000
add_route: 759/1000
add_route: 760/1000
add_route: 761/1000
add_route: 762/1000
add_route: 763/1000
add_route: 764/1000
add_route: 765/1000
add_route: 766/1000
add_route: 767/1000
add_route: 768/1000
add_route: 769/1000
add_route: 770/1000
add_route: 771/1000
add_route: 772/1000
add_route: 773/1000
add_route: 774/1000
add_route: 775/1000
add_route: 776/1000
add_route: 777/1000
add_route: 778/1000
add_route: 779/1000
add_route: 780/1000
add_route: 781/1000
add_route: 782/1000
add_route: 783/1000
add_route: 784/1000
add_route: 785/1000
add_route: 786/1000
add_route: 787/1000
add_route: 788/1000
add_route: 789/1000
add_route: 790/1000
add_route: 791/1000
add_route: 792/1000
add_route: 793/1000
add_route: 794/1000
add_route: 795/1000
add_route: 796/1000
add_route: 797/1000
add_route: 798/1000
add_route: 799/1000
add_route: 800/1000
add_route: 801/1000
add_route: 802/1000
add_route: 803/1000
add_route: 804/1000
add_route: 805/1000
add_route: 806/1000
add_route: 807/1000
add_route: 808/1000
add_route: 809/1000
add_route: 810/1000
add_route: 811/1000
add_route: 812/1000
add_route: 813/1000
add_route: 814/1000
add_route: 815/1000
add_route: 816/1000
add_route: 817/1000
add_route: 818/1000
add_route: 819/1000
add_route: 820/1000
add_route: 821/1000
add_route: 822/1000
add_route: 823/1000
add_route: 824/1000
add_route: 825/1000
add_route: 826/1000
add_route: 827/1000
add_route: 828/1000
add_route: 829/1000
add_route: 830/1000
add_route: 831/1000
add_route: 832/1000
add_route: 833/1000
add_route: 834/1000
add_route: 835/1000
add_route: 836/1000
add_route: 837/1000
add_route: 838/1000
add_route: 839/1000
add_route: 840/1000
add_route: 841/1000
add_route: 842/1000
add_route: 843/1000
add_route: 844/1000
add_route: 845/1000
add_route: 846/1000
add_route: 847/1000
add_route: 848/1000
add_route: 849/1000
add_route: 850/1000
add_route: 851/1000
add_route: 852/1000
add_route: 853/1000
add_route: 854/1000
add_route: 855/1000
add_route: 856/1000
add_route: 857/1000
add_route: 858/1000
add_route: 859/1000
add_route: 860/1000
add_route: 861/1000
add_route: 862/1000
add_route: 863/1000
add_route: 864/1000
add_route: 865/1000
add_route: 866/1000
add_route: 867/1000
add_route: 868/1000
add_route: 869/1000
add_route: 870/1000
add_route: 871/1000
add_route: 872/1000
add_route: 873/1000
add_route: 874/1000
add_route: 875/1000
add_route: 876/1000
add_route: 877/1000
add_route: 878/1000
add_route: 879/1000
add_route: 880/1000
add_route: 881/1000
add_route: 882/1000
add_route: 883/1000
add_route: 884/1000
add_route: 885/1000
add_route: 886/1000
add_route: 887/1000
add_route: 888/1000
add_route: 889/1000
add_route: 890/1000
add_route: 891/1000
add_route: 892/1000
add_route: 893/1000
add_route: 894/1000
add_route: 895/1000
add_route: 896/1000
add_route: 897/1000
add_route: 898/1000
add_route: 899/1000
add_route: 900/1000
add_route: 901/1000
add_route: 902/1000
add_route: 903/1000
add_route: 904/1000
add_route: 905/1000
add_route: 906/1000
add_route: 907/1000
add_route: 908/1000
add_route: 909/1000
add_route: 910/1000
add_route: 911/1000
add_route: 912/1000
add_route: 913/1000
add_route: 914/1000
add_route: 915/1000
add_route: 916/1000
add_route: 917/1000
add_route: 918/1000
add_route: 919/1000
add_route: 920/1000
add_route: 921/1000
add_route: 922/1000
add_route: 923/1000
add_route: 924/1000
add_route: 925/1000
add_route: 926/1000
add_route: 927/1000
add_route: 928/1000
add_route: 929/1000
add_route: 930/1000
add_route: 931/1000
add_route: 932/1000
add_route: 933/1000
add_route: 934/1000
add_route: 935/1000
add_route: 936/1000
add_route: 937/1000
add_route: 938/1000
add_route: 939/1000
add_route: 940/1000
add_route: 941/1000
add_route: 942/1000
add_route: 943/1000
add_route: 944/1000
add_route: 945/1000
add_route: 946/1000
add_route: 947/1000
add_route: 948/1000
add_route: 949/1000
add_route: 950/1000
add_route: 951/1000
add_route: 952/1000
add_route: 953/1000
add_route: 954/1000
add_route: 955/1000
add_route: 956/1000
add_route: 957/1000
add_route: 958/1000
add_route: 959/1000
add_route: 960/1000
add_route: 961/1000
add_route: 962/1000
add_route: 963/1000
add_route: 964/1000
add_route: 965/1000
add_route: 966/1000
add_route: 967/1000
add_route: 968/1000
add_route: 969/1000
add_route: 970/1000
add_route: 971/1000
add_route: 972/1000
add_route: 973/1000
add_route: 974/1000
add_route: 975/1000
add_route: 976/1000
add_route: 977/1000
add_route: 978/1000
add_route: 979/1000
add_route: 980/1000
add_route: 981/1000
add_route: 982/1000
add_route: 983/1000
add_route: 984/1000
add_route: 985/1000
add_route: 986/1000
add_route: 987/1000
add_route: 988/1000
add_route: 989/1000
add_route: 990/1000
add_route: 991/1000
add_route: 992/1000
add_route: 993/1000
add_route: 994/1000
add_route: 995/1000
add_route: 996/1000
add_route: 997/1000
add_route: 998/1000
add_route: 999/1000
add_route: 1000/1000
match (uncached): 1/1000
match (uncached): 2/1000
match (uncached): 3/1000
match (uncached): 4/1000
match (uncached): 5/1000
match (uncached): 6/1000
match (uncached): 7/1000
match (uncached): 8/1000
match (uncached): 9/1000
match (uncached): 10/1000
match (uncached): 11/1000
match (uncached): 12/1000
match (uncached): 13/1000
match (uncached): 14/1000
match (uncached): 15/1000
match (uncached): 16/1000
match (uncached): 17/1000
match (uncached): 18/1000
match (uncached): 19/1000
match (uncached): 20/1000
match (uncached): 21/1000
match (uncached): 22/1000
match (uncached): 23/1000
match (uncached): 24/1000
match (uncached): 25/1000
match (uncached): 26/1000
match (uncached): 27/1000
match (uncached): 28/1000
match (uncached): 29/1000
match (uncached): 30/1000
match (uncached): 31/1000
match (uncached): 32/1000
match (uncached): 33/1000
match (uncached): 34/1000
match (uncached): 35/1000
match (uncached): 36/1000
match (uncached): 37/1000
match (uncached): 38/1000
match (uncached): 39/1000
match (uncached): 40/1000
match (uncached): 41/1000
match (uncached): 42/1000
match (uncached): 43/1000
match (uncached): 44/1000
match (uncached): 45/1000
match (uncached): 46/1000
match (uncached): 47/1000
match (uncached): 48/1000
match (uncached): 49/1000
match (uncached): 50/1000
match (uncached): 51/1000
match (uncached): 52/1000
match (uncached): 53/1000
match (uncached): 54/1000
match (uncached): 55/1000
match (uncached): 56/1000
match (uncached): 57/1000
match (uncached): 58/1000
match (uncached): 59/1000
match (uncached): 60/1000
match (uncached): 61/1000
match (uncached): 62/1000
match (uncached): 63/1000
match (uncached): 64/1000
match (uncached): 65/1000
match (uncached): 66/1000
match (uncached): 67/1000
match (uncached): 68/1000
match (uncached): 69/1000
match (uncached): 70/1000
match (uncached): 71/1000
match (uncached): 72/1000
match (uncached): 73/1000
match (uncached): 74/1000
match (uncached): 75/1000
match (uncached): 76/1000
match (uncached): 77/1000
match (uncached): 78/1000
match (uncached): 79/1000
match (uncached): 80/1000
match (uncached): 81/1000
match (uncached): 82/1000
match (uncached): 83/1000
match (uncached): 84/1000
match (uncached): 85/1000
match (uncached): 86/1000
match (uncached): 87/1000
match (uncached): 88/1000
match (uncached): 89/1000
match (uncached): 90/1000
match (uncached): 91/1000
match (uncached): 92/1000
match (uncached): 93/1000
match (uncached): 94/1000
match (uncached): 95/1000
match (uncached): 96/1000
match (uncached): 97/1000
match (uncached): 98/1000
match (uncached): 99/1000
match (uncached): 100/1000
match (uncached): 101/1000
match (uncached): 102/1000
match (uncached): 103/1000
match (uncached): 104/1000
match (uncached): 105/1000
match (uncached): 106/1000
match (uncached): 107/1000
match (uncached): 108/1000
match (uncached): 109/1000
match (uncached): 110/1000
match (uncached): 111/1000
match (uncached): 112/1000
match (uncached): 113/1000
match (uncached): 114/1000
match (uncached): 115/1000
match (uncached): 116/1000
match (uncached): 117/1000
match (uncached): 118/1000
match (uncached): 119/1000
match (uncached): 120/1000
match (uncached): 121/1000
match (uncached): 122/1000
match (uncached): 123/1000
match (uncached): 124/1000
match (uncached): 125/1000
match (uncached): 126/1000
match (uncached): 127/1000
match (uncached): 128/1000
match (uncached): 129/1000
match (uncached): 130/1000
match (uncached): 131/1000
match (uncached): 132/1000
match (uncached): 133/1000
match (uncached): 134/1000
match (uncached): 135/1000
match (uncached): 136/1000
match (uncached): 137/1000
match (uncached): 138/1000
match (uncached): 139/1000
match (uncached): 140/1000
match (uncached): 141/1000
match (uncached): 142/1000
match (uncached): 143/1000
match (uncached): 144/1000
match (uncached): 145/1000
match (uncached): 146/1000
match (uncached): 147/1000
match (uncached): 148/1000
match (uncached): 149/1000
match (uncached): 150/1000
match (uncached): 151/1000
match (uncached): 152/1000
match (uncached): 153/1000
match (uncached): 154/1000
match (uncached): 155/1000
match (uncached): 156/1000
match (uncached): 157/1000
match (uncached): 158/1000
match (uncached): 159/1000
match (uncached): 160/1000
match (uncached): 161/1000
match (uncached): 162/1000
match (uncached): 163/1000
match (uncached): 164/1000
match (uncached): 165/1000
match (uncached): 166/1000
match (uncached): 167/1000
match (uncached): 168/1000
match (uncached): 169/1000
match (uncached): 170/1000
match (uncached): 171/1000
match (uncached): 172/1000
match (uncached): 173/1000
match (uncached): 174/1000
match (uncached): 175/1000
match (uncached): 176/1000
match (uncached): 177/1000
match (uncached): 178/1000
match (uncached): 179/1000
match (uncached): 180/1000
match (uncached): 181/1000
match (uncached): 182/1000
match (uncached): 183/1000
match (uncached): 184/1000
match (uncached): 185/1000
match (uncached): 186/1000
match (uncached): 187/1000
match (uncached): 188/1000
match (uncached): 189/1000
match (uncached): 190/1000
match (uncached): 191/1000
match (uncached): 192/1000
match (uncached): 193/1000
match (uncached): 194/1000
match (uncached): 195/1000
match (uncached): 196/1000
match (uncached): 197/1000
match (uncached): 198/1000
match (uncached): 199/1000
match (uncached): 200/1000
match (uncached): 201/1000
match (uncached): 202/1000
match (uncached): 203/1000
match (uncached): 204/1000
match (uncached): 205/1000
match (uncached): 206/1000
match (uncached): 207/1000
match (uncached): 208/1000
match (uncached): 209/1000
match (uncached): 210/1000
match (uncached): 211/1000
match (uncached): 212/1000
match (uncached): 213/1000
match (uncached): 214/1000
match (uncached): 215/1000
match (uncached): 216/1000
match (uncached): 217/1000
match (uncached): 218/1000
match (uncached): 219/1000
match (uncached): 220/1000
match (uncached): 221/1000
match (uncached): 222/1000
match (uncached): 223/1000
match (uncached): 224/1000
match (uncached): 225/1000
match (uncached): 226/1000
match (uncached): 227/1000
match (uncached): 228/1000
match (uncached): 229/1000
match (uncached): 230/1000
match (uncached): 231/1000
match (uncached): 232/1000
match (uncached): 233/1000
match (uncached): 234/1000
match (uncached): 235/1000
match (uncached): 236/1000
match (uncached): 237/1000
match (uncached): 238/1000
match (uncached): 239/1000
match (uncached): 240/1000
match (uncached): 241/1000
match (uncached): 242/1000
match (uncached): 243/1000
match (uncached): 244/1000
match (uncached): 245/1000
match (uncached): 246/1000
match (uncached): 247/1000
match (uncached): 248/1000
match (uncached): 249/1000
match (uncached): 250/1000
match (uncached): 251/1000
match (uncached): 252/1000
match (uncached): 253/1000
match (uncached): 254/1000
match (uncached): 255/1000
match (uncached): 256/1000
match (uncached): 257/1000
match (uncached): 258/1000
match (uncached): 259/1000
match (uncached): 260/1000
match (uncached): 261/1000
match (uncached): 262/1000
match (uncached): 263/1000
match (uncached): 264/1000
match (uncached): 265/1000
match (uncached): 266/1000
match (uncached): 267/1000
match (uncached): 268/1000
match (uncached): 269/1000
match (uncached): 270/1000
match (uncached): 271/1000
match (uncached): 272/1000
match (uncached): 273/1000
match (uncached): 274/1000
match (uncached): 275/1000
match (uncached): 276/1000
match (uncached): 277/1000
match (uncached): 278/1000
match (uncached): 279/1000
match (uncached): 280/1000
match (uncached): 281/1000
match (uncached): 282/1000
match (uncached): 283/1000
match (uncached): 284/1000
match (uncached): 285/1000
match (uncached): 286/1000
match (uncached): 287/1000
match (uncached): 288/1000
match (uncached): 289/1000
match (uncached): 290/1000
match (uncached): 291/1000
match (uncached): 292/1000
match (uncached): 293/1000
match (uncached): 294/1000
match (uncached): 295/1000
match (uncached): 296/1000
match (uncached): 297/1000
match (uncached): 298/1000
match (uncached): 299/1000
match (uncached): 300/1000
match (uncached): 301/1000
match (uncached): 302/1000
match (uncached): 303/1000
match (uncached): 304/1000
match (uncached): 305/1000
match (uncached): 306/1000
match (uncached): 307/1000
match (uncached): 308/1000
match (uncached): 309/1000
match (uncached): 310/1000
match (uncached): 311/1000
match (uncached): 312/1000
match (uncached): 313/1000
match (uncached): 314/1000
match (uncached): 315/1000
match (uncached): 316/1000
match (uncached): 317/1000
match (uncached): 318/1000
match (uncached): 319/1000
match (uncached): 320/1000
match (uncached): 321/1000
match (uncached): 322/1000
match (uncached): 323/1000
match (uncached): 324/1000
match (uncached): 325/1000
match (uncached): 326/1000
match (uncached): 327/1000
match (uncached): 328/1000
match (uncached): 329/1000
match (uncached): 330/1000
match (uncached): 331/1000
match (uncached): 332/1000
match (uncached): 333/1000
match (uncached): 334/1000
match (uncached): 335/1000
match (uncached): 336/1000
match (uncached): 337/1000
match (uncached): 338/1000
match (uncached): 339/1000
match (uncached): 340/1000
match (uncached): 341/1000
match (uncached): 342/1000
match (uncached): 343/1000
match (uncached): 344/1000
match (uncached): 345/1000
match (uncached): 346/1000
match (uncached): 347/1000
match (uncached): 348/1000
match (uncached): 349/1000
match (uncached): 350/1000
match (uncached): 351/1000
match (uncached): 352/1000
match (uncached): 353/1000
match (uncached): 354/1000
match (uncached): 355/1000
match (uncached): 356/1000
match (uncached): 357/1000
match (uncached): 358/1000
match (uncached): 359/1000
match (uncached): 360/1000
match (uncached): 361/1000
match (uncached): 362/1000
match (uncached): 363/1000
match (uncached): 364/1000
match (uncached): 365/1000
match (uncached): 366/1000
match (uncached): 367/1000
match (uncached): 368/1000
match (uncached): 369/1000
match (uncached): 370/1000
match (uncached): 371/1000
match (uncached): 372/1000
match (uncached): 373/1000
match (uncached): 374/1000
match (uncached): 375/1000
match (uncached): 376/1000
match (uncached): 377/1000
match (uncached): 378/1000
match (uncached): 379/1000
match (uncached): 380/1000
match (uncached): 381/1000
match (uncached): 382/1000
match (uncached): 383/1000
match (uncached): 384/1000
match (uncached): 385/1000
match (uncached): 386/1000
match (uncached): 387/1000
match (uncached): 388/1000
match (uncached): 389/1000
match (uncached): 390/1000
match (uncached): 391/1000
match (uncached): 392/1000
match (uncached): 393/1000
match (uncached): 394/1000
match (uncached): 395/1000
match (uncached): 396/1000
match (uncached): 397/1000
match (uncached): 398/1000
match (uncached): 399/1000
match (uncached): 400/1000
match (uncached): 401/1000
match (uncached): 402/1000
match (uncached): 403/1000
match (uncached): 404/1000
match (uncached): 405/1000
match (uncached): 406/1000
match (uncached): 407/1000
match (uncached): 408/1000
match (uncached): 409/1000
match (uncached): 410/1000
match (uncached): 411/1000
match (uncached): 412/1000
match (uncached): 413/1000
match (uncached): 414/1000
match (uncached): 415/1000
match (uncached): 416/1000
match (uncached): 417/1000
match (uncached): 418/1000
match (uncached): 419/1000
match (uncached): 420/1000
match (uncached): 421/1000
match (uncached): 422/1000
match (uncached): 423/1000
match (uncached): 424/1000
match (uncached): 425/1000
match (uncached): 426/1000
match (uncached): 427/1000
match (uncached): 428/1000
match (uncached): 429/1000
match (uncached): 430/1000
match (uncached): 431/1000
match (uncached): 432/1000
match (uncached): 433/1000
match (uncached): 434/1000
match (uncached): 435/1000
match (uncached): 436/1000
match (uncached): 437/1000
match (uncached): 438/1000
match (uncached): 439/1000
match (uncached): 440/1000
match (uncached): 441/1000
match (uncached): 442/1000
match (uncached): 443/1000
match (uncached): 444/1000
match (uncached): 445/1000
match (uncached): 446/1000
match (uncached): 447/1000
match (uncached): 448/1000
match (uncached): 449/1000
match (uncached): 450/1000
match (uncached): 451/1000
match (uncached): 452/1000
match (uncached): 453/1000
match (uncached): 454/1000
match (uncached): 455/1000
match (uncached): 456/1000
match (uncached): 457/1000
match (uncached): 458/1000
match (uncached): 459/1000
match (uncached): 460/1000
match (uncached): 461/1000
match (uncached): 462/1000
match (uncached): 463/1000
match (uncached): 464/1000
match (uncached): 465/1000
match (uncached): 466/1000
match (uncached): 467/1000
match (uncached): 468/1000
match (uncached): 469/1000
match (uncached): 470/1000
match (uncached): 471/1000
match (uncached): 472/1000
match (uncached): 473/1000
match (uncached): 474/1000
match (uncached): 475/1000
match (uncached): 476/1000
match (uncached): 477/1000
match (uncached): 478/1000
match (uncached): 479/1000
match (uncached): 480/1000
match (uncached): 481/1000
match (uncached): 482/1000
match (uncached): 483/1000
match (uncached): 484/1000
match (uncached): 485/1000
match (uncached): 486/1000
match (uncached): 487/1000
match (uncached): 488/1000
match (uncached): 489/1000
match (uncached): 490/1000
match (uncached): 491/1000
match (uncached): 492/1000
match (uncached): 493/1000
match (uncached): 494/1000
match (uncached): 495/1000
match (uncached): 496/1000
match (uncached): 497/1000
match (uncached): 498/1000
match (uncached): 499/1000
match (uncached): 500/1000
match (uncached): 501/1000
match (uncached): 502/1000
match (uncached): 503/1000
match (uncached): 504/1000
match (uncached): 505/1000
match (uncached): 506/1000
match (uncached): 507/1000
match (uncached): 508/1000
match (uncached): 509/1000
match (uncached): 510/1000
match (uncached): 511/1000
match (uncached): 512/1000
match (uncached): 513/1000
match (uncached): 514/1000
match (uncached): 515/1000
match (uncached): 516/1000
match (uncached): 517/1000
match (uncached): 518/1000
match (uncached): 519/1000
match (uncached): 520/1000
match (uncached): 521/1000
match (uncached): 522/1000
match (uncached): 523/1000
match (uncached): 524/1000
match (uncached): 525/1000
match (uncached): 526/1000
match (uncached): 527/1000
match (uncached): 528/1000
match (uncached): 529/1000
match (uncached): 530/1000
match (uncached): 531/1000
match (uncached): 532/1000
match (uncached): 533/1000
match (uncached): 534/1000
match (uncached): 535/1000
match (uncached): 536/1000
match (uncached): 537/1000
match (uncached): 538/1000
match (uncached): 539/1000
match (uncached): 540/1000
match (uncached): 541/1000
match (uncached): 542/1000
match (uncached): 543/1000
match (uncached): 544/1000
match (uncached): 545/1000
match (uncached): 546/1000
match (uncached): 547/1000
match (uncached): 548/1000
match (uncached): 549/1000
match (uncached): 550/1000
match (uncached): 551/1000
match (uncached): 552/1000
match (uncached): 553/1000
match (uncached): 554/1000
match (uncached): 555/1000
match (uncached): 556/1000
match (uncached): 557/1000
match (uncached): 558/1000
match (uncached): 559/1000
match (uncached): 560/1000
match (uncached): 561/1000
match (uncached): 562/1000
match (uncached): 563/1000
match (uncached): 564/1000
match (uncached): 565/1000
match (uncached): 566/1000
match (uncached): 567/1000
match (uncached): 568/1000
match (uncached): 569/1000
match (uncached): 570/1000
match (uncached): 571/1000
match (uncached): 572/1000
match (uncached): 573/1000
match (uncached): 574/1000
match (uncached): 575/1000
match (uncached): 576/1000
match (uncached): 577/1000
match (uncached): 578/1000
match (uncached): 579/1000
match (uncached): 580/1000
match (uncached): 581/1000
match (uncached): 582/1000
match (uncached): 583/1000
match (uncached): 584/1000
match (uncached): 585/1000
match (uncached): 586/1000
match (uncached): 587/1000
match (uncached): 588/1000
match (uncached): 589/1000
match (uncached): 590/1000
match (uncached): 591/1000
match (uncached): 592/1000
match (uncached): 593/1000
match (uncached): 594/1000
match (uncached): 595/1000
match (uncached): 596/1000
match (uncached): 597/1000
match (uncached): 598/1000
match (uncached): 599/1000
match (uncached): 600/1000
match (uncached): 601/1000
match (uncached): 602/1000
match (uncached): 603/1000
match (uncached): 604/1000
match (uncached): 605/1000
match (uncached): 606/1000
match (uncached): 607/1000
match (uncached): 608/1000
match (uncached): 609/1000
match (uncached): 610/1000
match (uncached): 611/1000
match (uncached): 612/1000
match (uncached): 613/1000
match (uncached): 614/1000
match (uncached): 615/1000
match (uncached): 616/1000
match (uncached): 617/1000
match (uncached): 618/1000
match (uncached): 619/1000
match (uncached): 620/1000
match (uncached): 621/1000
match (uncached): 622/1000
match (uncached): 623/1000
match (uncached): 624/1000
match (uncached): 625/1000
match (uncached): 626/1000
match (uncached): 627/1000
match (uncached): 628/1000
match (uncached): 629/1000
match (uncached): 630/1000
match (uncached): 631/1000
match (uncached): 632/1000
match (uncached): 633/1000
match (uncached): 634/1000
match (uncached): 635/1000
match (uncached): 636/1000
match (uncached): 637/1000
match (uncached): 638/1000
match (uncached): 639/1000
match (uncached): 640/1000
match (uncached): 641/1000
match (uncached): 642/1000
match (uncached): 643/1000
match (uncached): 644/1000
match (uncached): 645/1000
match (uncached): 646/1000
match (uncached): 647/1000
match (uncached): 648/1000
match (uncached): 649/1000
match (uncached): 650/1000
match (uncached): 651/1000
match (uncached): 652/1000
match (uncached): 653/1000
match (uncached): 654/1000
match (uncached): 655/1000
match (uncached): 656/1000
match (uncached): 657/1000
match (uncached): 658/1000
match (uncached): 659/1000
match (uncached): 660/1000
match (uncached): 661/1000
match (uncached): 662/1000
match (uncached): 663/1000
match (uncached): 664/1000
match (uncached): 665/1000
match (uncached): 666/1000
match (uncached): 667/1000
match (uncached): 668/1000
match (uncached): 669/1000
match (uncached): 670/1000
match (uncached): 671/1000
match (uncached): 672/1000
match (uncached): 673/1000
match (uncached): 674/1000
match (uncached): 675/1000
match (uncached): 676/1000
match (uncached): 677/1000
match (uncached): 678/1000
match (uncached): 679/1000
match (uncached): 680/1000
match (uncached): 681/1000
match (uncached): 682/1000
match (uncached): 683/1000
match (uncached): 684/1000
match (uncached): 685/1000
match (uncached): 686/1000
match (uncached): 687/1000
match (uncached): 688/1000
match (uncached): 689/1000
match (uncached): 690/1000
match (uncached): 691/1000
match (uncached): 692/1000
match (uncached): 693/1000
match (uncached): 694/1000
match (uncached): 695/1000
match (uncached): 696/1000
match (uncached): 697/1000
match (uncached): 698/1000
match (uncached): 699/1000
match (uncached): 700/1000
match (uncached): 701/1000
match (uncached): 702/1000
match (uncached): 703/1000
match (uncached): 704/1000
match (uncached): 705/1000
match (uncached): 706/1000
match (uncached): 707/1000
match (uncached): 708/1000
match (uncached): 709/1000
match (uncached): 710/1000
match (uncached): 711/1000
match (uncached): 712/1000
match (uncached): 713/1000
match (uncached): 714/1000
match (uncached): 715/1000
match (uncached): 716/1000
match (uncached): 717/1000
match (uncached): 718/1000
match (uncached): 719/1000
match (uncached): 720/1000
match (uncached): 721/1000
match (uncached): 722/1000
match (uncached): 723/1000
match (uncached): 724/1000
match (uncached): 725/1000
match (uncached): 726/1000
match (uncached): 727/1000
match (uncached): 728/1000
match (uncached): 729/1000
match (uncached): 730/1000
match (uncached): 731/1000
match (uncached): 732/1000
match (uncached): 733/1000
match (uncached): 734/1000
match (uncached): 735/1000
match (uncached): 736/1000
match (uncached): 737/1000
match (uncached): 738/1000
match (uncached): 739/1000
match (uncached): 740/1000
match (uncached): 741/1000
match (uncached): 742/1000
match (uncached): 743/1000
match (uncached): 744/1000
match (uncached): 745/1000
match (uncached): 746/1000
match (uncached): 747/1000
match (uncached): 748/1000
match (uncached): 749/1000
match (uncached): 750/1000
match (uncached): 751/1000
match (uncached): 752/1000
match (uncached): 753/1000
match (uncached): 754/1000
match (uncached): 755/1000
match (uncached): 756/1000
match (uncached): 757/1000
match (uncached): 758/1000
match (uncached): 759/1000
match (uncached): 760/1000
match (uncached): 761/1000
match (uncached): 762/1000
match (uncached): 763/1000
match (uncached): 764/1000
match (uncached): 765/1000
match (uncached): 766/1000
match (uncached): 767/1000
match (uncached): 768/1000
match (uncached): 769/1000
match (uncached): 770/1000
match (uncached): 771/1000
match (uncached): 772/1000
match (uncached): 773/1000
match (uncached): 774/1000
match (uncached): 775/1000
match (uncached): 776/1000
match (uncached): 777/1000
match (uncached): 778/1000
match (uncached): 779/1000
match (uncached): 780/1000
match (uncached): 781/1000
match (uncached): 782/1000
match (uncached): 783/1000
match (uncached): 784/1000
match (uncached): 785/1000
match (uncached): 786/1000
match (uncached): 787/1000
match (uncached): 788/1000
match (uncached): 789/1000
match (uncached): 790/1000
match (uncached): 791/1000
match (uncached): 792/1000
match (uncached): 793/1000
match (uncached): 794/1000
match (uncached): 795/1000
match (uncached): 796/1000
match (uncached): 797/1000
match (uncached): 798/1000
match (uncached): 799/1000
match (uncached): 800/1000
match (uncached): 801/1000
match (uncached): 802/1000
match (uncached): 803/1000
match (uncached): 804/1000
match (uncached): 805/1000
match (uncached): 806/1000
match (uncached): 807/1000
match (uncached): 808/1000
match (uncached): 809/1000
match (uncached): 810/1000
match (uncached): 811/1000
match (uncached): 812/1000
match (uncached): 813/1000
match (uncached): 814/1000
match (uncached): 815/1000
match (uncached): 816/1000
match (uncached): 817/1000
match (uncached): 818/1000
match (uncached): 819/1000
match (uncached): 820/1000
match (uncached): 821/1000
match (uncached): 822/1000
match (uncached): 823/1000
match (uncached): 824/1000
match (uncached): 825/1000
match (uncached): 826/1000
match (uncached): 827/1000
match (uncached): 828/1000
match (uncached): 829/1000
match (uncached): 830/1000
match (uncached): 831/1000
match (uncached): 832/1000
match (uncached): 833/1000
match (uncached): 834/1000
match (uncached): 835/1000
match (uncached): 836/1000
match (uncached): 837/1000
match (uncached): 838/1000
match (uncached): 839/1000
match (uncached): 840/1000
match (uncached): 841/1000
match (uncached): 842/1000
match (uncached): 843/1000
match (uncached): 844/1000
match (uncached): 845/1000
match (uncached): 846/1000
match (uncached): 847/1000
match (uncached): 848/1000
match (uncached): 849/1000
match (uncached): 850/1000
match (uncached): 851/1000
match (uncached): 852/1000
match (uncached): 853/1000
match (uncached): 854/1000
match (uncached): 855/1000
match (uncached): 856/1000
match (uncached): 857/1000
match (uncached): 858/1000
match (uncached): 859/1000
match (uncached): 860/1000
match (uncached): 861/1000
match (uncached): 862/1000
match (uncached): 863/1000
match (uncached): 864/1000
match (uncached): 865/1000
match (uncached): 866/1000
match (uncached): 867/1000
match (uncached): 868/1000
match (uncached): 869/1000
match (uncached): 870/1000
match (uncached): 871/1000
match (uncached): 872/1000
match (uncached): 873/1000
match (uncached): 874/1000
match (uncached): 875/1000
match (uncached): 876/1000
match (uncached): 877/1000
match (uncached): 878/1000
match (uncached): 879/1000
match (uncached): 880/1000
match (uncached): 881/1000
match (uncached): 882/1000
match (uncached): 883/1000
match (uncached): 884/1000
match (uncached): 885/1000
match (uncached): 886/1000
match (uncached): 887/1000
match (uncached): 888/1000
match (uncached): 889/1000
match (uncached): 890/1000
match (uncached): 891/1000
match (uncached): 892/1000
match (uncached): 893/1000
match (uncached): 894/1000
match (uncached): 895/1000
match (uncached): 896/1000
match (uncached): 897/1000
match (uncached): 898/1000
match (uncached): 899/1000
match (uncached): 900/1000
match (uncached): 901/1000
match (uncached): 902/1000
match (uncached): 903/1000
match (uncached): 904/1000
match (uncached): 905/1000
match (uncached): 906/1000
match (uncached): 907/1000
match (uncached): 908/1000
match (uncached): 909/1000
match (uncached): 910/1000
match (uncached): 911/1000
match (uncached): 912/1000
match (uncached): 913/1000
match (uncached): 914/1000
match (uncached): 915/1000
match (uncached): 916/1000
match (uncached): 917/1000
match (uncached): 918/1000
match (uncached): 919/1000
match (uncached): 920/1000
match (uncached): 921/1000
match (uncached): 922/1000
match (uncached): 923/1000
match (uncached): 924/1000
match (uncached): 925/1000
match (uncached): 926/1000
match (uncached): 927/1000
match (uncached): 928/1000
match (uncached): 929/1000
match (uncached): 930/1000
match (uncached): 931/1000
match (uncached): 932/1000
match (uncached): 933/1000
match (uncached): 934/1000
match (uncached): 935/1000
match (uncached): 936/1000
match (uncached): 937/1000
match (uncached): 938/1000
match (uncached): 939/1000
match (uncached): 940/1000
match (uncached): 941/1000
match (uncached): 942/1000
match (uncached): 943/1000
match (uncached): 944/1000
match (uncached): 945/1000
match (uncached): 946/1000
match (uncached): 947/1000
match (uncached): 948/1000
match (uncached): 949/1000
match (uncached): 950/1000
match (uncached): 951/1000
match (uncached): 952/1000
match (uncached): 953/1000
match (uncached): 954/1000
match (uncached): 955/1000
match (uncached): 956/1000
match (uncached): 957/1000
match (uncached): 958/1000
match (uncached): 959/1000
match (uncached): 960/1000
match (uncached): 961/1000
match (uncached): 962/1000
match (uncached): 963/1000
match (uncached): 964/1000
match (uncached): 965/1000
match (uncached): 966/1000
match (uncached): 967/1000
match (uncached): 968/1000
match (uncached): 969/1000
match (uncached): 970/1000
match (uncached): 971/1000
match (uncached): 972/1000
match (uncached): 973/1000
match (uncached): 974/1000
match (uncached): 975/1000
match (uncached): 976/1000
match (uncached): 977/1000
match (uncached): 978/1000
match (uncached): 979/1000
match (uncached): 980/1000
match (uncached): 981/1000
match (uncached): 982/1000
match (uncached): 983/1000
match (uncached): 984/1000
match (uncached): 985/1000
match (uncached): 986/1000
match (uncached): 987/1000
match (uncached): 988/1000
match (uncached): 989/1000
match (uncached): 990/1000
match (uncached): 991/1000
match (uncached): 992/1000
match (uncached): 993/1000
match (uncached): 994/1000
match (uncached): 995/1000
match (uncached): 996/1000
match (uncached): 997/1000
match (uncached): 998/1000
match (uncached): 999/1000
match (uncached): 1000/1000
match (cached): 1/1000
match (cached): 2/1000
match (cached): 3/1000
match (cached): 4/1000
match (cached): 5/1000
match (cached): 6/1000
match (cached): 7/1000
match (cached): 8/1000
match (cached): 9/1000
match (cached): 10/1000
match (cached): 11/1000
match (cached): 12/1000
match (cached): 13/1000
match (cached): 14/1000
match (cached): 15/1000
match (cached): 16/1000
match (cached): 17/1000
match (cached): 18/1000
match (cached): 19/1000
match (cached): 20/1000
match (cached): 21/1000
match (cached): 22/1000
match (cached): 23/1000
match (cached): 24/1000
match (cached): 25/1000
match (cached): 26/1000
match (cached): 27/1000
match (cached): 28/1000
match (cached): 29/1000
match (cached): 30/1000
match (cached): 31/1000
match (cached): 32/1000
match (cached): 33/1000
match (cached): 34/1000
match (cached): 35/1000
match (cached): 36/1000
match (cached): 37/1000
match (cached): 38/1000
match (cached): 39/1000
match (cached): 40/1000
match (cached): 41/1000
match (cached): 42/1000
match (cached): 43/1000
match (cached): 44/1000
match (cached): 45/1000
match (cached): 46/1000
match (cached): 47/1000
match (cached): 48/1000
match (cached): 49/1000
match (cached): 50/1000
match (cached): 51/1000
match (cached): 52/1000
match (cached): 53/1000
match (cached): 54/1000
match (cached): 55/1000
match (cached): 56/1000
match (cached): 57/1000
match (cached): 58/1000
match (cached): 59/1000
match (cached): 60/1000
match (cached): 61/1000
match (cached): 62/1000
match (cached): 63/1000
match (cached): 64/1000
match (cached): 65/1000
match (cached): 66/1000
match (cached): 67/1000
match (cached): 68/1000
match (cached): 69/1000
match (cached): 70/1000
match (cached): 71/1000
match (cached): 72/1000
match (cached): 73/1000
match (cached): 74/1000
match (cached): 75/1000
match (cached): 76/1000
match (cached): 77/1000
match (cached): 78/1000
match (cached): 79/1000
match (cached): 80/1000
match (cached): 81/1000
match (cached): 82/1000
match (cached): 83/1000
match (cached): 84/1000
match (cached): 85/1000
match (cached): 86/1000
match (cached): 87/1000
match (cached): 88/1000
match (cached): 89/1000
match (cached): 90/1000
match (cached): 91/1000
match (cached): 92/1000
match (cached): 93/1000
match (cached): 94/1000
match (cached): 95/1000
match (cached): 96/1000
match (cached): 97/1000
match (cached): 98/1000
match (cached): 99/1000
match (cached): 100/1000
match (cached): 101/1000
match (cached): 102/1000
match (cached): 103/1000
match (cached): 104/1000
match (cached): 105/1000
match (cached): 106/1000
match (cached): 107/1000
match (cached): 108/1000
match (cached): 109/1000
match (cached): 110/1000
match (cached): 111/1000
match (cached): 112/1000
match (cached): 113/1000
match (cached): 114/1000
match (cached): 115/1000
match (cached): 116/1000
match (cached): 117/1000
match (cached): 118/1000
match (cached): 119/1000
match (cached): 120/1000
match (cached): 121/1000
match (cached): 122/1000
match (cached): 123/1000
match (cached): 124/1000
match (cached): 125/1000
match (cached): 126/1000
match (cached): 127/1000
match (cached): 128/1000
match (cached): 129/1000
match (cached): 130/1000
match (cached): 131/1000
match (cached): 132/1000
match (cached): 133/1000
match (cached): 134/1000
match (cached): 135/1000
match (cached): 136/1000
match (cached): 137/1000
match (cached): 138/1000
match (cached): 139/1000
match (cached): 140/1000
match (cached): 141/1000
match (cached): 142/1000
match (cached): 143/1000
match (cached): 144/1000
match (cached): 145/1000
match (cached): 146/1000
match (cached): 147/1000
match (cached): 148/1000
match (cached): 149/1000
match (cached): 150/1000
match (cached): 151/1000
match (cached): 152/1000
match (cached): 153/1000
match (cached): 154/1000
match (cached): 155/1000
match (cached): 156/1000
match (cached): 157/1000
match (cached): 158/1000
match (cached): 159/1000
match (cached): 160/1000
match (cached): 161/1000
match (cached): 162/1000
match (cached): 163/1000
match (cached): 164/1000
match (cached): 165/1000
match (cached): 166/1000
match (cached): 167/1000
match (cached): 168/1000
match (cached): 169/1000
match (cached): 170/1000
match (cached): 171/1000
match (cached): 172/1000
match (cached): 173/1000
match (cached): 174/1000
match (cached): 175/1000
match (cached): 176/1000
match (cached): 177/1000
match (cached): 178/1000
match (cached): 179/1000
match (cached): 180/1000
match (cached): 181/1000
match (cached): 182/1000
match (cached): 183/1000
match (cached): 184/1000
match (cached): 185/1000
match (cached): 186/1000
match (cached): 187/1000
match (cached): 188/1000
match (cached): 189/1000
match (cached): 190/1000
match (cached): 191/1000
match (cached): 192/1000
match (cached): 193/1000
match (cached): 194/1000
match (cached): 195/1000
match (cached): 196/1000
match (cached): 197/1000
match (cached): 198/1000
match (cached): 199/1000
match (cached): 200/1000
match (cached): 201/1000
match (cached): 202/1000
match (cached): 203/1000
match (cached): 204/1000
match (cached): 205/1000
match (cached): 206/1000
match (cached): 207/1000
match (cached): 208/1000
match (cached): 209/1000
match (cached): 210/1000
match (cached): 211/1000
match (cached): 212/1000
match (cached): 213/1000
match (cached): 214/1000
match (cached): 215/1000
match (cached): 216/1000
match (cached): 217/1000
match (cached): 218/1000
match (cached): 219/1000
match (cached): 220/1000
match (cached): 221/1000
match (cached): 222/1000
match (cached): 223/1000
match (cached): 224/1000
match (cached): 225/1000
match (cached): 226/1000
match (cached): 227/1000
match (cached): 228/1000
match (cached): 229/1000
match (cached): 230/1000
match (cached): 231/1000
match (cached): 232/1000
match (cached): 233/1000
match (cached): 234/1000
match (cached): 235/1000
match (cached): 236/1000
match (cached): 237/1000
match (cached): 238/1000
match (cached): 239/1000
match (cached): 240/1000
match (cached): 241/1000
match (cached): 242/1000
match (cached): 243/1000
match (cached): 244/1000
match (cached): 245/1000
match (cached): 246/1000
match (cached): 247/1000
match (cached): 248/1000
match (cached): 249/1000
match (cached): 250/1000
match (cached): 251/1000
match (cached): 252/1000
match (cached): 253/1000
match (cached): 254/1000
match (cached): 255/1000
match (cached): 256/1000
match (cached): 257/1000
match (cached): 258/1000
match (cached): 259/1000
match (cached): 260/1000
match (cached): 261/1000
match (cached): 262/1000
match (cached): 263/1000
match (cached): 264/1000
match (cached): 265/1000
match (cached): 266/1000
match (cached): 267/1000
match (cached): 268/1000
match (cached): 269/1000
match (cached): 270/1000
match (cached): 271/1000
match (cached): 272/1000
match (cached): 273/1000
match (cached): 274/1000
match (cached): 275/1000
match (cached): 276/1000
match (cached): 277/1000
match (cached): 278/1000
match (cached): 279/1000
match (cached): 280/1000
match (cached): 281/1000
match (cached): 282/1000
match (cached): 283/1000
match (cached): 284/1000
match (cached): 285/1000
match (cached): 286/1000
match (cached): 287/1000
match (cached): 288/1000
match (cached): 289/1000
match (cached): 290/1000
match (cached): 291/1000
match (cached): 292/1000
match (cached): 293/1000
match (cached): 294/1000
match (cached): 295/1000
match (cached): 296/1000
match (cached): 297/1000
match (cached): 298/1000
match (cached): 299/1000
match (cached): 300/1000
match (cached): 301/1000
match (cached): 302/1000
match (cached): 303/1000
match (cached): 304/1000
match (cached): 305/1000
match (cached): 306/1000
match (cached): 307/1000
match (cached): 308/1000
match (cached): 309/1000
match (cached): 310/1000
match (cached): 311/1000
match (cached): 312/1000
match (cached): 313/1000
match (cached): 314/1000
match (cached): 315/1000
match (cached): 316/1000
match (cached): 317/1000
match (cached): 318/1000
match (cached): 319/1000
match (cached): 320/1000
match (cached): 321/1000
match (cached): 322/1000
match (cached): 323/1000
match (cached): 324/1000
match (cached): 325/1000
match (cached): 326/1000
match (cached): 327/1000
match (cached): 328/1000
match (cached): 329/1000
match (cached): 330/1000
match (cached): 331/1000
match (cached): 332/1000
match (cached): 333/1000
match (cached): 334/1000
match (cached): 335/1000
match (cached): 336/1000
match (cached): 337/1000
match (cached): 338/1000
match (cached): 339/1000
match (cached): 340/1000
match (cached): 341/1000
match (cached): 342/1000
match (cached): 343/1000
match (cached): 344/1000
match (cached): 345/1000
match (cached): 346/1000
match (cached): 347/1000
match (cached): 348/1000
match (cached): 349/1000
match (cached): 350/1000
match (cached): 351/1000
match (cached): 352/1000
match (cached): 353/1000
match (cached): 354/1000
match (cached): 355/1000
match (cached): 356/1000
match (cached): 357/1000
match (cached): 358/1000
match (cached): 359/1000
match (cached): 360/1000
match (cached): 361/1000
match (cached): 362/1000
match (cached): 363/1000
match (cached): 364/1000
match (cached): 365/1000
match (cached): 366/1000
match (cached): 367/1000
match (cached): 368/1000
match (cached): 369/1000
match (cached): 370/1000
match (cached): 371/1000
match (cached): 372/1000
match (cached): 373/1000
match (cached): 374/1000
match (cached): 375/1000
match (cached): 376/1000
match (cached): 377/1000
match (cached): 378/1000
match (cached): 379/1000
match (cached): 380/1000
match (cached): 381/1000
match (cached): 382/1000
match (cached): 383/1000
match (cached): 384/1000
match (cached): 385/1000
match (cached): 386/1000
match (cached): 387/1000
match (cached): 388/1000
match (cached): 389/1000
match (cached): 390/1000
match (cached): 391/1000
match (cached): 392/1000
match (cached): 393/1000
match (cached): 394/1000
match (cached): 395/1000
match (cached): 396/1000
match (cached): 397/1000
match (cached): 398/1000
match (cached): 399/1000
match (cached): 400/1000
match (cached): 401/1000
match (cached): 402/1000
match (cached): 403/1000
match (cached): 404/1000
match (cached): 405/1000
match (cached): 406/1000
match (cached): 407/1000
match (cached): 408/1000
match (cached): 409/1000
match (cached): 410/1000
match (cached): 411/1000
match (cached): 412/1000
match (cached): 413/1000
match (cached): 414/1000
match (cached): 415/1000
match (cached): 416/1000
match (cached): 417/1000
match (cached): 418/1000
match (cached): 419/1000
match (cached): 420/1000
match (cached): 421/1000
match (cached): 422/1000
match (cached): 423/1000
match (cached): 424/1000
match (cached): 425/1000
match (cached): 426/1000
match (cached): 427/1000
match (cached): 428/1000
match (cached): 429/1000
match (cached): 430/1000
match (cached): 431/1000
match (cached): 432/1000
match (cached): 433/1000
match (cached): 434/1000
match (cached): 435/1000
match (cached): 436/1000
match (cached): 437/1000
match (cached): 438/1000
match (cached): 439/1000
match (cached): 440/1000
match (cached): 441/1000
match (cached): 442/1000
match (cached): 443/1000
match (cached): 444/1000
match (cached): 445/1000
match (cached): 446/1000
match (cached): 447/1000
match (cached): 448/1000
match (cached): 449/1000
match (cached): 450/1000
match (cached): 451/1000
match (cached): 452/1000
match (cached): 453/1000
match (cached): 454/1000
match (cached): 455/1000
match (cached): 456/1000
match (cached): 457/1000
match (cached): 458/1000
match (cached): 459/1000
match (cached): 460/1000
match (cached): 461/1000
match (cached): 462/1000
match (cached): 463/1000
match (cached): 464/1000
match (cached): 465/1000
match (cached): 466/1000
match (cached): 467/1000
match (cached): 468/1000
match (cached): 469/1000
match (cached): 470/1000
match (cached): 471/1000
match (cached): 472/1000
match (cached): 473/1000
match (cached): 474/1000
match (cached): 475/1000
match (cached): 476/1000
match (cached): 477/1000
match (cached): 478/1000
match (cached): 479/1000
match (cached): 480/1000
match (cached): 481/1000
match (cached): 482/1000
match (cached): 483/1000
match (cached): 484/1000
match (cached): 485/1000
match (cached): 486/1000
match (cached): 487/1000
match (cached): 488/1000
match (cached): 489/1000
match (cached): 490/1000
match (cached): 491/1000
match (cached): 492/1000
match (cached): 493/1000
match (cached): 494/1000
match (cached): 495/1000
match (cached): 496/1000
match (cached): 497/1000
match (cached): 498/1000
match (cached): 499/1000
match (cached): 500/1000
match (cached): 501/1000
match (cached): 502/1000
match (cached): 503/1000
match (cached): 504/1000
match (cached): 505/1000
match (cached): 506/1000
match (cached): 507/1000
match (cached): 508/1000
match (cached): 509/1000
match (cached): 510/1000
match (cached): 511/1000
match (cached): 512/1000
match (cached): 513/1000
match (cached): 514/1000
match (cached): 515/1000
match (cached): 516/1000
match (cached): 517/1000
match (cached): 518/1000
match (cached): 519/1000
match (cached): 520/1000
match (cached): 521/1000
match (cached): 522/1000
match (cached): 523/1000
match (cached): 524/1000
match (cached): 525/1000
match (cached): 526/1000
match (cached): 527/1000
match (cached): 528/1000
match (cached): 529/1000
match (cached): 530/1000
match (cached): 531/1000
match (cached): 532/1000
match (cached): 533/1000
match (cached): 534/1000
match (cached): 535/1000
match (cached): 536/1000
match (cached): 537/1000
match (cached): 538/1000
match (cached): 539/1000
match (cached): 540/1000
match (cached): 541/1000
match (cached): 542/1000
match (cached): 543/1000
match (cached): 544/1000
match (cached): 545/1000
match (cached): 546/1000
match (cached): 547/1000
match (cached): 548/1000
match (cached): 549/1000
match (cached): 550/1000
match (cached): 551/1000
match (cached): 552/1000
match (cached): 553/1000
match (cached): 554/1000
match (cached): 555/1000
match (cached): 556/1000
match (cached): 557/1000
match (cached): 558/1000
match (cached): 559/1000
match (cached): 560/1000
match (cached): 561/1000
match (cached): 562/1000
match (cached): 563/1000
match (cached): 564/1000
match (cached): 565/1000
match (cached): 566/1000
match (cached): 567/1000
match (cached): 568/1000
match (cached): 569/1000
match (cached): 570/1000
match (cached): 571/1000
match (cached): 572/1000
match (cached): 573/1000
match (cached): 574/1000
match (cached): 575/1000
match (cached): 576/1000
match (cached): 577/1000
match (cached): 578/1000
match (cached): 579/1000
match (cached): 580/1000
match (cached): 581/1000
match (cached): 582/1000
match (cached): 583/1000
match (cached): 584/1000
match (cached): 585/1000
match (cached): 586/1000
match (cached): 587/1000
match (cached): 588/1000
match (cached): 589/1000
match (cached): 590/1000
match (cached): 591/1000
match (cached): 592/1000
match (cached): 593/1000
match (cached): 594/1000
match (cached): 595/1000
match (cached): 596/1000
match (cached): 597/1000
match (cached): 598/1000
match (cached): 599/1000
match (cached): 600/1000
match (cached): 601/1000
match (cached): 602/1000
match (cached): 603/1000
match (cached): 604/1000
match (cached): 605/1000
match (cached): 606/1000
match (cached): 607/1000
match (cached): 608/1000
match (cached): 609/1000
match (cached): 610/1000
match (cached): 611/1000
match (cached): 612/1000
match (cached): 613/1000
match (cached): 614/1000
match (cached): 615/1000
match (cached): 616/1000
match (cached): 617/1000
match (cached): 618/1000
match (cached): 619/1000
match (cached): 620/1000
match (cached): 621/1000
match (cached): 622/1000
match (cached): 623/1000
match (cached): 624/1000
match (cached): 625/1000
match (cached): 626/1000
match (cached): 627/1000
match (cached): 628/1000
match (cached): 629/1000
match (cached): 630/1000
match (cached): 631/1000
match (cached): 632/1000
match (cached): 633/1000
match (cached): 634/1000
match (cached): 635/1000
match (cached): 636/1000
match (cached): 637/1000
match (cached): 638/1000
match (cached): 639/1000
match (cached): 640/1000
match (cached): 641/1000
match (cached): 642/1000
match (cached): 643/1000
match (cached): 644/1000
match (cached): 645/1000
match (cached): 646/1000
match (cached): 647/1000
match (cached): 648/1000
match (cached): 649/1000
match (cached): 650/1000
match (cached): 651/1000
match (cached): 652/1000
match (cached): 653/1000
match (cached): 654/1000
match (cached): 655/1000
match (cached): 656/1000
match (cached): 657/1000
match (cached): 658/1000
match (cached): 659/1000
match (cached): 660/1000
match (cached): 661/1000
match (cached): 662/1000
match (cached): 663/1000
match (cached): 664/1000
match (cached): 665/1000
match (cached): 666/1000
match (cached): 667/1000
match (cached): 668/1000
match (cached): 669/1000
match (cached): 670/1000
match (cached): 671/1000
match (cached): 672/1000
match (cached): 673/1000
match (cached): 674/1000
match (cached): 675/1000
match (cached): 676/1000
match (cached): 677/1000
match (cached): 678/1000
match (cached): 679/1000
match (cached): 680/1000
match (cached): 681/1000
match (cached): 682/1000
match (cached): 683/1000
match (cached): 684/1000
match (cached): 685/1000
match (cached): 686/1000
match (cached): 687/1000
match (cached): 688/1000
match (cached): 689/1000
match (cached): 690/1000
match (cached): 691/1000
match (cached): 692/1000
match (cached): 693/1000
match (cached): 694/1000
match (cached): 695/1000
match (cached): 696/1000
match (cached): 697/1000
match (cached): 698/1000
match (cached): 699/1000
match (cached): 700/1000
match (cached): 701/1000
match (cached): 702/1000
match (cached): 703/1000
match (cached): 704/1000
match (cached): 705/1000
match (cached): 706/1000
match (cached): 707/1000
match (cached): 708/1000
match (cached): 709/1000
match (cached): 710/1000
match (cached): 711/1000
match (cached): 712/1000
match (cached): 713/1000
match (cached): 714/1000
match (cached): 715/1000
match (cached): 716/1000
match (cached): 717/1000
match (cached): 718/1000
match (cached): 719/1000
match (cached): 720/1000
match (cached): 721/1000
match (cached): 722/1000
match (cached): 723/1000
match (cached): 724/1000
match (cached): 725/1000
match (cached): 726/1000
match (cached): 727/1000
match (cached): 728/1000
match (cached): 729/1000
match (cached): 730/1000
match (cached): 731/1000
match (cached): 732/1000
match (cached): 733/1000
match (cached): 734/1000
match (cached): 735/1000
match (cached): 736/1000
match (cached): 737/1000
match (cached): 738/1000
match (cached): 739/1000
match (cached): 740/1000
match (cached): 741/1000
match (cached): 742/1000
match (cached): 743/1000
match (cached): 744/1000
match (cached): 745/1000
match (cached): 746/1000
match (cached): 747/1000
match (cached): 748/1000
match (cached): 749/1000
match (cached): 750/1000
match (cached): 751/1000
match (cached): 752/1000
match (cached): 753/1000
match (cached): 754/1000
match (cached): 755/1000
match (cached): 756/1000
match (cached): 757/1000
match (cached): 758/1000
match (cached): 759/1000
match (cached): 760/1000
match (cached): 761/1000
match (cached): 762/1000
match (cached): 763/1000
match (cached): 764/1000
match (cached): 765/1000
match (cached): 766/1000
match (cached): 767/1000
match (cached): 768/1000
match (cached): 769/1000
match (cached): 770/1000
match (cached): 771/1000
match (cached): 772/1000
match (cached): 773/1000
match (cached): 774/1000
match (cached): 775/1000
match (cached): 776/1000
match (cached): 777/1000
match (cached): 778/1000
match (cached): 779/1000
match (cached): 780/1000
match (cached): 781/1000
match (cached): 782/1000
match (cached): 783/1000
match (cached): 784/1000
match (cached): 785/1000
match (cached): 786/1000
match (cached): 787/1000
match (cached): 788/1000
match (cached): 789/1000
match (cached): 790/1000
match (cached): 791/1000
match (cached): 792/1000
match (cached): 793/1000
match (cached): 794/1000
match (cached): 795/1000
match (cached): 796/1000
match (cached): 797/1000
match (cached): 798/1000
match (cached): 799/1000
match (cached): 800/1000
match (cached): 801/1000
match (cached): 802/1000
match (cached): 803/1000
match (cached): 804/1000
match (cached): 805/1000
match (cached): 806/1000
match (cached): 807/1000
match (cached): 808/1000
match (cached): 809/1000
match (cached): 810/1000
match (cached): 811/1000
match (cached): 812/1000
match (cached): 813/1000
match (cached): 814/1000
match (cached): 815/1000
match (cached): 816/1000
match (cached): 817/1000
match (cached): 818/1000
match (cached): 819/1000
match (cached): 820/1000
match (cached): 821/1000
match (cached): 822/1000
match (cached): 823/1000
match (cached): 824/1000
match (cached): 825/1000
match (cached): 826/1000
match (cached): 827/1000
match (cached): 828/1000
match (cached): 829/1000
match (cached): 830/1000
match (cached): 831/1000
match (cached): 832/1000
match (cached): 833/1000
match (cached): 834/1000
match (cached): 835/1000
match (cached): 836/1000
match (cached): 837/1000
match (cached): 838/1000
match (cached): 839/1000
match (cached): 840/1000
match (cached): 841/1000
match (cached): 842/1000
match (cached): 843/1000
match (cached): 844/1000
match (cached): 845/1000
match (cached): 846/1000
match (cached): 847/1000
match (cached): 848/1000
match (cached): 849/1000
match (cached): 850/1000
match (cached): 851/1000
match (cached): 852/1000
match (cached): 853/1000
match (cached): 854/1000
match (cached): 855/1000
match (cached): 856/1000
match (cached): 857/1000
match (cached): 858/1000
match (cached): 859/1000
match (cached): 860/1000
match (cached): 861/1000
match (cached): 862/1000
match (cached): 863/1000
match (cached): 864/1000
match (cached): 865/1000
match (cached): 866/1000
match (cached): 867/1000
match (cached): 868/1000
match (cached): 869/1000
match (cached): 870/1000
match (cached): 871/1000
match (cached): 872/1000
match (cached): 873/1000
match (cached): 874/1000
match (cached): 875/1000
match (cached): 876/1000
match (cached): 877/1000
match (cached): 878/1000
match (cached): 879/1000
match (cached): 880/1000
match (cached): 881/1000
match (cached): 882/1000
match (cached): 883/1000
match (cached): 884/1000
match (cached): 885/1000
match (cached): 886/1000
match (cached): 887/1000
match (cached): 888/1000
match (cached): 889/1000
match (cached): 890/1000
match (cached): 891/1000
match (cached): 892/1000
match (cached): 893/1000
match (cached): 894/1000
match (cached): 895/1000
match (cached): 896/1000
match (cached): 897/1000
match (cached): 898/1000
match (cached): 899/1000
match (cached): 900/1000
match (cached): 901/1000
match (cached): 902/1000
match (cached): 903/1000
match (cached): 904/1000
match (cached): 905/1000
match (cached): 906/1000
match (cached): 907/1000
match (cached): 908/1000
match (cached): 909/1000
match (cached): 910/1000
match (cached): 911/1000
match (cached): 912/1000
match (cached): 913/1000
match (cached): 914/1000
match (cached): 915/1000
match (cached): 916/1000
match (cached): 917/1000
match (cached): 918/1000
match (cached): 919/1000
match (cached): 920/1000
match (cached): 921/1000
match (cached): 922/1000
match (cached): 923/1000
match (cached): 924/1000
match (cached): 925/1000
match (cached): 926/1000
match (cached): 927/1000
match (cached): 928/1000
match (cached): 929/1000
match (cached): 930/1000
match (cached): 931/1000
match (cached): 932/1000
match (cached): 933/1000
match (cached): 934/1000
match (cached): 935/1000
match (cached): 936/1000
match (cached): 937/1000
match (cached): 938/1000
match (cached): 939/1000
match (cached): 940/1000
match (cached): 941/1000
match (cached): 942/1000
match (cached): 943/1000
match (cached): 944/1000
match (cached): 945/1000
match (cached): 946/1000
match (cached): 947/1000
match (cached): 948/1000
match (cached): 949/1000
match (cached): 950/1000
match (cached): 951/1000
match (cached): 952/1000
match (cached): 953/1000
match (cached): 954/1000
match (cached): 955/1000
match (cached): 956/1000
match (cached): 957/1000
match (cached): 958/1000
match (cached): 959/1000
match (cached): 960/1000
match (cached): 961/1000
match (cached): 962/1000
match (cached): 963/1000
match (cached): 964/1000
match (cached): 965/1000
match (cached): 966/1000
match (cached): 967/1000
match (cached): 968/1000
match (cached): 969/1000
match (cached): 970/1000
match (cached): 971/1000
match (cached): 972/1000
match (cached): 973/1000
match (cached): 974/1000
match (cached): 975/1000
match (cached): 976/1000
match (cached): 977/1000
match (cached): 978/1000
match (cached): 979/1000
match (cached): 980/1000
match (cached): 981/1000
match (cached): 982/1000
match (cached): 983/1000
match (cached): 984/1000
match (cached): 985/1000
match (cached): 986/1000
match (cached): 987/1000
match (cached): 988/1000
match (cached): 989/1000
match (cached): 990/1000
match (cached): 991/1000
match (cached): 992/1000
match (cached): 993/1000
match (cached): 994/1000
match (cached): 995/1000
match (cached): 996/1000
match (cached): 997/1000
match (cached): 998/1000
match (cached): 999/1000
match (cached): 1000/1000
uri_for: 1/1000
uri_for: 2/1000
uri_for: 3/1000
uri_for: 4/1000
uri_for: 5/1000
uri_for: 6/1000
uri_for: 7/1000
uri_for: 8/1000
uri_for: 9/1000
uri_for: 10/1000
uri_for: 11/1000
uri_for: 12/1000
uri_for: 13/1000
uri_for: 14/1000
uri_for: 15/1000
uri_for: 16/1000
uri_for: 17/1000
uri_for: 18/1000
uri_for: 19/1000
uri_for: 20/1000
uri_for: 21/1000
uri_for: 22/1000
uri_for: 23/1000
uri_for: 24/1000
uri_for: 25/1000
uri_for: 26/1000
uri_for: 27/1000
uri_for: 28/1000
uri_for: 29/1000
uri_for: 30/1000
uri_for: 31/1000
uri_for: 32/1000
uri_for: 33/1000
uri_for: 34/1000
uri_for: 35/1000
uri_for: 36/1000
uri_for: 37/1000
uri_for: 38/1000
uri_for: 39/1000
uri_for: 40/1000
uri_for: 41/1000
uri_for: 42/1000
uri_for: 43/1000
uri_for: 44/1000
uri_for: 45/1000
uri_for: 46/1000
uri_for: 47/1000
uri_for: 48/1000
uri_for: 49/1000
uri_for: 50/1000
uri_for: 51/1000
uri_for: 52/1000
uri_for: 53/1000
uri_for: 54/1000
uri_for: 55/1000
uri_for: 56/1000
uri_for: 57/1000
uri_for: 58/1000
uri_for: 59/1000
uri_for: 60/1000
uri_for: 61/1000
uri_for: 62/1000
uri_for: 63/1000
uri_for: 64/1000
uri_for: 65/1000
uri_for: 66/1000
uri_for: 67/1000
uri_for: 68/1000
uri_for: 69/1000
uri_for: 70/1000
uri_for: 71/1000
uri_for: 72/1000
uri_for: 73/1000
uri_for: 74/1000
uri_for: 75/1000
uri_for: 76/1000
uri_for: 77/1000
uri_for: 78/1000
uri_for: 79/1000
uri_for: 80/1000
uri_for: 81/1000
uri_for: 82/1000
uri_for: 83/1000
uri_for: 84/1000
uri_for: 85/1000
uri_for: 86/1000
uri_for: 87/1000
uri_for: 88/1000
uri_for: 89/1000
uri_for: 90/1000
uri_for: 91/1000
uri_for: 92/1000
uri_for: 93/1000
uri_for: 94/1000
uri_for: 95/1000
uri_for: 96/1000
uri_for: 97/1000
uri_for: 98/1000
uri_for: 99/1000
uri_for: 100/1000
uri_for: 101/1000
uri_for: 102/1000
uri_for: 103/1000
uri_for: 104/1000
uri_for: 105/1000
uri_for: 106/1000
uri_for: 107/1000
uri_for: 108/1000
uri_for: 109/1000
uri_for: 110/1000
uri_for: 111/1000
uri_for: 112/1000
uri_for: 113/1000
uri_for: 114/1000
uri_for: 115/1000
uri_for: 116/1000
uri_for: 117/1000
uri_for: 118/1000
uri_for: 119/1000
uri_for: 120/1000
uri_for: 121/1000
uri_for: 122/1000
uri_for: 123/1000
uri_for: 124/1000
uri_for: 125/1000
uri_for: 126/1000
uri_for: 127/1000
uri_for: 128/1000
uri_for: 129/1000
uri_for: 130/1000
uri_for: 131/1000
uri_for: 132/1000
uri_for: 133/1000
uri_for: 134/1000
uri_for: 135/1000
uri_for: 136/1000
uri_for: 137/1000
uri_for: 138/1000
uri_for: 139/1000
uri_for: 140/1000
uri_for: 141/1000
uri_for: 142/1000
uri_for: 143/1000
uri_for: 144/1000
uri_for: 145/1000
uri_for: 146/1000
uri_for: 147/1000
uri_for: 148/1000
uri_for: 149/1000
uri_for: 150/1000
uri_for: 151/1000
uri_for: 152/1000
uri_for: 153/1000
uri_for: 154/1000
uri_for: 155/1000
uri_for: 156/1000
uri_for: 157/1000
uri_for: 158/1000
uri_for: 159/1000
uri_for: 160/1000
uri_for: 161/1000
uri_for: 162/1000
uri_for: 163/1000
uri_for: 164/1000
uri_for: 165/1000
uri_for: 166/1000
uri_for: 167/1000
uri_for: 168/1000
uri_for: 169/1000
uri_for: 170/1000
uri_for: 171/1000
uri_for: 172/1000
uri_for: 173/1000
uri_for: 174/1000
uri_for: 175/1000
uri_for: 176/1000
uri_for: 177/1000
uri_for: 178/1000
uri_for: 179/1000
uri_for: 180/1000
uri_for: 181/1000
uri_for: 182/1000
uri_for: 183/1000
uri_for: 184/1000
uri_for: 185/1000
uri_for: 186/1000
uri_for: 187/1000
uri_for: 188/1000
uri_for: 189/1000
uri_for: 190/1000
uri_for: 191/1000
uri_for: 192/1000
uri_for: 193/1000
uri_for: 194/1000
uri_for: 195/1000
uri_for: 196/1000
uri_for: 197/1000
uri_for: 198/1000
uri_for: 199/1000
uri_for: 200/1000
uri_for: 201/1000
uri_for: 202/1000
uri_for: 203/1000
uri_for: 204/1000
uri_for: 205/1000
uri_for: 206/1000
uri_for: 207/1000
uri_for: 208/1000
uri_for: 209/1000
uri_for: 210/1000
uri_for: 211/1000
uri_for: 212/1000
uri_for: 213/1000
uri_for: 214/1000
uri_for: 215/1000
uri_for: 216/1000
uri_for: 217/1000
uri_for: 218/1000
uri_for: 219/1000
uri_for: 220/1000
uri_for: 221/1000
uri_for: 222/1000
uri_for: 223/1000
uri_for: 224/1000
uri_for: 225/1000
uri_for: 226/1000
uri_for: 227/1000
uri_for: 228/1000
uri_for: 229/1000
uri_for: 230/1000
uri_for: 231/1000
uri_for: 232/1000
uri_for: 233/1000
uri_for: 234/1000
uri_for: 235/1000
uri_for: 236/1000
uri_for: 237/1000
uri_for: 238/1000
uri_for: 239/1000
uri_for: 240/1000
uri_for: 241/1000
uri_for: 242/1000
uri_for: 243/1000
uri_for: 244/1000
uri_for: 245/1000
uri_for: 246/1000
uri_for: 247/1000
uri_for: 248/1000
uri_for: 249/1000
uri_for: 250/1000
uri_for: 251/1000
uri_for: 252/1000
uri_for: 253/1000
uri_for: 254/1000
uri_for: 255/1000
uri_for: 256/1000
uri_for: 257/1000
uri_for: 258/1000
uri_for: 259/1000
uri_for: 260/1000
uri_for: 261/1000
uri_for: 262/1000
uri_for: 263/1000
uri_for: 264/1000
uri_for: 265/1000
uri_for: 266/1000
uri_for: 267/1000
uri_for: 268/1000
uri_for: 269/1000
uri_for: 270/1000
uri_for: 271/1000
uri_for: 272/1000
uri_for: 273/1000
uri_for: 274/1000
uri_for: 275/1000
uri_for: 276/1000
uri_for: 277/1000
uri_for: 278/1000
uri_for: 279/1000
uri_for: 280/1000
uri_for: 281/1000
uri_for: 282/1000
uri_for: 283/1000
uri_for: 284/1000
uri_for: 285/1000
uri_for: 286/1000
uri_for: 287/1000
uri_for: 288/1000
uri_for: 289/1000
uri_for: 290/1000
uri_for: 291/1000
uri_for: 292/1000
uri_for: 293/1000
uri_for: 294/1000
uri_for: 295/1000
uri_for: 296/1000
uri_for: 297/1000
uri_for: 298/1000
uri_for: 299/1000
uri_for: 300/1000
uri_for: 301/1000
uri_for: 302/1000
uri_for: 303/1000
uri_for: 304/1000
uri_for: 305/1000
uri_for: 306/1000
uri_for: 307/1000
uri_for: 308/1000
uri_for: 309/1000
uri_for: 310/1000
uri_for: 311/1000
uri_for: 312/1000
uri_for: 313/1000
uri_for: 314/1000
uri_for: 315/1000
uri_for: 316/1000
uri_for: 317/1000
uri_for: 318/1000
uri_for: 319/1000
uri_for: 320/1000
uri_for: 321/1000
uri_for: 322/1000
uri_for: 323/1000
uri_for: 324/1000
uri_for: 325/1000
uri_for: 326/1000
uri_for: 327/1000
uri_for: 328/1000
uri_for: 329/1000
uri_for: 330/1000
uri_for: 331/1000
uri_for: 332/1000
uri_for: 333/1000
uri_for: 334/1000
uri_for: 335/1000
uri_for: 336/1000
uri_for: 337/1000
uri_for: 338/1000
uri_for: 339/1000
uri_for: 340/1000
uri_for: 341/1000
uri_for: 342/1000
uri_for: 343/1000
uri_for: 344/1000
uri_for: 345/1000
uri_for: 346/1000
uri_for: 347/1000
uri_for: 348/1000
uri_for: 349/1000
uri_for: 350/1000
uri_for: 351/1000
uri_for: 352/1000
uri_for: 353/1000
uri_for: 354/1000
uri_for: 355/1000
uri_for: 356/1000
uri_for: 357/1000
uri_for: 358/1000
uri_for: 359/1000
uri_for: 360/1000
uri_for: 361/1000
uri_for: 362/1000
uri_for: 363/1000
uri_for: 364/1000
uri_for: 365/1000
uri_for: 366/1000
uri_for: 367/1000
uri_for: 368/1000
uri_for: 369/1000
uri_for: 370/1000
uri_for: 371/1000
uri_for: 372/1000
uri_for: 373/1000
uri_for: 374/1000
uri_for: 375/1000
uri_for: 376/1000
uri_for: 377/1000
uri_for: 378/1000
uri_for: 379/1000
uri_for: 380/1000
uri_for: 381/1000
uri_for: 382/1000
uri_for: 383/1000
uri_for: 384/1000
uri_for: 385/1000
uri_for: 386/1000
uri_for: 387/1000
uri_for: 388/1000
uri_for: 389/1000
uri_for: 390/1000
uri_for: 391/1000
uri_for: 392/1000
uri_for: 393/1000
uri_for: 394/1000
uri_for: 395/1000
uri_for: 396/1000
uri_for: 397/1000
uri_for: 398/1000
uri_for: 399/1000
uri_for: 400/1000
uri_for: 401/1000
uri_for: 402/1000
uri_for: 403/1000
uri_for: 404/1000
uri_for: 405/1000
uri_for: 406/1000
uri_for: 407/1000
uri_for: 408/1000
uri_for: 409/1000
uri_for: 410/1000
uri_for: 411/1000
uri_for: 412/1000
uri_for: 413/1000
uri_for: 414/1000
uri_for: 415/1000
uri_for: 416/1000
uri_for: 417/1000
uri_for: 418/1000
uri_for: 419/1000
uri_for: 420/1000
uri_for: 421/1000
uri_for: 422/1000
uri_for: 423/1000
uri_for: 424/1000
uri_for: 425/1000
uri_for: 426/1000
uri_for: 427/1000
uri_for: 428/1000
uri_for: 429/1000
uri_for: 430/1000
uri_for: 431/1000
uri_for: 432/1000
uri_for: 433/1000
uri_for: 434/1000
uri_for: 435/1000
uri_for: 436/1000
uri_for: 437/1000
uri_for: 438/1000
uri_for: 439/1000
uri_for: 440/1000
uri_for: 441/1000
uri_for: 442/1000
uri_for: 443/1000
uri_for: 444/1000
uri_for: 445/1000
uri_for: 446/1000
uri_for: 447/1000
uri_for: 448/1000
uri_for: 449/1000
uri_for: 450/1000
uri_for: 451/1000
uri_for: 452/1000
uri_for: 453/1000
uri_for: 454/1000
uri_for: 455/1000
uri_for: 456/1000
uri_for: 457/1000
uri_for: 458/1000
uri_for: 459/1000
uri_for: 460/1000
uri_for: 461/1000
uri_for: 462/1000
uri_for: 463/1000
uri_for: 464/1000
uri_for: 465/1000
uri_for: 466/1000
uri_for: 467/1000
uri_for: 468/1000
uri_for: 469/1000
uri_for: 470/1000
uri_for: 471/1000
uri_for: 472/1000
uri_for: 473/1000
uri_for: 474/1000
uri_for: 475/1000
uri_for: 476/1000
uri_for: 477/1000
uri_for: 478/1000
uri_for: 479/1000
uri_for: 480/1000
uri_for: 481/1000
uri_for: 482/1000
uri_for: 483/1000
uri_for: 484/1000
uri_for: 485/1000
uri_for: 486/1000
uri_for: 487/1000
uri_for: 488/1000
uri_for: 489/1000
uri_for: 490/1000
uri_for: 491/1000
uri_for: 492/1000
uri_for: 493/1000
uri_for: 494/1000
uri_for: 495/1000
uri_for: 496/1000
uri_for: 497/1000
uri_for: 498/1000
uri_for: 499/1000
uri_for: 500/1000
uri_for: 501/1000
uri_for: 502/1000
uri_for: 503/1000
uri_for: 504/1000
uri_for: 505/1000
uri_for: 506/1000
uri_for: 507/1000
uri_for: 508/1000
uri_for: 509/1000
uri_for: 510/1000
uri_for: 511/1000
uri_for: 512/1000
uri_for: 513/1000
uri_for: 514/1000
uri_for: 515/1000
uri_for: 516/1000
uri_for: 517/1000
uri_for: 518/1000
uri_for: 519/1000
uri_for: 520/1000
uri_for: 521/1000
uri_for: 522/1000
uri_for: 523/1000
uri_for: 524/1000
uri_for: 525/1000
uri_for: 526/1000
uri_for: 527/1000
uri_for: 528/1000
uri_for: 529/1000
uri_for: 530/1000
uri_for: 531/1000
uri_for: 532/1000
uri_for: 533/1000
uri_for: 534/1000
uri_for: 535/1000
uri_for: 536/1000
uri_for: 537/1000
uri_for: 538/1000
uri_for: 539/1000
uri_for: 540/1000
uri_for: 541/1000
uri_for: 542/1000
uri_for: 543/1000
uri_for: 544/1000
uri_for: 545/1000
uri_for: 546/1000
uri_for: 547/1000
uri_for: 548/1000
uri_for: 549/1000
uri_for: 550/1000
uri_for: 551/1000
uri_for: 552/1000
uri_for: 553/1000
uri_for: 554/1000
uri_for: 555/1000
uri_for: 556/1000
uri_for: 557/1000
uri_for: 558/1000
uri_for: 559/1000
uri_for: 560/1000
uri_for: 561/1000
uri_for: 562/1000
uri_for: 563/1000
uri_for: 564/1000
uri_for: 565/1000
uri_for: 566/1000
uri_for: 567/1000
uri_for: 568/1000
uri_for: 569/1000
uri_for: 570/1000
uri_for: 571/1000
uri_for: 572/1000
uri_for: 573/1000
uri_for: 574/1000
uri_for: 575/1000
uri_for: 576/1000
uri_for: 577/1000
uri_for: 578/1000
uri_for: 579/1000
uri_for: 580/1000
uri_for: 581/1000
uri_for: 582/1000
uri_for: 583/1000
uri_for: 584/1000
uri_for: 585/1000
uri_for: 586/1000
uri_for: 587/1000
uri_for: 588/1000
uri_for: 589/1000
uri_for: 590/1000
uri_for: 591/1000
uri_for: 592/1000
uri_for: 593/1000
uri_for: 594/1000
uri_for: 595/1000
uri_for: 596/1000
uri_for: 597/1000
uri_for: 598/1000
uri_for: 599/1000
uri_for: 600/1000
uri_for: 601/1000
uri_for: 602/1000
uri_for: 603/1000
uri_for: 604/1000
uri_for: 605/1000
uri_for: 606/1000
uri_for: 607/1000
uri_for: 608/1000
uri_for: 609/1000
uri_for: 610/1000
uri_for: 611/1000
uri_for: 612/1000
uri_for: 613/1000
uri_for: 614/1000
uri_for: 615/1000
uri_for: 616/1000
uri_for: 617/1000
uri_for: 618/1000
uri_for: 619/1000
uri_for: 620/1000
uri_for: 621/1000
uri_for: 622/1000
uri_for: 623/1000
uri_for: 624/1000
uri_for: 625/1000
uri_for: 626/1000
uri_for: 627/1000
uri_for: 628/1000
uri_for: 629/1000
uri_for: 630/1000
uri_for: 631/1000
uri_for: 632/1000
uri_for: 633/1000
uri_for: 634/1000
uri_for: 635/1000
uri_for: 636/1000
uri_for: 637/1000
uri_for: 638/1000
uri_for: 639/1000
uri_for: 640/1000
uri_for: 641/1000
uri_for: 642/1000
uri_for: 643/1000
uri_for: 644/1000
uri_for: 645/1000
uri_for: 646/1000
uri_for: 647/1000
uri_for: 648/1000
uri_for: 649/1000
uri_for: 650/1000
uri_for: 651/1000
uri_for: 652/1000
uri_for: 653/1000
uri_for: 654/1000
uri_for: 655/1000
uri_for: 656/1000
uri_for: 657/1000
uri_for: 658/1000
uri_for: 659/1000
uri_for: 660/1000
uri_for: 661/1000
uri_for: 662/1000
uri_for: 663/1000
uri_for: 664/1000
uri_for: 665/1000
uri_for: 666/1000
uri_for: 667/1000
uri_for: 668/1000
uri_for: 669/1000
uri_for: 670/1000
uri_for: 671/1000
uri_for: 672/1000
uri_for: 673/1000
uri_for: 674/1000
uri_for: 675/1000
uri_for: 676/1000
uri_for: 677/1000
uri_for: 678/1000
uri_for: 679/1000
uri_for: 680/1000
uri_for: 681/1000
uri_for: 682/1000
uri_for: 683/1000
uri_for: 684/1000
uri_for: 685/1000
uri_for: 686/1000
uri_for: 687/1000
uri_for: 688/1000
uri_for: 689/1000
uri_for: 690/1000
uri_for: 691/1000
uri_for: 692/1000
uri_for: 693/1000
uri_for: 694/1000
uri_for: 695/1000
uri_for: 696/1000
uri_for: 697/1000
uri_for: 698/1000
uri_for: 699/1000
uri_for: 700/1000
uri_for: 701/1000
uri_for: 702/1000
uri_for: 703/1000
uri_for: 704/1000
uri_for: 705/1000
uri_for: 706/1000
uri_for: 707/1000
uri_for: 708/1000
uri_for: 709/1000
uri_for: 710/1000
uri_for: 711/1000
uri_for: 712/1000
uri_for: 713/1000
uri_for: 714/1000
uri_for: 715/1000
uri_for: 716/1000
uri_for: 717/1000
uri_for: 718/1000
uri_for: 719/1000
uri_for: 720/1000
uri_for: 721/1000
uri_for: 722/1000
uri_for: 723/1000
uri_for: 724/1000
uri_for: 725/1000
uri_for: 726/1000
uri_for: 727/1000
uri_for: 728/1000
uri_for: 729/1000
uri_for: 730/1000
uri_for: 731/1000
uri_for: 732/1000
uri_for: 733/1000
uri_for: 734/1000
uri_for: 735/1000
uri_for: 736/1000
uri_for: 737/1000
uri_for: 738/1000
uri_for: 739/1000
uri_for: 740/1000
uri_for: 741/1000
uri_for: 742/1000
uri_for: 743/1000
uri_for: 744/1000
uri_for: 745/1000
uri_for: 746/1000
uri_for: 747/1000
uri_for: 748/1000
uri_for: 749/1000
uri_for: 750/1000
uri_for: 751/1000
uri_for: 752/1000
uri_for: 753/1000
uri_for: 754/1000
uri_for: 755/1000
uri_for: 756/1000
uri_for: 757/1000
uri_for: 758/1000
uri_for: 759/1000
uri_for: 760/1000
uri_for: 761/1000
uri_for: 762/1000
uri_for: 763/1000
uri_for: 764/1000
uri_for: 765/1000
uri_for: 766/1000
uri_for: 767/1000
uri_for: 768/1000
uri_for: 769/1000
uri_for: 770/1000
uri_for: 771/1000
uri_for: 772/1000
uri_for: 773/1000
uri_for: 774/1000
uri_for: 775/1000
uri_for: 776/1000
uri_for: 777/1000
uri_for: 778/1000
uri_for: 779/1000
uri_for: 780/1000
uri_for: 781/1000
uri_for: 782/1000
uri_for: 783/1000
uri_for: 784/1000
uri_for: 785/1000
uri_for: 786/1000
uri_for: 787/1000
uri_for: 788/1000
uri_for: 789/1000
uri_for: 790/1000
uri_for: 791/1000
uri_for: 792/1000
uri_for: 793/1000
uri_for: 794/1000
uri_for: 795/1000
uri_for: 796/1000
uri_for: 797/1000
uri_for: 798/1000
uri_for: 799/1000
uri_for: 800/1000
uri_for: 801/1000
uri_for: 802/1000
uri_for: 803/1000
uri_for: 804/1000
uri_for: 805/1000
uri_for: 806/1000
uri_for: 807/1000
uri_for: 808/1000
uri_for: 809/1000
uri_for: 810/1000
uri_for: 811/1000
uri_for: 812/1000
uri_for: 813/1000
uri_for: 814/1000
uri_for: 815/1000
uri_for: 816/1000
uri_for: 817/1000
uri_for: 818/1000
uri_for: 819/1000
uri_for: 820/1000
uri_for: 821/1000
uri_for: 822/1000
uri_for: 823/1000
uri_for: 824/1000
uri_for: 825/1000
uri_for: 826/1000
uri_for: 827/1000
uri_for: 828/1000
uri_for: 829/1000
uri_for: 830/1000
uri_for: 831/1000
uri_for: 832/1000
uri_for: 833/1000
uri_for: 834/1000
uri_for: 835/1000
uri_for: 836/1000
uri_for: 837/1000
uri_for: 838/1000
uri_for: 839/1000
uri_for: 840/1000
uri_for: 841/1000
uri_for: 842/1000
uri_for: 843/1000
uri_for: 844/1000
uri_for: 845/1000
uri_for: 846/1000
uri_for: 847/1000
uri_for: 848/1000
uri_for: 849/1000
uri_for: 850/1000
uri_for: 851/1000
uri_for: 852/1000
uri_for: 853/1000
uri_for: 854/1000
uri_for: 855/1000
uri_for: 856/1000
uri_for: 857/1000
uri_for: 858/1000
uri_for: 859/1000
uri_for: 860/1000
uri_for: 861/1000
uri_for: 862/1000
uri_for: 863/1000
uri_for: 864/1000
uri_for: 865/1000
uri_for: 866/1000
uri_for: 867/1000
uri_for: 868/1000
uri_for: 869/1000
uri_for: 870/1000
uri_for: 871/1000
uri_for: 872/1000
uri_for: 873/1000
uri_for: 874/1000
uri_for: 875/1000
uri_for: 876/1000
uri_for: 877/1000
uri_for: 878/1000
uri_for: 879/1000
uri_for: 880/1000
uri_for: 881/1000
uri_for: 882/1000
uri_for: 883/1000
uri_for: 884/1000
uri_for: 885/1000
uri_for: 886/1000
uri_for: 887/1000
uri_for: 888/1000
uri_for: 889/1000
uri_for: 890/1000
uri_for: 891/1000
uri_for: 892/1000
uri_for: 893/1000
uri_for: 894/1000
uri_for: 895/1000
uri_for: 896/1000
uri_for: 897/1000
uri_for: 898/1000
uri_for: 899/1000
uri_for: 900/1000
uri_for: 901/1000
uri_for: 902/1000
uri_for: 903/1000
uri_for: 904/1000
uri_for: 905/1000
uri_for: 906/1000
uri_for: 907/1000
uri_for: 908/1000
uri_for: 909/1000
uri_for: 910/1000
uri_for: 911/1000
uri_for: 912/1000
uri_for: 913/1000
uri_for: 914/1000
uri_for: 915/1000
uri_for: 916/1000
uri_for: 917/1000
uri_for: 918/1000
uri_for: 919/1000
uri_for: 920/1000
uri_for: 921/1000
uri_for: 922/1000
uri_for: 923/1000
uri_for: 924/1000
uri_for: 925/1000
uri_for: 926/1000
uri_for: 927/1000
uri_for: 928/1000
uri_for: 929/1000
uri_for: 930/1000
uri_for: 931/1000
uri_for: 932/1000
uri_for: 933/1000
uri_for: 934/1000
uri_for: 935/1000
uri_for: 936/1000
uri_for: 937/1000
uri_for: 938/1000
uri_for: 939/1000
uri_for: 940/1000
uri_for: 941/1000
uri_for: 942/1000
uri_for: 943/1000
uri_for: 944/1000
uri_for: 945/1000
uri_for: 946/1000
uri_for: 947/1000
uri_for: 948/1000
uri_for: 949/1000
uri_for: 950/1000
uri_for: 951/1000
uri_for: 952/1000
uri_for: 953/1000
uri_for: 954/1000
uri_for: 955/1000
uri_for: 956/1000
uri_for: 957/1000
uri_for: 958/1000
uri_for: 959/1000
uri_for: 960/1000
uri_for: 961/1000
uri_for: 962/1000
uri_for: 963/1000
uri_for: 964/1000
uri_for: 965/1000
uri_for: 966/1000
uri_for: 967/1000
uri_for: 968/1000
uri_for: 969/1000
uri_for: 970/1000
uri_for: 971/1000
uri_for: 972/1000
uri_for: 973/1000
uri_for: 974/1000
uri_for: 975/1000
uri_for: 976/1000
uri_for: 977/1000
uri_for: 978/1000
uri_for: 979/1000
uri_for: 980/1000
uri_for: 981/1000
uri_for: 982/1000
uri_for: 983/1000
uri_for: 984/1000
uri_for: 985/1000
uri_for: 986/1000
uri_for: 987/1000
uri_for: 988/1000
uri_for: 989/1000
uri_for: 990/1000
uri_for: 991/1000
uri_for: 992/1000
uri_for: 993/1000
uri_for: 994/1000
uri_for: 995/1000
uri_for: 996/1000
uri_for: 997/1000
uri_for: 998/1000
uri_for: 999/1000
uri_for: 1000/1000
t/010-basic/030-speed.t ...... ok
t/010-basic/040-uri_for.t .... ok
t/010-basic/050-conflicts.t .. ok
All tests successful.
Files=5, Tests=81, 1 wallclock secs ( 0.10 usr 0.03 sys + 0.46 cusr 0.04 csys = 0.63 CPU)
Result: PASS
------------------------------
PREREQUISITES
------------------------------
Prerequisite modules loaded:
requires:
Module Need Have
------------------- ---- --------
Carp 0 1.36
ExtUtils::MakeMaker 7.04 7.04
Test::More 0.70 1.001014
build_requires:
Module Need Have
------------------- ---- --------
ExtUtils::MakeMaker 0 7.04
------------------------------
ENVIRONMENT AND OTHER CONTEXT
------------------------------
Environment variables:
AUTOMATED_TESTING = 1
LANG = en_US.UTF-8
LANGUAGE = en_US:en
PATH = /home/sand/bin:/usr/local/bin:/usr/bin:/bin:/usr/games:/usr/local/perl/bin:/usr/X11/bin:/sbin:/usr/sbin
PERL = /tmp/basesmoker-reloperl-ZLSm/bin/perl
PERL5LIB =
PERL5OPT =
PERL5_CPANPLUS_IS_RUNNING = 7085
PERL5_CPAN_IS_RUNNING = 7085
PERL_MM_USE_DEFAULT = 1
SHELL = /usr/bin/zsh
TERM = screen
Perl special variables (and OS-specific diagnostics, for MSWin32):
$^X = /tmp/basesmoker-reloperl-ZLSm/bin/perl
$UID/$EUID = 1005 / 1005
$GID = 1005 1005
$EGID = 1005 1005
Perl module toolchain versions installed:
Module Have
------------------- --------
CPAN 2.10
CPAN::Meta 2.150001
Cwd 3.47
ExtUtils::CBuilder 0.280220
ExtUtils::Command 1.16
ExtUtils::Install 1.54
ExtUtils::MakeMaker 7.04
ExtUtils::Manifest 1.70
ExtUtils::ParseXS 3.24
File::Spec 3.47
JSON 2.90
JSON::PP 2.27203
Module::Build 0.4211
Module::Signature 0.78
Parse::CPAN::Meta 1.4414
Test::Harness 3.35
Test::More 1.001014
YAML n/a
YAML::Syck 1.29
version 0.9912
--
Summary of my perl5 (revision 5 version 8 subversion 5) configuration:
Platform:
osname=linux, osvers=3.16.0-4-amd64, archname=x86_64-linux
uname='linux k83 3.16.0-4-amd64 #1 smp debian 3.16.7-ckt9-1 (2015-04-08) x86_64 gnulinux '
config_args='-Dprefix=/home/sand/src/perl/repoperls/installed-perls/perl/perl-5.8.5/165a -Dmyhostname=k83 -Dinstallusrbinperl=n -Uversiononly -Dusedevel -des -Ui_db -Uuseithreads -Uuselongdouble -DDEBUGGING=-g'
hint=recommended, useposix=true, d_sigaction=define
usethreads=undef use5005threads=undef useithreads=undef usemultiplicity=undef
useperlio=define d_sfio=undef uselargefiles=define usesocks=undef
use64bitint=define use64bitall=define uselongdouble=undef
usemymalloc=n, bincompat5005=undef
Compiler:
cc='cc', ccflags ='-fno-strict-aliasing -pipe -I/usr/local/include -D_LARGEFILE_SOURCE -D_FILE_OFFSET_BITS=64',
optimize='-O2',
cppflags='-fno-strict-aliasing -pipe -I/usr/local/include'
ccversion='', gccversion='4.9.2', gccosandvers=''
intsize=4, longsize=8, ptrsize=8, doublesize=8, byteorder=12345678
d_longlong=define, longlongsize=8, d_longdbl=define, longdblsize=16
ivtype='long', ivsize=8, nvtype='double', nvsize=8, Off_t='off_t', lseeksize=8
alignbytes=8, prototype=define
Linker and Libraries:
ld='cc', ldflags =' -L/usr/local/lib'
libpth=/usr/local/lib /lib/x86_64-linux-gnu /lib/../lib /usr/lib/x86_64-linux-gnu /usr/lib/../lib /lib /usr/lib
libs=-lnsl -lgdbm -ldb -ldl -lm -lcrypt -lutil -lc -lgdbm_compat
perllibs=-lnsl -ldl -lm -lcrypt -lutil -lc -lgdbm_compat
libc=libc-2.19.so, so=so, useshrplib=false, libperl=libperl.a
gnulibc_version='2.19'
Dynamic Linking:
dlsrc=dl_dlopen.xs, dlext=so, d_dlsymun=undef, ccdlflags='-Wl,-E'
cccdlflags='-fpic', lddlflags='-shared -L/usr/local/lib'
Characteristics of this binary (from libperl):
Compile-time options: USE_64_BIT_INT USE_64_BIT_ALL USE_LARGE_FILES
Locally applied patches:
MAINT23136
Built under linux
Compiled at Apr 13 2015 23:01:17
%ENV:
PERL="/tmp/basesmoker-reloperl-ZLSm/bin/perl"
PERL5LIB=""
PERL5OPT=""
PERL5_CPANPLUS_IS_RUNNING="7085"
PERL5_CPAN_IS_RUNNING="7085"
PERL_MM_USE_DEFAULT="1"
@INC:
/home/sand/src/perl/repoperls/installed-perls/perl/perl-5.8.5/165a/lib/5.8.5/x86_64-linux
/home/sand/src/perl/repoperls/installed-perls/perl/perl-5.8.5/165a/lib/5.8.5
/home/sand/src/perl/repoperls/installed-perls/perl/perl-5.8.5/165a/lib/site_perl/5.8.5/x86_64-linux
/home/sand/src/perl/repoperls/installed-perls/perl/perl-5.8.5/165a/lib/site_perl/5.8.5
/home/sand/src/perl/repoperls/installed-perls/perl/perl-5.8.5/165a/lib/site_perl
.