Report for Rose-DB-Object-0.815

Back
From: metabase:user:0d96120c-29e2-11e5-b049-ede3035d37de
Subject: PASS Rose-DB-Object-0.815 v5.22.0 Windows (Cygwin)
Date: 2015-07-30T06:14:25Z

This distribution has been tested as part of the CPAN Testers
project, supporting the Perl programming language.  See
http://wiki.cpantesters.org/ for more information or email
questions to cpan-testers-discuss@perl.org


--
Dear John Siracusa,

This is a computer-generated report for Rose-DB-Object-0.815
on perl 5.22.0, created by CPAN-Reporter-1.2014.

Thank you for uploading your work to CPAN.  Congratulations!
All tests were successful.

Sections of this report:

    * Tester comments
    * Program output
    * Prerequisites
    * Environment and other context

------------------------------
TESTER COMMENTS
------------------------------

Additional comments from tester:

this report is from an automated smoke testing program
and was not reviewed by a human for accuracy

------------------------------
PROGRAM OUTPUT
------------------------------

Output from '/usr/bin/make test':

PERL_DL_NONLAZY=1 "/home/jmaslak/perl5/perlbrew/perls/perl-5.22.0/bin/perl.exe" "-MExtUtils::Command::MM" "-MTest::Harness" "-e" "undef *Test::Harness::Switches; test_harness(0, 'blib/lib', 'blib/arch')" t/*.t

##
## DBI             1.633
## DBD::SQLite     1.48
## JSON            2.90
##
## WARNING: Almost all the tests in this module distribution need to connect
## to a database in order to run.  The tests need full privileges on this
## database: the ability to create and drop tables, insert, update, and delete
## rows, create schemas, sequences, functions, triggers, the works.
## 
## By default, the tests will try to connect to the database named "test"
## running on "localhost" using the default superuser username for each
## database type and an empty password.
## 
## If you have setup your database in a secure manner, these connection
## attempts will fail, and the tests will be skipped.  If you want to override
## these values, set the following environment variables before running tests.
## (The current values are shown in parentheses.)
## 
## PostgreSQL:
## 
##     RDBO_PG_DSN      (dbi:Pg:dbname=test;host=localhost)
##     RDBO_PG_USER     (postgres)
##     RDBO_PG_PASS     (<none>)
## 
## MySQL:
## 
##     RDBO_MYSQL_DSN   (dbi:mysql:database=test;host=localhost)
##     RDBO_MYSQL_USER  (root)
##     RDBO_MYSQL_PASS  (<none>)
##
## Oracle:
## 
##     RDBO_ORACLE_DSN  (dbi:Oracle:dbname=test)
##     RDBO_ORACLE_USER (<none>)
##     RDBO_ORACLE_PASS (<none>)
##
## Informix:
## 
##     RDBO_INFORMIX_DSN   (dbi:Informix:test@test)
##     RDBO_INFORMIX_USER  (<none>)
##     RDBO_INFORMIX_PASS  (<none>)
## 
## SQLite: To disable the SQLite tests, set this environment varible
##
##     RDBO_NO_SQLITE  (<undef>)
##
## Press return to continue (or wait 60 seconds)
t/00-warning.t ..................... ok
Unescaped left brace in regex is deprecated, passed through in regex; marked by <-- HERE in m/
                    (%{ <-- HERE \w+})
                / at /home/jmaslak/.cpan/build/Convert-NLS_DATE_FORMAT-0.05-BizR8r/blib/lib/Convert/NLS_DATE_FORMAT.pm line 116.
t/as-tree.t ........................ ok
Unescaped left brace in regex is deprecated, passed through in regex; marked by <-- HERE in m/
                    (%{ <-- HERE \w+})
                / at /home/jmaslak/.cpan/build/Convert-NLS_DATE_FORMAT-0.05-BizR8r/blib/lib/Convert/NLS_DATE_FORMAT.pm line 116.
t/auto-setup.t ..................... ok
Unescaped left brace in regex is deprecated, passed through in regex; marked by <-- HERE in m/
                    (%{ <-- HERE \w+})
                / at /home/jmaslak/.cpan/build/Convert-NLS_DATE_FORMAT-0.05-BizR8r/blib/lib/Convert/NLS_DATE_FORMAT.pm line 116.
t/bind-param.t ..................... ok
Unescaped left brace in regex is deprecated, passed through in regex; marked by <-- HERE in m/
                    (%{ <-- HERE \w+})
                / at /home/jmaslak/.cpan/build/Convert-NLS_DATE_FORMAT-0.05-BizR8r/blib/lib/Convert/NLS_DATE_FORMAT.pm line 116.
t/column-triggers.t ................ ok
Unescaped left brace in regex is deprecated, passed through in regex; marked by <-- HERE in m/
                    (%{ <-- HERE \w+})
                / at /home/jmaslak/.cpan/build/Convert-NLS_DATE_FORMAT-0.05-BizR8r/blib/lib/Convert/NLS_DATE_FORMAT.pm line 116.
t/column-values.t .................. ok
Unescaped left brace in regex is deprecated, passed through in regex; marked by <-- HERE in m/
                    (%{ <-- HERE \w+})
                / at /home/jmaslak/.cpan/build/Convert-NLS_DATE_FORMAT-0.05-BizR8r/blib/lib/Convert/NLS_DATE_FORMAT.pm line 116.
t/db-migration.t ................... ok
Unescaped left brace in regex is deprecated, passed through in regex; marked by <-- HERE in m/
                    (%{ <-- HERE \w+})
                / at /home/jmaslak/.cpan/build/Convert-NLS_DATE_FORMAT-0.05-BizR8r/blib/lib/Convert/NLS_DATE_FORMAT.pm line 116.
t/db-object-auto.t ................. ok
Unescaped left brace in regex is deprecated, passed through in regex; marked by <-- HERE in m/
                    (%{ <-- HERE \w+})
                / at /home/jmaslak/.cpan/build/Convert-NLS_DATE_FORMAT-0.05-BizR8r/blib/lib/Convert/NLS_DATE_FORMAT.pm line 116.
t/db-object-cached.t ............... ok
Unescaped left brace in regex is deprecated, passed through in regex; marked by <-- HERE in m/
                    (%{ <-- HERE \w+})
                / at /home/jmaslak/.cpan/build/Convert-NLS_DATE_FORMAT-0.05-BizR8r/blib/lib/Convert/NLS_DATE_FORMAT.pm line 116.
t/db-object-changes-only-1.t ....... ok
Unescaped left brace in regex is deprecated, passed through in regex; marked by <-- HERE in m/
                    (%{ <-- HERE \w+})
                / at /home/jmaslak/.cpan/build/Convert-NLS_DATE_FORMAT-0.05-BizR8r/blib/lib/Convert/NLS_DATE_FORMAT.pm line 116.
t/db-object-changes-only-2.t ....... ok
Unescaped left brace in regex is deprecated, passed through in regex; marked by <-- HERE in m/
                    (%{ <-- HERE \w+})
                / at /home/jmaslak/.cpan/build/Convert-NLS_DATE_FORMAT-0.05-BizR8r/blib/lib/Convert/NLS_DATE_FORMAT.pm line 116.
t/db-object-convention.t ........... ok
Unescaped left brace in regex is deprecated, passed through in regex; marked by <-- HERE in m/
                    (%{ <-- HERE \w+})
                / at /home/jmaslak/.cpan/build/Convert-NLS_DATE_FORMAT-0.05-BizR8r/blib/lib/Convert/NLS_DATE_FORMAT.pm line 116.
t/db-object-foreign-key-auto.t ..... ok
Unescaped left brace in regex is deprecated, passed through in regex; marked by <-- HERE in m/
                    (%{ <-- HERE \w+})
                / at /home/jmaslak/.cpan/build/Convert-NLS_DATE_FORMAT-0.05-BizR8r/blib/lib/Convert/NLS_DATE_FORMAT.pm line 116.
t/db-object-foreign-key.t .......... ok
Unescaped left brace in regex is deprecated, passed through in regex; marked by <-- HERE in m/
                    (%{ <-- HERE \w+})
                / at /home/jmaslak/.cpan/build/Convert-NLS_DATE_FORMAT-0.05-BizR8r/blib/lib/Convert/NLS_DATE_FORMAT.pm line 116.
t/db-object-helpers.t .............. ok
Unescaped left brace in regex is deprecated, passed through in regex; marked by <-- HERE in m/
                    (%{ <-- HERE \w+})
                / at /home/jmaslak/.cpan/build/Convert-NLS_DATE_FORMAT-0.05-BizR8r/blib/lib/Convert/NLS_DATE_FORMAT.pm line 116.
t/db-object-loader-2.t ............. ok
Unescaped left brace in regex is deprecated, passed through in regex; marked by <-- HERE in m/
                    (%{ <-- HERE \w+})
                / at /home/jmaslak/.cpan/build/Convert-NLS_DATE_FORMAT-0.05-BizR8r/blib/lib/Convert/NLS_DATE_FORMAT.pm line 116.
t/db-object-loader-3.t ............. ok
Unescaped left brace in regex is deprecated, passed through in regex; marked by <-- HERE in m/
                    (%{ <-- HERE \w+})
                / at /home/jmaslak/.cpan/build/Convert-NLS_DATE_FORMAT-0.05-BizR8r/blib/lib/Convert/NLS_DATE_FORMAT.pm line 116.
t/db-object-loader-4.t ............. ok
Unescaped left brace in regex is deprecated, passed through in regex; marked by <-- HERE in m/
                    (%{ <-- HERE \w+})
                / at /home/jmaslak/.cpan/build/Convert-NLS_DATE_FORMAT-0.05-BizR8r/blib/lib/Convert/NLS_DATE_FORMAT.pm line 116.
t/db-object-loader-5.t ............. ok
Unescaped left brace in regex is deprecated, passed through in regex; marked by <-- HERE in m/
                    (%{ <-- HERE \w+})
                / at /home/jmaslak/.cpan/build/Convert-NLS_DATE_FORMAT-0.05-BizR8r/blib/lib/Convert/NLS_DATE_FORMAT.pm line 116.
t/db-object-loader-6.t ............. ok
Unescaped left brace in regex is deprecated, passed through in regex; marked by <-- HERE in m/
                    (%{ <-- HERE \w+})
                / at /home/jmaslak/.cpan/build/Convert-NLS_DATE_FORMAT-0.05-BizR8r/blib/lib/Convert/NLS_DATE_FORMAT.pm line 116.
t/db-object-loader-7.t ............. ok
Unescaped left brace in regex is deprecated, passed through in regex; marked by <-- HERE in m/
                    (%{ <-- HERE \w+})
                / at /home/jmaslak/.cpan/build/Convert-NLS_DATE_FORMAT-0.05-BizR8r/blib/lib/Convert/NLS_DATE_FORMAT.pm line 116.
t/db-object-loader-8.t ............. ok
Unescaped left brace in regex is deprecated, passed through in regex; marked by <-- HERE in m/
                    (%{ <-- HERE \w+})
                / at /home/jmaslak/.cpan/build/Convert-NLS_DATE_FORMAT-0.05-BizR8r/blib/lib/Convert/NLS_DATE_FORMAT.pm line 116.
t/db-object-loader-9.t ............. ok
Unescaped left brace in regex is deprecated, passed through in regex; marked by <-- HERE in m/
                    (%{ <-- HERE \w+})
                / at /home/jmaslak/.cpan/build/Convert-NLS_DATE_FORMAT-0.05-BizR8r/blib/lib/Convert/NLS_DATE_FORMAT.pm line 116.
t/db-object-loader.t ............... ok
Unescaped left brace in regex is deprecated, passed through in regex; marked by <-- HERE in m/
                    (%{ <-- HERE \w+})
                / at /home/jmaslak/.cpan/build/Convert-NLS_DATE_FORMAT-0.05-BizR8r/blib/lib/Convert/NLS_DATE_FORMAT.pm line 116.
t/db-object-manager-bulk-ops.t ..... ok
Unescaped left brace in regex is deprecated, passed through in regex; marked by <-- HERE in m/
                    (%{ <-- HERE \w+})
                / at /home/jmaslak/.cpan/build/Convert-NLS_DATE_FORMAT-0.05-BizR8r/blib/lib/Convert/NLS_DATE_FORMAT.pm line 116.
t/db-object-manager.t .............. ok
Unescaped left brace in regex is deprecated, passed through in regex; marked by <-- HERE in m/
                    (%{ <-- HERE \w+})
                / at /home/jmaslak/.cpan/build/Convert-NLS_DATE_FORMAT-0.05-BizR8r/blib/lib/Convert/NLS_DATE_FORMAT.pm line 116.
t/db-object-mapper.t ............... ok
Unescaped left brace in regex is deprecated, passed through in regex; marked by <-- HERE in m/
                    (%{ <-- HERE \w+})
                / at /home/jmaslak/.cpan/build/Convert-NLS_DATE_FORMAT-0.05-BizR8r/blib/lib/Convert/NLS_DATE_FORMAT.pm line 116.
t/db-object-metadata.t ............. ok
Unescaped left brace in regex is deprecated, passed through in regex; marked by <-- HERE in m/
                    (%{ <-- HERE \w+})
                / at /home/jmaslak/.cpan/build/Convert-NLS_DATE_FORMAT-0.05-BizR8r/blib/lib/Convert/NLS_DATE_FORMAT.pm line 116.
t/db-object-relationship-auto-2.t .. ok
Unescaped left brace in regex is deprecated, passed through in regex; marked by <-- HERE in m/
                    (%{ <-- HERE \w+})
                / at /home/jmaslak/.cpan/build/Convert-NLS_DATE_FORMAT-0.05-BizR8r/blib/lib/Convert/NLS_DATE_FORMAT.pm line 116.
t/db-object-relationship-auto.t .... ok
Unescaped left brace in regex is deprecated, passed through in regex; marked by <-- HERE in m/
                    (%{ <-- HERE \w+})
                / at /home/jmaslak/.cpan/build/Convert-NLS_DATE_FORMAT-0.05-BizR8r/blib/lib/Convert/NLS_DATE_FORMAT.pm line 116.
t/db-object-relationship.t ......... ok
Unescaped left brace in regex is deprecated, passed through in regex; marked by <-- HERE in m/
                    (%{ <-- HERE \w+})
                / at /home/jmaslak/.cpan/build/Convert-NLS_DATE_FORMAT-0.05-BizR8r/blib/lib/Convert/NLS_DATE_FORMAT.pm line 116.
t/db-object-std-cached.t ........... ok
Unescaped left brace in regex is deprecated, passed through in regex; marked by <-- HERE in m/
                    (%{ <-- HERE \w+})
                / at /home/jmaslak/.cpan/build/Convert-NLS_DATE_FORMAT-0.05-BizR8r/blib/lib/Convert/NLS_DATE_FORMAT.pm line 116.
t/db-object-std.t .................. ok
Unescaped left brace in regex is deprecated, passed through in regex; marked by <-- HERE in m/
                    (%{ <-- HERE \w+})
                / at /home/jmaslak/.cpan/build/Convert-NLS_DATE_FORMAT-0.05-BizR8r/blib/lib/Convert/NLS_DATE_FORMAT.pm line 116.
t/db-object.t ...................... ok
Unescaped left brace in regex is deprecated, passed through in regex; marked by <-- HERE in m/
                    (%{ <-- HERE \w+})
                / at /home/jmaslak/.cpan/build/Convert-NLS_DATE_FORMAT-0.05-BizR8r/blib/lib/Convert/NLS_DATE_FORMAT.pm line 116.
t/deep-joins.t ..................... ok
Unescaped left brace in regex is deprecated, passed through in regex; marked by <-- HERE in m/
                    (%{ <-- HERE \w+})
                / at /home/jmaslak/.cpan/build/Convert-NLS_DATE_FORMAT-0.05-BizR8r/blib/lib/Convert/NLS_DATE_FORMAT.pm line 116.
t/inheritance.t .................... ok
Unescaped left brace in regex is deprecated, passed through in regex; marked by <-- HERE in m/
                    (%{ <-- HERE \w+})
                / at /home/jmaslak/.cpan/build/Convert-NLS_DATE_FORMAT-0.05-BizR8r/blib/lib/Convert/NLS_DATE_FORMAT.pm line 116.
t/lazy-columns.t ................... ok
Unescaped left brace in regex is deprecated, passed through in regex; marked by <-- HERE in m/
                    (%{ <-- HERE \w+})
                / at /home/jmaslak/.cpan/build/Convert-NLS_DATE_FORMAT-0.05-BizR8r/blib/lib/Convert/NLS_DATE_FORMAT.pm line 116.
t/leaks.t .......................... ok
Unescaped left brace in regex is deprecated, passed through in regex; marked by <-- HERE in m/
                    (%{ <-- HERE \w+})
                / at /home/jmaslak/.cpan/build/Convert-NLS_DATE_FORMAT-0.05-BizR8r/blib/lib/Convert/NLS_DATE_FORMAT.pm line 116.
Unescaped left brace in regex is deprecated, passed through in regex; marked by <-- HERE in m/
                    (%{ <-- HERE \w+})
                / at /home/jmaslak/.cpan/build/Convert-NLS_DATE_FORMAT-0.05-BizR8r/blib/lib/Convert/NLS_DATE_FORMAT.pm line 116.
t/make-modules.t ................... ok
Unescaped left brace in regex is deprecated, passed through in regex; marked by <-- HERE in m/
                    (%{ <-- HERE \w+})
                / at /home/jmaslak/.cpan/build/Convert-NLS_DATE_FORMAT-0.05-BizR8r/blib/lib/Convert/NLS_DATE_FORMAT.pm line 116.
t/makemethods-db.t ................. ok
Unescaped left brace in regex is deprecated, passed through in regex; marked by <-- HERE in m/
                    (%{ <-- HERE \w+})
                / at /home/jmaslak/.cpan/build/Convert-NLS_DATE_FORMAT-0.05-BizR8r/blib/lib/Convert/NLS_DATE_FORMAT.pm line 116.
t/makemethods.t .................... ok
Unescaped left brace in regex is deprecated, passed through in regex; marked by <-- HERE in m/
                    (%{ <-- HERE \w+})
                / at /home/jmaslak/.cpan/build/Convert-NLS_DATE_FORMAT-0.05-BizR8r/blib/lib/Convert/NLS_DATE_FORMAT.pm line 116.
t/multi-many-the-hard-way.t ........ ok
Unescaped left brace in regex is deprecated, passed through in regex; marked by <-- HERE in m/
                    (%{ <-- HERE \w+})
                / at /home/jmaslak/.cpan/build/Convert-NLS_DATE_FORMAT-0.05-BizR8r/blib/lib/Convert/NLS_DATE_FORMAT.pm line 116.
t/multi-pk-sequences.t ............. ok
Unescaped left brace in regex is deprecated, passed through in regex; marked by <-- HERE in m/
                    (%{ <-- HERE \w+})
                / at /home/jmaslak/.cpan/build/Convert-NLS_DATE_FORMAT-0.05-BizR8r/blib/lib/Convert/NLS_DATE_FORMAT.pm line 116.
t/nested-joins.t ................... ok
Unescaped left brace in regex is deprecated, passed through in regex; marked by <-- HERE in m/
                    (%{ <-- HERE \w+})
                / at /home/jmaslak/.cpan/build/Convert-NLS_DATE_FORMAT-0.05-BizR8r/blib/lib/Convert/NLS_DATE_FORMAT.pm line 116.
t/one-to-many-reset.t .............. ok
Unescaped left brace in regex is deprecated, passed through in regex; marked by <-- HERE in m/
                    (%{ <-- HERE \w+})
                / at /home/jmaslak/.cpan/build/Convert-NLS_DATE_FORMAT-0.05-BizR8r/blib/lib/Convert/NLS_DATE_FORMAT.pm line 116.
t/pk-fk-columns.t .................. ok
t/pod.t ............................ ok
Unescaped left brace in regex is deprecated, passed through in regex; marked by <-- HERE in m/
                    (%{ <-- HERE \w+})
                / at /home/jmaslak/.cpan/build/Convert-NLS_DATE_FORMAT-0.05-BizR8r/blib/lib/Convert/NLS_DATE_FORMAT.pm line 116.
t/query-builder.t .................. ok
Unescaped left brace in regex is deprecated, passed through in regex; marked by <-- HERE in m/
                    (%{ <-- HERE \w+})
                / at /home/jmaslak/.cpan/build/Convert-NLS_DATE_FORMAT-0.05-BizR8r/blib/lib/Convert/NLS_DATE_FORMAT.pm line 116.
t/rt-cpan-45836.t .................. ok
Unescaped left brace in regex is deprecated, passed through in regex; marked by <-- HERE in m/
                    (%{ <-- HERE \w+})
                / at /home/jmaslak/.cpan/build/Convert-NLS_DATE_FORMAT-0.05-BizR8r/blib/lib/Convert/NLS_DATE_FORMAT.pm line 116.
t/save-cascade.t ................... ok
Unescaped left brace in regex is deprecated, passed through in regex; marked by <-- HERE in m/
                    (%{ <-- HERE \w+})
                / at /home/jmaslak/.cpan/build/Convert-NLS_DATE_FORMAT-0.05-BizR8r/blib/lib/Convert/NLS_DATE_FORMAT.pm line 116.
t/schema-override.t ................ ok
Unescaped left brace in regex is deprecated, passed through in regex; marked by <-- HERE in m/
                    (%{ <-- HERE \w+})
                / at /home/jmaslak/.cpan/build/Convert-NLS_DATE_FORMAT-0.05-BizR8r/blib/lib/Convert/NLS_DATE_FORMAT.pm line 116.
t/spot-check-01.t .................. ok
Unescaped left brace in regex is deprecated, passed through in regex; marked by <-- HERE in m/
                    (%{ <-- HERE \w+})
                / at /home/jmaslak/.cpan/build/Convert-NLS_DATE_FORMAT-0.05-BizR8r/blib/lib/Convert/NLS_DATE_FORMAT.pm line 116.
t/spot-check-02.t .................. ok
t/spot-check-03.t .................. ok
Unescaped left brace in regex is deprecated, passed through in regex; marked by <-- HERE in m/
                    (%{ <-- HERE \w+})
                / at /home/jmaslak/.cpan/build/Convert-NLS_DATE_FORMAT-0.05-BizR8r/blib/lib/Convert/NLS_DATE_FORMAT.pm line 116.
t/spot-check-04.t .................. ok
Unescaped left brace in regex is deprecated, passed through in regex; marked by <-- HERE in m/
                    (%{ <-- HERE \w+})
                / at /home/jmaslak/.cpan/build/Convert-NLS_DATE_FORMAT-0.05-BizR8r/blib/lib/Convert/NLS_DATE_FORMAT.pm line 116.
t/spot-check-05.t .................. ok
Unescaped left brace in regex is deprecated, passed through in regex; marked by <-- HERE in m/
                    (%{ <-- HERE \w+})
                / at /home/jmaslak/.cpan/build/Convert-NLS_DATE_FORMAT-0.05-BizR8r/blib/lib/Convert/NLS_DATE_FORMAT.pm line 116.
t/spot-check-06.t .................. ok
Unescaped left brace in regex is deprecated, passed through in regex; marked by <-- HERE in m/
                    (%{ <-- HERE \w+})
                / at /home/jmaslak/.cpan/build/Convert-NLS_DATE_FORMAT-0.05-BizR8r/blib/lib/Convert/NLS_DATE_FORMAT.pm line 116.
t/spot-check-07.t .................. ok
Unescaped left brace in regex is deprecated, passed through in regex; marked by <-- HERE in m/
                    (%{ <-- HERE \w+})
                / at /home/jmaslak/.cpan/build/Convert-NLS_DATE_FORMAT-0.05-BizR8r/blib/lib/Convert/NLS_DATE_FORMAT.pm line 116.
t/spot-check-08.t .................. ok
Unescaped left brace in regex is deprecated, passed through in regex; marked by <-- HERE in m/
                    (%{ <-- HERE \w+})
                / at /home/jmaslak/.cpan/build/Convert-NLS_DATE_FORMAT-0.05-BizR8r/blib/lib/Convert/NLS_DATE_FORMAT.pm line 116.
t/spot-check-09.t .................. ok
Unescaped left brace in regex is deprecated, passed through in regex; marked by <-- HERE in m/
                    (%{ <-- HERE \w+})
                / at /home/jmaslak/.cpan/build/Convert-NLS_DATE_FORMAT-0.05-BizR8r/blib/lib/Convert/NLS_DATE_FORMAT.pm line 116.
t/spot-check-10.t .................. ok
Unescaped left brace in regex is deprecated, passed through in regex; marked by <-- HERE in m/
                    (%{ <-- HERE \w+})
                / at /home/jmaslak/.cpan/build/Convert-NLS_DATE_FORMAT-0.05-BizR8r/blib/lib/Convert/NLS_DATE_FORMAT.pm line 116.
t/spot-check-11.t .................. ok
Unescaped left brace in regex is deprecated, passed through in regex; marked by <-- HERE in m/
                    (%{ <-- HERE \w+})
                / at /home/jmaslak/.cpan/build/Convert-NLS_DATE_FORMAT-0.05-BizR8r/blib/lib/Convert/NLS_DATE_FORMAT.pm line 116.
t/spot-check-12.t .................. ok
Unescaped left brace in regex is deprecated, passed through in regex; marked by <-- HERE in m/
                    (%{ <-- HERE \w+})
                / at /home/jmaslak/.cpan/build/Convert-NLS_DATE_FORMAT-0.05-BizR8r/blib/lib/Convert/NLS_DATE_FORMAT.pm line 116.
t/spot-check-13.t .................. ok
Unescaped left brace in regex is deprecated, passed through in regex; marked by <-- HERE in m/
                    (%{ <-- HERE \w+})
                / at /home/jmaslak/.cpan/build/Convert-NLS_DATE_FORMAT-0.05-BizR8r/blib/lib/Convert/NLS_DATE_FORMAT.pm line 116.
t/spot-check-14.t .................. ok
Unescaped left brace in regex is deprecated, passed through in regex; marked by <-- HERE in m/
                    (%{ <-- HERE \w+})
                / at /home/jmaslak/.cpan/build/Convert-NLS_DATE_FORMAT-0.05-BizR8r/blib/lib/Convert/NLS_DATE_FORMAT.pm line 116.
t/undef-overrides-default.t ........ ok
Unescaped left brace in regex is deprecated, passed through in regex; marked by <-- HERE in m/
                    (%{ <-- HERE \w+})
                / at /home/jmaslak/.cpan/build/Convert-NLS_DATE_FORMAT-0.05-BizR8r/blib/lib/Convert/NLS_DATE_FORMAT.pm line 116.
t/unique-key-prefs.t ............... ok
All tests successful.
Files=67, Tests=15335, 119 wallclock secs ( 0.50 usr  0.89 sys + 27.27 cusr 49.14 csys = 77.80 CPU)
Result: PASS

------------------------------
PREREQUISITES
------------------------------

Prerequisite modules loaded:

requires:

    Module               Need     Have    
    -------------------- -------- --------
    Bit::Vector          0        7.4     
    Clone                0.29     0.38    
    Cwd                  0        3.56    
    Data::Dumper         2.121    2.158   
    DateTime             0        1.20    
    DBI                  1.40     1.633   
    File::Path           0        2.09    
    File::Spec           0        3.56    
    List::MoreUtils      0        0.413   
    Math::BigInt         1.77     1.9997  
    perl                 5.006000 5.022000
    Rose::DateTime::Util 0.532    0.540   
    Rose::DB             0.763    0.777   
    Rose::Object         0.854    0.860   
    Scalar::Util         0        1.41    
    Test::More           0        1.001014
    Time::Clock          1.00     1.03    

build_requires:

    Module               Need     Have    
    -------------------- -------- --------
    ExtUtils::MakeMaker  0        7.04_01 

configure_requires:

    Module               Need     Have    
    -------------------- -------- --------
    ExtUtils::MakeMaker  0        7.04_01 


------------------------------
ENVIRONMENT AND OTHER CONTEXT
------------------------------

Environment variables:

    AUTOMATED_TESTING = 1
    COMSPEC = C:\Windows\system32\cmd.exe
    LANG = en_US.UTF-8
    NUMBER_OF_PROCESSORS = 2
    PATH = /home/jmaslak/perl5/perlbrew/bin:/home/jmaslak/perl5/perlbrew/perls/perl-5.22.0/bin:/usr/local/bin:/usr/bin:/cygdrive/c/Windows/system32:/cygdrive/c/Windows:/cygdrive/c/Windows/System32/Wbem:/cygdrive/c/Windows/System32/WindowsPowerShell/v1.0:/usr/lib/lapack:/usr/sbin:~/perltest/bin
    PERL5LIB = /home/jmaslak/.cpan/build/Rose-DB-0.777-MfBsNj/blib/arch:/home/jmaslak/.cpan/build/Rose-DB-0.777-MfBsNj/blib/lib:/home/jmaslak/.cpan/build/DateTime-Format-Pg-0.16011-oWjjyL/blib/arch:/home/jmaslak/.cpan/build/DateTime-Format-Pg-0.16011-oWjjyL/blib/lib:/home/jmaslak/.cpan/build/Time-Clock-1.03-1coGoH/blib/arch:/home/jmaslak/.cpan/build/Time-Clock-1.03-1coGoH/blib/lib:/home/jmaslak/.cpan/build/SQL-ReservedWords-0.8-6eO45j/blib/arch:/home/jmaslak/.cpan/build/SQL-ReservedWords-0.8-6eO45j/blib/lib:/home/jmaslak/.cpan/build/DateTime-Format-Oracle-0.06-AZokcs/blib/arch:/home/jmaslak/.cpan/build/DateTime-Format-Oracle-0.06-AZokcs/blib/lib:/home/jmaslak/.cpan/build/Convert-NLS_DATE_FORMAT-0.05-BizR8r/blib/arch:/home/jmaslak/.cpan/build/Convert-NLS_DATE_FORMAT-0.05-BizR8r/blib/lib:/home/jmaslak/.cpan/build/Rose-DateTime-0.540-p4oIEp/blib/arch:/home/jmaslak/.cpan/build/Rose-DateTime-0.540-p4oIEp/blib/lib:/home/jmaslak/.cpan/build/Rose-Object-0.860-ZzLCzf/blib/arch:/home/jmaslak/.cpan/build/Rose-Object-0.860-ZzLCzf/blib/lib:/home/jmaslak/.cpan/build/Bit-Vector-7.4-zgd6NQ/blib/arch:/home/jmaslak/.cpan/build/Bit-Vector-7.4-zgd6NQ/blib/lib:/home/jmaslak/.cpan/build/DateTime-Format-MySQL-0.05-FeSTbl/blib/arch:/home/jmaslak/.cpan/build/DateTime-Format-MySQL-0.05-FeSTbl/blib/lib:/home/jmaslak/.cpan/build/DateTime-Format-Builder-0.81-vlP33L/blib/arch:/home/jmaslak/.cpan/build/DateTime-Format-Builder-0.81-vlP33L/blib/lib:/home/jmaslak/.cpan/build/Class-Factory-Util-1.7-nyxaZL/blib/arch:/home/jmaslak/.cpan/build/Class-Factory-Util-1.7-nyxaZL/blib/lib:/home/jmaslak/.cpan/build/XML-LibXML-Simple-0.95-mOeyHN/blib/arch:/home/jmaslak/.cpan/build/XML-LibXML-Simple-0.95-mOeyHN/blib/lib:/home/jmaslak/.cpan/build/IO-Socket-INET6-2.72-pAk7xi/blib/arch:/home/jmaslak/.cpan/build/IO-Socket-INET6-2.72-pAk7xi/blib/lib:/home/jmaslak/.cpan/build/Socket6-0.25-RbvYLE/blib/arch:/home/jmaslak/.cpan/build/Socket6-0.25-RbvYLE/blib/lib:/home/jmaslak/.cpan/build/Regexp-IPv6-0.03-2J4SUg/blib/arch:/home/jmaslak/.cpan/build/Regexp-IPv6-0.03-2J4SUg/blib/lib:/home/jmaslak/.cpan/build/Net-IP-1.26-yn3I7b/blib/arch:/home/jmaslak/.cpan/build/Net-IP-1.26-yn3I7b/blib/lib
    PERL5OPT = 
    PERL5_CPANPLUS_IS_RUNNING = 4852
    PERL5_CPAN_IS_RUNNING = 4852
    PERL5_CPAN_IS_RUNNING_IN_RECURSION = 6900,4852
    PERLBREW_BASHRC_VERSION = 0.73
    PERLBREW_HOME = /home/jmaslak/.perlbrew
    PERLBREW_MANPATH = /home/jmaslak/perl5/perlbrew/perls/perl-5.22.0/man
    PERLBREW_PATH = /home/jmaslak/perl5/perlbrew/bin:/home/jmaslak/perl5/perlbrew/perls/perl-5.22.0/bin
    PERLBREW_PERL = perl-5.22.0
    PERLBREW_ROOT = /home/jmaslak/perl5/perlbrew
    PERLBREW_VERSION = 0.73
    PERL_CR_SMOKER_CURRENT = BGPmon-Filter-2-01
    PERL_EXTUTILS_AUTOINSTALL = --defaultdeps
    PERL_MM_USE_DEFAULT = 1
    PROCESSOR_IDENTIFIER = Intel64 Family 6 Model 63 Stepping 2, GenuineIntel
    SHELL = /bin/bash
    TEMP = /tmp
    TERM = xterm-256color

Perl special variables (and OS-specific diagnostics, for MSWin32):

    $^X = /home/jmaslak/perl5/perlbrew/perls/perl-5.22.0/bin/perl
    $UID/$EUID = 197609 / 197609
    $GID = 197121 197121 545
    $EGID = 197121 197121 545

Perl module toolchain versions installed:

    Module              Have    
    ------------------- --------
    CPAN                2.11    
    CPAN::Meta          2.150001
    Cwd                 3.56    
    ExtUtils::CBuilder  0.280221
    ExtUtils::Command   1.20    
    ExtUtils::Install   2.04    
    ExtUtils::MakeMaker 7.04_01 
    ExtUtils::Manifest  1.70    
    ExtUtils::ParseXS   3.28    
    File::Spec          3.56    
    JSON                2.90    
    JSON::PP            2.27300 
    Module::Build       0.4214  
    Module::Signature   n/a     
    Parse::CPAN::Meta   1.4414  
    Test::Harness       3.35    
    Test::More          1.001014
    YAML                1.15    
    YAML::Syck          n/a     
    version             0.9909  


--

Summary of my perl5 (revision 5 version 22 subversion 0) configuration:
   
  Platform:
    osname=cygwin, osvers=2.1.0(0.28753), archname=cygwin-thread-multi
    uname='cygwin_nt-10.0 win-cvlv0hlkdu7 2.1.0(0.28753) 2015-07-14 21:28 x86_64 cygwin '
    config_args='-de -Dprefix=/home/jmaslak/perl5/perlbrew/perls/perl-5.22.0 -Aeval:scriptdir=/home/jmaslak/perl5/perlbrew/perls/perl-5.22.0/bin'
    hint=recommended, useposix=true, d_sigaction=define
    useithreads=define, usemultiplicity=define
    use64bitint=define, use64bitall=define, uselongdouble=undef
    usemymalloc=n, bincompat5005=undef
  Compiler:
    cc='gcc', ccflags ='-DPERL_USE_SAFE_PUTENV -U__STRICT_ANSI__ -fwrapv -fno-strict-aliasing -pipe -fstack-protector-strong -D_FORTIFY_SOURCE=2',
    optimize='-O3',
    cppflags='-DPERL_USE_SAFE_PUTENV -U__STRICT_ANSI__ -fwrapv -fno-strict-aliasing -pipe -fstack-protector-strong'
    ccversion='', gccversion='4.9.3', gccosandvers=''
    intsize=4, longsize=8, ptrsize=8, doublesize=8, byteorder=12345678, doublekind=3
    d_longlong=define, longlongsize=8, d_longdbl=define, longdblsize=16, longdblkind=3
    ivtype='long', ivsize=8, nvtype='double', nvsize=8, Off_t='off_t', lseeksize=8
    alignbytes=8, prototype=define
  Linker and Libraries:
    ld='g++', ldflags =' -Wl,--enable-auto-import -Wl,--export-all-symbols -Wl,--enable-auto-image-base -fstack-protector-strong -L/usr/local/lib'
    libpth=/usr/lib/gcc/x86_64-pc-cygwin/4.9.3/include-fixed /usr/lib /usr/lib/gcc/x86_64-pc-cygwin/4.9.3/../../../../lib/../include/w32api /usr/local/lib /lib
    libs=-lpthread -ldb -ldl -lcrypt
    perllibs=-lpthread -ldl -lcrypt
    libc=/usr/lib/libc.a, so=dll, useshrplib=true, libperl=cygperl5_22_0.dll
    gnulibc_version=''
  Dynamic Linking:
    dlsrc=dl_dlopen.xs, dlext=dll, d_dlsymun=undef, ccdlflags=' '
    cccdlflags=' ', lddlflags=' --shared  -Wl,--enable-auto-import -Wl,--export-all-symbols -Wl,--enable-auto-image-base -L/usr/local/lib -fstack-protector-strong'


Characteristics of this binary (from libperl): 
  Compile-time options: HAS_TIMES MULTIPLICITY PERLIO_LAYERS
                        PERL_DONT_CREATE_GVSV
                        PERL_HASH_FUNC_ONE_AT_A_TIME_HARD
                        PERL_IMPLICIT_CONTEXT PERL_NEW_COPY_ON_WRITE
                        PERL_PRESERVE_IVUV PERL_USE_SAFE_PUTENV
                        USE_64_BIT_ALL USE_64_BIT_INT USE_ITHREADS
                        USE_LARGE_FILES USE_LOCALE USE_LOCALE_COLLATE
                        USE_LOCALE_CTYPE USE_LOCALE_NUMERIC USE_LOCALE_TIME
                        USE_PERLIO USE_PERL_ATOF USE_REENTRANT_API
  Locally applied patches:
	Devel::PatchPerl 1.38
  Built under cygwin
  Compiled at Jul 27 2015 18:29:57
  %ENV:
    PERL5LIB="/home/jmaslak/.cpan/build/Rose-DB-0.777-MfBsNj/blib/arch:/home/jmaslak/.cpan/build/Rose-DB-0.777-MfBsNj/blib/lib:/home/jmaslak/.cpan/build/DateTime-Format-Pg-0.16011-oWjjyL/blib/arch:/home/jmaslak/.cpan/build/DateTime-Format-Pg-0.16011-oWjjyL/blib/lib:/home/jmaslak/.cpan/build/Time-Clock-1.03-1coGoH/blib/arch:/home/jmaslak/.cpan/build/Time-Clock-1.03-1coGoH/blib/lib:/home/jmaslak/.cpan/build/SQL-ReservedWords-0.8-6eO45j/blib/arch:/home/jmaslak/.cpan/build/SQL-ReservedWords-0.8-6eO45j/blib/lib:/home/jmaslak/.cpan/build/DateTime-Format-Oracle-0.06-AZokcs/blib/arch:/home/jmaslak/.cpan/build/DateTime-Format-Oracle-0.06-AZokcs/blib/lib:/home/jmaslak/.cpan/build/Convert-NLS_DATE_FORMAT-0.05-BizR8r/blib/arch:/home/jmaslak/.cpan/build/Convert-NLS_DATE_FORMAT-0.05-BizR8r/blib/lib:/home/jmaslak/.cpan/build/Rose-DateTime-0.540-p4oIEp/blib/arch:/home/jmaslak/.cpan/build/Rose-DateTime-0.540-p4oIEp/blib/lib:/home/jmaslak/.cpan/build/Rose-Object-0.860-ZzLCzf/blib/arch:/home/jmaslak/.cpan/build/Rose-Object-0.860-ZzLCzf/blib/lib:/home/jmaslak/.cpan/build/Bit-Vector-7.4-zgd6NQ/blib/arch:/home/jmaslak/.cpan/build/Bit-Vector-7.4-zgd6NQ/blib/lib:/home/jmaslak/.cpan/build/DateTime-Format-MySQL-0.05-FeSTbl/blib/arch:/home/jmaslak/.cpan/build/DateTime-Format-MySQL-0.05-FeSTbl/blib/lib:/home/jmaslak/.cpan/build/DateTime-Format-Builder-0.81-vlP33L/blib/arch:/home/jmaslak/.cpan/build/DateTime-Format-Builder-0.81-vlP33L/blib/lib:/home/jmaslak/.cpan/build/Class-Factory-Util-1.7-nyxaZL/blib/arch:/home/jmaslak/.cpan/build/Class-Factory-Util-1.7-nyxaZL/blib/lib:/home/jmaslak/.cpan/build/XML-LibXML-Simple-0.95-mOeyHN/blib/arch:/home/jmaslak/.cpan/build/XML-LibXML-Simple-0.95-mOeyHN/blib/lib:/home/jmaslak/.cpan/build/IO-Socket-INET6-2.72-pAk7xi/blib/arch:/home/jmaslak/.cpan/build/IO-Socket-INET6-2.72-pAk7xi/blib/lib:/home/jmaslak/.cpan/build/Socket6-0.25-RbvYLE/blib/arch:/home/jmaslak/.cpan/build/Socket6-0.25-RbvYLE/blib/lib:/home/jmaslak/.cpan/build/Regexp-IPv6-0.03-2J4SUg/blib/arch:/home/jmaslak/.cpan/build/Regexp-IPv6-0.03-2J4SUg/blib/lib:/home/jmaslak/.cpan/build/Net-IP-1.26-yn3I7b/blib/arch:/home/jmaslak/.cpan/build/Net-IP-1.26-yn3I7b/blib/lib"
    PERL5OPT=""
    PERL5_CPANPLUS_IS_RUNNING="4852"
    PERL5_CPAN_IS_RUNNING="4852"
    PERL5_CPAN_IS_RUNNING_IN_RECURSION="6900,4852"
    PERLBREW_BASHRC_VERSION="0.73"
    PERLBREW_HOME="/home/jmaslak/.perlbrew"
    PERLBREW_MANPATH="/home/jmaslak/perl5/perlbrew/perls/perl-5.22.0/man"
    PERLBREW_PATH="/home/jmaslak/perl5/perlbrew/bin:/home/jmaslak/perl5/perlbrew/perls/perl-5.22.0/bin"
    PERLBREW_PERL="perl-5.22.0"
    PERLBREW_ROOT="/home/jmaslak/perl5/perlbrew"
    PERLBREW_VERSION="0.73"
    PERL_CR_SMOKER_CURRENT="BGPmon-Filter-2-01"
    PERL_EXTUTILS_AUTOINSTALL="--defaultdeps"
    PERL_MM_USE_DEFAULT="1"
  @INC:
    /home/jmaslak/.cpan/build/Rose-DB-0.777-MfBsNj/blib/arch
    /home/jmaslak/.cpan/build/Rose-DB-0.777-MfBsNj/blib/lib
    /home/jmaslak/.cpan/build/DateTime-Format-Pg-0.16011-oWjjyL/blib/arch
    /home/jmaslak/.cpan/build/DateTime-Format-Pg-0.16011-oWjjyL/blib/lib
    /home/jmaslak/.cpan/build/Time-Clock-1.03-1coGoH/blib/arch
    /home/jmaslak/.cpan/build/Time-Clock-1.03-1coGoH/blib/lib
    /home/jmaslak/.cpan/build/SQL-ReservedWords-0.8-6eO45j/blib/arch
    /home/jmaslak/.cpan/build/SQL-ReservedWords-0.8-6eO45j/blib/lib
    /home/jmaslak/.cpan/build/DateTime-Format-Oracle-0.06-AZokcs/blib/arch
    /home/jmaslak/.cpan/build/DateTime-Format-Oracle-0.06-AZokcs/blib/lib
    /home/jmaslak/.cpan/build/Convert-NLS_DATE_FORMAT-0.05-BizR8r/blib/arch
    /home/jmaslak/.cpan/build/Convert-NLS_DATE_FORMAT-0.05-BizR8r/blib/lib
    /home/jmaslak/.cpan/build/Rose-DateTime-0.540-p4oIEp/blib/arch
    /home/jmaslak/.cpan/build/Rose-DateTime-0.540-p4oIEp/blib/lib
    /home/jmaslak/.cpan/build/Rose-Object-0.860-ZzLCzf/blib/arch
    /home/jmaslak/.cpan/build/Rose-Object-0.860-ZzLCzf/blib/lib
    /home/jmaslak/.cpan/build/Bit-Vector-7.4-zgd6NQ/blib/arch
    /home/jmaslak/.cpan/build/Bit-Vector-7.4-zgd6NQ/blib/lib
    /home/jmaslak/.cpan/build/DateTime-Format-MySQL-0.05-FeSTbl/blib/arch
    /home/jmaslak/.cpan/build/DateTime-Format-MySQL-0.05-FeSTbl/blib/lib
    /home/jmaslak/.cpan/build/DateTime-Format-Builder-0.81-vlP33L/blib/arch
    /home/jmaslak/.cpan/build/DateTime-Format-Builder-0.81-vlP33L/blib/lib
    /home/jmaslak/.cpan/build/Class-Factory-Util-1.7-nyxaZL/blib/arch
    /home/jmaslak/.cpan/build/Class-Factory-Util-1.7-nyxaZL/blib/lib
    /home/jmaslak/.cpan/build/XML-LibXML-Simple-0.95-mOeyHN/blib/arch
    /home/jmaslak/.cpan/build/XML-LibXML-Simple-0.95-mOeyHN/blib/lib
    /home/jmaslak/.cpan/build/IO-Socket-INET6-2.72-pAk7xi/blib/arch
    /home/jmaslak/.cpan/build/IO-Socket-INET6-2.72-pAk7xi/blib/lib
    /home/jmaslak/.cpan/build/Socket6-0.25-RbvYLE/blib/arch
    /home/jmaslak/.cpan/build/Socket6-0.25-RbvYLE/blib/lib
    /home/jmaslak/.cpan/build/Regexp-IPv6-0.03-2J4SUg/blib/arch
    /home/jmaslak/.cpan/build/Regexp-IPv6-0.03-2J4SUg/blib/lib
    /home/jmaslak/.cpan/build/Net-IP-1.26-yn3I7b/blib/arch
    /home/jmaslak/.cpan/build/Net-IP-1.26-yn3I7b/blib/lib
    /home/jmaslak/perl5/perlbrew/perls/perl-5.22.0/lib/site_perl/5.22.0/cygwin-thread-multi
    /home/jmaslak/perl5/perlbrew/perls/perl-5.22.0/lib/site_perl/5.22.0
    /home/jmaslak/perl5/perlbrew/perls/perl-5.22.0/lib/5.22.0/cygwin-thread-multi
    /home/jmaslak/perl5/perlbrew/perls/perl-5.22.0/lib/5.22.0
    .