App-perlbrew v0.93 Perl 5 v5.24.2 amd64-freebsd

Status
Pass
From
Slaven Rezić
Dist
App-perlbrew v0.93
Platform
Perl 5 v5.24.2 amd64-freebsd
Date
2021-11-22 15:40:30
ID
85cfd12c-4baa-11ec-bb24-1b7c1f24ea8f
This distribution has been tested as part of the CPAN Testers
project, supporting the Perl programming language.  See
http://wiki.cpantesters.org/ for more information or email
questions to cpan-testers-discuss@perl.org


--
Dear Liu Kang Min,

This is a computer-generated report for App-perlbrew-0.93
on perl 5.24.2, created by CPAN-Reporter-1.2018.

Thank you for uploading your work to CPAN.  Congratulations!
All tests were successful.

Sections of this report:

    * Tester comments
    * Program output
    * Prerequisites
    * Environment and other context

------------------------------
TESTER COMMENTS
------------------------------

Additional comments from tester:

none provided

------------------------------
PROGRAM OUTPUT
------------------------------

Output from './Build test':

t/00.load.t ............................ ok
t/01.options.t ......................... ok
t/02.format_perl_version.t ............. ok
t/03.test_get_available_versions.t ..... ok
t/04.find_available_perls.t ............ ok
t/05.get_current_perl.t ................ ok
t/06.installed_perls.t ................. skipped: No perl installation under PERLBREW_ROOT
t/07.argv.t ............................ ok
t/08.error_available.t ................. ok
t/08.error_install.t ................... ok
t/08.error_install_blead.t ............. ok
t/08.error_install_cpanm.t ............. ok
t/09.exit_status.t ..................... ok
t/10.resolve.t ......................... ok
t/11.editdist.t ........................ ok
t/11.root_from_arg.t ................... ok
t/12.destdir.t ......................... ok
t/12.sitecustomize.t ................... ok
t/13.perl_release.t .................... ok
t/14.perl_version_parsing.t ............ ok
# /var/tmp/cpansmoker-1023/2021112216/G17p0FQzv9/build/test/test
t/15.no-reuse-build-dir.t .............. ok
t/16.release-detail.t .................. ok
t/17.release-detail-cperl-local.t ...... ok
t/17.release-detail-cperl-remote.t ..... skipped: These tests send HTTP requests. Set env TEST_LIVE=1 to really run them.
t/18.release-detail-perl-local.t ....... ok
t/18.release-detail-perl-remote.t ...... skipped: These tests send HTTP requests. Set env TEST_LIVE=1 to really run them.
t/app-perlbrew-path-installation.t ..... ok
t/app-perlbrew-path.t .................. ok
t/bashrc_content.t ..................... ok
t/builddir.t ........................... ok
t/command-alias.t ...................... ok
t/command-available.t .................. ok
t/command-clone-modules.t .............. ok
t/command-compgen.t .................... ok
t/command-display-rc.t ................. ok
Attempting to create directory /var/tmp/cpansmoker-1023/2021112216/KHr4vd_Oi1/libs/perl-5.14.1@nobita
t/command-env.t ........................ ok
sort (...) interpreted as function at t/command-exec.t line 283.
sort (...) interpreted as function at t/command-exec.t line 305.
Command [perl -E 'somesub 42'] terminated with exit code 7 ($? = 1792) under the following perl environment:
format_info_output_value
Command [perl -E 'say 42'] terminated with exit code 3 ($? = 768) under the following perl environment:
Command [perl -E 'say 42'] terminated with exit code 3 ($? = 768) under the following perl environment:
Command [perl -E 'say 42'] terminated with exit code 3 ($? = 768) under the following perl environment:
Command [perl -E 'say 42'] terminated with exit code 255 ($? = -1) under the following perl environment:
Command [perl -E 'say 42'] terminated with exit code 7 ($? = 1792) under the following perl environment:
t/command-exec.t ....................... ok
t/command-help.t ....................... ok
t/command-info.t ....................... ok
t/command-install-cpanm.t .............. ok
t/command-install-from-archive.t ....... ok
t/command-install-patchperl.t .......... ok
t/command-install.t .................... ok
t/command-lib.t ........................ ok
t/command-list.t ....................... ok
t/current_perl.t ....................... ok
t/current_shell.t ...................... ok
t/do_system.t .......................... ok
t/failure-command-install-cpanm.t ...... ok
t/failure-command-install-patchperl.t .. ok
t/home.t ............................... ok
t/http-program-control.t ............... ok
# PATH=/home/cpansand/.cpan/build/2021112216/App-perlbrew-0.93-NcV73x/t/fake-bin:/usr/local/bin:/usr/bin:/bin:/usr/local/sbin:/usr/sbin:/sbin:/home/cpansand/bin/freebsd10.3:/home/cpansand/bin/sh:/home/cpansand/bin:/usr/games:/home/cpansand/devel:/home/eserte/src/srezic-misc/scripts
# curl = /home/cpansand/.cpan/build/2021112216/App-perlbrew-0.93-NcV73x/t/fake-bin/curl
t/http-ua-detect-non-curl.t ............ ok
t/http-ua-detect.t ..................... ok
t/http.t ............................... skipped: (no reason given)
t/installation-perlbrew.t .............. ok
t/installation.t ....................... ok
t/installation2.t ...................... ok
t/installation3.t ...................... ok
t/list_modules.t ....................... ok
t/unit-files-are-the-same.t ............ ok
All tests successful.
Files=61, Tests=418,  9 wallclock secs ( 0.02 usr  0.24 sys +  1.05 cusr  7.43 csys =  8.74 CPU)
Result: PASS

------------------------------
PREREQUISITES
------------------------------

Prerequisite modules loaded:

requires:

    Module               Need       Have      
    -------------------- ---------- ----------
    Capture::Tiny        0.48       0.48      
    CPAN::Perl::Releases 5.20210620 5.20211120
    Devel::PatchPerl     2.08       2.08      
    ExtUtils::MakeMaker  7.22       7.58      
    File::Copy           0          2.31      
    File::Temp           0.2304     0.2311    
    JSON::PP             0          2.27300_01
    local::lib           2.000014   2.000028  
    Pod::Parser          1.63       1.63      
    Pod::Usage           1.68       1.68      

build_requires:

    Module               Need       Have      
    -------------------- ---------- ----------
    File::Which          1.21       1.21      
    IO::All              0.51       0.87      
    Path::Class          0.33       0.37      
    Test::Exception      0.32       0.43      
    Test::More           1.001002   1.302140  
    Test::NoWarnings     1.04       1.04      
    Test::Output         1.03       1.031     
    Test::Simple         1.001002   1.302140  
    Test::Spec           0.49       0.54      
    Test::TempDir::Tiny  0.016      0.018     

configure_requires:

    Module               Need       Have      
    -------------------- ---------- ----------
    Module::Build::Tiny  0.034      0.039     


------------------------------
ENVIRONMENT AND OTHER CONTEXT
------------------------------

Environment variables:

    LC_ALL = de_DE.ISO8859-1
    PATH = /usr/local/bin:/usr/bin:/bin:/usr/local/sbin:/usr/sbin:/sbin:/home/cpansand/bin/freebsd10.3:/home/cpansand/bin/sh:/home/cpansand/bin:/usr/games:/home/cpansand/devel:/home/eserte/src/srezic-misc/scripts
    PERL5LIB = /home/cpansand/.cpan/build/2021112216/Devel-PatchPerl-2.08-2wv38k/blib/arch:/home/cpansand/.cpan/build/2021112216/Devel-PatchPerl-2.08-2wv38k/blib/lib:/home/cpansand/.cpan/build/2021112216/Test-Spec-0.54-q6Tu8P/blib/arch:/home/cpansand/.cpan/build/2021112216/Test-Spec-0.54-q6Tu8P/blib/lib:/home/cpansand/.cpan/build/2021112216/Devel-GlobalPhase-0.003003-nZNyj0/blib/arch:/home/cpansand/.cpan/build/2021112216/Devel-GlobalPhase-0.003003-nZNyj0/blib/lib:/home/cpansand/.cpan/build/2021112216/local-lib-2.000028-JcgRAU/blib/arch:/home/cpansand/.cpan/build/2021112216/local-lib-2.000028-JcgRAU/blib/lib:/home/cpansand/.cpan/build/2021112216/Capture-Tiny-0.48-kIa9wZ/blib/arch:/home/cpansand/.cpan/build/2021112216/Capture-Tiny-0.48-kIa9wZ/blib/lib:/home/cpansand/.cpan/build/2021112216/CPAN-Perl-Releases-5.20211120-GetGGs/blib/arch:/home/cpansand/.cpan/build/2021112216/CPAN-Perl-Releases-5.20211120-GetGGs/blib/lib:/home/cpansand/.cpan/build/2021112216/IO-All-0.87-YsI2H0/blib/arch:/home/cpansand/.cpan/build/2021112216/IO-All-0.87-YsI2H0/blib/lib:/home/cpansand/.cpan/build/2021112216/Test-TempDir-Tiny-0.018-NDMZhd/blib/arch:/home/cpansand/.cpan/build/2021112216/Test-TempDir-Tiny-0.018-NDMZhd/blib/lib:/home/cpansand/.cpan/build/2021112216/File-Temp-0.2311-PuKbAE/blib/arch:/home/cpansand/.cpan/build/2021112216/File-Temp-0.2311-PuKbAE/blib/lib
    PERL5OPT = 
    PERL5_CPANPLUS_IS_RUNNING = 74546
    PERL5_CPAN_IS_RUNNING = 74546
    PERL5_CPAN_IS_RUNNING_IN_RECURSION = 69068,74546
    PERLDOC = -MPod::Perldoc::ToTextOverstrike
    PERL_BATCH = yes
    PERL_CANARY_STABILITY_NOPROMPT = 1
    PERL_CPAN_REPORTER_CONFIG = /var/tmp/cpansmoker-1023/2021112216/cpanreporter_000_config.ini
    PERL_EXTUTILS_AUTOINSTALL = --defaultdeps
    SHELL = /usr/local/bin/zsh
    TERM = screen
    TMPDIR = /var/tmp/cpansmoker-1023/2021112216

Perl special variables (and OS-specific diagnostics, for MSWin32):

    $^X = /usr/perl5.24.2p/bin/perl5.24.2
    $UID/$EUID = 1023 / 1023
    $GID = 1023 1023
    $EGID = 1023 1023

Perl module toolchain versions installed:

    Module              Have      
    ------------------- ----------
    CPAN                2.11_01   
    CPAN::Meta          2.150010  
    Cwd                 3.75      
    ExtUtils::CBuilder  0.280225  
    ExtUtils::Command   7.58      
    ExtUtils::Install   2.06      
    ExtUtils::MakeMaker 7.58      
    ExtUtils::Manifest  1.71      
    ExtUtils::ParseXS   3.31      
    File::Spec          3.75      
    JSON                2.94      
    JSON::PP            2.27300_01
    Module::Build       0.4224    
    Module::Signature   n/a       
    Parse::CPAN::Meta   2.150010  
    Test::Harness       3.36_01   
    Test::More          1.302140  
    YAML                1.23      
    YAML::Syck          1.30      
    version             0.9924    


--

Summary of my perl5 (revision 5 version 24 subversion 2) configuration:
   
  Platform:
    osname=freebsd, osvers=10.3-release-p11, archname=amd64-freebsd
    uname='freebsd cvrsnica-freebsd-101.herceg.de 10.3-release-p11 freebsd 10.3-release-p11 #0: mon oct 24 18:49:24 utc 2016 root@amd64-builder.daemonology.net:usrobjusrsrcsysgeneric amd64 '
    config_args='-ds -e -Dprefix=/usr/perl5.24.2p -Dcf_email=srezic@cpan.org -Doptimize=-O2 -pipe'
    hint=recommended, useposix=true, d_sigaction=define
    useithreads=undef, usemultiplicity=undef
    use64bitint=define, use64bitall=define, uselongdouble=undef
    usemymalloc=n, bincompat5005=undef
  Compiler:
    cc='cc', ccflags ='-DHAS_FPSETMASK -DHAS_FLOATINGPOINT_H -fno-strict-aliasing -pipe -fstack-protector -I/usr/local/include -D_FORTIFY_SOURCE=2',
    optimize='-O2 -pipe',
    cppflags='-DHAS_FPSETMASK -DHAS_FLOATINGPOINT_H -fno-strict-aliasing -pipe -fstack-protector -I/usr/local/include'
    ccversion='', gccversion='4.2.1 Compatible FreeBSD Clang 3.4.1 (tags/RELEASE_34/dot1-final 208032)', gccosandvers=''
    intsize=4, longsize=8, ptrsize=8, doublesize=8, byteorder=12345678, doublekind=3
    d_longlong=define, longlongsize=8, d_longdbl=define, longdblsize=16, longdblkind=3
    ivtype='long', ivsize=8, nvtype='double', nvsize=8, Off_t='off_t', lseeksize=8
    alignbytes=8, prototype=define
  Linker and Libraries:
    ld='cc', ldflags ='-pthread -Wl,-E  -fstack-protector -L/usr/local/lib'
    libpth=/usr/lib /usr/local/lib /usr/include/clang/3.4.1 /usr/lib
    libs=-lpthread -lgdbm -lm -lcrypt -lutil -lc
    perllibs=-lpthread -lm -lcrypt -lutil -lc
    libc=, so=so, useshrplib=false, libperl=libperl.a
    gnulibc_version=''
  Dynamic Linking:
    dlsrc=dl_dlopen.xs, dlext=so, d_dlsymun=undef, ccdlflags=' '
    cccdlflags='-DPIC -fPIC', lddlflags='-shared  -L/usr/local/lib -fstack-protector'


Characteristics of this binary (from libperl): 
  Compile-time options: HAS_TIMES PERLIO_LAYERS PERL_COPY_ON_WRITE
                        PERL_DONT_CREATE_GVSV
                        PERL_HASH_FUNC_ONE_AT_A_TIME_HARD PERL_MALLOC_WRAP
                        PERL_PRESERVE_IVUV USE_64_BIT_ALL USE_64_BIT_INT
                        USE_LARGE_FILES USE_LOCALE USE_LOCALE_COLLATE
                        USE_LOCALE_CTYPE USE_LOCALE_NUMERIC USE_LOCALE_TIME
                        USE_PERLIO USE_PERL_ATOF
  Built under freebsd
  Compiled at Jul 29 2017 11:20:18
  %ENV:
    PERL5LIB="/home/cpansand/.cpan/build/2021112216/Devel-PatchPerl-2.08-2wv38k/blib/arch:/home/cpansand/.cpan/build/2021112216/Devel-PatchPerl-2.08-2wv38k/blib/lib:/home/cpansand/.cpan/build/2021112216/Test-Spec-0.54-q6Tu8P/blib/arch:/home/cpansand/.cpan/build/2021112216/Test-Spec-0.54-q6Tu8P/blib/lib:/home/cpansand/.cpan/build/2021112216/Devel-GlobalPhase-0.003003-nZNyj0/blib/arch:/home/cpansand/.cpan/build/2021112216/Devel-GlobalPhase-0.003003-nZNyj0/blib/lib:/home/cpansand/.cpan/build/2021112216/local-lib-2.000028-JcgRAU/blib/arch:/home/cpansand/.cpan/build/2021112216/local-lib-2.000028-JcgRAU/blib/lib:/home/cpansand/.cpan/build/2021112216/Capture-Tiny-0.48-kIa9wZ/blib/arch:/home/cpansand/.cpan/build/2021112216/Capture-Tiny-0.48-kIa9wZ/blib/lib:/home/cpansand/.cpan/build/2021112216/CPAN-Perl-Releases-5.20211120-GetGGs/blib/arch:/home/cpansand/.cpan/build/2021112216/CPAN-Perl-Releases-5.20211120-GetGGs/blib/lib:/home/cpansand/.cpan/build/2021112216/IO-All-0.87-YsI2H0/blib/arch:/home/cpansand/.cpan/build/2021112216/IO-All-0.87-YsI2H0/blib/lib:/home/cpansand/.cpan/build/2021112216/Test-TempDir-Tiny-0.018-NDMZhd/blib/arch:/home/cpansand/.cpan/build/2021112216/Test-TempDir-Tiny-0.018-NDMZhd/blib/lib:/home/cpansand/.cpan/build/2021112216/File-Temp-0.2311-PuKbAE/blib/arch:/home/cpansand/.cpan/build/2021112216/File-Temp-0.2311-PuKbAE/blib/lib"
    PERL5OPT=""
    PERL5_CPANPLUS_IS_RUNNING="74546"
    PERL5_CPAN_IS_RUNNING="74546"
    PERL5_CPAN_IS_RUNNING_IN_RECURSION="69068,74546"
    PERLDOC="-MPod::Perldoc::ToTextOverstrike"
    PERL_BATCH="yes"
    PERL_CANARY_STABILITY_NOPROMPT="1"
    PERL_CPAN_REPORTER_CONFIG="/var/tmp/cpansmoker-1023/2021112216/cpanreporter_000_config.ini"
    PERL_EXTUTILS_AUTOINSTALL="--defaultdeps"
  @INC:
    /home/cpansand/.cpan/build/2021112216/Devel-PatchPerl-2.08-2wv38k/blib/arch
    /home/cpansand/.cpan/build/2021112216/Devel-PatchPerl-2.08-2wv38k/blib/lib
    /home/cpansand/.cpan/build/2021112216/Test-Spec-0.54-q6Tu8P/blib/arch
    /home/cpansand/.cpan/build/2021112216/Test-Spec-0.54-q6Tu8P/blib/lib
    /home/cpansand/.cpan/build/2021112216/Devel-GlobalPhase-0.003003-nZNyj0/blib/arch
    /home/cpansand/.cpan/build/2021112216/Devel-GlobalPhase-0.003003-nZNyj0/blib/lib
    /home/cpansand/.cpan/build/2021112216/local-lib-2.000028-JcgRAU/blib/arch
    /home/cpansand/.cpan/build/2021112216/local-lib-2.000028-JcgRAU/blib/lib
    /home/cpansand/.cpan/build/2021112216/Capture-Tiny-0.48-kIa9wZ/blib/arch
    /home/cpansand/.cpan/build/2021112216/Capture-Tiny-0.48-kIa9wZ/blib/lib
    /home/cpansand/.cpan/build/2021112216/CPAN-Perl-Releases-5.20211120-GetGGs/blib/arch
    /home/cpansand/.cpan/build/2021112216/CPAN-Perl-Releases-5.20211120-GetGGs/blib/lib
    /home/cpansand/.cpan/build/2021112216/IO-All-0.87-YsI2H0/blib/arch
    /home/cpansand/.cpan/build/2021112216/IO-All-0.87-YsI2H0/blib/lib
    /home/cpansand/.cpan/build/2021112216/Test-TempDir-Tiny-0.018-NDMZhd/blib/arch
    /home/cpansand/.cpan/build/2021112216/Test-TempDir-Tiny-0.018-NDMZhd/blib/lib
    /home/cpansand/.cpan/build/2021112216/File-Temp-0.2311-PuKbAE/blib/arch
    /home/cpansand/.cpan/build/2021112216/File-Temp-0.2311-PuKbAE/blib/lib
    /usr/perl5.24.2p/lib/site_perl/5.24.2/amd64-freebsd
    /usr/perl5.24.2p/lib/site_perl/5.24.2
    /usr/perl5.24.2p/lib/5.24.2/amd64-freebsd
    /usr/perl5.24.2p/lib/5.24.2
    .