Webservice-OVH v0.48 Perl 5 v5.30.2 amd64-freebsd

Status
Pass
From
Slaven Rezić
Dist
Webservice-OVH v0.48
Platform
Perl 5 v5.30.2 amd64-freebsd
Date
2023-01-09 10:51:08
ID
85b0358c-900b-11ed-b4f3-0bf66d8775ea
This distribution has been tested as part of the CPAN Testers
project, supporting the Perl programming language.  See
http://wiki.cpantesters.org/ for more information or email
questions to cpan-testers-discuss@perl.org


--
Dear Patrick Jendral,

This is a computer-generated report for Webservice-OVH-0.48
on perl 5.30.2, created by CPAN-Reporter-1.2018.

Thank you for uploading your work to CPAN.  Congratulations!
All tests were successful.

Sections of this report:

    * Tester comments
    * Program output
    * Prerequisites
    * Environment and other context

------------------------------
TESTER COMMENTS
------------------------------

Additional comments from tester:

none provided

------------------------------
PROGRAM OUTPUT
------------------------------

Output from './Build test':

t/00load.t ................. ok
t/01module.t ............... skipped: No credential file found in $ENV{"API_CREDENTIAL_DIR"} or path is invalid!
t/02domain.t ............... skipped: No credential file found in $ENV{"API_CREDENTIAL_DIR"} or path is invalid!
t/03service.t .............. skipped: No credential file found in $ENV{"API_CREDENTIAL_DIR"} or path is invalid!
t/04zone.t ................. skipped: No credential file found in $ENV{"API_CREDENTIAL_DIR"} or path is invalid!
t/05record.t ............... skipped: No credential file found in $ENV{"API_CREDENTIAL_DIR"} or path is invalid!
t/06email.t ................ skipped: No credential file found in $ENV{"API_CREDENTIAL_DIR"} or path is invalid!
t/07email_domain.t ......... skipped: No credential file found in $ENV{"API_CREDENTIAL_DIR"} or path is invalid!
t/08email_domain_domain.t .. skipped: No credential file found in $ENV{"API_CREDENTIAL_DIR"} or path is invalid!
t/09redirection.t .......... skipped: No credential file found in $ENV{"API_CREDENTIAL_DIR"} or path is invalid!
t/10me.t ................... skipped: No credential file found in $ENV{"API_CREDENTIAL_DIR"} or path is invalid!
t/11account.t .............. skipped: No credential file found in $ENV{"API_CREDENTIAL_DIR"} or path is invalid!
t/12mailingList.t .......... skipped: No credential file found in $ENV{"API_CREDENTIAL_DIR"} or path is invalid!
t/13bill.t ................. skipped: No credential file found in $ENV{"API_CREDENTIAL_DIR"} or path is invalid!
t/14contact.t .............. skipped: No credential file found in $ENV{"API_CREDENTIAL_DIR"} or path is invalid!
t/15me_order.t ............. skipped: No credential file found in $ENV{"API_CREDENTIAL_DIR"} or path is invalid!
t/16task.t ................. skipped: No credential file found in $ENV{"API_CREDENTIAL_DIR"} or path is invalid!
t/17me_order_detail.t ...... skipped: No credential file found in $ENV{"API_CREDENTIAL_DIR"} or path is invalid!
t/18order.t ................ skipped: No credential file found in $ENV{"API_CREDENTIAL_DIR"} or path is invalid!
t/19cart.t ................. skipped: No credential file found in $ENV{"API_CREDENTIAL_DIR"} or path is invalid!
t/20item.t ................. skipped: No credential file found in $ENV{"API_CREDENTIAL_DIR"} or path is invalid!
t/21email.t ................ skipped: No credential file found in $ENV{"API_CREDENTIAL_DIR"} or path is invalid!
t/22hosting.t .............. skipped: No credential file found in $ENV{"API_CREDENTIAL_DIR"} or path is invalid!
t/23order_email_domain.t ... skipped: No credential file found in $ENV{"API_CREDENTIAL_DIR"} or path is invalid!
t/24web.t .................. skipped: No credential file found in $ENV{"API_CREDENTIAL_DIR"} or path is invalid!
t/25cloud.t ................ skipped: No credential file found in $ENV{"API_CREDENTIAL_DIR"} or path is invalid!
t/26project.t .............. skipped: No credential file found in $ENV{"API_CREDENTIAL_DIR"} or path is invalid!
t/27SSH.t .................. skipped: No credential file found in $ENV{"API_CREDENTIAL_DIR"} or path is invalid!
t/28Network.t .............. skipped: No credential file found in $ENV{"API_CREDENTIAL_DIR"} or path is invalid!
t/29IP.t ................... skipped: No credential file found in $ENV{"API_CREDENTIAL_DIR"} or path is invalid!
t/30Instance.t ............. skipped: No credential file found in $ENV{"API_CREDENTIAL_DIR"} or path is invalid!
t/31Image.t ................ skipped: No credential file found in $ENV{"API_CREDENTIAL_DIR"} or path is invalid!
t/32Private.t .............. skipped: No credential file found in $ENV{"API_CREDENTIAL_DIR"} or path is invalid!
t/33Subnet.t ............... skipped: No credential file found in $ENV{"API_CREDENTIAL_DIR"} or path is invalid!
t/34Failover.t ............. skipped: No credential file found in $ENV{"API_CREDENTIAL_DIR"} or path is invalid!
t/35Group.t ................ skipped: No credential file found in $ENV{"API_CREDENTIAL_DIR"} or path is invalid!
All tests successful.
Files=36, Tests=15, 13 wallclock secs ( 0.11 usr  0.12 sys + 10.68 cusr  2.06 csys = 12.97 CPU)
Result: PASS

------------------------------
PREREQUISITES
------------------------------

Prerequisite modules loaded:

requires:

    Module                     Need  Have    
    -------------------------- ----- --------
    DateTime                   0     1.59    
    DateTime::Format::Strptime 0     1.79    
    DDP                        0     1.001000
    Digest::SHA1               0     2.13    
    File::Slurp                0     9999.32 
    JSON                       0     4.09    
    LWP::Protocol::https       0     6.10    
    LWP::UserAgent             0     6.67    
    Params::Util               0     1.07    

configure_requires:

    Module                     Need  Have    
    -------------------------- ----- --------
    Module::Build::Tiny        0.035 0.039   


------------------------------
ENVIRONMENT AND OTHER CONTEXT
------------------------------

Environment variables:

    PATH = /usr/local/bin:/usr/bin:/bin:/usr/local/sbin:/usr/sbin:/sbin:/home/cpansand/bin/sh:/home/cpansand/bin:/usr/games:/home/cpansand/devel:/usr/home/eserte/src/srezic-misc/scripts
    PERL5LIB = 
    PERL5OPT = 
    PERL5_CPANPLUS_IS_RUNNING = 9689
    PERL5_CPAN_IS_RUNNING = 9689
    PERL5_CPAN_IS_RUNNING_IN_RECURSION = 7662,9689
    PERL_BATCH = yes
    PERL_CANARY_STABILITY_NOPROMPT = 1
    PERL_CPAN_REPORTER_CONFIG = /var/tmp/cpansmoker-1023/2023010910/cpanreporter_000_config.ini
    PERL_EXTUTILS_AUTOINSTALL = --defaultdeps
    PERL_USE_UNSAFE_INC = 1
    SHELL = /bin/sh
    TMPDIR = /var/tmp/cpansmoker-1023/2023010910

Perl special variables (and OS-specific diagnostics, for MSWin32):

    $^X = /usr/perl5.30.2p/bin/perl5.30.2
    $UID/$EUID = 1023 / 1023
    $GID = 1023 1023
    $EGID = 1023 1023

Perl module toolchain versions installed:

    Module              Have    
    ------------------- --------
    CPAN                2.29    
    CPAN::Meta          2.150010
    Cwd                 3.78    
    ExtUtils::CBuilder  0.280236
    ExtUtils::Command   7.64    
    ExtUtils::Install   2.20    
    ExtUtils::MakeMaker 7.64    
    ExtUtils::Manifest  1.72    
    ExtUtils::ParseXS   3.40    
    File::Spec          3.78    
    JSON                4.09    
    JSON::PP            4.15    
    Module::Build       0.4232  
    Module::Signature   0.88    
    Parse::CPAN::Meta   2.150010
    Test::Harness       3.42    
    Test::More          1.302191
    YAML                1.30    
    YAML::Syck          1.34    
    version             0.9929  


--

Summary of my perl5 (revision 5 version 30 subversion 2) configuration:
   
  Platform:
    osname=freebsd
    osvers=12.1-stable
    archname=amd64-freebsd
    uname='freebsd cloud1.bbbike.org 12.1-stable freebsd 12.1-stable 300cf9f9b89(stable12) generic amd64 '
    config_args='-ds -e -Dprefix=/usr/perl5.30.2p -Dcf_email=srezic@cpan.org -Doptimize=-O2 -pipe'
    hint=recommended
    useposix=true
    d_sigaction=define
    useithreads=undef
    usemultiplicity=undef
    use64bitint=define
    use64bitall=define
    uselongdouble=undef
    usemymalloc=n
    default_inc_excludes_dot=define
    bincompat5005=undef
  Compiler:
    cc='cc'
    ccflags ='-DHAS_FPSETMASK -DHAS_FLOATINGPOINT_H -fno-strict-aliasing -pipe -fstack-protector-strong -I/usr/local/include'
    optimize='-O2 -pipe'
    cppflags='-DHAS_FPSETMASK -DHAS_FLOATINGPOINT_H -fno-strict-aliasing -pipe -fstack-protector-strong -I/usr/local/include'
    ccversion=''
    gccversion='FreeBSD Clang 9.0.1 (git@github.com:llvm/llvm-project.git c1a0a213378a458fbea1a5c77b315c7dce08fd05)'
    gccosandvers=''
    intsize=4
    longsize=8
    ptrsize=8
    doublesize=8
    byteorder=12345678
    doublekind=3
    d_longlong=define
    longlongsize=8
    d_longdbl=define
    longdblsize=16
    longdblkind=3
    ivtype='long'
    ivsize=8
    nvtype='double'
    nvsize=8
    Off_t='off_t'
    lseeksize=8
    alignbytes=8
    prototype=define
  Linker and Libraries:
    ld='cc'
    ldflags ='-pthread -Wl,-E  -fstack-protector-strong -L/usr/local/lib'
    libpth=/usr/lib /usr/local/lib /usr/lib/clang/9.0.1/lib /usr/lib
    libs=-lpthread -lgdbm -ldl -lm -lcrypt -lutil -lc
    perllibs=-lpthread -ldl -lm -lcrypt -lutil -lc
    libc=
    so=so
    useshrplib=false
    libperl=libperl.a
    gnulibc_version=''
  Dynamic Linking:
    dlsrc=dl_dlopen.xs
    dlext=so
    d_dlsymun=undef
    ccdlflags=' '
    cccdlflags='-DPIC -fPIC'
    lddlflags='-shared  -L/usr/local/lib -fstack-protector-strong'


Characteristics of this binary (from libperl): 
  Compile-time options:
    HAS_TIMES
    PERLIO_LAYERS
    PERL_COPY_ON_WRITE
    PERL_DONT_CREATE_GVSV
    PERL_MALLOC_WRAP
    PERL_OP_PARENT
    PERL_PRESERVE_IVUV
    USE_64_BIT_ALL
    USE_64_BIT_INT
    USE_LARGE_FILES
    USE_LOCALE
    USE_LOCALE_COLLATE
    USE_LOCALE_CTYPE
    USE_LOCALE_NUMERIC
    USE_LOCALE_TIME
    USE_PERLIO
    USE_PERL_ATOF
  Built under freebsd
  Compiled at Mar 14 2020 21:35:07
  %ENV:
    PERL5LIB=""
    PERL5OPT=""
    PERL5_CPANPLUS_IS_RUNNING="9689"
    PERL5_CPAN_IS_RUNNING="9689"
    PERL5_CPAN_IS_RUNNING_IN_RECURSION="7662,9689"
    PERL_BATCH="yes"
    PERL_CANARY_STABILITY_NOPROMPT="1"
    PERL_CPAN_REPORTER_CONFIG="/var/tmp/cpansmoker-1023/2023010910/cpanreporter_000_config.ini"
    PERL_EXTUTILS_AUTOINSTALL="--defaultdeps"
    PERL_USE_UNSAFE_INC="1"
  @INC:
    /usr/perl5.30.2p/lib/site_perl/5.30.2/amd64-freebsd
    /usr/perl5.30.2p/lib/site_perl/5.30.2
    /usr/perl5.30.2p/lib/5.30.2/amd64-freebsd
    /usr/perl5.30.2p/lib/5.30.2
    .