SReview v0.5.1 Perl 5 v5.14.4 x86_64-linux

Status
Pass
From
Slaven Rezić (SREZIC)
Dist
SReview v0.5.1
Platform
Perl 5 v5.14.4 x86_64-linux
Date
2020-01-26 09:45:01
ID
85a6073a-4020-11ea-88a8-39331f24ea8f
This distribution has been tested as part of the CPAN Testers
project, supporting the Perl programming language.  See
http://wiki.cpantesters.org/ for more information or email
questions to cpan-testers-discuss@perl.org


--
Dear Wouter Verhelst,

This is a computer-generated report for SReview-0.5.1
on perl 5.14.4, created by CPAN-Reporter-1.2018.

Thank you for uploading your work to CPAN.  Congratulations!
All tests were successful.

Sections of this report:

    * Tester comments
    * Program output
    * Prerequisites
    * Environment and other context

------------------------------
TESTER COMMENTS
------------------------------

Additional comments from tester:

none provided

------------------------------
PROGRAM OUTPUT
------------------------------

Output from '/usr/bin/make test':

PERL_DL_NONLAZY=1 "/data/perl/perl-5.14.4/bin/perl" "-MExtUtils::Command::MM" "-MTest::Harness" "-e" "undef *Test::Harness::Switches; test_harness(0, 'blib/lib', 'blib/arch')" t/*.t
t/010-config.t ...... ok
t/020-convert.t ..... ok
t/030-copy.t ........ ok
t/040-db.t .......... ok
t/050-probe.t ....... ok
t/060-profiles.t .... ok
t/070-reporting.t ... ok
t/080-runthrough.t .. ok
Warning: could not find configuration file /etc/sreview/config.pm, falling back to defaults at /data/home/cpansand/.cpan/build/2020012609/SReview-0.5.1-4/blib/lib/SReview/Config/Common.pm line 30.
t/090-talk.t ........ ok
Warning: could not find configuration file /etc/sreview/config.pm, falling back to defaults at /data/home/cpansand/.cpan/build/2020012609/SReview-0.5.1-4/blib/lib/SReview/Config/Common.pm line 30.
t/095-files.t ....... ok
Warning: could not find configuration file /etc/sreview/config.pm, falling back to defaults at /data/home/cpansand/.cpan/build/2020012609/SReview-0.5.1-4/blib/lib/SReview/Config/Common.pm line 30.
t/100-mojo.t ........ ok
All tests successful.
Files=11, Tests=139, 10 wallclock secs ( 0.02 usr  0.07 sys +  9.46 cusr  2.26 csys = 11.81 CPU)
Result: PASS

------------------------------
PREREQUISITES
------------------------------

Prerequisite modules loaded:

requires:

    Module                              Need Have    
    ----------------------------------- ---- --------
    DateTime                            0    1.51    
    DateTime::Format::ISO8601           0    0.08    
    Mojo::JSON                          0    0       
    Mojo::Pg                            0    4.17    
    Mojolicious::Plugin::OAuth2::Server 0    0.44    
    Moose                               0    2.2011  
  ! Net::Amazon::S3                     0    n/a     

build_requires:

    Module                              Need Have    
    ----------------------------------- ---- --------
    ExtUtils::MakeMaker                 0    7.38    
    Test::More                          0    1.302164

configure_requires:

    Module                              Need Have    
    ----------------------------------- ---- --------
    ExtUtils::MakeMaker                 0    7.38    


------------------------------
ENVIRONMENT AND OTHER CONTEXT
------------------------------

Environment variables:

    LANG = C
    PATH = /usr/local/bin:/usr/bin:/bin:/usr/local/sbin:/usr/sbin:/sbin:/home/cpansand/bin/linux-gnu:/home/cpansand/bin/sh:/home/cpansand/bin:/usr/games:/home/cpansand/devel:/home/eserte/src/srezic-misc/scripts
    PERL5LIB = /home/cpansand/.cpan/build/2020012609/MooseX-Types-DateTime-MoreCoercions-0.15-4/blib/arch:/home/cpansand/.cpan/build/2020012609/MooseX-Types-DateTime-MoreCoercions-0.15-4/blib/lib:/home/cpansand/.cpan/build/2020012609/Digest-MD5-File-0.08-4/blib/arch:/home/cpansand/.cpan/build/2020012609/Digest-MD5-File-0.08-4/blib/lib
    PERL5OPT = 
    PERL5_CPANPLUS_IS_RUNNING = 26450
    PERL5_CPAN_IS_RUNNING = 26450
    PERL5_CPAN_IS_RUNNING_IN_RECURSION = 18402,26450
    PERLDOC = -MPod::Perldoc::ToTextOverstrike
    PERL_BATCH = yes
    PERL_CANARY_STABILITY_NOPROMPT = 1
    PERL_CPAN_REPORTER_CONFIG = /var/tmp/cpansmoker-1023/2020012609/cpanreporter_000_config.ini
    PERL_EXTUTILS_AUTOINSTALL = --defaultdeps
    PERL_USE_UNSAFE_INC = 1
    SHELL = /usr/bin/zsh
    TERM = screen
    TMPDIR = /var/tmp/cpansmoker-1023/2020012609

Perl special variables (and OS-specific diagnostics, for MSWin32):

    $^X = /data/perl/perl-5.14.4/bin/perl
    $UID/$EUID = 1023 / 1023
    $GID = 1023 1023
    $EGID = 1023 1023

Perl module toolchain versions installed:

    Module              Have    
    ------------------- --------
    CPAN                2.26    
    CPAN::Meta          2.150010
    Cwd                 3.75    
    ExtUtils::CBuilder  0.280231
    ExtUtils::Command   7.38    
    ExtUtils::Install   2.06    
    ExtUtils::MakeMaker 7.38    
    ExtUtils::Manifest  1.70    
    ExtUtils::ParseXS   3.35    
    File::Spec          3.75    
    JSON                4.02    
    JSON::PP            4.04    
    Module::Build       0.4229  
    Module::Signature   0.83    
    Parse::CPAN::Meta   2.150010
    Test::Harness       3.42    
    Test::More          1.302164
    YAML                1.29    
    YAML::Syck          1.31    
    version             0.9924  


--

Summary of my perl5 (revision 5 version 14 subversion 4) configuration:
   
  Platform:
    osname=linux, osvers=4.9.0-8-amd64, archname=x86_64-linux
    uname='linux eserte 4.9.0-8-amd64 #1 smp debian 4.9.130-2 (2018-10-27) x86_64 gnulinux '
    config_args='-ds -e -Dprefix=/opt/perl-5.14.4 -Dcf_email=srezic@cpan.org'
    hint=recommended, useposix=true, d_sigaction=define
    useithreads=undef, usemultiplicity=undef
    useperlio=define, d_sfio=undef, uselargefiles=define, usesocks=undef
    use64bitint=define, use64bitall=define, uselongdouble=undef
    usemymalloc=n, bincompat5005=undef
  Compiler:
    cc='cc', ccflags ='-fno-strict-aliasing -pipe -fstack-protector -I/usr/local/include -D_LARGEFILE_SOURCE -D_FILE_OFFSET_BITS=64',
    optimize='-O2',
    cppflags='-fno-strict-aliasing -pipe -fstack-protector -I/usr/local/include'
    ccversion='', gccversion='6.3.0 20170516', gccosandvers=''
    intsize=4, longsize=8, ptrsize=8, doublesize=8, byteorder=12345678
    d_longlong=define, longlongsize=8, d_longdbl=define, longdblsize=16
    ivtype='long', ivsize=8, nvtype='double', nvsize=8, Off_t='off_t', lseeksize=8
    alignbytes=8, prototype=define
  Linker and Libraries:
    ld='cc', ldflags =' -fstack-protector -L/usr/local/lib'
    libpth=/usr/local/lib /lib/x86_64-linux-gnu /lib/../lib /usr/lib/x86_64-linux-gnu /usr/lib/../lib /lib /usr/lib
    libs=-lnsl -ldb -ldl -lm -lcrypt -lutil -lc
    perllibs=-lnsl -ldl -lm -lcrypt -lutil -lc
    libc=libc-2.24.so, so=so, useshrplib=false, libperl=libperl.a
    gnulibc_version='2.24'
  Dynamic Linking:
    dlsrc=dl_dlopen.xs, dlext=so, d_dlsymun=undef, ccdlflags='-Wl,-E'
    cccdlflags='-fPIC', lddlflags='-shared -O2 -L/usr/local/lib -fstack-protector'


Characteristics of this binary (from libperl): 
  Compile-time options: PERL_DONT_CREATE_GVSV PERL_MALLOC_WRAP
                        PERL_PRESERVE_IVUV USE_64_BIT_ALL USE_64_BIT_INT
                        USE_LARGE_FILES USE_PERLIO USE_PERL_ATOF
  Locally applied patches:
	Devel::PatchPerl 1.46
  Built under linux
  Compiled at Jan  4 2019 19:32:45
  %ENV:
    PERL5LIB="/home/cpansand/.cpan/build/2020012609/MooseX-Types-DateTime-MoreCoercions-0.15-4/blib/arch:/home/cpansand/.cpan/build/2020012609/MooseX-Types-DateTime-MoreCoercions-0.15-4/blib/lib:/home/cpansand/.cpan/build/2020012609/Digest-MD5-File-0.08-4/blib/arch:/home/cpansand/.cpan/build/2020012609/Digest-MD5-File-0.08-4/blib/lib"
    PERL5OPT=""
    PERL5_CPANPLUS_IS_RUNNING="26450"
    PERL5_CPAN_IS_RUNNING="26450"
    PERL5_CPAN_IS_RUNNING_IN_RECURSION="18402,26450"
    PERLDOC="-MPod::Perldoc::ToTextOverstrike"
    PERL_BATCH="yes"
    PERL_CANARY_STABILITY_NOPROMPT="1"
    PERL_CPAN_REPORTER_CONFIG="/var/tmp/cpansmoker-1023/2020012609/cpanreporter_000_config.ini"
    PERL_EXTUTILS_AUTOINSTALL="--defaultdeps"
    PERL_USE_UNSAFE_INC="1"
  @INC:
    /home/cpansand/.cpan/build/2020012609/MooseX-Types-DateTime-MoreCoercions-0.15-4/blib/arch
    /home/cpansand/.cpan/build/2020012609/MooseX-Types-DateTime-MoreCoercions-0.15-4/blib/lib
    /home/cpansand/.cpan/build/2020012609/Digest-MD5-File-0.08-4/blib/arch
    /home/cpansand/.cpan/build/2020012609/Digest-MD5-File-0.08-4/blib/lib
    /opt/perl-5.14.4/lib/site_perl/5.14.4/x86_64-linux
    /opt/perl-5.14.4/lib/site_perl/5.14.4
    /opt/perl-5.14.4/lib/5.14.4/x86_64-linux
    /opt/perl-5.14.4/lib/5.14.4
    .