Report for MouseX-NativeTraits-1.09

Back
From: metabase:user:a6c5a7a0-319a-11e7-a7c0-d53811f75916
Subject: PASS MouseX-NativeTraits-1.09 v5.24.1 GNU/Linux
Date: 2017-05-07T05:25:02Z

This distribution has been tested as part of the CPAN Testers
project, supporting the Perl programming language.  See
http://wiki.cpantesters.org/ for more information or email
questions to cpan-testers-discuss@perl.org


--
Dear Goro Fuji,

This is a computer-generated report for MouseX-NativeTraits-1.09
on perl 5.24.1, created by CPAN-Reporter-1.2018.

Thank you for uploading your work to CPAN.  Congratulations!
All tests were successful.

Sections of this report:

    * Tester comments
    * Program output
    * Prerequisites
    * Environment and other context

------------------------------
TESTER COMMENTS
------------------------------

Additional comments from tester:

this report is from an automated smoke testing program
and was not reviewed by a human for accuracy

------------------------------
PROGRAM OUTPUT
------------------------------

Output from '/usr/bin/make test':

PERL_DL_NONLAZY=1 "/opt/perl5/bin/perl" "-MExtUtils::Command::MM" "-MTest::Harness" "-e" "\$ENV{q{ANY_MOOSE}} = q{Mouse}; undef *Test::Harness::Switches; test_harness(0, 'inc', 'blib/lib', 'blib/arch'); " t/*.t t/070_native_traits/*.t
# Testing MouseX::NativeTraits/1.09
# Dependencies:
#     Mouse/v2.4.9
t/00_load.t ...................................... ok
Any::Moose is deprecated. Please use Moo instead at t/01_basic.t line 8.
t/01_basic.t ..................................... ok
Any::Moose is deprecated. Please use Moo instead at t/02_meta.t line 7.
t/02_meta.t ...................................... ok
t/03_extra.t ..................................... ok
t/04_counter.t ................................... ok
t/05_remain_tied.t ............................... ok
Any::Moose is deprecated. Please use Moo instead at t/070_native_traits/010_trait_array.t line 8.
t/070_native_traits/010_trait_array.t ............ ok
Any::Moose is deprecated. Please use Moo instead at t/070_native_traits/011_array_subtypes.t line 8.
t/070_native_traits/011_array_subtypes.t ......... ok
t/070_native_traits/012_array_trigger.t .......... ok
t/070_native_traits/013_array_coerce.t ........... skipped: Not supported by MouseX::NativeTraits
Any::Moose is deprecated. Please use Moo instead at t/070_native_traits/020_trait_bool.t line 8.
t/070_native_traits/020_trait_bool.t ............. ok
Any::Moose is deprecated. Please use Moo instead at t/070_native_traits/030_trait_code.t line 6.
t/070_native_traits/030_trait_code.t ............. ok
Any::Moose is deprecated. Please use Moo instead at t/070_native_traits/040_trait_counter.t line 8.
t/070_native_traits/040_trait_counter.t .......... ok
Any::Moose is deprecated. Please use Moo instead at t/070_native_traits/050_trait_hash.t line 8.
t/070_native_traits/050_trait_hash.t ............. ok
t/070_native_traits/051_hash_subtypes.t .......... ok
t/070_native_traits/052_hash_trigger.t ........... ok
t/070_native_traits/053_hash_coerce.t ............ skipped: Not supported by MouseX::NativeTraits
Any::Moose is deprecated. Please use Moo instead at t/070_native_traits/060_trait_number.t line 8.
t/070_native_traits/060_trait_number.t ........... ok
Any::Moose is deprecated. Please use Moo instead at t/070_native_traits/070_trait_string.t line 8.
t/070_native_traits/070_trait_string.t ........... ok
t/070_native_traits/100_array_from_role.t ........ ok
t/070_native_traits/101_remove_attribute.t ....... skipped: Not supported by MouseX::NativeTraits
t/070_native_traits/102_collection_with_roles.t .. ok
t/070_native_traits/103_custom_instance.t ........ skipped: not supproted by MouseX::NativeTraits
All tests successful.
Files=23, Tests=3482,  8 wallclock secs ( 1.05 usr  0.06 sys +  6.92 cusr  0.92 csys =  8.95 CPU)
Result: PASS

------------------------------
PREREQUISITES
------------------------------

Prerequisite modules loaded:

requires:

    Module              Need     Have    
    ------------------- -------- --------
    Mouse               0.82     v2.4.9  
    perl                5.006002 5.024001

build_requires:

    Module              Need     Have    
    ------------------- -------- --------
    Any::Moose          0.13     0.27    
    ExtUtils::MakeMaker 6.59     7.24    
    Test::Fatal         0.003    0.014   
    Test::More          0.88     1.302085

configure_requires:

    Module              Need     Have    
    ------------------- -------- --------
    ExtUtils::MakeMaker 6.59     7.24    


------------------------------
ENVIRONMENT AND OTHER CONTEXT
------------------------------

Environment variables:

    AUTOMATED_TESTING = 1
    PATH = /opt/bin:/usr/bin:/bin:/usr/sbin:/sbin
    PERL5LIB = /var/tmp/CPAN/Any-Moose-0.27-0/blib/arch:/var/tmp/CPAN/Any-Moose-0.27-0/blib/lib:/var/tmp/CPAN/Config-Model-Tester-2.060-0/blib/arch:/var/tmp/CPAN/Config-Model-Tester-2.060-0/blib/lib:/var/tmp/CPAN/Test-Memory-Cycle-1.06-0/blib/arch:/var/tmp/CPAN/Test-Memory-Cycle-1.06-0/blib/lib:/var/tmp/CPAN/Devel-Cycle-1.12-0/blib/arch:/var/tmp/CPAN/Devel-Cycle-1.12-0/blib/lib:/var/tmp/CPAN/Test-File-Contents-0.23-0/blib/arch:/var/tmp/CPAN/Test-File-Contents-0.23-0/blib/lib:/var/tmp/CPAN/App-Cmd-0.331-0/blib/arch:/var/tmp/CPAN/App-Cmd-0.331-0/blib/lib:/var/tmp/CPAN/Mouse-v2.4.9-0/blib/arch:/var/tmp/CPAN/Mouse-v2.4.9-0/blib/lib:/var/tmp/CPAN/Hash-Merge-0.200-0/blib/arch:/var/tmp/CPAN/Hash-Merge-0.200-0/blib/lib:/var/tmp/CPAN/PadWalker-2.2-0/blib/arch:/var/tmp/CPAN/PadWalker-2.2-0/blib/lib
    PERL5OPT = 
    PERL5_CPANPLUS_IS_RUNNING = 19442
    PERL5_CPAN_IS_RUNNING = 19442
    PERL5_MINISMOKEBOX = 0.66
    PERL_EXTUTILS_AUTOINSTALL = --defaultdeps
    PERL_MM_USE_DEFAULT = 1
    TMPDIR = /var/tmp

Perl special variables (and OS-specific diagnostics, for MSWin32):

    $^X = /opt/perl5/bin/perl
    $UID/$EUID = 0 / 0
    $GID = 0 0 1 2 3 4 6 10 11 26 27
    $EGID = 0 0 1 2 3 4 6 10 11 26 27

Perl module toolchain versions installed:

    Module              Have    
    ------------------- --------
    CPAN                2.16    
    CPAN::Meta          2.150010
    Cwd                 3.63_01 
    ExtUtils::CBuilder  0.280225
    ExtUtils::Command   7.24    
    ExtUtils::Install   2.04    
    ExtUtils::MakeMaker 7.24    
    ExtUtils::Manifest  1.70    
    ExtUtils::ParseXS   3.31    
    File::Spec          3.63_01 
    JSON                2.90    
    JSON::PP            2.27400 
    Module::Build       0.4222  
    Module::Signature   n/a     
    Parse::CPAN::Meta   2.150010
    Test::Harness       3.39    
    Test::More          1.302085
    YAML                1.23    
    YAML::Syck          1.30    
    version             0.9918  


--

Summary of my perl5 (revision 5 version 24 subversion 1) configuration:
   
  Platform:
    osname=linux, osvers=4.10.12-aufs.aa, archname=x86_64-linux
    uname='linux 20921ceb4773 4.10.12-aufs.aa #1 smp thu apr 27 12:31:48 cdt 2017 x86_64 amd opteron(tm) processor 6172 authenticamd gnulinux '
    config_args='-de -Dprefix=/opt/perl5 -Dman1dir=none -Dman3dir=none -Doptimize=-O2 -pipe -march=native'
    hint=recommended, useposix=true, d_sigaction=define
    useithreads=undef, usemultiplicity=undef
    use64bitint=define, use64bitall=define, uselongdouble=undef
    usemymalloc=n, bincompat5005=undef
  Compiler:
    cc='cc', ccflags ='-fwrapv -fno-strict-aliasing -pipe -fstack-protector-strong -D_LARGEFILE_SOURCE -D_FILE_OFFSET_BITS=64',
    optimize='-O2 -pipe -march=native',
    cppflags='-fwrapv -fno-strict-aliasing -pipe -fstack-protector-strong'
    ccversion='', gccversion='5.4.0', gccosandvers=''
    intsize=4, longsize=8, ptrsize=8, doublesize=8, byteorder=12345678, doublekind=3
    d_longlong=define, longlongsize=8, d_longdbl=define, longdblsize=16, longdblkind=3
    ivtype='long', ivsize=8, nvtype='double', nvsize=8, Off_t='off_t', lseeksize=8
    alignbytes=8, prototype=define
  Linker and Libraries:
    ld='cc', ldflags =' -fstack-protector-strong -L/usr/local/lib'
    libpth=/usr/lib/gcc/x86_64-pc-linux-gnu/5.4.0/include-fixed /usr/lib /usr/local/lib /lib/../lib64 /usr/lib/../lib64 /lib /lib64 /usr/lib64 /usr/local/lib64
    libs=-lpthread -lnsl -lgdbm -ldb -ldl -lm -lcrypt -lutil -lc -lgdbm_compat
    perllibs=-lpthread -lnsl -ldl -lm -lcrypt -lutil -lc
    libc=libc-2.23.so, so=so, useshrplib=false, libperl=libperl.a
    gnulibc_version='2.23'
  Dynamic Linking:
    dlsrc=dl_dlopen.xs, dlext=so, d_dlsymun=undef, ccdlflags='-Wl,-E'
    cccdlflags='-fPIC', lddlflags='-shared -O2 -pipe -march=native -L/usr/local/lib -fstack-protector-strong'


Characteristics of this binary (from libperl): 
  Compile-time options: HAS_TIMES PERLIO_LAYERS PERL_COPY_ON_WRITE
                        PERL_DONT_CREATE_GVSV
                        PERL_HASH_FUNC_ONE_AT_A_TIME_HARD PERL_MALLOC_WRAP
                        PERL_PRESERVE_IVUV USE_64_BIT_ALL USE_64_BIT_INT
                        USE_LARGE_FILES USE_LOCALE USE_LOCALE_COLLATE
                        USE_LOCALE_CTYPE USE_LOCALE_NUMERIC USE_LOCALE_TIME
                        USE_PERLIO USE_PERL_ATOF
  Built under linux
  Compiled at May  5 2017 04:31:36
  %ENV:
    PERL5LIB="/var/tmp/CPAN/Any-Moose-0.27-0/blib/arch:/var/tmp/CPAN/Any-Moose-0.27-0/blib/lib:/var/tmp/CPAN/Config-Model-Tester-2.060-0/blib/arch:/var/tmp/CPAN/Config-Model-Tester-2.060-0/blib/lib:/var/tmp/CPAN/Test-Memory-Cycle-1.06-0/blib/arch:/var/tmp/CPAN/Test-Memory-Cycle-1.06-0/blib/lib:/var/tmp/CPAN/Devel-Cycle-1.12-0/blib/arch:/var/tmp/CPAN/Devel-Cycle-1.12-0/blib/lib:/var/tmp/CPAN/Test-File-Contents-0.23-0/blib/arch:/var/tmp/CPAN/Test-File-Contents-0.23-0/blib/lib:/var/tmp/CPAN/App-Cmd-0.331-0/blib/arch:/var/tmp/CPAN/App-Cmd-0.331-0/blib/lib:/var/tmp/CPAN/Mouse-v2.4.9-0/blib/arch:/var/tmp/CPAN/Mouse-v2.4.9-0/blib/lib:/var/tmp/CPAN/Hash-Merge-0.200-0/blib/arch:/var/tmp/CPAN/Hash-Merge-0.200-0/blib/lib:/var/tmp/CPAN/PadWalker-2.2-0/blib/arch:/var/tmp/CPAN/PadWalker-2.2-0/blib/lib"
    PERL5OPT=""
    PERL5_CPANPLUS_IS_RUNNING="19442"
    PERL5_CPAN_IS_RUNNING="19442"
    PERL5_MINISMOKEBOX="0.66"
    PERL_EXTUTILS_AUTOINSTALL="--defaultdeps"
    PERL_MM_USE_DEFAULT="1"
  @INC:
    /var/tmp/CPAN/Any-Moose-0.27-0/blib/arch
    /var/tmp/CPAN/Any-Moose-0.27-0/blib/lib
    /var/tmp/CPAN/Config-Model-Tester-2.060-0/blib/arch
    /var/tmp/CPAN/Config-Model-Tester-2.060-0/blib/lib
    /var/tmp/CPAN/Test-Memory-Cycle-1.06-0/blib/arch
    /var/tmp/CPAN/Test-Memory-Cycle-1.06-0/blib/lib
    /var/tmp/CPAN/Devel-Cycle-1.12-0/blib/arch
    /var/tmp/CPAN/Devel-Cycle-1.12-0/blib/lib
    /var/tmp/CPAN/Test-File-Contents-0.23-0/blib/arch
    /var/tmp/CPAN/Test-File-Contents-0.23-0/blib/lib
    /var/tmp/CPAN/App-Cmd-0.331-0/blib/arch
    /var/tmp/CPAN/App-Cmd-0.331-0/blib/lib
    /var/tmp/CPAN/Mouse-v2.4.9-0/blib/arch
    /var/tmp/CPAN/Mouse-v2.4.9-0/blib/lib
    /var/tmp/CPAN/Hash-Merge-0.200-0/blib/arch
    /var/tmp/CPAN/Hash-Merge-0.200-0/blib/lib
    /var/tmp/CPAN/PadWalker-2.2-0/blib/arch
    /var/tmp/CPAN/PadWalker-2.2-0/blib/lib
    /opt/perl5/lib/site_perl/5.24.1/x86_64-linux
    /opt/perl5/lib/site_perl/5.24.1
    /opt/perl5/lib/5.24.1/x86_64-linux
    /opt/perl5/lib/5.24.1
    .