IO-Tty v1.20 Perl 5 v5.40.0 armv6l-linux

Status
Pass
From
gregor herrmann
Dist
IO-Tty v1.20
Platform
Perl 5 v5.40.0 armv6l-linux
Date
2024-06-19 07:14:08
ID
85250fe4-2e0b-11ef-977c-ab0b9b17b5b4
This distribution has been tested as part of the CPAN Testers
project, supporting the Perl programming language.  See
http://wiki.cpantesters.org/ for more information or email
questions to cpan-testers-discuss@perl.org


--
Dear TODDR,

This is a computer-generated report for IO-Tty-1.20
on perl 5.40.0, created by App::cpanminus::reporter 0.21 (1.7047).

Thank you for uploading your work to CPAN.  Congratulations!
All tests were successful.

Sections of this report:

    * Tester comments
    * Program output
    * Prerequisites
    * Environment and other context

------------------------------
TESTER COMMENTS
------------------------------

Additional comments from tester:

none provided

------------------------------
PROGRAM OUTPUT
------------------------------

Output from '':

Running Makefile.PL
Now let's see what we can find out about your system
(logfiles of failing tests are available in the conf/ dir)...
Looking for _getpty()...... not found.
Looking for getpt()........ FOUND.
Looking for grantpt()...... FOUND.
Looking for openpty()...... FOUND.
Looking for posix_openpt(). FOUND.
Looking for ptsname()...... FOUND.
Looking for ptsname_r().... FOUND.
Looking for sigaction().... FOUND.
Looking for strlcpy()...... FOUND.
Looking for ttyname()...... FOUND.
Looking for unlockpt()..... FOUND.
Looking for libutil.h...... not found.
Looking for pty.h.......... FOUND.
Looking for sys/pty.h...... not found.
Looking for sys/ptyio.h.... not found.
Looking for sys/stropts.h.. not found.
Looking for termio.h....... FOUND.
Looking for termios.h...... FOUND.
Looking for util.h......... not found.
Checking which symbols compile OK...
(sorry for the tedious check, but some systems have not too clean
 header files, to say the least;  '+' means OK, '-' means not defined
 and '*' has compile problems...)
+B0 +B110 +B115200 +B1200 +B134 +B150 -B153600 +B1800 +B19200 +B200 +B230400 +B2400 +B300 -B307200 +B38400 +B460800 +B4800 +B50 +B57600 +B600 +B75 -B76800 +B9600 +BRKINT +BS0 +BS1 +BSDLY +CBAUD -CBAUDEXT +CBRK -CCTS_OFLOW -CDEL +CDSUSP +CEOF +CEOL -CEOL2 +CEOT +CERASE -CESC +CFLUSH +CIBAUD -CIBAUDEXT +CINTR +CKILL -> FAIL Timed out (> 300s). Use --verbose to retry.
"/srv/smoker/perl5/perlbrew/perls/perl-5.40.0/bin/perl" -MExtUtils::Command::MM -e 'cp_nonempty' -- Tty.bs blib/arch/auto/IO/Tty/Tty.bs 644
Manifying 3 pod documents
Files found in blib/arch: installing files in blib/lib into architecture dependent library tree
Appending installation info to /srv/smoker/perl5/perlbrew/perls/perl-5.40.0/lib/5.40.0/armv6l-linux/perllocal.pod
-> OK
Successfully installed IO-Tty-1.20
Installing /srv/smoker/perl5/perlbrew/perls/perl-5.40.0/lib/site_perl/5.40.0/armv6l-linux/.meta/IO-Tty-1.20/install.json
Installing /srv/smoker/perl5/perlbrew/perls/perl-5.40.0/lib/site_perl/5.40.0/armv6l-linux/.meta/IO-Tty-1.20/MYMETA.json
Searching Parse::CPAN::Packages::Fast on mirror https://www.cpan.org ...
--> Working on Parse::CPAN::Packages::Fast
Fetching https://www.cpan.org/authors/id/S/SR/SREZIC/Parse-CPAN-Packages-Fast-0.09.tar.gz
-> OK
Unpacking Parse-CPAN-Packages-Fast-0.09.tar.gz
Manifying 1 pod document
Installing /srv/smoker/perl5/perlbrew/perls/perl-5.40.0/lib/site_perl/5.40.0/Parse/CPAN/Packages/Fast.pm
Installing /srv/smoker/perl5/perlbrew/perls/perl-5.40.0/man/man3/Parse::CPAN::Packages::Fast.3
Appending installation info to /srv/smoker/perl5/perlbrew/perls/perl-5.40.0/lib/5.40.0/armv6l-linux/perllocal.pod
-> OK
Successfully installed Parse-CPAN-Packages-Fast-0.09
Installing /srv/smoker/perl5/perlbrew/perls/perl-5.40.0/lib/site_perl/5.40.0/armv6l-linux/.meta/Parse-CPAN-Packages-Fast-0.09/install.json
Installing /srv/smoker/perl5/perlbrew/perls/perl-5.40.0/lib/site_perl/5.40.0/armv6l-linux/.meta/Parse-CPAN-Packages-Fast-0.09/MYMETA.json
Building and testing Dist-Zilla-Plugin-PromptIfStale-0.060
cp lib/Dist/Zilla/App/Command/stale.pm blib/lib/Dist/Zilla/App/Command/stale.pm
cp lib/Dist/Zilla/Plugin/EnsureNotStale.pm blib/lib/Dist/Zilla/Plugin/EnsureNotStale.pm
cp lib/Dist/Zilla/Plugin/PromptIfStale.pm blib/lib/Dist/Zilla/Plugin/PromptIfStale.pm
Manifying 3 pod documents
PERL_DL_NONLAZY=1 "/srv/smoker/perl5/perlbrew/perls/perl-5.40.0/bin/perl" "-MExtUtils::Command::MM" "-MTest::Harness" "-e" "undef *Test::Harness::Switches; test_harness(0, 'blib/lib', 'blib/arch')" t/*.t
# 
# Versions for all modules listed in MYMETA.json (including optional ones):
# 
# === Configure Requires ===
# 
#     Module                       Want     Have
#     ------------------------ -------- --------
#     CPAN::Meta::Requirements 2.120620    2.143
#     ExtUtils::MakeMaker           any     7.70
#     Module::Metadata              any 1.000038
#     perl                      v5.20.0 5.040000
# 
# === Build Requires ===
# 
#     Module              Want Have
#     ------------------- ---- ----
#     ExtUtils::MakeMaker  any 7.70
# 
# === Test Requires ===
# 
#     Module                                   Want     Have
#     ------------------------------------- ------- --------
#     App::Cmd::Tester                        0.328    0.336
#     Class::Method::Modifiers                  any     2.15
#     Dist::Zilla::App::Tester                  any    6.032
#     Dist::Zilla::Chrome::Test                 any    6.032
#     Dist::Zilla::Role::Plugin                 any    6.032
#     Dist::Zilla::Role::PluginBundle::Easy     any    6.032
#     ExtUtils::MakeMaker                       any     7.70
#     File::Spec                                any     3.90
#     File::pushd                               any    1.016
#     IO::Pty                                   any     1.20
#     Module::Runtime                           any    0.016
#     Test::DZil                                any    6.032
#     Test::Deep                                any    1.204
#     Test::Fatal                               any    0.017
#     Test::More                               0.96 1.302199
#     lib                                       any     0.65
#     perl                                  v5.20.0 5.040000
# 
# === Test Recommends ===
# 
#     Module         Want     Have
#     ---------- -------- --------
#     CPAN::Meta 2.120900 2.150010
# 
# === Runtime Requires ===
# 
#     Module                                 Want       Have
#     -------------------------------- ---------- ----------
#     CPAN::DistnameInfo                      any       0.12
#     Config::MVP::Section               2.200004   2.200013
#     Dist::Zilla                        4.300039      6.032
#     Dist::Zilla::App                        any      6.032
#     Dist::Zilla::Role::AfterBuild           any      6.032
#     Dist::Zilla::Role::BeforeBuild          any      6.032
#     Dist::Zilla::Role::BeforeRelease        any      6.032
#     Dist::Zilla::Util::AuthorDeps         5.021      6.032
#     Encode                                  any       3.21
#     HTTP::Headers                           any       6.46
#     HTTP::Tiny                              any      0.088
#     List::Util                             1.45       1.63
#     Module::CoreList                 5.20151213 5.20240609
#     Module::Metadata                   1.000023   1.000038
#     Moose                                   any     2.2207
#     Moose::Util                             any     2.2207
#     Moose::Util::TypeConstraints            any     2.2207
#     Parse::CPAN::Packages::Fast             any       0.09
#     Path::Tiny                              any      0.146
#     Term::ANSIColor                        3.00       5.01
#     Try::Tiny                               any       0.31
#     YAML::Tiny                              any       1.74
#     experimental                            any      0.032
#     if                                      any     0.0610
#     namespace::autoclean                    any       0.29
#     perl                               5.020000   5.040000
#     stable                                0.031      0.033
#     strict                                  any       1.13
#     strictures                                2   2.000006
#     version                                 any     0.9930
#     warnings                                any       1.70
# 
# === Other Modules ===
# 
#     Module                    Have
#     --------------------- --------
#     App::Cmd                 0.336
#     CPAN::Meta::Validator 2.150010
#     Carp                      1.54
#     Cpanel::JSON::XS          4.38
#     Encode                    3.21
#     File::Temp              0.2311
#     JSON::PP                  4.16
#     JSON::XS               missing
#     Log::Dispatch             2.71
#     Module::Runtime          0.016
#     Pod::Coverage             0.23
#     Sub::Name                 0.27
#     YAML                      1.31
#     autodie                   2.37
# 
t/00-report-prereqs.t ........... ok
t/01-basic.t .................... ok
t/02-not-installed.t ............ ok
t/03-bunk-module.t .............. ok
t/04-two-configs.t .............. ok
t/05-check-all-prereqs.t ........ ok
t/06-duplicates.t ............... ok
t/07-two-stale.t ................ ok
t/08-many-modules.t ............. ok
t/10-release-prompt.t ........... ok
t/11-local-module.t ............. ok
t/12-skip.t ..................... ok
t/13-fatal.t .................... ok
t/14-index-base-url.t ........... ok
t/15-command.t .................. ok
t/16-command-all.t .............. ok
t/17-command-missing-plugins.t .. ok
t/18-command-old-plugins.t ...... ok
t/19-build-failure.t ............ ok
t/20-ensure-not-stale.t ......... ok
t/21-authordeps.t ............... ok
t/22-perl.t ..................... ok
t/23-noninteractive.t ........... ok
t/24-unindexed-core-modules.t ... ok
t/25-core-modules.t ............. ok
t/26-command-missing-module.t ... ok
t/27-travis.t ................... ok
t/28-local-plugin.t ............. ok
t/99-placeholder.t .............. ok
t/zzz-check-breaks.t ............ ok
All tests successful.
Files=30, Tests=121, 2480 wallclock secs ( 1.83 usr  0.26 sys + 908.74 cusr 24.25 csys = 935.08 CPU)
Result: PASS

------------------------------
PREREQUISITES
------------------------------

Prerequisite modules loaded:

build:

    Module              Need Have    
    ------------------- ---- --------
    Test::More          0    1.302199

configure:

    Module              Need Have    
    ------------------- ---- --------
    ExtUtils::MakeMaker 0    7.70    


------------------------------
ENVIRONMENT AND OTHER CONTEXT
------------------------------

Environment variables:

    LC_CTYPE = de_AT.utf8
    PATH = /srv/smoker/bin:/usr/lib/ccache:/srv/smoker/perl5/perlbrew/bin:/srv/smoker/perl5/perlbrew/perls/perl-5.40.0/bin:/usr/local/bin:/usr/bin:/bin:/usr/local/games:/usr/games
    PERLBREW_HOME = /srv/smoker/.perlbrew
    PERLBREW_MANPATH = /srv/smoker/perl5/perlbrew/perls/perl-5.40.0/man
    PERLBREW_PATH = /srv/smoker/perl5/perlbrew/bin:/srv/smoker/perl5/perlbrew/perls/perl-5.40.0/bin
    PERLBREW_PERL = perl-5.40.0
    PERLBREW_ROOT = /srv/smoker/perl5/perlbrew
    PERLBREW_SHELLRC_VERSION = 0.98
    PERLBREW_VERSION = 0.98
    PERL_CPANM_OPT = --prompt  --configure-timeout 300 --build-timeout 18000 --test-timeout 18000 --from https://www.cpan.org
    PERL_TEST_TIME_OUT_FACTOR = 3
    SHELL = /bin/bash
    TERM = screen-256color

Perl special variables (and OS-specific diagnostics, for MSWin32):

    EGID = 65534 65534
    EUID = 1111
    EXECUTABLE_NAME = /srv/smoker/perl5/perlbrew/perls/perl-5.40.0/bin/perl
    GID = 65534 65534
    UID = 1111

Perl module toolchain versions installed:

    Module              Have    
    ------------------- --------
    CPAN                2.36    
    CPAN::Meta          2.150010
    Cwd                 3.90    
    ExtUtils::CBuilder  0.280240
    ExtUtils::Command   7.70    
    ExtUtils::Install   2.22    
    ExtUtils::MakeMaker 7.70    
    ExtUtils::Manifest  1.75    
    ExtUtils::ParseXS   3.51    
    File::Spec          3.90    
    JSON                4.10    
    JSON::PP            4.16    
    Module::Build       0.4234  
    Module::Signature   n/a     
    Parse::CPAN::Meta   2.150010
    Test::Harness       3.48    
    Test::More          1.302199
    YAML                1.31    
    YAML::Syck          n/a     
    version             0.9930  


--

Summary of my perl5 (revision 5 version 40 subversion 0) configuration:
   
  Platform:
    osname=linux
    osvers=5.10.103+
    archname=armv6l-linux
    uname='linux smoker 5.10.103+ #1529 tue mar 8 12:19:18 gmt 2022 armv6l gnulinux '
    config_args='-de -Dprefix=/srv/smoker/perl5/perlbrew/perls/perl-5.40.0 -Aeval:scriptdir=/srv/smoker/perl5/perlbrew/perls/perl-5.40.0/bin'
    hint=recommended
    useposix=true
    d_sigaction=define
    useithreads=undef
    usemultiplicity=undef
    use64bitint=undef
    use64bitall=undef
    uselongdouble=undef
    usemymalloc=n
    default_inc_excludes_dot=define
  Compiler:
    cc='cc'
    ccflags ='-fwrapv -fno-strict-aliasing -pipe -fstack-protector-strong -I/usr/local/include -D_LARGEFILE_SOURCE -D_FILE_OFFSET_BITS=64 -D_FORTIFY_SOURCE=2'
    optimize='-O2'
    cppflags='-fwrapv -fno-strict-aliasing -pipe -fstack-protector-strong -I/usr/local/include'
    ccversion=''
    gccversion='13.2.0'
    gccosandvers=''
    intsize=4
    longsize=4
    ptrsize=4
    doublesize=8
    byteorder=1234
    doublekind=3
    d_longlong=define
    longlongsize=8
    d_longdbl=define
    longdblsize=8
    longdblkind=0
    ivtype='long'
    ivsize=4
    nvtype='double'
    nvsize=8
    Off_t='off_t'
    lseeksize=8
    alignbytes=8
    prototype=define
  Linker and Libraries:
    ld='cc'
    ldflags =' -fstack-protector-strong -L/usr/local/lib'
    libpth=/usr/local/lib /usr/lib/arm-linux-gnueabihf /usr/lib
    libs=-lpthread -ldb -ldl -lm -lcrypt -lutil -lc
    perllibs=-lpthread -ldl -lm -lcrypt -lutil -lc
    libc=/lib/arm-linux-gnueabihf/libc.so.6
    so=so
    useshrplib=false
    libperl=libperl.a
    gnulibc_version='2.38'
  Dynamic Linking:
    dlsrc=dl_dlopen.xs
    dlext=so
    d_dlsymun=undef
    ccdlflags='-Wl,-E'
    cccdlflags='-fPIC'
    lddlflags='-shared -O2 -L/usr/local/lib -fstack-protector-strong'


Characteristics of this binary (from libperl): 
  Compile-time options:
    HAS_LONG_DOUBLE
    HAS_STRTOLD
    HAS_TIMES
    PERLIO_LAYERS
    PERL_COPY_ON_WRITE
    PERL_DONT_CREATE_GVSV
    PERL_HASH_FUNC_ZAPHOD32
    PERL_HASH_USE_SBOX32
    PERL_MALLOC_WRAP
    PERL_OP_PARENT
    PERL_PRESERVE_IVUV
    PERL_USE_SAFE_PUTENV
    USE_LARGE_FILES
    USE_LOCALE
    USE_LOCALE_COLLATE
    USE_LOCALE_CTYPE
    USE_LOCALE_NUMERIC
    USE_LOCALE_TIME
    USE_PERLIO
    USE_PERL_ATOF
  Built under linux
  Compiled at Jun 10 2024 21:35:21
  %ENV:
    PERLBREW_HOME="/srv/smoker/.perlbrew"
    PERLBREW_MANPATH="/srv/smoker/perl5/perlbrew/perls/perl-5.40.0/man"
    PERLBREW_PATH="/srv/smoker/perl5/perlbrew/bin:/srv/smoker/perl5/perlbrew/perls/perl-5.40.0/bin"
    PERLBREW_PERL="perl-5.40.0"
    PERLBREW_ROOT="/srv/smoker/perl5/perlbrew"
    PERLBREW_SHELLRC_VERSION="0.98"
    PERLBREW_VERSION="0.98"
    PERL_CPANM_OPT="--prompt  --configure-timeout 300 --build-timeout 18000 --test-timeout 18000 --from https://www.cpan.org"
    PERL_TEST_TIME_OUT_FACTOR="3"
  @INC:
    /srv/smoker/perl5/perlbrew/perls/perl-5.40.0/lib/site_perl/5.40.0/armv6l-linux
    /srv/smoker/perl5/perlbrew/perls/perl-5.40.0/lib/site_perl/5.40.0
    /srv/smoker/perl5/perlbrew/perls/perl-5.40.0/lib/5.40.0/armv6l-linux
    /srv/smoker/perl5/perlbrew/perls/perl-5.40.0/lib/5.40.0