Dist-Zilla-Plugin-Git v2.043 Perl 5 v5.14.4 darwin-2level

Status
Pass
From
NONAME
Dist
Dist-Zilla-Plugin-Git v2.043
Platform
Perl 5 v5.14.4 darwin-2level
Date
2018-02-13 17:51:27
ID
83f60f7c-10e6-11e8-ade4-90a1c63c2833
This distribution has been tested as part of the CPAN Testers
project, supporting the Perl programming language.  See
http://wiki.cpantesters.org/ for more information or email
questions to cpan-testers-discuss@perl.org


--
Dear ETHER,

This is a computer-generated report for Dist-Zilla-Plugin-Git-2.043
on perl 5.14.4, created by App::cpanminus::reporter 0.17 (1.7043).

Thank you for uploading your work to CPAN.  Congratulations!
All tests were successful.

Sections of this report:

    * Tester comments
    * Program output
    * Prerequisites
    * Environment and other context

------------------------------
TESTER COMMENTS
------------------------------

Additional comments from tester:

none provided

------------------------------
PROGRAM OUTPUT
------------------------------

Output from '':

Building and testing Dist-Zilla-Plugin-Git-2.043
"/Users/ether/perl5/perlbrew/perls/14.4/bin/perl" "-Iblib/arch" "-Iblib/lib" Makefile_git.PL Makefile_git
Manifying 13 pod documents
"/Users/ether/perl5/perlbrew/perls/14.4/bin/perl" "-Iblib/arch" "-Iblib/lib" Makefile_git.PL Makefile_git
PERL_DL_NONLAZY=1 "/Users/ether/perl5/perlbrew/perls/14.4/bin/perl" "-MExtUtils::Command::MM" "-MTest::Harness" "-e" "undef *Test::Harness::Switches; test_harness(0, 'blib/lib', 'blib/arch')" t/*.t
# git version 2.15.0
t/000-report-git-version.t ...... ok
# 
# Versions for all modules listed in MYMETA.json (including optional ones):
# 
# === Configure Requires ===
# 
#     Module              Want    Have
#     ------------------- ---- -------
#     ExtUtils::MakeMaker  any 7.31_04
#     Text::ParseWords     any    3.29
#     version              any  0.9917
# 
# === Build Requires ===
# 
#     Module              Want    Have
#     ------------------- ---- -------
#     ExtUtils::MakeMaker  any 7.31_04
# 
# === Test Requires ===
# 
#     Module                            Want     Have
#     -------------------------------- ----- --------
#     CPAN::Meta::Check                0.011    0.011
#     CPAN::Meta::Requirements           any    2.135
#     Devel::SimpleTrace                 any     0.08
#     Dist::Zilla::File::InMemory        any    6.011
#     Dist::Zilla::Plugin::Config::Git   any     0.92
#     Dist::Zilla::Role::Releaser        any    6.011
#     Dist::Zilla::Tester                any    6.011
#     Encode                             any     2.96
#     Exporter                           any     5.72
#     ExtUtils::MakeMaker                any  7.31_04
#     File::Copy                         any     2.21
#     File::Copy::Recursive              any     0.38
#     File::Path                        2.07     2.15
#     File::Spec                         any     3.62
#     File::Which                        any     1.21
#     File::pushd                        any    1.014
#     Log::Dispatchouli                  any    2.015
#     Test::DZil                         any    6.011
#     Test::Fatal                        any    0.014
#     Test::More                        0.88 1.302118
#     lib                                any     0.63
#     utf8                               any     1.09
# 
# === Test Recommends ===
# 
#     Module         Want     Have
#     ---------- -------- --------
#     CPAN::Meta 2.120900 2.150010
# 
# === Runtime Requires ===
# 
#     Module                                 Want     Have
#     ---------------------------------- -------- --------
#     Cwd                                     any     3.62
#     DateTime                                any     1.46
#     Dist::Zilla                               4    6.011
#     Dist::Zilla::Plugin::GatherDir     4.200016    6.011
#     Dist::Zilla::Role::AfterBuild           any    6.011
#     Dist::Zilla::Role::AfterMint            any    6.011
#     Dist::Zilla::Role::AfterRelease         any    6.011
#     Dist::Zilla::Role::BeforeRelease        any    6.011
#     Dist::Zilla::Role::FilePruner           any    6.011
#     Dist::Zilla::Role::GitConfig            any     0.92
#     Dist::Zilla::Role::PluginBundle         any    6.011
#     Dist::Zilla::Role::VersionProvider      any    6.011
#     File::Spec::Functions                   any     3.62
#     File::Temp                              any   0.2304
#     File::chdir                             any   0.1010
#     Git::Wrapper                          0.021    0.047
#     IPC::Open3                              any   1.0901
#     IPC::System::Simple                     any     1.25
#     List::Util                             1.45     1.48
#     Module::Runtime                         any    0.014
#     Moose                                   any   2.2009
#     Moose::Role                             any   2.2009
#     Moose::Util::TypeConstraints            any   2.2009
#     MooseX::Has::Sugar                      any 1.000004
#     MooseX::Types::Moose                    any     0.50
#     MooseX::Types::Path::Tiny             0.010    0.012
#     Path::Tiny                            0.048    0.103
#     String::Formatter                       any 0.102084
#     Try::Tiny                               any     0.30
#     Version::Next                           any    1.000
#     constant                                any     1.33
#     namespace::autoclean                   0.09     0.28
#     strict                                  any     1.04
#     version                                0.80   0.9917
#     warnings                                any     1.12
# 
# === Other Modules ===
# 
#     Module           Have
#     ------------- -------
#     JSON::PP      2.27400
#     Pod::Coverage    0.23
#     Sub::Name        0.23
#     YAML             1.15
#     autodie          2.29
# 
t/00-report-prereqs.t ........... ok
t/commit-build-custom.t ......... ok
t/commit-dirtydir.t ............. ok
t/commit-build-src-as-parent.t .. ok
t/commit-build.t ................ ok
t/commit-message.t .............. ok
t/check.t ....................... ok
t/commit-utf8.t ................. ok
t/commit-ws.t ................... ok
t/commit.t ...................... ok
t/gatherdir-multi.t ............. ok
t/gatherdir.t ................... ok
t/push-gitconfig.t .............. ok
t/repo-dir.t .................... ok
t/push.t ........................ ok
t/push-multi.t .................. ok
t/version-extraction.t .......... ok
t/tag.t ......................... ok
t/tag-signed.t .................. ok
t/version-default.t ............. ok
t/version-regexp.t .............. ok
t/version-by-branch.t ........... ok
t/zzz-check-breaks.t ............ ok
All tests successful.
Files=24, Tests=207, 15 wallclock secs ( 0.16 usr  0.08 sys + 47.52 cusr 10.48 csys = 58.24 CPU)
Result: PASS

------------------------------
PREREQUISITES
------------------------------

Prerequisite modules loaded:

    No requirements found

------------------------------
ENVIRONMENT AND OTHER CONTEXT
------------------------------

Environment variables:

    HARNESS_OPTIONS = j5:c
    LANG = en_CA.UTF-8
    NO_NETWORK_TESTING = 1
    PATH = /Users/ether/.perlbrew/libs/14.4@std/bin:/Users/ether/perl5/perlbrew/bin:/Users/ether/perl5/perlbrew/perls/14.4/bin:/Users/ether/bin:/Users/ether/git/misc/install/bourbon/bin:/Users/ether/git/misc/install/generic/bin:/opt/local/bin:/opt/local/sbin:/Users/ether/git/git-hub/lib:/Users/ether/src/CE/devtools:/Users/ether/git/CE/devtools:/Users/ether/src/CE/bin:/Users/ether/git/CE/bin:/usr/local/bin:/usr/bin:/bin:/usr/sbin:/sbin:/opt/local/share/git-core/contrib/workdir
    PERL5LIB = /Users/ether/.perlbrew/libs/14.4@std/lib/perl5
    PERLBREW_HOME = /Users/ether/.perlbrew
    PERLBREW_LIB = std
    PERLBREW_MANPATH = /Users/ether/.perlbrew/libs/14.4@std/man:/Users/ether/perl5/perlbrew/perls/14.4/man
    PERLBREW_PATH = /Users/ether/.perlbrew/libs/14.4@std/bin:/Users/ether/perl5/perlbrew/bin:/Users/ether/perl5/perlbrew/perls/14.4/bin
    PERLBREW_PERL = 14.4
    PERLBREW_ROOT = /Users/ether/perl5/perlbrew
    PERLBREW_SHELLRC_VERSION = 0.82
    PERLBREW_VERSION = 0.82
    PERLDOC = -oman
    PERLDOC_PAGER = less -sicMr
    PERL_AUTOINSTALL_PREFER_CPAN = 1
    PERL_INSTALL_QUIET = 1
    PERL_LOCAL_LIB_ROOT = /Users/ether/.perlbrew/libs/14.4@std
    PERL_MB_OPT = --install_base /Users/ether/.perlbrew/libs/14.4@std
    PERL_MM_OPT = INSTALL_BASE=/Users/ether/.perlbrew/libs/14.4@std
    PERL_USE_UNSAFE_INC = 0
    SHELL = /bin/bash
    TERM = xterm-color
    TMPDIR = /var/folders/8r/y_1q6y1n56b3dpj2_vqxk83r0000gn/T/

Perl special variables (and OS-specific diagnostics, for MSWin32):

    EGID = 20 20 701 12 61 79 80 81 98 399 33 100 204 395 398
    EUID = 501
    EXECUTABLE_NAME = /Users/ether/perl5/perlbrew/perls/14.4/bin/perl
    GID = 20 20 701 12 61 79 80 81 98 399 33 100 204 395 398
    UID = 501

Perl module toolchain versions installed:

    Module              Have     
    ------------------- ---------
    CPAN                1.9600_01
    CPAN::Meta          2.150010 
    Cwd                 3.62     
    ExtUtils::CBuilder  0.280230 
    ExtUtils::Command   7.31_04  
    ExtUtils::Install   2.06     
    ExtUtils::MakeMaker 7.31_04  
    ExtUtils::Manifest  1.70     
    ExtUtils::ParseXS   3.24     
    File::Spec          3.62     
    JSON                2.90     
    JSON::PP            2.27400  
    Module::Build       0.4222   
    Module::Signature   n/a      
    Parse::CPAN::Meta   2.150010 
    Test::Harness       3.39     
    Test::More          1.302118 
    YAML                1.15     
    YAML::Syck          1.27     
    version             0.9917   


--

Summary of my perl5 (revision 5 version 14 subversion 4) configuration:
   
  Platform:
    osname=darwin, osvers=12.5.0, archname=darwin-2level
    uname='darwin bourbon 12.5.0 darwin kernel version 12.5.0: sun sep 29 13:33:47 pdt 2013; root:xnu-2050.48.12~1release_x86_64 x86_64 '
    config_args='-de -Dprefix=/Users/ether/perl5/perlbrew/perls/14.4 -Dman1dir=none -Dman3dir=none -Aeval:scriptdir=/Users/ether/perl5/perlbrew/perls/14.4/bin'
    hint=recommended, useposix=true, d_sigaction=define
    useithreads=undef, usemultiplicity=undef
    useperlio=define, d_sfio=undef, uselargefiles=define, usesocks=undef
    use64bitint=define, use64bitall=define, uselongdouble=undef
    usemymalloc=n, bincompat5005=undef
  Compiler:
    cc='cc', ccflags ='-fno-common -DPERL_DARWIN -fno-strict-aliasing -pipe -fstack-protector -I/opt/local/include',
    optimize='-O3',
    cppflags='-fno-common -DPERL_DARWIN -fno-strict-aliasing -pipe -fstack-protector -I/opt/local/include'
    ccversion='', gccversion='4.2.1 Compatible Apple LLVM 4.2 (clang-425.0.28)', gccosandvers=''
    intsize=4, longsize=8, ptrsize=8, doublesize=8, byteorder=12345678
    d_longlong=define, longlongsize=8, d_longdbl=define, longdblsize=16
    ivtype='long', ivsize=8, nvtype='double', nvsize=8, Off_t='off_t', lseeksize=8
    alignbytes=8, prototype=define
  Linker and Libraries:
    ld='env MACOSX_DEPLOYMENT_TARGET=10.3 cc', ldflags =' -fstack-protector -L/opt/local/lib'
    libpth=/opt/local/lib /usr/lib
    libs=-lgdbm -ldbm -ldl -lm -lutil -lc
    perllibs=-ldl -lm -lutil -lc
    libc=, so=dylib, useshrplib=false, libperl=libperl.a
    gnulibc_version=''
  Dynamic Linking:
    dlsrc=dl_dlopen.xs, dlext=bundle, d_dlsymun=undef, ccdlflags=' '
    cccdlflags=' ', lddlflags=' -bundle -undefined dynamic_lookup -L/opt/local/lib -fstack-protector'


Characteristics of this binary (from libperl): 
  Compile-time options: PERL_DONT_CREATE_GVSV PERL_MALLOC_WRAP
                        PERL_PRESERVE_IVUV USE_64_BIT_ALL USE_64_BIT_INT
                        USE_LARGE_FILES USE_PERLIO USE_PERL_ATOF
  Built under darwin
  Compiled at Aug 14 2014 12:55:54
  %ENV:
    PERL5LIB="/Users/ether/.perlbrew/libs/14.4@std/lib/perl5"
    PERLBREW_HOME="/Users/ether/.perlbrew"
    PERLBREW_LIB="std"
    PERLBREW_MANPATH="/Users/ether/.perlbrew/libs/14.4@std/man:/Users/ether/perl5/perlbrew/perls/14.4/man"
    PERLBREW_PATH="/Users/ether/.perlbrew/libs/14.4@std/bin:/Users/ether/perl5/perlbrew/bin:/Users/ether/perl5/perlbrew/perls/14.4/bin"
    PERLBREW_PERL="14.4"
    PERLBREW_ROOT="/Users/ether/perl5/perlbrew"
    PERLBREW_SHELLRC_VERSION="0.82"
    PERLBREW_VERSION="0.82"
    PERLDOC="-oman"
    PERLDOC_PAGER="less -sicMr"
    PERL_AUTOINSTALL_PREFER_CPAN="1"
    PERL_INSTALL_QUIET="1"
    PERL_LOCAL_LIB_ROOT="/Users/ether/.perlbrew/libs/14.4@std"
    PERL_MB_OPT="--install_base /Users/ether/.perlbrew/libs/14.4@std"
    PERL_MM_OPT="INSTALL_BASE=/Users/ether/.perlbrew/libs/14.4@std"
    PERL_USE_UNSAFE_INC="0"
  @INC:
    /Users/ether/.perlbrew/libs/14.4@std/lib/perl5/darwin-2level
    /Users/ether/.perlbrew/libs/14.4@std/lib/perl5
    /Users/ether/perl5/perlbrew/perls/14.4/lib/site_perl/5.14.4/darwin-2level
    /Users/ether/perl5/perlbrew/perls/14.4/lib/site_perl/5.14.4
    /Users/ether/perl5/perlbrew/perls/14.4/lib/5.14.4/darwin-2level
    /Users/ether/perl5/perlbrew/perls/14.4/lib/5.14.4
    .