Google-Ads-AdWords-Client v5.8.2 Perl 5 v5.35.5 x86_64-linux
        
            - Status
 
            - Pass
 
            - From
 
            - Andreas J. König (ANDK)
 
            - Dist
 
            - 
                Google-Ads-AdWords-Client v5.8.2
            
 
            - Platform
 
            - Perl 5 v5.35.5 x86_64-linux
 
            - Date
 
            - 2022-05-07 06:39:59
 
            - ID
 
            - 83f59fd2-cdd0-11ec-8c6b-1815fc7ae644
 
        
        This distribution has been tested as part of the CPAN Testers
project, supporting the Perl programming language.  See
http://wiki.cpantesters.org/ for more information or email
questions to cpan-testers-discuss@perl.org
--
Dear Nadine Sundquist Wang,
This is a computer-generated report for Google-Ads-AdWords-Client-5.8.2
on perl 5.35.5, created by CPAN-Reporter-1.2018.
Thank you for uploading your work to CPAN.  Congratulations!
All tests were successful.
Sections of this report:
    * Tester comments
    * Program output
    * Prerequisites
    * Environment and other context
------------------------------
TESTER COMMENTS
------------------------------
Additional comments from tester:
this report is from an automated smoke testing program
and was not reviewed by a human for accuracy
------------------------------
PROGRAM OUTPUT
------------------------------
Output from '/usr/bin/make test':
PERL_DL_NONLAZY=1 "/home/sand/src/perl/repoperls/installed-perls/host/k93msid/v5.35.5/bb7f/bin/perl" "-MExtUtils::Command::MM" "-MTest::Harness" "-e" "undef *Test::Harness::Switches; test_harness(0, 'blib/lib', 'blib/arch')" t/*.t
t/001_require.t ....................... ok
t/011_Client.t ........................ ok
t/012_Serializer.t .................... ok
t/013_Deserializer.t .................. ok
t/014_XPathSAXParser.t ................ ok
t/015_RequestStats.t .................. ok
t/017_OAuth2ApplicationsHandler.t ..... ok
t/018_MapUtils.t ...................... ok
t/019_OAuth2ServiceAccountsHandler.t .. ok
t/020_GenerateOfflineCredentials.t .... ok
t/021_ReportingConfiguration.t ........ ok
t/022_ReportUtils.t ................... ok
t/023_AdsUtilityRegistry.t ............ ok
t/024_BatchJobHandler.t ............... ok
t/025_ReportQueryBuilder.t ............ ok
t/026_ServiceQueryBuilder.t ........... ok
All tests successful.
Files=16, Tests=1859, 22 wallclock secs ( 0.23 usr  0.06 sys +  6.06 cusr  1.39 csys =  7.74 CPU)
Result: PASS
------------------------------
PREREQUISITES
------------------------------
Prerequisite modules loaded:
requires:
    Module                    Need     Have      
    ------------------------- -------- ----------
    Class::Load               0        0.25      
    Class::Std::Fast          0.000005 0.0.8     
    Config::Properties        0        1.80      
    Crypt::OpenSSL::RSA       0        0.32      
    Cwd                       0        3.82      
    Data::Uniqid              0        0.12      
    Date::Format              0        2.24      
    Date::Parse               0        2.33      
    Digest::SHA               0        6.02      
    File::Basename            0        2.85      
    File::HomeDir             0        1.006     
    File::Path                0        2.18      
    File::Spec                0        3.81      
    File::Temp                0        0.2311    
    Getopt::Long              0        2.52      
    HTTP::Server::Simple::CGI 0        0         
    IO::Socket::SSL           0        2.074     
    JSON::Parse               0        0.61      
    List::Util                0        1.62      
    Log::Log4perl             0        1.54      
    LWP::Protocol::https      0        6.10      
    LWP::UserAgent            0        6.62      
    Math::Random::MT          0        1.17      
    Module::Build             0        0.4231    
    POSIX                     0        2.01      
    SOAP::WSDL                2.000010 3.004     
    Template                  0        3.010     
    Test::Deep                0        1.130     
    Test::Exception           0        0.43      
    Test::MockObject          0        1.20200122
    Test::MockObject::Extends 0        1.20200122
    Test::More                0        1.302190  
    URI::Escape               0        5.10      
    XML::LibXML               0        2.0207    
    XML::Simple               0        2.25      
    XML::XPath                0        1.44      
build_requires:
    Module                    Need     Have      
    ------------------------- -------- ----------
    ExtUtils::MakeMaker       0        7.64      
configure_requires:
    Module                    Need     Have      
    ------------------------- -------- ----------
    Module::Build             0.42     0.4231    
------------------------------
ENVIRONMENT AND OTHER CONTEXT
------------------------------
Environment variables:
    AUTOMATED_TESTING = 1
    LANG = en_US.UTF-8
    PATH = /home/sand/bin:/usr/local/bin:/usr/bin:/bin:/usr/games:/usr/local/perl/bin:/usr/X11/bin:/sbin:/usr/sbin
    PERL5LIB = 
    PERL5OPT = 
    PERL5_CPANPLUS_IS_RUNNING = 653155
    PERL5_CPAN_IS_RUNNING = 653155
    PERL_CANARY_STABILITY_NOPROMPT = 1
    PERL_MM_USE_DEFAULT = 1
    PERL_USE_UNSAFE_INC = 1
    SHELL = /usr/bin/zsh
    TERM = screen
Perl special variables (and OS-specific diagnostics, for MSWin32):
    $^X = /home/sand/src/perl/repoperls/installed-perls/host/k93msid/v5.35.5/bb7f/bin/perl
    $UID/$EUID = 1005 / 1005
    $GID = 1005 1005
    $EGID = 1005 1005
Perl module toolchain versions installed:
    Module              Have    
    ------------------- --------
    CPAN                2.34    
    CPAN::Meta          2.150010
    Cwd                 3.82    
    ExtUtils::CBuilder  0.280236
    ExtUtils::Command   7.64    
    ExtUtils::Install   2.20    
    ExtUtils::MakeMaker 7.64    
    ExtUtils::Manifest  1.73    
    ExtUtils::ParseXS   3.44    
    File::Spec          3.81    
    JSON                4.05    
    JSON::PP            4.08    
    Module::Build       0.4231  
    Module::Signature   0.87    
    Parse::CPAN::Meta   2.150010
    Test::Harness       3.44    
    Test::More          1.302190
    YAML                1.30    
    YAML::Syck          1.34    
    version             0.9929  
--
Summary of my perl5 (revision 5 version 35 subversion 5) configuration:
  Commit id: 14713429e65eb99c419694960cf6bdb876d43270
  Platform:
    osname=linux
    osvers=5.14.0-3-amd64
    archname=x86_64-linux
    uname='linux k93msid 5.14.0-3-amd64 #1 smp debian 5.14.12-1 (2021-10-14) x86_64 gnulinux '
    config_args='-Dprefix=/home/sand/src/perl/repoperls/installed-perls/host/k93msid/v5.35.5/bb7f -Dmyhostname=k93msid -Dinstallusrbinperl=n -Uversiononly -Dusedevel -des -Ui_db -Dlibswanted=cl pthread socket inet nsl gdbm dbm malloc dl ld sun m crypt sec util c cposix posix ucb BSD gdbm_compat -Uuseithreads -Uuselongdouble -DEBUGGING=both'
    hint=recommended
    useposix=true
    d_sigaction=define
    useithreads=undef
    usemultiplicity=undef
    use64bitint=define
    use64bitall=define
    uselongdouble=undef
    usemymalloc=n
    default_inc_excludes_dot=define
  Compiler:
    cc='cc'
    ccflags ='-fwrapv -DDEBUGGING -fno-strict-aliasing -pipe -fstack-protector-strong -I/usr/local/include -D_LARGEFILE_SOURCE -D_FILE_OFFSET_BITS=64 -D_FORTIFY_SOURCE=2'
    optimize='-O2 -g'
    cppflags='-fwrapv -DDEBUGGING -fno-strict-aliasing -pipe -fstack-protector-strong -I/usr/local/include'
    ccversion=''
    gccversion='11.2.0'
    gccosandvers=''
    intsize=4
    longsize=8
    ptrsize=8
    doublesize=8
    byteorder=12345678
    doublekind=3
    d_longlong=define
    longlongsize=8
    d_longdbl=define
    longdblsize=16
    longdblkind=3
    ivtype='long'
    ivsize=8
    nvtype='double'
    nvsize=8
    Off_t='off_t'
    lseeksize=8
    alignbytes=8
    prototype=define
  Linker and Libraries:
    ld='cc'
    ldflags =' -fstack-protector-strong -L/usr/local/lib'
    libpth=/usr/local/lib /usr/lib/x86_64-linux-gnu /usr/lib /lib/x86_64-linux-gnu /lib
    libs=-lpthread -lnsl -ldl -lm -lcrypt -lutil -lc
    perllibs=-lpthread -lnsl -ldl -lm -lcrypt -lutil -lc
    libc=libc-2.32.so
    so=so
    useshrplib=false
    libperl=libperl.a
    gnulibc_version='2.32'
  Dynamic Linking:
    dlsrc=dl_dlopen.xs
    dlext=so
    d_dlsymun=undef
    ccdlflags='-Wl,-E'
    cccdlflags='-fPIC'
    lddlflags='-shared -O2 -g -L/usr/local/lib -fstack-protector-strong'
Characteristics of this binary (from libperl): 
  Compile-time options:
    DEBUGGING
    HAS_TIMES
    PERLIO_LAYERS
    PERL_COPY_ON_WRITE
    PERL_DONT_CREATE_GVSV
    PERL_MALLOC_WRAP
    PERL_OP_PARENT
    PERL_PRESERVE_IVUV
    PERL_USE_DEVEL
    USE_64_BIT_ALL
    USE_64_BIT_INT
    USE_LARGE_FILES
    USE_LOCALE
    USE_LOCALE_COLLATE
    USE_LOCALE_CTYPE
    USE_LOCALE_NUMERIC
    USE_LOCALE_TIME
    USE_PERLIO
    USE_PERL_ATOF
  Built under linux
  Compiled at Nov 15 2021 09:57:30
  %ENV:
    PERL5LIB=""
    PERL5OPT=""
    PERL5_CPANPLUS_IS_RUNNING="653155"
    PERL5_CPAN_IS_RUNNING="653155"
    PERL_CANARY_STABILITY_NOPROMPT="1"
    PERL_MM_USE_DEFAULT="1"
    PERL_USE_UNSAFE_INC="1"
  @INC:
    /home/sand/src/perl/repoperls/installed-perls/host/k93msid/v5.35.5/bb7f/lib/site_perl/5.35.5/x86_64-linux
    /home/sand/src/perl/repoperls/installed-perls/host/k93msid/v5.35.5/bb7f/lib/site_perl/5.35.5
    /home/sand/src/perl/repoperls/installed-perls/host/k93msid/v5.35.5/bb7f/lib/5.35.5/x86_64-linux
    /home/sand/src/perl/repoperls/installed-perls/host/k93msid/v5.35.5/bb7f/lib/5.35.5
    .