HiD v1.992 Perl 5 v5.20.3 amd64-freebsd
- Status
- Pass
- From
- Slaven Rezić (SREZIC)
- Dist
-
HiD v1.992
- Platform
- Perl 5 v5.20.3 amd64-freebsd
- Date
- 2018-05-14 23:50:00
- ID
- 83adc1c2-57d1-11e8-92a3-c41dabd7e229
This distribution has been tested as part of the CPAN Testers
project, supporting the Perl programming language. See
http://wiki.cpantesters.org/ for more information or email
questions to cpan-testers-discuss@perl.org
--
Dear John SJ Anderson,
This is a computer-generated report for HiD-1.992
on perl 5.20.3, created by CPAN-Reporter-1.2018.
Thank you for uploading your work to CPAN. Congratulations!
All tests were successful.
Sections of this report:
* Tester comments
* Program output
* Prerequisites
* Environment and other context
------------------------------
TESTER COMMENTS
------------------------------
Additional comments from tester:
none provided
------------------------------
PROGRAM OUTPUT
------------------------------
Output from '/usr/bin/make test':
PERL_DL_NONLAZY=1 "/usr/perl5.20.3p/bin/perl" "-MExtUtils::Command::MM" "-MTest::Harness" "-e" "undef *Test::Harness::Switches; test_harness(0, 'blib/lib', 'blib/arch')" t/*.t
t/00-compile.t ........... ok
t/author-eol.t ........... skipped: these tests are for testing by the author
t/author-pod-coverage.t .. skipped: these tests are for testing by the author
t/author-pod-syntax.t .... skipped: these tests are for testing by the author
t/cmd-config.t ........... ok
t/cmd-help.t ............. ok
t/cmd-init.t ............. ok
# Testing in /var/tmp/cpansmoker-1023/2018051501/xMYKbiFyDw
t/cmd-publish.t .......... ok
t/config.t ............... ok
t/file.t ................. ok
t/hid-server.t ........... ok
[2018/05/15 01:49:36] WARN Skipping _posts/2008-02-02-not-published.textile because 'published' flag is false
[2018/05/15 01:49:36] ERROR ERROR: Post failed to build: Died at /home/cpansand/.cpan/build/2018051501/HiD-1.992-8/blib/lib/HiD/Post.pm line 36.
t/hid.t .................. ok
t/layout.t ............... ok
t/page.t ................. ok
t/post-twitter.t ......... ok
t/post.t ................. ok
All tests successful.
Test Summary Report
-------------------
t/cmd-publish.t (Wstat: 0 Tests: 76 Failed: 0)
TODO passed: 72-73
Files=16, Tests=209, 25 wallclock secs ( 0.02 usr 0.21 sys + 5.61 cusr 13.68 csys = 19.52 CPU)
Result: PASS
------------------------------
PREREQUISITES
------------------------------
Prerequisite modules loaded:
requires:
Module Need Have
---------------------------- ----- --------
autodie 0 2.29
Carp 0 1.38
charnames 0 1.40
Class::Load 0 0.23
Data::Page 0 2.02
Data::Printer 0.35 0.40
Date::Parse 0 2.30
DateTime 0 1.48
feature 0 1.36_01
File::Copy 0 2.30
File::Find::Rule 0 0.34
Log::Log4perl 0 1.49
Moose 0 2.2010
Moose::Role 0 2.2010
Moose::Util::TypeConstraints 0 2.2010
MooseX::App::Cmd 0 0.32
MooseX::App::Cmd::Command 0 0.32
MooseX::Getopt 0 0.71
namespace::autoclean 0 0.28
open 0 1.10
parent 0 0.236
Path::Tiny 0.054 0.104
perl 5.014 5.020003
Plack::App::File 0 0
Plack::Builder 0 0
Plack::Handler::Standalone 0 0
Plack::Loader::Restarter 0 0
Plack::Runner 0 0
strict 0 1.08
String::Errf 0 0.007
Template 0 2.26
Text::Handlebars 0 0.05
Text::Markdown 0 1.000031
Text::MultiMarkdown 0 1.000035
Text::Textile 0 2.13
Text::Xslate 0 v3.5.6
Try::Tiny 0 0.30
utf8 0 1.13_01
warnings 0 1.23
XML::Feed 0 0.53
XML::Feed::Entry 0 0.53
YAML::Tiny 0 1.73
YAML::XS 0 0.69
build_requires:
Module Need Have
---------------------------- ----- --------
App::Cmd::Tester 0 0.331
Exporter 0 5.72
ExtUtils::MakeMaker 0 7.34
File::Spec 0 3.74
FindBin 0 1.51
HTTP::Request::Common 0 6.16
IO::Handle 0 1.39
IPC::Open3 0 1.16
lib 0 0.63
Plack::Test 0 0
Test::File 0 1.443
Test::File::Contents 0 0.23
Test::More 0 1.302136
Test::Routine 0 0.024
Test::Routine::Util 0 0.024
Test::Warn 0 0.32
configure_requires:
Module Need Have
---------------------------- ----- --------
ExtUtils::MakeMaker 0 7.34
perl 5.014 5.020003
------------------------------
ENVIRONMENT AND OTHER CONTEXT
------------------------------
Environment variables:
LC_ALL = de_DE.ISO8859-1
PATH = /usr/local/bin:/usr/bin:/bin:/usr/local/sbin:/usr/sbin:/sbin:/home/cpansand/bin/freebsd10.3:/home/cpansand/bin/sh:/home/cpansand/bin:/usr/games:/home/cpansand/devel:/home/eserte/src/srezic-misc/scripts
PERL5LIB =
PERL5OPT =
PERL5_CPANPLUS_IS_RUNNING = 94347
PERL5_CPAN_IS_RUNNING = 94347
PERL5_CPAN_IS_RUNNING_IN_RECURSION = 92734,94347
PERLDOC = -MPod::Perldoc::ToTextOverstrike
PERL_BATCH = yes
PERL_CANARY_STABILITY_NOPROMPT = 1
PERL_CPAN_REPORTER_CONFIG = /var/tmp/cpansmoker-1023/2018051501/cpanreporter_000_config.ini
PERL_EXTUTILS_AUTOINSTALL = --defaultdeps
SHELL = /usr/local/bin/zsh
TERM = screen
TMPDIR = /var/tmp/cpansmoker-1023/2018051501
Perl special variables (and OS-specific diagnostics, for MSWin32):
$^X = /usr/perl5.20.3p/bin/perl
$UID/$EUID = 1023 / 1023
$GID = 1023 1023
$EGID = 1023 1023
Perl module toolchain versions installed:
Module Have
------------------- --------
CPAN 2.16
CPAN::Meta 2.150010
Cwd 3.74
ExtUtils::CBuilder 0.280230
ExtUtils::Command 7.34
ExtUtils::Install 2.14
ExtUtils::MakeMaker 7.34
ExtUtils::Manifest 1.70
ExtUtils::ParseXS 3.30
File::Spec 3.74
JSON 2.97001
JSON::PP 2.94
Module::Build 0.4224
Module::Signature 0.81
Parse::CPAN::Meta 2.150010
Test::Harness 3.42
Test::More 1.302136
YAML 1.25
YAML::Syck 1.30
version 0.9922
--
Summary of my perl5 (revision 5 version 20 subversion 3) configuration:
Platform:
osname=freebsd, osvers=10.1-release, archname=amd64-freebsd
uname='freebsd cvrsnica-freebsd-101.herceg.de 10.1-release freebsd 10.1-release #0 r274401: tue nov 11 21:02:49 utc 2014 root@releng1.nyi.freebsd.org:usrobjusrsrcsysgeneric amd64 '
config_args='-ds -e -Dprefix=/usr/perl5.20.3p -Dcf_email=srezic@cpan.org'
hint=recommended, useposix=true, d_sigaction=define
useithreads=undef, usemultiplicity=undef
use64bitint=define, use64bitall=define, uselongdouble=undef
usemymalloc=n, bincompat5005=undef
Compiler:
cc='cc', ccflags ='-DHAS_FPSETMASK -DHAS_FLOATINGPOINT_H -fno-strict-aliasing -pipe -fstack-protector -I/usr/local/include',
optimize='-O',
cppflags='-DHAS_FPSETMASK -DHAS_FLOATINGPOINT_H -fno-strict-aliasing -pipe -fstack-protector -I/usr/local/include'
ccversion='', gccversion='4.2.1 Compatible FreeBSD Clang 3.4.1 (tags/RELEASE_34/dot1-final 208032)', gccosandvers=''
intsize=4, longsize=8, ptrsize=8, doublesize=8, byteorder=12345678
d_longlong=define, longlongsize=8, d_longdbl=define, longdblsize=16
ivtype='long', ivsize=8, nvtype='double', nvsize=8, Off_t='off_t', lseeksize=8
alignbytes=8, prototype=define
Linker and Libraries:
ld='cc', ldflags ='-pthread -Wl,-E -fstack-protector -L/usr/local/lib'
libpth=/usr/lib /usr/local/lib /usr/include/clang/3.4.1 /usr/lib
libs=-lpthread -lgdbm -lm -lcrypt -lutil -lc
perllibs=-lpthread -lm -lcrypt -lutil -lc
libc=, so=so, useshrplib=false, libperl=libperl.a
gnulibc_version=''
Dynamic Linking:
dlsrc=dl_dlopen.xs, dlext=so, d_dlsymun=undef, ccdlflags=' '
cccdlflags='-DPIC -fPIC', lddlflags='-shared -L/usr/local/lib -fstack-protector'
Characteristics of this binary (from libperl):
Compile-time options: HAS_TIMES PERLIO_LAYERS PERL_DONT_CREATE_GVSV
PERL_HASH_FUNC_ONE_AT_A_TIME_HARD PERL_MALLOC_WRAP
PERL_NEW_COPY_ON_WRITE PERL_PRESERVE_IVUV
USE_64_BIT_ALL USE_64_BIT_INT USE_LARGE_FILES
USE_LOCALE USE_LOCALE_COLLATE USE_LOCALE_CTYPE
USE_LOCALE_NUMERIC USE_PERLIO USE_PERL_ATOF
Built under freebsd
Compiled at Sep 12 2015 22:44:25
%ENV:
PERL5LIB=""
PERL5OPT=""
PERL5_CPANPLUS_IS_RUNNING="94347"
PERL5_CPAN_IS_RUNNING="94347"
PERL5_CPAN_IS_RUNNING_IN_RECURSION="92734,94347"
PERLDOC="-MPod::Perldoc::ToTextOverstrike"
PERL_BATCH="yes"
PERL_CANARY_STABILITY_NOPROMPT="1"
PERL_CPAN_REPORTER_CONFIG="/var/tmp/cpansmoker-1023/2018051501/cpanreporter_000_config.ini"
PERL_EXTUTILS_AUTOINSTALL="--defaultdeps"
@INC:
/usr/perl5.20.3p/lib/site_perl/5.20.3/amd64-freebsd
/usr/perl5.20.3p/lib/site_perl/5.20.3
/usr/perl5.20.3p/lib/5.20.3/amd64-freebsd
/usr/perl5.20.3p/lib/5.20.3
.