DB-Pluggable v1.12 Perl 5 v5.43.4 i86pc-solaris-thread-multi-64
        
            - Status
- Pass
- From
- Carlos Guevara
- Dist
- 
                DB-Pluggable v1.12
            
- Platform
- Perl 5 v5.43.4 i86pc-solaris-thread-multi-64
- Date
- 2025-10-07 15:01:33
- ID
- 839aa5f4-a38e-11f0-bc5e-e53b677d4e18
This distribution has been tested as part of the CPAN Testers
project, supporting the Perl programming language.  See
http://wiki.cpantesters.org/ for more information or email
questions to cpan-testers-discuss@perl.org
--
Dear Keith Carangelo,
This is a computer-generated report for DB-Pluggable-1.12
on perl 5.43.4, created by CPAN-Reporter-1.2020.
Thank you for uploading your work to CPAN.  Congratulations!
All tests were successful.
Sections of this report:
    * Tester comments
    * Program output
    * Prerequisites
    * Environment and other context
------------------------------
TESTER COMMENTS
------------------------------
Additional comments from tester:
this report is from an automated smoke testing program
and was not reviewed by a human for accuracy
------------------------------
PROGRAM OUTPUT
------------------------------
Output from '/usr/bin/make test':
PERL_DL_NONLAZY=1 "/export/home/cpan/bin/perl/bin/perl5.43.4" "-MExtUtils::Command::MM" "-MTest::Harness" "-e" "undef *Test::Harness::Switches; test_harness(0, 'blib/lib', 'blib/arch')" t/*.t
t/00-compile.t ........... ok
# Testing with Perl 5.043004, /export/home/cpan/bin/perl/bin/perl5.43.4
#     Brickyard version is 2.0.0
#     Brickyard::Accessor version is undefined
#     Brickyard::Role::Plugin version is undefined
#     Carp version is 1.54
#     Data::Printer version is 1.002001
#     ExtUtils::MakeMaker version is 7.76
#     File::Find version is 1.44
#     File::Temp version is 0.2312
#     Hook::LexWrap version is 0.26
#     Role::Basic version is 0.16
#     Scalar::Util version is 1.70
#     Test::Builder version is 1.302214
#     Test::More version is 1.302214
#     strict version is 1.14
#     warnings version is 1.74
t/000-report-versions.t .. ok
t/01_misc.t .............. ok
All tests successful.
Files=3, Tests=24,  1 wallclock secs ( 0.02 usr  0.01 sys +  0.46 cusr  0.14 csys =  0.63 CPU)
Result: PASS
------------------------------
PREREQUISITES
------------------------------
Prerequisite modules loaded:
requires:
    Module                  Need     Have    
    ----------------------- -------- --------
    Brickyard               1.111750 2.0.0   
    Brickyard::Accessor     0        0       
    Brickyard::Role::Plugin 0        0       
    Data::Printer           0        1.002001
    Hook::LexWrap           0        0.26    
    perl                    5.010    5.043004
    Role::Basic             0        0.16    
    strict                  0        1.14    
    Test::Builder           0        1.302214
    warnings                0        1.74    
build_requires:
    Module                  Need     Have    
    ----------------------- -------- --------
    Carp                    0        1.54    
    ExtUtils::MakeMaker     0        7.76    
    File::Find              0        1.44    
    File::Temp              0        0.2312  
    Scalar::Util            0        1.70    
    Test::More              0.94     1.302214
configure_requires:
    Module                  Need     Have    
    ----------------------- -------- --------
    ExtUtils::MakeMaker     0        7.76    
opt_requires:
    Module                  Need     Have    
    ----------------------- -------- --------
    Brickyard               1.111750 2.0.0   
    Parallel::ForkManager   v0.7.6   2.04    
------------------------------
ENVIRONMENT AND OTHER CONTEXT
------------------------------
Environment variables:
    AUTOMATED_TESTING = 1
    DATE_MANIP_TEST_DM5 = 1
    LANG = en_US.UTF-8
    LC_ALL = C
    NONINTERACTIVE_TESTING = 1
    NO_NETWORK_TESTING = 1
    PATH = /export/home/cpan/bin/perl/bin:/usr/bin:/usr/sbin:/sbin:/opt/ooce/bin:/usr/gnu/bin
    PERL5LIB = 
    PERL5OPT = 
    PERL5_CPANPLUS_IS_RUNNING = 20445
    PERL5_CPAN_IS_RUNNING = 20445
    PERL_MM_USE_DEFAULT = 1
    PERL_PERTURB_KEYS = 0
    PERL_USE_UNSAFE_INC = 1
    SHELL = /bin/sh
    TERM = screen
Perl special variables (and OS-specific diagnostics, for MSWin32):
    $^X = /export/home/cpan/bin/perl/bin/perl5.43.4
    $UID/$EUID = 101 / 101
    $GID = 1 1
    $EGID = 1 1
Perl module toolchain versions installed:
    Module              Have    
    ------------------- --------
    CPAN                2.38    
    CPAN::Meta          2.150010
    Cwd                 3.94    
    ExtUtils::CBuilder  0.280242
    ExtUtils::Command   7.76    
    ExtUtils::Install   2.22    
    ExtUtils::MakeMaker 7.76    
    ExtUtils::Manifest  1.75    
    ExtUtils::ParseXS   3.60    
    File::Spec          3.94    
    JSON                4.10    
    JSON::PP            4.16    
    Module::Build       0.4234  
    Module::Signature   n/a     
    Parse::CPAN::Meta   2.150010
    Test2               1.302214
    Test::Harness       3.52    
    Test::More          1.302214
    YAML                1.31    
    YAML::Syck          1.34    
    version             0.9933  
--
Summary of my perl5 (revision 5 version 43 subversion 4) configuration:
  Commit id: b7b77ffc1ef26998503489eb59864f835cc04edd
  Platform:
    osname=solaris
    osvers=2.11
    archname=i86pc-solaris-thread-multi-64
    uname='sunos cjg-omniosce 5.11 omnios-r151052-92934720d80 i86pc i386 i86pc '
    config_args='-des -Dprefix=/export/home/cpan/bin/perl -Dscriptdir=/export/home/cpan/bin/perl/bin -Dusedevel -Duse64bitall -Dcc=gcc -Duseithreads'
    hint=recommended
    useposix=true
    d_sigaction=define
    useithreads=define
    usemultiplicity=define
    use64bitint=define
    use64bitall=define
    uselongdouble=undef
    usemymalloc=n
    default_inc_excludes_dot=define
  Compiler:
    cc='gcc'
    ccflags ='-D_REENTRANT -m64 -fwrapv -fno-strict-aliasing -pipe -fstack-protector-strong -D_LARGEFILE_SOURCE -D_FILE_OFFSET_BITS=64 -D_FORTIFY_SOURCE=2'
    optimize='-O'
    cppflags='-D_REENTRANT -m64 -fwrapv -fno-strict-aliasing -pipe -fstack-protector-strong'
    ccversion=''
    gccversion='14.2.0'
    gccosandvers=''
    intsize=4
    longsize=8
    ptrsize=8
    doublesize=8
    byteorder=12345678
    doublekind=3
    d_longlong=define
    longlongsize=8
    d_longdbl=define
    longdblsize=16
    longdblkind=3
    ivtype='long'
    ivsize=8
    nvtype='double'
    nvsize=8
    Off_t='off_t'
    lseeksize=8
    alignbytes=8
    prototype=define
  Linker and Libraries:
    ld='gcc'
    ldflags =' -m64 -fstack-protector-strong -L/usr/gnu/lib '
    libpth=/opt/gcc-14/lib /usr/lib /usr/gnu/lib /usr/ccs/lib
    libs=-lpthread -lsocket -lnsl -ldl -lm -lc
    perllibs=-lpthread -lsocket -lnsl -ldl -lm -lc
    libc=/lib/libc.so
    so=so
    useshrplib=true
    libperl=libperl.so
    gnulibc_version=''
  Dynamic Linking:
    dlsrc=dl_dlopen.xs
    dlext=so
    d_dlsymun=undef
    ccdlflags='  -R /export/home/cpan/bin/perl/lib/5.43.4/i86pc-solaris-thread-multi-64/CORE'
    cccdlflags='-fPIC'
    lddlflags=' -shared -m64 -L/usr/gnu/lib -fstack-protector-strong'
Characteristics of this binary (from libperl): 
  Compile-time options:
    HAS_LONG_DOUBLE
    HAS_STRTOLD
    HAS_TIMES
    MULTIPLICITY
    PERLIO_LAYERS
    PERL_COPY_ON_WRITE
    PERL_DONT_CREATE_GVSV
    PERL_HASH_FUNC_SIPHASH13
    PERL_HASH_USE_SBOX32
    PERL_MALLOC_WRAP
    PERL_OP_PARENT
    PERL_PRESERVE_IVUV
    PERL_USE_DEVEL
    PERL_USE_SAFE_PUTENV
    USE_64_BIT_ALL
    USE_64_BIT_INT
    USE_ITHREADS
    USE_LARGE_FILES
    USE_LOCALE
    USE_LOCALE_COLLATE
    USE_LOCALE_CTYPE
    USE_LOCALE_NUMERIC
    USE_LOCALE_TIME
    USE_PERLIO
    USE_PERL_ATOF
    USE_REENTRANT_API
    USE_THREAD_SAFE_LOCALE
  Built under solaris
  Compiled at Oct  5 2025 18:59:39
  %ENV:
    PERL5LIB=""
    PERL5OPT=""
    PERL5_CPANPLUS_IS_RUNNING="20445"
    PERL5_CPAN_IS_RUNNING="20445"
    PERL_MM_USE_DEFAULT="1"
    PERL_PERTURB_KEYS="0"
    PERL_USE_UNSAFE_INC="1"
  @INC:
    /export/home/cpan/bin/perl/lib/site_perl/5.43.4/i86pc-solaris-thread-multi-64
    /export/home/cpan/bin/perl/lib/site_perl/5.43.4
    /export/home/cpan/bin/perl/lib/5.43.4/i86pc-solaris-thread-multi-64
    /export/home/cpan/bin/perl/lib/5.43.4
    .