Test-Moose-More v0.050 Perl 5 v5.41.2 darwin-2level
- Status
- Pass
- From
- Dist
-
Test-Moose-More v0.050
- Platform
- Perl 5 v5.41.2 darwin-2level
- Date
- 2024-07-20 23:12:19
- ID
- 838c375c-46ed-11ef-b58c-9e659a1ddf0b
This distribution has been tested as part of the CPAN Testers
project, supporting the Perl programming language. See
http://wiki.cpantesters.org/ for more information or email
questions to cpan-testers-discuss@perl.org
--
Dear RSRCHBOY,
This is a computer-generated report for Test-Moose-More-0.050
on perl 5.41.2, created by App::cpanminus::reporter 0.21 (1.7047).
Thank you for uploading your work to CPAN. Congratulations!
All tests were successful.
Sections of this report:
* Tester comments
* Program output
* Prerequisites
* Environment and other context
------------------------------
TESTER COMMENTS
------------------------------
Additional comments from tester:
none provided
------------------------------
PROGRAM OUTPUT
------------------------------
Output from '':
Building and testing Test-Moose-More-0.050
PERL_DL_NONLAZY=1 "/Volumes/chambord/Users/ether/perl5/perlbrew/perls/41.2/bin/perl5.41.2" "-MExtUtils::Command::MM" "-MTest::Harness" "-e" "undef *Test::Harness::Switches; test_harness(0, 'blib/lib', 'blib/arch')" t/*.t t/attribute_options_ok/*.t t/is_class_ok/*.t t/validate_attribute/*.t t/validate_class/*.t t/validate_role/*.t t/validate_thing/*.t t/wrapped/*.t
Smartmatch is deprecated at (eval 10) line 8.
Smartmatch is deprecated at (eval 10) line 15.
Smartmatch is deprecated at (eval 11) line 8.
Smartmatch is deprecated at (eval 11) line 15.
Smartmatch is deprecated at (eval 12) line 8.
Smartmatch is deprecated at (eval 12) line 15.
Smartmatch is deprecated at (eval 13) line 11.
Smartmatch is deprecated at (eval 13) line 21.
#
# Versions for all modules listed in MYMETA.json (including optional ones):
#
# === Configure Requires ===
#
# Module Want Have
# ------------------- ---- ----
# ExtUtils::MakeMaker any 7.70
#
# === Build Requires ===
#
# Module Want Have
# ------------------- ---- ----
# ExtUtils::MakeMaker any 7.70
#
# === Test Requires ===
#
# Module Want Have
# ---------------------- ----- --------
# ExtUtils::MakeMaker any 7.70
# File::Spec any 3.92
# IO::Handle any 1.55
# IPC::Open3 any 1.22
# List::Util 1.45 1.63
# Moose any 2.2207
# Moose::Meta::Attribute any 2.2207
# Moose::Role any 2.2207
# Moose::Util::MetaRole any 2.2207
# TAP::SimpleOutput 0.009 0.009
# Test::Builder::Tester any 1.302199
# Test::CheckDeps 0.010 0.010
# Test::More 0.94 1.302199
# namespace::autoclean any 0.29
#
# === Test Recommends ===
#
# Module Want Have
# ---------- -------- --------
# CPAN::Meta 2.120900 2.150010
#
# === Runtime Requires ===
#
# Module Want Have
# ---------------------------- ---- --------
# Carp any 1.54
# Data::OptList any 0.114
# List::MoreUtils any 0.430
# List::Util 1.45 1.63
# Moose::Util any 2.2207
# Moose::Util::TypeConstraints any 2.2207
# Scalar::Util any 1.63
# Sub::Exporter::Progressive any 0.001013
# Syntax::Keyword::Junction any 0.003008
# Test::Builder any 1.302199
# Test::Moose any 2.2207
# Test::More 0.94 1.302199
# strict any 1.13
# warnings any 1.70
#
t/00-report-prereqs.t .................................. ok
Smartmatch is deprecated at (eval 10) line 8.
Smartmatch is deprecated at (eval 10) line 15.
Smartmatch is deprecated at (eval 11) line 8.
Smartmatch is deprecated at (eval 11) line 15.
Smartmatch is deprecated at (eval 12) line 8.
Smartmatch is deprecated at (eval 12) line 15.
Smartmatch is deprecated at (eval 13) line 11.
Smartmatch is deprecated at (eval 13) line 21.
Smartmatch is deprecated at (eval 10) line 8.
Smartmatch is deprecated at (eval 10) line 15.
Smartmatch is deprecated at (eval 11) line 8.
Smartmatch is deprecated at (eval 11) line 15.
Smartmatch is deprecated at (eval 12) line 8.
Smartmatch is deprecated at (eval 12) line 15.
Smartmatch is deprecated at (eval 13) line 11.
Smartmatch is deprecated at (eval 13) line 21.
Smartmatch is deprecated at (eval 163) line 8.
Smartmatch is deprecated at (eval 163) line 15.
Smartmatch is deprecated at (eval 164) line 8.
Smartmatch is deprecated at (eval 164) line 15.
Smartmatch is deprecated at (eval 165) line 8.
Smartmatch is deprecated at (eval 165) line 15.
Smartmatch is deprecated at (eval 166) line 11.
Smartmatch is deprecated at (eval 166) line 21.
t/00-compile.t ......................................... ok
t/attribute_options_ok/basic.t ......................... ok
t/check_sugar.t ........................................ ok
t/00-check-deps.t ...................................... ok
t/attribute_options_ok/subtest-wrapper.t ............... ok
Smartmatch is deprecated at (eval 10) line 8.
Smartmatch is deprecated at (eval 10) line 15.
Smartmatch is deprecated at (eval 11) line 8.
Smartmatch is deprecated at (eval 11) line 15.
Smartmatch is deprecated at (eval 12) line 8.
Smartmatch is deprecated at (eval 12) line 15.
Smartmatch is deprecated at (eval 13) line 11.
Smartmatch is deprecated at (eval 13) line 21.
Smartmatch is deprecated at (eval 10) line 8.
Smartmatch is deprecated at (eval 10) line 15.
Smartmatch is deprecated at (eval 11) line 8.
Smartmatch is deprecated at (eval 11) line 15.
Smartmatch is deprecated at (eval 12) line 8.
Smartmatch is deprecated at (eval 12) line 15.
Smartmatch is deprecated at (eval 13) line 11.
Smartmatch is deprecated at (eval 13) line 21.
t/definition_context.t ................................. ok
Smartmatch is deprecated at (eval 167) line 8.
Smartmatch is deprecated at (eval 167) line 15.
Smartmatch is deprecated at (eval 168) line 8.
Smartmatch is deprecated at (eval 168) line 15.
Smartmatch is deprecated at (eval 169) line 8.
Smartmatch is deprecated at (eval 169) line 15.
Smartmatch is deprecated at (eval 170) line 11.
Smartmatch is deprecated at (eval 170) line 21.
t/has_attribute_ok.t ................................... ok
Smartmatch is deprecated at (eval 175) line 8.
Smartmatch is deprecated at (eval 175) line 15.
Smartmatch is deprecated at (eval 176) line 8.
Smartmatch is deprecated at (eval 176) line 15.
Smartmatch is deprecated at (eval 177) line 8.
Smartmatch is deprecated at (eval 177) line 15.
Smartmatch is deprecated at (eval 178) line 11.
Smartmatch is deprecated at (eval 178) line 21.
t/does_not_ok.t ........................................ ok
Smartmatch is deprecated at (eval 179) line 8.
Smartmatch is deprecated at (eval 179) line 15.
Smartmatch is deprecated at (eval 180) line 8.
Smartmatch is deprecated at (eval 180) line 15.
Smartmatch is deprecated at (eval 181) line 8.
Smartmatch is deprecated at (eval 181) line 15.
Smartmatch is deprecated at (eval 182) line 11.
Smartmatch is deprecated at (eval 182) line 21.
t/does_ok.t ............................................ ok
Smartmatch is deprecated at (eval 10) line 8.
Smartmatch is deprecated at (eval 10) line 15.
Smartmatch is deprecated at (eval 11) line 8.
Smartmatch is deprecated at (eval 11) line 15.
Smartmatch is deprecated at (eval 12) line 8.
Smartmatch is deprecated at (eval 12) line 15.
Smartmatch is deprecated at (eval 13) line 11.
Smartmatch is deprecated at (eval 13) line 21.
t/does_not_metaroles_ok.t .............................. ok
t/does_metaroles_ok.t .................................. ok
Smartmatch is deprecated at (eval 10) line 8.
Smartmatch is deprecated at (eval 10) line 15.
Smartmatch is deprecated at (eval 11) line 8.
Smartmatch is deprecated at (eval 11) line 15.
Smartmatch is deprecated at (eval 12) line 8.
Smartmatch is deprecated at (eval 12) line 15.
Smartmatch is deprecated at (eval 13) line 11.
Smartmatch is deprecated at (eval 13) line 21.
Smartmatch is deprecated at (eval 10) line 8.
Smartmatch is deprecated at (eval 10) line 15.
Smartmatch is deprecated at (eval 11) line 8.
Smartmatch is deprecated at (eval 11) line 15.
Smartmatch is deprecated at (eval 12) line 8.
Smartmatch is deprecated at (eval 12) line 15.
Smartmatch is deprecated at (eval 13) line 11.
Smartmatch is deprecated at (eval 13) line 21.
Smartmatch is deprecated at (eval 163) line 8.
Smartmatch is deprecated at (eval 163) line 15.
Smartmatch is deprecated at (eval 164) line 8.
Smartmatch is deprecated at (eval 164) line 15.
Smartmatch is deprecated at (eval 165) line 8.
Smartmatch is deprecated at (eval 165) line 15.
Smartmatch is deprecated at (eval 166) line 11.
Smartmatch is deprecated at (eval 166) line 21.
t/is_class_ok/basic.t .................................. ok
Smartmatch is deprecated at (eval 163) line 8.
Smartmatch is deprecated at (eval 163) line 15.
Smartmatch is deprecated at (eval 164) line 8.
Smartmatch is deprecated at (eval 164) line 15.
Smartmatch is deprecated at (eval 165) line 8.
Smartmatch is deprecated at (eval 165) line 15.
Smartmatch is deprecated at (eval 166) line 11.
Smartmatch is deprecated at (eval 166) line 21.
t/is_immutable_ok.t .................................... ok
Smartmatch is deprecated at (eval 163) line 8.
Smartmatch is deprecated at (eval 163) line 15.
Smartmatch is deprecated at (eval 164) line 8.
Smartmatch is deprecated at (eval 164) line 15.
Smartmatch is deprecated at (eval 165) line 8.
Smartmatch is deprecated at (eval 165) line 15.
Smartmatch is deprecated at (eval 166) line 11.
Smartmatch is deprecated at (eval 166) line 21.
Smartmatch is deprecated at (eval 10) line 8.
Smartmatch is deprecated at (eval 10) line 15.
Smartmatch is deprecated at (eval 11) line 8.
Smartmatch is deprecated at (eval 11) line 15.
Smartmatch is deprecated at (eval 12) line 8.
Smartmatch is deprecated at (eval 12) line 15.
Smartmatch is deprecated at (eval 13) line 11.
Smartmatch is deprecated at (eval 13) line 21.
t/is_class_ok/moose-meta-attribute-should-be-moosey.t .. ok
t/is_anon_ok.t ......................................... ok
t/is_not_anon_ok.t ..................................... ok
t/is_role_ok.t ......................................... ok
Smartmatch is deprecated at (eval 10) line 8.
Smartmatch is deprecated at (eval 10) line 15.
Smartmatch is deprecated at (eval 11) line 8.
Smartmatch is deprecated at (eval 11) line 15.
Smartmatch is deprecated at (eval 12) line 8.
Smartmatch is deprecated at (eval 12) line 15.
Smartmatch is deprecated at (eval 13) line 11.
Smartmatch is deprecated at (eval 13) line 21.
Smartmatch is deprecated at (eval 10) line 8.
Smartmatch is deprecated at (eval 10) line 15.
Smartmatch is deprecated at (eval 11) line 8.
Smartmatch is deprecated at (eval 11) line 15.
Smartmatch is deprecated at (eval 12) line 8.
Smartmatch is deprecated at (eval 12) line 15.
Smartmatch is deprecated at (eval 13) line 11.
Smartmatch is deprecated at (eval 13) line 21.
Smartmatch is deprecated at (eval 10) line 8.
Smartmatch is deprecated at (eval 10) line 15.
Smartmatch is deprecated at (eval 11) line 8.
Smartmatch is deprecated at (eval 11) line 15.
Smartmatch is deprecated at (eval 12) line 8.
Smartmatch is deprecated at (eval 12) line 15.
Smartmatch is deprecated at (eval 13) line 11.
Smartmatch is deprecated at (eval 13) line 21.
Smartmatch is deprecated at (eval 10) line 8.
Smartmatch is deprecated at (eval 10) line 15.
Smartmatch is deprecated at (eval 11) line 8.
Smartmatch is deprecated at (eval 11) line 15.
Smartmatch is deprecated at (eval 12) line 8.
Smartmatch is deprecated at (eval 12) line 15.
Smartmatch is deprecated at (eval 13) line 11.
Smartmatch is deprecated at (eval 13) line 21.
Smartmatch is deprecated at (eval 163) line 8.
Smartmatch is deprecated at (eval 163) line 15.
Smartmatch is deprecated at (eval 164) line 8.
Smartmatch is deprecated at (eval 164) line 15.
Smartmatch is deprecated at (eval 165) line 8.
Smartmatch is deprecated at (eval 165) line 15.
Smartmatch is deprecated at (eval 166) line 11.
Smartmatch is deprecated at (eval 166) line 21.
t/meta_ok.t ............................................ ok
t/method_from_pkg_ok.t ................................. ok
t/method_not_from_pkg_ok.t ............................. ok
t/method_is_not_accessor_ok.t .......................... ok
t/method_is_accessor_ok.t .............................. ok
Smartmatch is deprecated at (eval 167) line 8.
Smartmatch is deprecated at (eval 167) line 15.
Smartmatch is deprecated at (eval 168) line 8.
Smartmatch is deprecated at (eval 168) line 15.
Smartmatch is deprecated at (eval 169) line 8.
Smartmatch is deprecated at (eval 169) line 15.
Smartmatch is deprecated at (eval 170) line 11.
Smartmatch is deprecated at (eval 170) line 21.
t/method_ok.t .......................................... ok
Smartmatch is deprecated at (eval 10) line 8.
Smartmatch is deprecated at (eval 10) line 15.
Smartmatch is deprecated at (eval 11) line 8.
Smartmatch is deprecated at (eval 11) line 15.
Smartmatch is deprecated at (eval 12) line 8.
Smartmatch is deprecated at (eval 12) line 15.
Smartmatch is deprecated at (eval 13) line 11.
Smartmatch is deprecated at (eval 13) line 21.
Smartmatch is deprecated at (eval 10) line 8.
Smartmatch is deprecated at (eval 10) line 15.
Smartmatch is deprecated at (eval 11) line 8.
Smartmatch is deprecated at (eval 11) line 15.
Smartmatch is deprecated at (eval 12) line 8.
Smartmatch is deprecated at (eval 12) line 15.
Smartmatch is deprecated at (eval 13) line 11.
Smartmatch is deprecated at (eval 13) line 21.
Smartmatch is deprecated at (eval 10) line 8.
Smartmatch is deprecated at (eval 10) line 15.
Smartmatch is deprecated at (eval 11) line 8.
Smartmatch is deprecated at (eval 11) line 15.
Smartmatch is deprecated at (eval 12) line 8.
Smartmatch is deprecated at (eval 12) line 15.
Smartmatch is deprecated at (eval 13) line 11.
Smartmatch is deprecated at (eval 13) line 21.
Smartmatch is deprecated at (eval 10) line 8.
Smartmatch is deprecated at (eval 10) line 15.
Smartmatch is deprecated at (eval 11) line 8.
Smartmatch is deprecated at (eval 11) line 15.
Smartmatch is deprecated at (eval 12) line 8.
Smartmatch is deprecated at (eval 12) line 15.
Smartmatch is deprecated at (eval 13) line 11.
Smartmatch is deprecated at (eval 13) line 21.
Smartmatch is deprecated at (eval 163) line 8.
Smartmatch is deprecated at (eval 163) line 15.
Smartmatch is deprecated at (eval 164) line 8.
Smartmatch is deprecated at (eval 164) line 15.
Smartmatch is deprecated at (eval 165) line 8.
Smartmatch is deprecated at (eval 165) line 15.
Smartmatch is deprecated at (eval 166) line 11.
Smartmatch is deprecated at (eval 166) line 21.
t/no_meta_ok.t ......................................... ok
t/pristine_ok.t ........................................ ok
t/validate_attribute/coerce.t .......................... ok
Smartmatch is deprecated at (eval 161) line 8.
Smartmatch is deprecated at (eval 161) line 15.
Smartmatch is deprecated at (eval 162) line 8.
Smartmatch is deprecated at (eval 162) line 15.
Smartmatch is deprecated at (eval 163) line 8.
Smartmatch is deprecated at (eval 163) line 15.
Smartmatch is deprecated at (eval 164) line 11.
Smartmatch is deprecated at (eval 164) line 21.
t/requires_method_ok.t ................................. ok
t/subtest-1.t .......................................... ok
t/validate_attribute/basic.t ........................... ok
Smartmatch is deprecated at (eval 10) line 8.
Smartmatch is deprecated at (eval 10) line 15.
Smartmatch is deprecated at (eval 11) line 8.
Smartmatch is deprecated at (eval 11) line 15.
Smartmatch is deprecated at (eval 12) line 8.
Smartmatch is deprecated at (eval 12) line 15.
Smartmatch is deprecated at (eval 13) line 11.
Smartmatch is deprecated at (eval 13) line 21.
Smartmatch is deprecated at (eval 167) line 8.
Smartmatch is deprecated at (eval 167) line 15.
Smartmatch is deprecated at (eval 168) line 8.
Smartmatch is deprecated at (eval 168) line 15.
Smartmatch is deprecated at (eval 169) line 8.
Smartmatch is deprecated at (eval 169) line 15.
Smartmatch is deprecated at (eval 170) line 11.
Smartmatch is deprecated at (eval 170) line 21.
Smartmatch is deprecated at (eval 10) line 8.
Smartmatch is deprecated at (eval 10) line 15.
Smartmatch is deprecated at (eval 11) line 8.
Smartmatch is deprecated at (eval 11) line 15.
Smartmatch is deprecated at (eval 12) line 8.
Smartmatch is deprecated at (eval 12) line 15.
Smartmatch is deprecated at (eval 13) line 11.
Smartmatch is deprecated at (eval 13) line 21.
t/validate_attribute/lazy.t ............................ ok
t/validate_attribute/required.t ........................ ok
Smartmatch is deprecated at (eval 10) line 8.
Smartmatch is deprecated at (eval 10) line 15.
Smartmatch is deprecated at (eval 11) line 8.
Smartmatch is deprecated at (eval 11) line 15.
Smartmatch is deprecated at (eval 12) line 8.
Smartmatch is deprecated at (eval 12) line 15.
Smartmatch is deprecated at (eval 13) line 11.
Smartmatch is deprecated at (eval 13) line 21.
t/validate_attribute/in_roles.t ........................ ok
Smartmatch is deprecated at (eval 165) line 8.
Smartmatch is deprecated at (eval 165) line 15.
Smartmatch is deprecated at (eval 166) line 8.
Smartmatch is deprecated at (eval 166) line 15.
Smartmatch is deprecated at (eval 167) line 8.
Smartmatch is deprecated at (eval 167) line 15.
Smartmatch is deprecated at (eval 168) line 11.
Smartmatch is deprecated at (eval 168) line 21.
Smartmatch is deprecated at (eval 165) line 8.
Smartmatch is deprecated at (eval 165) line 15.
Smartmatch is deprecated at (eval 166) line 8.
Smartmatch is deprecated at (eval 166) line 15.
Smartmatch is deprecated at (eval 167) line 8.
Smartmatch is deprecated at (eval 167) line 15.
Smartmatch is deprecated at (eval 168) line 11.
Smartmatch is deprecated at (eval 168) line 21.
t/validate_class/metaclasses.t ......................... ok
t/validate_class/metaroles.t ........................... ok
t/validate_class/basic.t ............................... ok
Smartmatch is deprecated at (eval 167) line 8.
Smartmatch is deprecated at (eval 167) line 15.
Smartmatch is deprecated at (eval 168) line 8.
Smartmatch is deprecated at (eval 168) line 15.
Smartmatch is deprecated at (eval 169) line 8.
Smartmatch is deprecated at (eval 169) line 15.
Smartmatch is deprecated at (eval 170) line 11.
Smartmatch is deprecated at (eval 170) line 21.
t/validate_role/basic.t ................................ ok
Smartmatch is deprecated at (eval 161) line 8.
Smartmatch is deprecated at (eval 161) line 15.
Smartmatch is deprecated at (eval 162) line 8.
Smartmatch is deprecated at (eval 162) line 15.
Smartmatch is deprecated at (eval 163) line 8.
Smartmatch is deprecated at (eval 163) line 15.
Smartmatch is deprecated at (eval 164) line 11.
Smartmatch is deprecated at (eval 164) line 21.
Smartmatch is deprecated at (eval 165) line 8.
Smartmatch is deprecated at (eval 165) line 15.
Smartmatch is deprecated at (eval 166) line 8.
Smartmatch is deprecated at (eval 166) line 15.
Smartmatch is deprecated at (eval 167) line 8.
Smartmatch is deprecated at (eval 167) line 15.
Smartmatch is deprecated at (eval 168) line 11.
Smartmatch is deprecated at (eval 168) line 21.
t/validate_class/methods.t ............................. ok
Smartmatch is deprecated at (eval 165) line 8.
Smartmatch is deprecated at (eval 165) line 15.
Smartmatch is deprecated at (eval 166) line 8.
Smartmatch is deprecated at (eval 166) line 15.
Smartmatch is deprecated at (eval 167) line 8.
Smartmatch is deprecated at (eval 167) line 15.
Smartmatch is deprecated at (eval 168) line 11.
Smartmatch is deprecated at (eval 168) line 21.
Smartmatch is deprecated at (eval 165) line 8.
Smartmatch is deprecated at (eval 165) line 15.
Smartmatch is deprecated at (eval 166) line 8.
Smartmatch is deprecated at (eval 166) line 15.
Smartmatch is deprecated at (eval 167) line 8.
Smartmatch is deprecated at (eval 167) line 15.
Smartmatch is deprecated at (eval 168) line 11.
Smartmatch is deprecated at (eval 168) line 21.
t/validate_role/metaclasses.t .......................... ok
t/validate_role/metaroles.t ............................ ok
Smartmatch is deprecated at (eval 165) line 8.
Smartmatch is deprecated at (eval 165) line 15.
Smartmatch is deprecated at (eval 166) line 8.
Smartmatch is deprecated at (eval 166) line 15.
Smartmatch is deprecated at (eval 167) line 8.
Smartmatch is deprecated at (eval 167) line 15.
Smartmatch is deprecated at (eval 168) line 11.
Smartmatch is deprecated at (eval 168) line 21.
t/validate_role/compose.t .............................. ok
t/validate_thing/metaclasses.t ......................... ok
Smartmatch is deprecated at (eval 10) line 8.
Smartmatch is deprecated at (eval 10) line 15.
Smartmatch is deprecated at (eval 11) line 8.
Smartmatch is deprecated at (eval 11) line 15.
Smartmatch is deprecated at (eval 12) line 8.
Smartmatch is deprecated at (eval 12) line 15.
Smartmatch is deprecated at (eval 13) line 11.
Smartmatch is deprecated at (eval 13) line 21.
Smartmatch is deprecated at (eval 10) line 8.
Smartmatch is deprecated at (eval 10) line 15.
Smartmatch is deprecated at (eval 11) line 8.
Smartmatch is deprecated at (eval 11) line 15.
Smartmatch is deprecated at (eval 12) line 8.
Smartmatch is deprecated at (eval 12) line 15.
Smartmatch is deprecated at (eval 13) line 11.
Smartmatch is deprecated at (eval 13) line 21.
t/validate_thing/sugar.t ............................... ok
Smartmatch is deprecated at (eval 161) line 8.
Smartmatch is deprecated at (eval 161) line 15.
Smartmatch is deprecated at (eval 162) line 8.
Smartmatch is deprecated at (eval 162) line 15.
Smartmatch is deprecated at (eval 163) line 8.
Smartmatch is deprecated at (eval 163) line 15.
Smartmatch is deprecated at (eval 164) line 11.
Smartmatch is deprecated at (eval 164) line 21.
t/validate_thing/methods.t ............................. ok
t/wrapped/in_roles.t ................................... ok
All tests successful.
Test Summary Report
-------------------
t/00-check-deps.t (Wstat: 0 Tests: 32 Failed: 0)
TODO passed: 32
Files=45, Tests=235, 1 wallclock secs ( 0.05 usr 0.04 sys + 3.87 cusr 0.68 csys = 4.64 CPU)
Result: PASS
------------------------------
PREREQUISITES
------------------------------
Prerequisite modules loaded:
runtime:
Module Need Have
---------------------------- ----- --------
Carp 0 1.54
Data::OptList 0 0.114
List::MoreUtils 0 0.430
List::Util 1.45 1.63
Moose::Util 0 2.2207
Moose::Util::TypeConstraints 0 2.2207
perl 5.006 5.041002
Scalar::Util 0 1.63
strict 0 1.13
Sub::Exporter::Progressive 0 0.001013
Syntax::Keyword::Junction 0 0.003008
Test::Builder 0 1.302199
Test::Moose 0 2.2207
Test::More 0.94 1.302199
warnings 0 1.70
build:
Module Need Have
---------------------------- ----- --------
ExtUtils::MakeMaker 0 7.70
configure:
Module Need Have
---------------------------- ----- --------
ExtUtils::MakeMaker 0 7.70
------------------------------
ENVIRONMENT AND OTHER CONTEXT
------------------------------
Environment variables:
HARNESS_OPTIONS = j6:c
LANG = en_CA.UTF-8
LC_ALL = en_CA.UTF-8
LC_CTYPE = en_CA.UTF-8
NO_NETWORK_TESTING = 1
PATH = /Volumes/chambord/Users/ether/.perlbrew/libs/41.2@std/bin:/Volumes/chambord/Users/ether/perl5/perlbrew/bin:/Volumes/chambord/Users/ether/perl5/perlbrew/perls/41.2/bin:/Volumes/chambord/Users/ether/bin:/Volumes/chambord/Users/ether/git/misc/install/advocaat/bin:/Volumes/chambord/Users/ether/git/misc/install/generic/bin:/opt/local/bin:/opt/local/sbin:/Volumes/chambord/Users/ether/git/git-hub/lib:/usr/local/bin:/System/Cryptexes/App/usr/bin:/usr/bin:/bin:/usr/sbin:/sbin:/var/run/com.apple.security.cryptexd/codex.system/bootstrap/usr/local/bin:/var/run/com.apple.security.cryptexd/codex.system/bootstrap/usr/bin:/var/run/com.apple.security.cryptexd/codex.system/bootstrap/usr/appleinternal/bin:/Library/Apple/usr/bin:/opt/local/share/git-core/contrib/workdir
PERL5LIB = /Volumes/chambord/Users/ether/.perlbrew/libs/41.2@std/lib/perl5
PERLBREW_HOME = /Volumes/chambord/Users/ether/.perlbrew
PERLBREW_LIB = std
PERLBREW_MANPATH = /Volumes/chambord/Users/ether/.perlbrew/libs/41.2@std/man:/Volumes/chambord/Users/ether/perl5/perlbrew/perls/41.2/man
PERLBREW_PATH = /Volumes/chambord/Users/ether/.perlbrew/libs/41.2@std/bin:/Volumes/chambord/Users/ether/perl5/perlbrew/bin:/Volumes/chambord/Users/ether/perl5/perlbrew/perls/41.2/bin
PERLBREW_PERL = 41.2
PERLBREW_ROOT = /Volumes/chambord/Users/ether/perl5/perlbrew
PERLBREW_SHELLRC_VERSION = 0.98
PERLBREW_VERSION = 0.98
PERLDOC = -oman
PERLDOC_PAGER = less -sicMr
PERL_AUTOINSTALL_PREFER_CPAN = 1
PERL_INSTALL_QUIET = 1
PERL_LOCAL_LIB_ROOT = /Volumes/chambord/Users/ether/.perlbrew/libs/41.2@std
PERL_MB_OPT = --install_base /Volumes/chambord/Users/ether/.perlbrew/libs/41.2@std
PERL_MM_OPT = INSTALL_BASE=/Volumes/chambord/Users/ether/.perlbrew/libs/41.2@std
PERL_TEST_HARNESS_ASAP = 1
PERL_USE_UNSAFE_INC = 0
SHELL = /bin/bash
TERM = xterm-color
Perl special variables (and OS-specific diagnostics, for MSWin32):
EGID = 20 20 12 61 79 80 81 98 701 704 703 702 705 33 100 204 250
EUID = 502
EXECUTABLE_NAME = /Volumes/chambord/Users/ether/perl5/perlbrew/perls/41.2/bin/perl5.41.2
GID = 20 20 12 61 79 80 81 98 701 704 703 702 705 33 100 204 250
UID = 502
Perl module toolchain versions installed:
Module Have
------------------- --------
CPAN 2.36
CPAN::Meta 2.150010
Cwd 3.92
ExtUtils::CBuilder 0.280240
ExtUtils::Command 7.70
ExtUtils::Install 2.22
ExtUtils::MakeMaker 7.70
ExtUtils::Manifest 1.75
ExtUtils::ParseXS 3.52
File::Spec 3.92
JSON n/a
JSON::PP 4.16
Module::Build 0.4234
Module::Signature n/a
Parse::CPAN::Meta 2.150010
Test::Harness 3.48
Test::More 1.302199
YAML n/a
YAML::Syck n/a
version 0.9930
--
Summary of my perl5 (revision 5 version 41 subversion 2) configuration:
Platform:
osname=darwin
osvers=23.5.0
archname=darwin-2level
uname='darwin advocaat 23.5.0 darwin kernel version 23.5.0: wed may 1 20:19:05 pdt 2024; root:xnu-10063.121.3~5release_arm64_t8112 arm64 '
config_args='-de -Dprefix=/Volumes/chambord/Users/ether/perl5/perlbrew/perls/41.2 -Dman1dir=none -Dman3dir=none -Dusedevel -Aeval:scriptdir=/Volumes/chambord/Users/ether/perl5/perlbrew/perls/41.2/bin'
hint=recommended
useposix=true
d_sigaction=define
useithreads=undef
usemultiplicity=undef
use64bitint=define
use64bitall=define
uselongdouble=undef
usemymalloc=n
default_inc_excludes_dot=define
Compiler:
cc='cc'
ccflags ='-fno-common -DPERL_DARWIN -mmacosx-version-min=14.5 -DNO_THREAD_SAFE_QUERYLOCALE -DNO_POSIX_2008_LOCALE -fno-strict-aliasing -pipe -fstack-protector-strong -I/opt/local/include'
optimize='-O3'
cppflags='-fno-common -DPERL_DARWIN -mmacosx-version-min=14.5 -DNO_THREAD_SAFE_QUERYLOCALE -DNO_POSIX_2008_LOCALE -fno-strict-aliasing -pipe -fstack-protector-strong -I/opt/local/include'
ccversion=''
gccversion='Apple LLVM 15.0.0 (clang-1500.3.9.4)'
gccosandvers=''
intsize=4
longsize=8
ptrsize=8
doublesize=8
byteorder=12345678
doublekind=3
d_longlong=define
longlongsize=8
d_longdbl=define
longdblsize=8
longdblkind=0
ivtype='long'
ivsize=8
nvtype='double'
nvsize=8
Off_t='off_t'
lseeksize=8
alignbytes=8
prototype=define
Linker and Libraries:
ld='cc'
ldflags =' -mmacosx-version-min=14.5 -fstack-protector-strong -L/opt/local/lib'
libpth=/Applications/Xcode.app/Contents/Developer/Toolchains/XcodeDefault.xctoolchain/usr/lib/clang/15.0.0/lib /Applications/Xcode.app/Contents/Developer/Platforms/MacOSX.platform/Developer/SDKs/MacOSX.sdk/usr/lib /Applications/Xcode.app/Contents/Developer/Toolchains/XcodeDefault.xctoolchain/usr/lib /opt/local/lib /usr/lib
libs=-lgdbm
perllibs=
libc=
so=dylib
useshrplib=false
libperl=libperl.a
gnulibc_version=''
Dynamic Linking:
dlsrc=dl_dlopen.xs
dlext=bundle
d_dlsymun=undef
ccdlflags=' '
cccdlflags=' '
lddlflags=' -mmacosx-version-min=14.5 -bundle -undefined dynamic_lookup -L/opt/local/lib -fstack-protector-strong'
Characteristics of this binary (from libperl):
Compile-time options:
HAS_LONG_DOUBLE
HAS_STRTOLD
HAS_TIMES
PERLIO_LAYERS
PERL_COPY_ON_WRITE
PERL_DONT_CREATE_GVSV
PERL_HASH_FUNC_SIPHASH13
PERL_HASH_USE_SBOX32
PERL_MALLOC_WRAP
PERL_OP_PARENT
PERL_PRESERVE_IVUV
PERL_USE_DEVEL
PERL_USE_SAFE_PUTENV
USE_64_BIT_ALL
USE_64_BIT_INT
USE_LARGE_FILES
USE_LOCALE
USE_LOCALE_COLLATE
USE_LOCALE_CTYPE
USE_LOCALE_NUMERIC
USE_LOCALE_TIME
USE_PERLIO
USE_PERL_ATOF
Built under darwin
Compiled at Jul 20 2024 15:45:14
%ENV:
PERL5LIB="/Volumes/chambord/Users/ether/.perlbrew/libs/41.2@std/lib/perl5"
PERLBREW_HOME="/Volumes/chambord/Users/ether/.perlbrew"
PERLBREW_LIB="std"
PERLBREW_MANPATH="/Volumes/chambord/Users/ether/.perlbrew/libs/41.2@std/man:/Volumes/chambord/Users/ether/perl5/perlbrew/perls/41.2/man"
PERLBREW_PATH="/Volumes/chambord/Users/ether/.perlbrew/libs/41.2@std/bin:/Volumes/chambord/Users/ether/perl5/perlbrew/bin:/Volumes/chambord/Users/ether/perl5/perlbrew/perls/41.2/bin"
PERLBREW_PERL="41.2"
PERLBREW_ROOT="/Volumes/chambord/Users/ether/perl5/perlbrew"
PERLBREW_SHELLRC_VERSION="0.98"
PERLBREW_VERSION="0.98"
PERLDOC="-oman"
PERLDOC_PAGER="less -sicMr"
PERL_AUTOINSTALL_PREFER_CPAN="1"
PERL_INSTALL_QUIET="1"
PERL_LOCAL_LIB_ROOT="/Volumes/chambord/Users/ether/.perlbrew/libs/41.2@std"
PERL_MB_OPT="--install_base /Volumes/chambord/Users/ether/.perlbrew/libs/41.2@std"
PERL_MM_OPT="INSTALL_BASE=/Volumes/chambord/Users/ether/.perlbrew/libs/41.2@std"
PERL_TEST_HARNESS_ASAP="1"
PERL_USE_UNSAFE_INC="0"
@INC:
/Volumes/chambord/Users/ether/.perlbrew/libs/41.2@std/lib/perl5/darwin-2level
/Volumes/chambord/Users/ether/.perlbrew/libs/41.2@std/lib/perl5
/Volumes/chambord/Users/ether/perl5/perlbrew/perls/41.2/lib/site_perl/5.41.2/darwin-2level
/Volumes/chambord/Users/ether/perl5/perlbrew/perls/41.2/lib/site_perl/5.41.2
/Volumes/chambord/Users/ether/perl5/perlbrew/perls/41.2/lib/5.41.2/darwin-2level
/Volumes/chambord/Users/ether/perl5/perlbrew/perls/41.2/lib/5.41.2