Bio-ToolBox v1.62 Perl 5 v5.8.9 amd64-freebsd

Status
Pass
From
Slaven Rezić (SREZIC)
Dist
Bio-ToolBox v1.62
Platform
Perl 5 v5.8.9 amd64-freebsd
Date
2018-09-05 04:02:32
ID
837b0820-b0c0-11e8-8cdb-b60b6acd40c3
This distribution has been tested as part of the CPAN Testers
project, supporting the Perl programming language.  See
http://wiki.cpantesters.org/ for more information or email
questions to cpan-testers-discuss@perl.org


--
Dear Timothy Parnell,

This is a computer-generated report for Bio-ToolBox-1.62
on perl 5.8.9, created by CPAN-Reporter-1.2018.

Thank you for uploading your work to CPAN.  Congratulations!
All tests were successful.

Sections of this report:

    * Tester comments
    * Program output
    * Prerequisites
    * Environment and other context

------------------------------
TESTER COMMENTS
------------------------------

Additional comments from tester:

none provided

------------------------------
PROGRAM OUTPUT
------------------------------

Output from './Build test':

Use of implicit split to @_ is deprecated at /usr/home/eserte/.cpan/build/2018090506/Bio-ToolBox-1.62-5/blib/lib/Bio/ToolBox/Data/file.pm line 341.
Use of implicit split to @_ is deprecated at /usr/home/eserte/.cpan/build/2018090506/Bio-ToolBox-1.62-5/blib/lib/Bio/ToolBox/Data/file.pm line 347.
Use of implicit split to @_ is deprecated at /usr/home/eserte/.cpan/build/2018090506/Bio-ToolBox-1.62-5/blib/lib/Bio/ToolBox/Data/file.pm line 353.
t/01.Data.t ............ ok
Use of implicit split to @_ is deprecated at /usr/home/eserte/.cpan/build/2018090506/Bio-ToolBox-1.62-5/blib/lib/Bio/ToolBox/Data/file.pm line 341.
Use of implicit split to @_ is deprecated at /usr/home/eserte/.cpan/build/2018090506/Bio-ToolBox-1.62-5/blib/lib/Bio/ToolBox/Data/file.pm line 347.
Use of implicit split to @_ is deprecated at /usr/home/eserte/.cpan/build/2018090506/Bio-ToolBox-1.62-5/blib/lib/Bio/ToolBox/Data/file.pm line 353.
t/02.parser.t .......... ok
Use of implicit split to @_ is deprecated at /usr/home/eserte/.cpan/build/2018090506/Bio-ToolBox-1.62-5/blib/lib/Bio/ToolBox/Data/file.pm line 341.
Use of implicit split to @_ is deprecated at /usr/home/eserte/.cpan/build/2018090506/Bio-ToolBox-1.62-5/blib/lib/Bio/ToolBox/Data/file.pm line 347.
Use of implicit split to @_ is deprecated at /usr/home/eserte/.cpan/build/2018090506/Bio-ToolBox-1.62-5/blib/lib/Bio/ToolBox/Data/file.pm line 353.
t/03.GeneTools.t ....... ok
Use of implicit split to @_ is deprecated at /usr/home/eserte/.cpan/build/2018090506/Bio-ToolBox-1.62-5/blib/lib/Bio/ToolBox/Data/file.pm line 341.
Use of implicit split to @_ is deprecated at /usr/home/eserte/.cpan/build/2018090506/Bio-ToolBox-1.62-5/blib/lib/Bio/ToolBox/Data/file.pm line 347.
Use of implicit split to @_ is deprecated at /usr/home/eserte/.cpan/build/2018090506/Bio-ToolBox-1.62-5/blib/lib/Bio/ToolBox/Data/file.pm line 353.
False [] range "\w-" in regex; marked by <-- HERE in m/^([\w- <-- HERE \.]+):([\w-\.]*)$/ at /usr/perl5.8.9/lib/site_perl/5.8.9/Bio/DB/GFF/Typename.pm line 55.
False [] range "\w-" in regex; marked by <-- HERE in m/^([\w-\.]+):([\w- <-- HERE \.]*)$/ at /usr/perl5.8.9/lib/site_perl/5.8.9/Bio/DB/GFF/Typename.pm line 55.
t/04.DB.t .............. ok
t/05.Bam-HTS.t ......... skipped: Optional module Bio::DB::HTS not available
t/05.Bam-Samtools.t .... skipped: Optional module Bio::DB::Sam not available
t/06.BigBed-UCSC.t ..... skipped: Optional module Bio::DB::BigBed not available
t/06.BigBed-big.t ...... skipped: Optional module Bio::DB::Big not available
t/07.BigWig-UCSC.t ..... skipped: Optional module Bio::DB::BigWig not available
t/07.BigWig-big.t ...... skipped: Optional module Bio::DB::Big not available
t/08.BigWigSet-UCSC.t .. skipped: Optional module Bio::DB::BigWigSet not available
t/08.BigWigSet-big.t ... skipped: Optional module Bio::DB::Big not available
t/09.USeq.t ............ skipped: Optional module Bio::DB::USeq not available
Use of implicit split to @_ is deprecated at /usr/home/eserte/.cpan/build/2018090506/Bio-ToolBox-1.62-5/blib/lib/Bio/ToolBox/Data/file.pm line 341.
Use of implicit split to @_ is deprecated at /usr/home/eserte/.cpan/build/2018090506/Bio-ToolBox-1.62-5/blib/lib/Bio/ToolBox/Data/file.pm line 347.
Use of implicit split to @_ is deprecated at /usr/home/eserte/.cpan/build/2018090506/Bio-ToolBox-1.62-5/blib/lib/Bio/ToolBox/Data/file.pm line 353.
False [] range "\w-" in regex; marked by <-- HERE in m/^([\w- <-- HERE \.]+):([\w-\.]*)$/ at /usr/perl5.8.9/lib/site_perl/5.8.9/Bio/DB/GFF/Typename.pm line 55.
False [] range "\w-" in regex; marked by <-- HERE in m/^([\w-\.]+):([\w- <-- HERE \.]*)$/ at /usr/perl5.8.9/lib/site_perl/5.8.9/Bio/DB/GFF/Typename.pm line 55.
t/10.Wiggle.t .......... ok
All tests successful.
Files=14, Tests=866,  3 wallclock secs ( 0.02 usr  0.11 sys +  1.31 cusr  0.38 csys =  1.83 CPU)
Result: PASS

------------------------------
PREREQUISITES
------------------------------

Prerequisite modules loaded:

requires:

    Module                  Need      Have    
    ----------------------- --------- --------
    Bio::Root::Version      1.0069023 1.007001
    Config::Simple          4.58      4.58    
    File::Which             0         1.22    
    Getopt::Long            2.24      2.5     
    List::Util              0         1.50    
    Module::Load            0         0.32    
    Statistics::Descriptive 3         3.0701  
    Statistics::Lite        3.2       3.62    

build_requires:

    Module                  Need      Have    
    ----------------------- --------- --------
    Test::More              0         1.302140

configure_requires:

    Module                  Need      Have    
    ----------------------- --------- --------
    Module::Build           0         0.4224  


------------------------------
ENVIRONMENT AND OTHER CONTEXT
------------------------------

Environment variables:

    LC_ALL = de_DE.ISO8859-1
    PATH = /usr/local/bin:/usr/bin:/bin:/usr/local/sbin:/usr/sbin:/sbin:/home/cpansand/bin/freebsd9.3:/home/cpansand/bin/sh:/home/cpansand/bin:/usr/games:/home/cpansand/devel:/usr/home/eserte/src/srezic-misc/scripts
    PERL5LIB = 
    PERL5OPT = 
    PERL5_CPANPLUS_IS_RUNNING = 27256
    PERL5_CPAN_IS_RUNNING = 27256
    PERL5_CPAN_IS_RUNNING_IN_RECURSION = 27210,27256
    PERLDOC = -MPod::Perldoc::ToTextOverstrike
    PERL_BATCH = yes
    PERL_CANARY_STABILITY_NOPROMPT = 1
    PERL_CPAN_REPORTER_CONFIG = /var/tmp/cpansmoker-1023/2018090506/cpanreporter_000_config.ini
    PERL_EXTUTILS_AUTOINSTALL = --defaultdeps
    SHELL = /usr/local/bin/zsh
    TERM = screen
    TMPDIR = /var/tmp/cpansmoker-1023/2018090506

Perl special variables (and OS-specific diagnostics, for MSWin32):

    $^X = /usr/perl5.8.9/bin/perl
    $UID/$EUID = 1023 / 1023
    $GID = 1023 1023
    $EGID = 1023 1023

Perl module toolchain versions installed:

    Module              Have    
    ------------------- --------
    CPAN                2.16    
    CPAN::Meta          2.150010
    Cwd                 3.74    
    ExtUtils::CBuilder  0.280230
    ExtUtils::Command   7.34    
    ExtUtils::Install   2.12    
    ExtUtils::MakeMaker 7.34    
    ExtUtils::Manifest  1.71    
    ExtUtils::ParseXS   3.35    
    File::Spec          3.74    
    JSON                2.97001 
    JSON::PP            2.97001 
    Module::Build       0.4224  
    Module::Signature   0.81    
    Parse::CPAN::Meta   2.150010
    Test::Harness       3.41    
    Test::More          1.302140
    YAML                1.23    
    YAML::Syck          1.30    
    version             0.9924  


--

Summary of my perl5 (revision 5 version 8 subversion 9) configuration:
  Platform:
    osname=freebsd, osvers=9.2-release-p4, archname=amd64-freebsd
    uname='freebsd cvrsnica-freebsd-92 9.2-release-p4 freebsd 9.2-release-p4 #0: tue apr 8 18:08:22 utc 2014 root@amd64-builder.daemonology.net:usrobjusrsrcsysgeneric amd64 '
    config_args='-ds -e -Dprefix=/usr/perl5.8.9'
    hint=recommended, useposix=true, d_sigaction=define
    usethreads=undef use5005threads=undef useithreads=undef usemultiplicity=undef
    useperlio=define d_sfio=undef uselargefiles=define usesocks=undef
    use64bitint=define use64bitall=define uselongdouble=undef
    usemymalloc=n, bincompat5005=undef
  Compiler:
    cc='cc', ccflags ='-DHAS_FPSETMASK -DHAS_FLOATINGPOINT_H -fno-strict-aliasing -pipe -I/usr/local/include',
    optimize='-O',
    cppflags='-DHAS_FPSETMASK -DHAS_FLOATINGPOINT_H -fno-strict-aliasing -pipe -I/usr/local/include'
    ccversion='', gccversion='4.2.1 20070831 patched [FreeBSD]', gccosandvers=''
    intsize=4, longsize=8, ptrsize=8, doublesize=8, byteorder=12345678
    d_longlong=define, longlongsize=8, d_longdbl=define, longdblsize=16
    ivtype='long', ivsize=8, nvtype='double', nvsize=8, Off_t='off_t', lseeksize=8
    alignbytes=8, prototype=define
  Linker and Libraries:
    ld='cc', ldflags ='-Wl,-E  -L/usr/local/lib'
    libpth=/usr/lib /usr/local/lib
    libs=-lgdbm -lm -lcrypt -lutil -lc
    perllibs=-lm -lcrypt -lutil -lc
    libc=, so=so, useshrplib=false, libperl=libperl.a
    gnulibc_version=''
  Dynamic Linking:
    dlsrc=dl_dlopen.xs, dlext=so, d_dlsymun=undef, ccdlflags=' '
    cccdlflags='-DPIC -fPIC', lddlflags='-shared  -L/usr/local/lib'


Characteristics of this binary (from libperl): 
  Compile-time options: PERL_MALLOC_WRAP USE_64_BIT_ALL USE_64_BIT_INT
                        USE_FAST_STDIO USE_LARGE_FILES USE_PERLIO
  Built under freebsd
  Compiled at May 15 2014 22:27:57
  %ENV:
    PERL5LIB=""
    PERL5OPT=""
    PERL5_CPANPLUS_IS_RUNNING="27256"
    PERL5_CPAN_IS_RUNNING="27256"
    PERL5_CPAN_IS_RUNNING_IN_RECURSION="27210,27256"
    PERLDOC="-MPod::Perldoc::ToTextOverstrike"
    PERL_BATCH="yes"
    PERL_CANARY_STABILITY_NOPROMPT="1"
    PERL_CPAN_REPORTER_CONFIG="/var/tmp/cpansmoker-1023/2018090506/cpanreporter_000_config.ini"
    PERL_EXTUTILS_AUTOINSTALL="--defaultdeps"
  @INC:
    /usr/perl5.8.9/lib/5.8.9/amd64-freebsd
    /usr/perl5.8.9/lib/5.8.9
    /usr/perl5.8.9/lib/site_perl/5.8.9/amd64-freebsd
    /usr/perl5.8.9/lib/site_perl/5.8.9
    .