DateTime-Format-Intl vv0.1.8 Perl 5 v5.22.2 amd64-freebsd-thread-multi

Status
Pass
From
Slaven Rezić
Dist
DateTime-Format-Intl vv0.1.8
Platform
Perl 5 v5.22.2 amd64-freebsd-thread-multi
Date
2025-01-06 01:06:51
ID
8328ea96-cbca-11ef-8162-c0ea6d8775ea
This distribution has been tested as part of the CPAN Testers
project, supporting the Perl programming language.  See
http://wiki.cpantesters.org/ for more information or email
questions to cpan-testers-discuss@perl.org


--
Dear Jacques Deguest,

This is a computer-generated report for DateTime-Format-Intl-v0.1.8
on perl 5.22.2, created by CPAN-Reporter-1.2017.

Thank you for uploading your work to CPAN.  Congratulations!
All tests were successful.

Sections of this report:

    * Tester comments
    * Program output
    * Prerequisites
    * Environment and other context

------------------------------
TESTER COMMENTS
------------------------------

Additional comments from tester:

none provided

------------------------------
PROGRAM OUTPUT
------------------------------

Output from '/usr/bin/make test':

PERL_DL_NONLAZY=1 "/usr/perl5.22.2t/bin/perl5.22.2" "-MExtUtils::Command::MM" "-MTest::Harness" "-e" "undef *Test::Harness::Switches; test_harness(0, 'blib/lib', 'blib/arch')" t/*.t
t/001_load.t ....................... ok
t/002_methods.t .................... ok
Warning only: unsupported numbering system provided (jpanfin) via the locale "nu" extension (ja-Kana-JP-u-ca-gregory-nu-jpanfin-tz-jptyo). at lib/DateTime/Format/Intl.pm line 357.
Warning only: unsupported numbering system provided (jpanfin) via the locale "nu" extension (ja-Kana-JP-u-ca-gregory-nu-jpanfin-tz-jptyo). at lib/DateTime/Format/Intl.pm line 357.
Warning only: unsupported numbering system provided (arab) via the locale "nu" extension (ar-EG-u-ca-gregory-nu-arab-tz-egcai). at lib/DateTime/Format/Intl.pm line 357.
t/003_resolved_options.t ........... ok
t/004_supported_locales_of.t ....... ok
t/005_select_best_pattern.t ........ ok
t/006_format.t ..................... ok
Use of uninitialized value in join or string at /home/cpansand/.cpan/build/2025010602/DateTime-Locale-FromCLDR-v0.6.1-lWaUaV/blib/lib/DateTime/Locale/FromCLDR.pm line 471.
Warning: something's wrong at /home/cpansand/.cpan/build/2025010602/DateTime-Locale-FromCLDR-v0.6.1-lWaUaV/blib/lib/DateTime/Locale/FromCLDR.pm line 482.
Use of uninitialized value in join or string at /home/cpansand/.cpan/build/2025010602/DateTime-Locale-FromCLDR-v0.6.1-lWaUaV/blib/lib/DateTime/Locale/FromCLDR.pm line 471.
Warning: something's wrong at /home/cpansand/.cpan/build/2025010602/DateTime-Locale-FromCLDR-v0.6.1-lWaUaV/blib/lib/DateTime/Locale/FromCLDR.pm line 482.
Use of uninitialized value in join or string at /home/cpansand/.cpan/build/2025010602/DateTime-Locale-FromCLDR-v0.6.1-lWaUaV/blib/lib/DateTime/Locale/FromCLDR.pm line 471.
Warning: something's wrong at /home/cpansand/.cpan/build/2025010602/DateTime-Locale-FromCLDR-v0.6.1-lWaUaV/blib/lib/DateTime/Locale/FromCLDR.pm line 482.
Use of uninitialized value in join or string at /home/cpansand/.cpan/build/2025010602/DateTime-Locale-FromCLDR-v0.6.1-lWaUaV/blib/lib/DateTime/Locale/FromCLDR.pm line 471.
Warning: something's wrong at /home/cpansand/.cpan/build/2025010602/DateTime-Locale-FromCLDR-v0.6.1-lWaUaV/blib/lib/DateTime/Locale/FromCLDR.pm line 482.
Use of uninitialized value in join or string at /home/cpansand/.cpan/build/2025010602/DateTime-Locale-FromCLDR-v0.6.1-lWaUaV/blib/lib/DateTime/Locale/FromCLDR.pm line 471.
Warning: something's wrong at /home/cpansand/.cpan/build/2025010602/DateTime-Locale-FromCLDR-v0.6.1-lWaUaV/blib/lib/DateTime/Locale/FromCLDR.pm line 482.
Use of uninitialized value in join or string at /home/cpansand/.cpan/build/2025010602/DateTime-Locale-FromCLDR-v0.6.1-lWaUaV/blib/lib/DateTime/Locale/FromCLDR.pm line 471.
Warning: something's wrong at /home/cpansand/.cpan/build/2025010602/DateTime-Locale-FromCLDR-v0.6.1-lWaUaV/blib/lib/DateTime/Locale/FromCLDR.pm line 482.
Use of uninitialized value in join or string at /home/cpansand/.cpan/build/2025010602/DateTime-Locale-FromCLDR-v0.6.1-lWaUaV/blib/lib/DateTime/Locale/FromCLDR.pm line 471.
Warning: something's wrong at /home/cpansand/.cpan/build/2025010602/DateTime-Locale-FromCLDR-v0.6.1-lWaUaV/blib/lib/DateTime/Locale/FromCLDR.pm line 482.
Use of uninitialized value in join or string at /home/cpansand/.cpan/build/2025010602/DateTime-Locale-FromCLDR-v0.6.1-lWaUaV/blib/lib/DateTime/Locale/FromCLDR.pm line 471.
Warning: something's wrong at /home/cpansand/.cpan/build/2025010602/DateTime-Locale-FromCLDR-v0.6.1-lWaUaV/blib/lib/DateTime/Locale/FromCLDR.pm line 482.
t/007_select_best_range_pattern.t .. ok
Use of uninitialized value in join or string at /home/cpansand/.cpan/build/2025010602/DateTime-Locale-FromCLDR-v0.6.1-lWaUaV/blib/lib/DateTime/Locale/FromCLDR.pm line 471.
Warning: something's wrong at /home/cpansand/.cpan/build/2025010602/DateTime-Locale-FromCLDR-v0.6.1-lWaUaV/blib/lib/DateTime/Locale/FromCLDR.pm line 482.
Use of uninitialized value in join or string at /home/cpansand/.cpan/build/2025010602/DateTime-Locale-FromCLDR-v0.6.1-lWaUaV/blib/lib/DateTime/Locale/FromCLDR.pm line 471.
Warning: something's wrong at /home/cpansand/.cpan/build/2025010602/DateTime-Locale-FromCLDR-v0.6.1-lWaUaV/blib/lib/DateTime/Locale/FromCLDR.pm line 482.
Use of uninitialized value in join or string at /home/cpansand/.cpan/build/2025010602/DateTime-Locale-FromCLDR-v0.6.1-lWaUaV/blib/lib/DateTime/Locale/FromCLDR.pm line 471.
Warning: something's wrong at /home/cpansand/.cpan/build/2025010602/DateTime-Locale-FromCLDR-v0.6.1-lWaUaV/blib/lib/DateTime/Locale/FromCLDR.pm line 482.
Use of uninitialized value in join or string at /home/cpansand/.cpan/build/2025010602/DateTime-Locale-FromCLDR-v0.6.1-lWaUaV/blib/lib/DateTime/Locale/FromCLDR.pm line 471.
Warning: something's wrong at /home/cpansand/.cpan/build/2025010602/DateTime-Locale-FromCLDR-v0.6.1-lWaUaV/blib/lib/DateTime/Locale/FromCLDR.pm line 482.
Use of uninitialized value in join or string at /home/cpansand/.cpan/build/2025010602/DateTime-Locale-FromCLDR-v0.6.1-lWaUaV/blib/lib/DateTime/Locale/FromCLDR.pm line 471.
Warning: something's wrong at /home/cpansand/.cpan/build/2025010602/DateTime-Locale-FromCLDR-v0.6.1-lWaUaV/blib/lib/DateTime/Locale/FromCLDR.pm line 482.
Use of uninitialized value in join or string at /home/cpansand/.cpan/build/2025010602/DateTime-Locale-FromCLDR-v0.6.1-lWaUaV/blib/lib/DateTime/Locale/FromCLDR.pm line 471.
Warning: something's wrong at /home/cpansand/.cpan/build/2025010602/DateTime-Locale-FromCLDR-v0.6.1-lWaUaV/blib/lib/DateTime/Locale/FromCLDR.pm line 482.
Use of uninitialized value in join or string at /home/cpansand/.cpan/build/2025010602/DateTime-Locale-FromCLDR-v0.6.1-lWaUaV/blib/lib/DateTime/Locale/FromCLDR.pm line 471.
Warning: something's wrong at /home/cpansand/.cpan/build/2025010602/DateTime-Locale-FromCLDR-v0.6.1-lWaUaV/blib/lib/DateTime/Locale/FromCLDR.pm line 482.
Use of uninitialized value in join or string at /home/cpansand/.cpan/build/2025010602/DateTime-Locale-FromCLDR-v0.6.1-lWaUaV/blib/lib/DateTime/Locale/FromCLDR.pm line 471.
Warning: something's wrong at /home/cpansand/.cpan/build/2025010602/DateTime-Locale-FromCLDR-v0.6.1-lWaUaV/blib/lib/DateTime/Locale/FromCLDR.pm line 482.
t/008_format_range.t ............... ok
t/009_date_time_combination.t ...... ok
t/010_format_to_parts.t ............ ok
Use of uninitialized value in join or string at /home/cpansand/.cpan/build/2025010602/DateTime-Locale-FromCLDR-v0.6.1-lWaUaV/blib/lib/DateTime/Locale/FromCLDR.pm line 471.
Warning: something's wrong at /home/cpansand/.cpan/build/2025010602/DateTime-Locale-FromCLDR-v0.6.1-lWaUaV/blib/lib/DateTime/Locale/FromCLDR.pm line 482.
Use of uninitialized value in join or string at /home/cpansand/.cpan/build/2025010602/DateTime-Locale-FromCLDR-v0.6.1-lWaUaV/blib/lib/DateTime/Locale/FromCLDR.pm line 471.
Warning: something's wrong at /home/cpansand/.cpan/build/2025010602/DateTime-Locale-FromCLDR-v0.6.1-lWaUaV/blib/lib/DateTime/Locale/FromCLDR.pm line 482.
Use of uninitialized value in join or string at /home/cpansand/.cpan/build/2025010602/DateTime-Locale-FromCLDR-v0.6.1-lWaUaV/blib/lib/DateTime/Locale/FromCLDR.pm line 471.
Warning: something's wrong at /home/cpansand/.cpan/build/2025010602/DateTime-Locale-FromCLDR-v0.6.1-lWaUaV/blib/lib/DateTime/Locale/FromCLDR.pm line 482.
Use of uninitialized value in join or string at /home/cpansand/.cpan/build/2025010602/DateTime-Locale-FromCLDR-v0.6.1-lWaUaV/blib/lib/DateTime/Locale/FromCLDR.pm line 471.
Warning: something's wrong at /home/cpansand/.cpan/build/2025010602/DateTime-Locale-FromCLDR-v0.6.1-lWaUaV/blib/lib/DateTime/Locale/FromCLDR.pm line 482.
Use of uninitialized value in join or string at /home/cpansand/.cpan/build/2025010602/DateTime-Locale-FromCLDR-v0.6.1-lWaUaV/blib/lib/DateTime/Locale/FromCLDR.pm line 471.
Warning: something's wrong at /home/cpansand/.cpan/build/2025010602/DateTime-Locale-FromCLDR-v0.6.1-lWaUaV/blib/lib/DateTime/Locale/FromCLDR.pm line 482.
Use of uninitialized value in join or string at /home/cpansand/.cpan/build/2025010602/DateTime-Locale-FromCLDR-v0.6.1-lWaUaV/blib/lib/DateTime/Locale/FromCLDR.pm line 471.
Warning: something's wrong at /home/cpansand/.cpan/build/2025010602/DateTime-Locale-FromCLDR-v0.6.1-lWaUaV/blib/lib/DateTime/Locale/FromCLDR.pm line 482.
Use of uninitialized value in join or string at /home/cpansand/.cpan/build/2025010602/DateTime-Locale-FromCLDR-v0.6.1-lWaUaV/blib/lib/DateTime/Locale/FromCLDR.pm line 471.
Warning: something's wrong at /home/cpansand/.cpan/build/2025010602/DateTime-Locale-FromCLDR-v0.6.1-lWaUaV/blib/lib/DateTime/Locale/FromCLDR.pm line 482.
Use of uninitialized value in join or string at /home/cpansand/.cpan/build/2025010602/DateTime-Locale-FromCLDR-v0.6.1-lWaUaV/blib/lib/DateTime/Locale/FromCLDR.pm line 471.
Warning: something's wrong at /home/cpansand/.cpan/build/2025010602/DateTime-Locale-FromCLDR-v0.6.1-lWaUaV/blib/lib/DateTime/Locale/FromCLDR.pm line 482.
t/011_format_range_to_parts.t ...... ok
t/900_pod.t ........................ skipped: These tests are for author or release candidate testing
t/910_coverage.t ................... skipped: These tests are for author or release candidate testing
t/920_manifest.t ................... skipped: Author tests not required for installation
t/930_signature.t .................. skipped: Set the environment variable AUTHOR_TESTING to enable this test.
t/999_kwalitee.t ................... skipped: These tests are for author or release candidate testing
All tests successful.
Files=16, Tests=467, 22 wallclock secs ( 0.15 usr  0.20 sys + 14.93 cusr  6.10 csys = 21.38 CPU)
Result: PASS

------------------------------
PREREQUISITES
------------------------------

Prerequisite modules loaded:

requires:

    Module                     Need     Have    
    -------------------------- -------- --------
    DateTime                   0.42     1.28    
    DateTime::Format::Unicode  v0.1.6   v0.1.6  
    DateTime::Locale::FromCLDR v0.6.1   v0.6.1  
    Locale::Intl               v0.1.3   v0.1.3  
  ! Locale::Unicode::Data      v1.3.2   v1.3.1  
    parent                     0        0.232   
    perl                       5.010001 5.022002
    Scalar::Util               0        1.45    
    strict                     0        1.09    
    vars                       0        1.03    
    Want                       0.17     0.29    
    warnings                   0        1.34    
    warnings::register         0        1.04    

build_requires:

    Module                     Need     Have    
    -------------------------- -------- --------
    ExtUtils::MakeMaker        0        7.58    
    lib                        0.63     0.63    
    open                       0        1.10    
    Test::More                 1.302120 1.302183
    Test::Pod                  1.52     1.52    
    utf8                       0        1.17    

configure_requires:

    Module                     Need     Have    
    -------------------------- -------- --------
    ExtUtils::MakeMaker        0        7.58    


------------------------------
ENVIRONMENT AND OTHER CONTEXT
------------------------------

Environment variables:

    LC_ALL = de_DE.ISO8859-1
    PATH = /usr/local/bin:/usr/bin:/bin:/usr/local/sbin:/usr/sbin:/sbin:/home/cpansand/bin/freebsd10.3:/home/cpansand/bin/sh:/home/cpansand/bin:/usr/games:/home/cpansand/devel:/home/eserte/src/srezic-misc/scripts
    PERL5LIB = /home/cpansand/.cpan/build/2025010602/DateTime-Format-Unicode-v0.1.6-WvO_tV/blib/arch:/home/cpansand/.cpan/build/2025010602/DateTime-Format-Unicode-v0.1.6-WvO_tV/blib/lib:/home/cpansand/.cpan/build/2025010602/DateTime-Locale-FromCLDR-v0.6.1-lWaUaV/blib/arch:/home/cpansand/.cpan/build/2025010602/DateTime-Locale-FromCLDR-v0.6.1-lWaUaV/blib/lib:/home/cpansand/.cpan/build/2025010602/Locale-Intl-v0.1.3-uzWNAm/blib/arch:/home/cpansand/.cpan/build/2025010602/Locale-Intl-v0.1.3-uzWNAm/blib/lib:/home/cpansand/.cpan/build/2025010602/Locale-Unicode-Data-v1.3.1-Cklulp/blib/arch:/home/cpansand/.cpan/build/2025010602/Locale-Unicode-Data-v1.3.1-Cklulp/blib/lib:/home/cpansand/.cpan/build/2025010602/Locale-Unicode-v0.3.11-7GFCP4/blib/arch:/home/cpansand/.cpan/build/2025010602/Locale-Unicode-v0.3.11-7GFCP4/blib/lib:/home/cpansand/.cpan/build/2025010602/Test-Pod-1.52-JI165L/blib/arch:/home/cpansand/.cpan/build/2025010602/Test-Pod-1.52-JI165L/blib/lib
    PERL5OPT = 
    PERL5_CPANPLUS_IS_RUNNING = 92918
    PERL5_CPAN_IS_RUNNING = 92918
    PERL5_CPAN_IS_RUNNING_IN_RECURSION = 13255,92918
    PERLDOC = -MPod::Perldoc::ToTextOverstrike
    PERL_BATCH = yes
    PERL_CANARY_STABILITY_NOPROMPT = 1
    PERL_CPAN_REPORTER_CONFIG = /var/tmp/cpansmoker-1023/2025010518/cpanreporter_000_config.ini
    PERL_EXTUTILS_AUTOINSTALL = --defaultdeps
    SHELL = /usr/local/bin/zsh
    TERM = screen
    TMPDIR = /var/tmp/cpansmoker-1023/2025010518

Perl special variables (and OS-specific diagnostics, for MSWin32):

    $^X = /usr/perl5.22.2t/bin/perl5.22.2
    $UID/$EUID = 1023 / 1023
    $GID = 1023 1023
    $EGID = 1023 1023

Perl module toolchain versions installed:

    Module              Have    
    ------------------- --------
    CPAN                2.11    
    CPAN::Meta          2.150001
    Cwd                 3.62    
    ExtUtils::CBuilder  0.280221
    ExtUtils::Command   7.58    
    ExtUtils::Install   2.06    
    ExtUtils::MakeMaker 7.58    
    ExtUtils::Manifest  1.70    
    ExtUtils::ParseXS   3.35    
    File::Spec          3.62    
    JSON                2.90    
    JSON::PP            2.27300 
    Module::Build       0.4218  
    Module::Signature   0.80    
    Parse::CPAN::Meta   1.4422  
    Test::Harness       3.35    
    Test::More          1.302183
    YAML                1.15    
    YAML::Syck          1.29    
    version             0.9917  


--

Summary of my perl5 (revision 5 version 22 subversion 2) configuration:
   
  Platform:
    osname=freebsd, osvers=10.1-release, archname=amd64-freebsd-thread-multi
    uname='freebsd cvrsnica-freebsd-101.herceg.de 10.1-release freebsd 10.1-release #0 r274401: tue nov 11 21:02:49 utc 2014 root@releng1.nyi.freebsd.org:usrobjusrsrcsysgeneric amd64 '
    config_args='-ds -e -Dprefix=/usr/perl5.22.2t -Dusethreads -Dcf_email=srezic@cpan.org -Doptimize=-O2 -pipe'
    hint=recommended, useposix=true, d_sigaction=define
    useithreads=define, usemultiplicity=define
    use64bitint=define, use64bitall=define, uselongdouble=undef
    usemymalloc=n, bincompat5005=undef
  Compiler:
    cc='cc', ccflags ='-DHAS_FPSETMASK -DHAS_FLOATINGPOINT_H -fno-strict-aliasing -pipe -fstack-protector -I/usr/local/include -D_FORTIFY_SOURCE=2',
    optimize='-O2 -pipe',
    cppflags='-DHAS_FPSETMASK -DHAS_FLOATINGPOINT_H -fno-strict-aliasing -pipe -fstack-protector -I/usr/local/include'
    ccversion='', gccversion='4.2.1 Compatible FreeBSD Clang 3.4.1 (tags/RELEASE_34/dot1-final 208032)', gccosandvers=''
    intsize=4, longsize=8, ptrsize=8, doublesize=8, byteorder=12345678, doublekind=3
    d_longlong=define, longlongsize=8, d_longdbl=define, longdblsize=16, longdblkind=3
    ivtype='long', ivsize=8, nvtype='double', nvsize=8, Off_t='off_t', lseeksize=8
    alignbytes=8, prototype=define
  Linker and Libraries:
    ld='cc', ldflags ='-pthread -Wl,-E  -fstack-protector -L/usr/local/lib'
    libpth=/usr/lib /usr/local/lib /usr/include/clang/3.4.1 /usr/lib
    libs=-lpthread -lgdbm -lm -lcrypt -lutil
    perllibs=-lpthread -lm -lcrypt -lutil
    libc=, so=so, useshrplib=false, libperl=libperl.a
    gnulibc_version=''
  Dynamic Linking:
    dlsrc=dl_dlopen.xs, dlext=so, d_dlsymun=undef, ccdlflags=' '
    cccdlflags='-DPIC -fPIC', lddlflags='-shared  -L/usr/local/lib -fstack-protector'


Characteristics of this binary (from libperl): 
  Compile-time options: HAS_TIMES MULTIPLICITY PERLIO_LAYERS
                        PERL_DONT_CREATE_GVSV
                        PERL_HASH_FUNC_ONE_AT_A_TIME_HARD
                        PERL_IMPLICIT_CONTEXT PERL_MALLOC_WRAP
                        PERL_NEW_COPY_ON_WRITE PERL_PRESERVE_IVUV
                        USE_64_BIT_ALL USE_64_BIT_INT USE_ITHREADS
                        USE_LARGE_FILES USE_LOCALE USE_LOCALE_COLLATE
                        USE_LOCALE_CTYPE USE_LOCALE_NUMERIC USE_LOCALE_TIME
                        USE_PERLIO USE_PERL_ATOF USE_REENTRANT_API
  Built under freebsd
  Compiled at Jun 18 2016 12:32:50
  %ENV:
    PERL5LIB="/home/cpansand/.cpan/build/2025010602/DateTime-Format-Unicode-v0.1.6-WvO_tV/blib/arch:/home/cpansand/.cpan/build/2025010602/DateTime-Format-Unicode-v0.1.6-WvO_tV/blib/lib:/home/cpansand/.cpan/build/2025010602/DateTime-Locale-FromCLDR-v0.6.1-lWaUaV/blib/arch:/home/cpansand/.cpan/build/2025010602/DateTime-Locale-FromCLDR-v0.6.1-lWaUaV/blib/lib:/home/cpansand/.cpan/build/2025010602/Locale-Intl-v0.1.3-uzWNAm/blib/arch:/home/cpansand/.cpan/build/2025010602/Locale-Intl-v0.1.3-uzWNAm/blib/lib:/home/cpansand/.cpan/build/2025010602/Locale-Unicode-Data-v1.3.1-Cklulp/blib/arch:/home/cpansand/.cpan/build/2025010602/Locale-Unicode-Data-v1.3.1-Cklulp/blib/lib:/home/cpansand/.cpan/build/2025010602/Locale-Unicode-v0.3.11-7GFCP4/blib/arch:/home/cpansand/.cpan/build/2025010602/Locale-Unicode-v0.3.11-7GFCP4/blib/lib:/home/cpansand/.cpan/build/2025010602/Test-Pod-1.52-JI165L/blib/arch:/home/cpansand/.cpan/build/2025010602/Test-Pod-1.52-JI165L/blib/lib"
    PERL5OPT=""
    PERL5_CPANPLUS_IS_RUNNING="92918"
    PERL5_CPAN_IS_RUNNING="92918"
    PERL5_CPAN_IS_RUNNING_IN_RECURSION="13255,92918"
    PERLDOC="-MPod::Perldoc::ToTextOverstrike"
    PERL_BATCH="yes"
    PERL_CANARY_STABILITY_NOPROMPT="1"
    PERL_CPAN_REPORTER_CONFIG="/var/tmp/cpansmoker-1023/2025010518/cpanreporter_000_config.ini"
    PERL_EXTUTILS_AUTOINSTALL="--defaultdeps"
  @INC:
    /home/cpansand/.cpan/build/2025010602/DateTime-Format-Unicode-v0.1.6-WvO_tV/blib/arch
    /home/cpansand/.cpan/build/2025010602/DateTime-Format-Unicode-v0.1.6-WvO_tV/blib/lib
    /home/cpansand/.cpan/build/2025010602/DateTime-Locale-FromCLDR-v0.6.1-lWaUaV/blib/arch
    /home/cpansand/.cpan/build/2025010602/DateTime-Locale-FromCLDR-v0.6.1-lWaUaV/blib/lib
    /home/cpansand/.cpan/build/2025010602/Locale-Intl-v0.1.3-uzWNAm/blib/arch
    /home/cpansand/.cpan/build/2025010602/Locale-Intl-v0.1.3-uzWNAm/blib/lib
    /home/cpansand/.cpan/build/2025010602/Locale-Unicode-Data-v1.3.1-Cklulp/blib/arch
    /home/cpansand/.cpan/build/2025010602/Locale-Unicode-Data-v1.3.1-Cklulp/blib/lib
    /home/cpansand/.cpan/build/2025010602/Locale-Unicode-v0.3.11-7GFCP4/blib/arch
    /home/cpansand/.cpan/build/2025010602/Locale-Unicode-v0.3.11-7GFCP4/blib/lib
    /home/cpansand/.cpan/build/2025010602/Test-Pod-1.52-JI165L/blib/arch
    /home/cpansand/.cpan/build/2025010602/Test-Pod-1.52-JI165L/blib/lib
    /usr/perl5.22.2t/lib/site_perl/5.22.2/amd64-freebsd-thread-multi
    /usr/perl5.22.2t/lib/site_perl/5.22.2
    /usr/perl5.22.2t/lib/5.22.2/amd64-freebsd-thread-multi
    /usr/perl5.22.2t/lib/5.22.2
    .