Devel-CheckLib v1.11 Perl 5 v5.8.1 darwin-thread-multi-2level

Status
Pass
From
Nigel Horne
Dist
Devel-CheckLib v1.11
Platform
Perl 5 v5.8.1 darwin-thread-multi-2level
Date
2017-12-07 13:14:10
ID
8317d8ae-db50-11e7-ae1c-4ba4ca71b157
This distribution has been tested as part of the CPAN Testers
project, supporting the Perl programming language.  See
http://wiki.cpantesters.org/ for more information or email
questions to cpan-testers-discuss@perl.org


--
Dear Yasuhiro Matsumoto,

This is a computer-generated report for Devel-CheckLib-1.11
on perl 5.8.1, created by CPAN-Reporter-1.2018.

Thank you for uploading your work to CPAN.  Congratulations!
All tests were successful.

Sections of this report:

    * Tester comments
    * Program output
    * Prerequisites
    * Environment and other context

------------------------------
TESTER COMMENTS
------------------------------

Additional comments from tester:

this report is from an automated smoke testing program
and was not reviewed by a human for accuracy

------------------------------
PROGRAM OUTPUT
------------------------------

Output from '/sw/bin/make test':

PERL_DL_NONLAZY=1 "/Users/hornenj/perl5/perlbrew/perls/perl-5.8.1/bin/perl" "-MExtUtils::Command::MM" "-MTest::Harness" "-e" "undef *Test::Harness::Switches; test_harness(0, 'blib/lib', 'blib/arch')" t/*.t
t/00-load.t ................... ok
t/analyze-binary.t ............ skipped: Couldn't find your C compiler
t/cmdline-LIBS-INC.t .......... skipped: Couldn't find your C compiler
t/bad-single-word-compiler.t .. ok
t/dash-l-libs.t ............... skipped: Couldn't find your C compiler
t/custom-function.t ........... skipped: Couldn't find your C compiler
t/flags.t ..................... skipped: Couldn't find your C compiler
t/found.t ..................... skipped: Couldn't find your C compiler
t/headers.t ................... skipped: Couldn't find your C compiler
t/multi-word-compiler.t ....... ok
t/exit_with_message.t ......... skipped: Couldn't find your C compiler
t/not_found.t ................. skipped: Couldn't find your C compiler
All tests successful.
Files=12, Tests=3,  0 wallclock secs ( 0.03 usr  0.03 sys +  0.67 cusr  0.19 csys =  0.92 CPU)
Result: PASS

------------------------------
PREREQUISITES
------------------------------

Prerequisite modules loaded:

requires:

    Module              Need    Have    
    ------------------- ------- --------
    Exporter            0       5.72    
    File::Spec          0       3.62    
    File::Temp          0.16    0.2304  
    perl                5.00405 5.008001

build_requires:

    Module              Need    Have    
    ------------------- ------- --------
    IO::CaptureOutput   1.0801  1.1104  
    Mock::Config        0.02    0.03    
    Test::More          0.62    1.302120

configure_requires:

    Module              Need    Have    
    ------------------- ------- --------
    ExtUtils::MakeMaker 0       7.30    


------------------------------
ENVIRONMENT AND OTHER CONTEXT
------------------------------

Environment variables:

    AUTOMATED_TESTING = 1
    HARNESS_OPTIONS = j4
    LANG = en_US.UTF-8
    LC_ALL = POSIX
    PATH = /Users/hornenj/perl5/perlbrew/bin:/Users/hornenj/perl5/perlbrew/perls/perl-5.8.1/bin:::/Users/hornenj/bin:/usr/bin:/bin:/usr/X11R6/bin:/sw/bin
    PERL5LIB = /Users/hornenj/.cpan/build/Mock-Config-0.03-0/blib/arch:/Users/hornenj/.cpan/build/Mock-Config-0.03-0/blib/lib:/Users/hornenj/.cpan/build/Lab-VXI11-0.03-0/blib/arch:/Users/hornenj/.cpan/build/Lab-VXI11-0.03-0/blib/lib:/Users/hornenj/.cpan/build/Data-MessagePack-1.00-0/blib/arch:/Users/hornenj/.cpan/build/Data-MessagePack-1.00-0/blib/lib:/Users/hornenj/.cpan/build/Novel-Robot-Browser-0.21-0/blib/arch:/Users/hornenj/.cpan/build/Novel-Robot-Browser-0.21-0/blib/lib:/Users/hornenj/.cpan/build/Term-ProgressBar-2.21-0/blib/arch:/Users/hornenj/.cpan/build/Term-ProgressBar-2.21-0/blib/lib:/Users/hornenj/.cpan/build/Class-MethodMaker-2.24-0/blib/arch:/Users/hornenj/.cpan/build/Class-MethodMaker-2.24-0/blib/lib:/Users/hornenj/.cpan/build/Parallel-Loops-0.08-0/blib/arch:/Users/hornenj/.cpan/build/Parallel-Loops-0.08-0/blib/lib:/Users/hornenj/.cpan/build/Encode-Detect-CJK-2.0.2-0/blib/arch:/Users/hornenj/.cpan/build/Encode-Detect-CJK-2.0.2-0/blib/lib
    PERL5OPT = 
    PERL5_CPANPLUS_IS_RUNNING = 6026
    PERL5_CPAN_IS_RUNNING = 6026
    PERLBREW_BASHRC_VERSION = 0.80
    PERLBREW_HOME = /Users/hornenj/.perlbrew
    PERLBREW_MANPATH = /Users/hornenj/perl5/perlbrew/perls/perl-5.8.1/man
    PERLBREW_PATH = /Users/hornenj/perl5/perlbrew/bin:/Users/hornenj/perl5/perlbrew/perls/perl-5.8.1/bin
    PERLBREW_PERL = perl-5.8.1
    PERLBREW_ROOT = /Users/hornenj/perl5/perlbrew
    PERLBREW_VERSION = 0.80
    SHELL = /bin/bash
    TERM = xterm-256color
    TMPDIR = /var/folders/pz/pd7y1qjs6s3cbk170cw50fjc000c61/T/

Perl special variables (and OS-specific diagnostics, for MSWin32):

    $^X = /Users/hornenj/perl5/perlbrew/perls/perl-5.8.1/bin/perl
    $UID/$EUID = 12481 / 12481
    $GID = 14 223 241 37223 206 399 204 62 12 527 37191 5344 14
    $EGID = 14 223 241 37223 206 399 204 62 12 527 37191 5344 14

Perl module toolchain versions installed:

    Module              Have    
    ------------------- --------
    CPAN                2.16    
    CPAN::Meta          2.150005
    Cwd                 3.62    
    ExtUtils::CBuilder  0.280224
    ExtUtils::Command   7.30    
    ExtUtils::Install   2.06    
    ExtUtils::MakeMaker 7.30    
    ExtUtils::Manifest  1.70    
    ExtUtils::ParseXS   3.30    
    File::Spec          3.62    
    JSON                2.93    
    JSON::PP            2.27400 
    Module::Build       0.4224  
    Module::Signature   n/a     
    Parse::CPAN::Meta   1.4422  
    Test::Harness       3.36    
    Test::More          1.302120
    YAML                1.24    
    YAML::Syck          1.30    
    version             0.9915  


--

Summary of my perl5 (revision 5.0 version 8 subversion 1) configuration:
  Platform:
    osname=darwin, osvers=12.5.0, archname=darwin-thread-multi-2level
    uname='darwin ncbimac2008.ncbi.nlm.nih.gov 12.5.0 darwin kernel version 12.5.0: sun sep 29 13:33:47 pdt 2013; root:xnu-2050.48.12~1release_x86_64 x86_64 '
    config_args='-de -Dprefix=/Users/hornenj/perl5/perlbrew/perls/perl-5.8.1 -Duseithreads -Dusemultiplicity -Accflags=-O2 -W -Wformat=2 -Wswitch -Wshadow -Wwrite-strings -Wuninitialized -Wall -pipe -mtune=native -march=native -fomit-frame-pointer -msse2 -msse -mmmx -pedantic -D_FORTIFY_SOURCE=2 -Wpointer-arith -Wstrict-prototypes -fstack-protector -Wstack-protector -Wextra -Wbad-function-cast -Wcast-align -Wcast-qual -Wdisabled-optimization -Wendif-labels -Wfloat-equal -Wformat-nonliteral -Winline -Wmissing-declarations -Wmissing-prototypes -Wnested-externs -Wpointer-arith -Wundef -Wformat-security -fassociative-math -Acc=cc -Aeval:scriptdir=/Users/hornenj/perl5/perlbrew/perls/perl-5.8.1/bin'
    hint=recommended, useposix=true, d_sigaction=define
    usethreads=define use5005threads=undef useithreads=define usemultiplicity=define
    useperlio=define d_sfio=undef uselargefiles=define usesocks=undef
    use64bitint=define use64bitall=define uselongdouble=undef
    usemymalloc=n, bincompat5005=undef
  Compiler:
    cc=' cc', ccflags ='-fno-common -DPERL_DARWIN -O2 -W -Wformat=2 -Wswitch -Wshadow -Wwrite-strings -Wuninitialized -Wall -pipe -mtune=native -march=native -fomit-frame-pointer -msse2 -msse -mmmx -pedantic -D_FORTIFY_SOURCE=2 -Wpointer-arith -Wstrict-prototypes -fstack-protector -Wstack-protector -Wextra -Wbad-function-cast -Wcast-align -Wcast-qual -Wdisabled-optimization -Wendif-labels -Wfloat-equal -Wformat-nonliteral -Winline -Wmissing-declarations -Wmissing-prototypes -Wnested-externs -Wpointer-arith -Wundef -Wformat-security -fassociative-math -fno-strict-aliasing -I/usr/local/include',
    optimize='-O3',
    cppflags='-fno-common -DPERL_DARWIN -O2 -W -Wformat=2 -Wswitch -Wshadow -Wwrite-strings -Wuninitialized -Wall -pipe -mtune=native -march=native -fomit-frame-pointer -msse2 -msse -mmmx -pedantic -D_FORTIFY_SOURCE=2 -Wpointer-arith -Wstrict-prototypes -fstack-protector -Wstack-protector -Wextra -Wbad-function-cast -Wcast-align -Wcast-qual -Wdisabled-optimization -Wendif-labels -Wfloat-equal -Wformat-nonliteral -Winline -Wmissing-declarations -Wmissing-prototypes -Wnested-externs -Wpointer-arith -Wundef -Wformat-security -fassociative-math -fno-strict-aliasing -I/usr/local/include'
    ccversion='', gccversion='4.2.1 Compatible Apple LLVM 4.2 (clang-425.0.24)', gccosandvers=''
    intsize=4, longsize=8, ptrsize=8, doublesize=8, byteorder=12345678
    d_longlong=define, longlongsize=8, d_longdbl=define, longdblsize=16
    ivtype='long', ivsize=8, nvtype='double', nvsize=8, Off_t='off_t', lseeksize=8
    alignbytes=8, prototype=define
  Linker and Libraries:
    ld='env MACOSX_DEPLOYMENT_TARGET=10.3 cc', ldflags =' -L/usr/local/lib'
    libpth=/usr/local/lib /usr/lib
    libs=-ldbm -ldl -lm -lutil -lc
    perllibs=-ldl -lm -lutil -lc
    libc=, so=dylib, useshrplib=false, libperl=libperl.a
    gnulibc_version=''
  Dynamic Linking:
    dlsrc=dl_dlopen.xs, dlext=bundle, d_dlsymun=undef, ccdlflags=' '
    cccdlflags=' ', lddlflags=' -bundle -undefined dynamic_lookup -L/usr/local/lib'


Characteristics of this binary (from libperl): 
  Compile-time options: MULTIPLICITY USE_ITHREADS USE_64_BIT_INT USE_64_BIT_ALL USE_LARGE_FILES PERL_IMPLICIT_CONTEXT
  Built under darwin
  Compiled at Sep 15 2014 10:24:18
  %ENV:
    PERL5LIB="/Users/hornenj/.cpan/build/Mock-Config-0.03-0/blib/arch:/Users/hornenj/.cpan/build/Mock-Config-0.03-0/blib/lib:/Users/hornenj/.cpan/build/Lab-VXI11-0.03-0/blib/arch:/Users/hornenj/.cpan/build/Lab-VXI11-0.03-0/blib/lib:/Users/hornenj/.cpan/build/Data-MessagePack-1.00-0/blib/arch:/Users/hornenj/.cpan/build/Data-MessagePack-1.00-0/blib/lib:/Users/hornenj/.cpan/build/Novel-Robot-Browser-0.21-0/blib/arch:/Users/hornenj/.cpan/build/Novel-Robot-Browser-0.21-0/blib/lib:/Users/hornenj/.cpan/build/Term-ProgressBar-2.21-0/blib/arch:/Users/hornenj/.cpan/build/Term-ProgressBar-2.21-0/blib/lib:/Users/hornenj/.cpan/build/Class-MethodMaker-2.24-0/blib/arch:/Users/hornenj/.cpan/build/Class-MethodMaker-2.24-0/blib/lib:/Users/hornenj/.cpan/build/Parallel-Loops-0.08-0/blib/arch:/Users/hornenj/.cpan/build/Parallel-Loops-0.08-0/blib/lib:/Users/hornenj/.cpan/build/Encode-Detect-CJK-2.0.2-0/blib/arch:/Users/hornenj/.cpan/build/Encode-Detect-CJK-2.0.2-0/blib/lib"
    PERL5OPT=""
    PERL5_CPANPLUS_IS_RUNNING="6026"
    PERL5_CPAN_IS_RUNNING="6026"
    PERLBREW_BASHRC_VERSION="0.80"
    PERLBREW_HOME="/Users/hornenj/.perlbrew"
    PERLBREW_MANPATH="/Users/hornenj/perl5/perlbrew/perls/perl-5.8.1/man"
    PERLBREW_PATH="/Users/hornenj/perl5/perlbrew/bin:/Users/hornenj/perl5/perlbrew/perls/perl-5.8.1/bin"
    PERLBREW_PERL="perl-5.8.1"
    PERLBREW_ROOT="/Users/hornenj/perl5/perlbrew"
    PERLBREW_VERSION="0.80"
  @INC:
    /Users/hornenj/.cpan/build/Mock-Config-0.03-0/blib/arch
    /Users/hornenj/.cpan/build/Mock-Config-0.03-0/blib/lib
    /Users/hornenj/.cpan/build/Lab-VXI11-0.03-0/blib/arch
    /Users/hornenj/.cpan/build/Lab-VXI11-0.03-0/blib/lib
    /Users/hornenj/.cpan/build/Data-MessagePack-1.00-0/blib/arch
    /Users/hornenj/.cpan/build/Data-MessagePack-1.00-0/blib/lib
    /Users/hornenj/.cpan/build/Novel-Robot-Browser-0.21-0/blib/arch
    /Users/hornenj/.cpan/build/Novel-Robot-Browser-0.21-0/blib/lib
    /Users/hornenj/.cpan/build/Term-ProgressBar-2.21-0/blib/arch
    /Users/hornenj/.cpan/build/Term-ProgressBar-2.21-0/blib/lib
    /Users/hornenj/.cpan/build/Class-MethodMaker-2.24-0/blib/arch
    /Users/hornenj/.cpan/build/Class-MethodMaker-2.24-0/blib/lib
    /Users/hornenj/.cpan/build/Parallel-Loops-0.08-0/blib/arch
    /Users/hornenj/.cpan/build/Parallel-Loops-0.08-0/blib/lib
    /Users/hornenj/.cpan/build/Encode-Detect-CJK-2.0.2-0/blib/arch
    /Users/hornenj/.cpan/build/Encode-Detect-CJK-2.0.2-0/blib/lib
    /Users/hornenj/perl5/perlbrew/perls/perl-5.8.1/lib/5.8.1/darwin-thread-multi-2level
    /Users/hornenj/perl5/perlbrew/perls/perl-5.8.1/lib/5.8.1
    /Users/hornenj/perl5/perlbrew/perls/perl-5.8.1/lib/site_perl/5.8.1/darwin-thread-multi-2level
    /Users/hornenj/perl5/perlbrew/perls/perl-5.8.1/lib/site_perl/5.8.1
    /Users/hornenj/perl5/perlbrew/perls/perl-5.8.1/lib/site_perl
    .