Params-Util v1.102 Perl 5 v5.18.1 x86_64-linux

Status
Pass
From
Dist
Params-Util v1.102
Platform
Perl 5 v5.18.1 x86_64-linux
Date
2021-02-03 14:31:32
ID
82d1aaa4-662c-11eb-bcc7-4b4946e16139
This distribution has been tested as part of the CPAN Testers
project, supporting the Perl programming language.  See
http://wiki.cpantesters.org/ for more information or email
questions to cpan-testers-discuss@perl.org


--
Dear REHSACK,

This is a computer-generated report for Params-Util-1.102
on perl 5.18.1, created by App::cpanminus::reporter 0.17 (1.7044).

Thank you for uploading your work to CPAN.  Congratulations!
All tests were successful.

Sections of this report:

    * Tester comments
    * Program output
    * Prerequisites
    * Environment and other context

------------------------------
TESTER COMMENTS
------------------------------

Additional comments from tester:

none provided

------------------------------
PROGRAM OUTPUT
------------------------------

Output from '':

Building and testing Params-Util-1.102
/home/osboxes/perl5/perlbrew/perls/perl-5.18.1/bin/perl /home/osboxes/perl5/perlbrew/perls/perl-5.18.1/lib/5.18.1/ExtUtils/xsubpp  -typemap /home/osboxes/perl5/perlbrew/perls/perl-5.18.1/lib/5.18.1/ExtUtils/typemap  Util.xs > Util.xsc && mv Util.xsc Util.c
Running Mkbootstrap for Params::Util ()
chmod 644 Util.bs
cp Util.bs blib/arch/auto/Params/Util/Util.bs
chmod 644 blib/arch/auto/Params/Util/Util.bs
cp lib/Params/Util/PP.pm blib/lib/Params/Util/PP.pm
cp lib/Params/Util.pm blib/lib/Params/Util.pm
cc -c   -fno-strict-aliasing -pipe -fstack-protector -I/usr/local/include -D_LARGEFILE_SOURCE -D_FILE_OFFSET_BITS=64 -O2   -DVERSION=\"1.102\" -DXS_VERSION=\"1.102\" -fPIC "-I/home/osboxes/perl5/perlbrew/perls/perl-5.18.1/lib/5.18.1/x86_64-linux/CORE"   Util.c
rm -f blib/arch/auto/Params/Util/Util.so
cc  -shared -O2 -L/usr/local/lib -fstack-protector Util.o  -o blib/arch/auto/Params/Util/Util.so 	\
     	\
  
chmod 755 blib/arch/auto/Params/Util/Util.so
Manifying blib/man3/Params::Util.3
Manifying blib/man3/Params::Util::PP.3
PERL_DL_NONLAZY=1 /home/osboxes/perl5/perlbrew/perls/perl-5.18.1/bin/perl "-MExtUtils::Command::MM" "-e" "test_harness(0, 'blib/lib', 'blib/arch')" t/pp/*.t t/xs/*.t xt/*.t
t/pp/01_compile.t .... ok
t/pp/03_all.t ........ ok
t/pp/04_codelike.t ... ok
t/pp/05_typelike.t ... ok
t/pp/06_invocant.t ... ok
t/pp/02_main.t ....... ok
t/pp/07_handle.t ..... ok
t/pp/09_insideout.t .. ok
t/pp/08_driver.t ..... ok
t/xs/01_compile.t .... ok
t/xs/03_all.t ........ ok
t/xs/04_codelike.t ... ok
t/xs/05_typelike.t ... ok
t/xs/06_invocant.t ... ok
t/xs/07_handle.t ..... ok
t/xs/02_main.t ....... ok
t/xs/09_insideout.t .. ok
t/xs/08_driver.t ..... ok
All tests successful.
Files=18, Tests=1864,  0 wallclock secs ( 0.21 usr  0.03 sys +  1.21 cusr  0.23 csys =  1.68 CPU)
Result: PASS

------------------------------
PREREQUISITES
------------------------------

Prerequisite modules loaded:

    No requirements found

------------------------------
ENVIRONMENT AND OTHER CONTEXT
------------------------------

Environment variables:

    AUTHOR_TESTING = 1
    HARNESS_OPTIONS = j3
    LANG = en_GB.UTF-8
    LANGUAGE = en_GB:en
    LC_COLLATE = POSIX
    PATH = /home/osboxes/.perlbrew/libs/perl-5.18.1@normal/bin:/home/osboxes/perl5/perlbrew/bin:/home/osboxes/perl5/perlbrew/perls/perl-5.18.1/bin:/home/osboxes/bin:/home/osboxes/.local/bin:/usr/local/sbin:/usr/local/bin:/usr/sbin:/usr/bin:/sbin:/bin:/usr/games:/usr/local/games:/snap/bin
    PERL5LIB = /home/osboxes/.perlbrew/libs/perl-5.18.1@normal/lib/perl5
    PERLBREW_BASHRC_VERSION = 0.74
    PERLBREW_HOME = /home/osboxes/.perlbrew
    PERLBREW_LIB = normal
    PERLBREW_MANPATH = /home/osboxes/.perlbrew/libs/perl-5.18.1@normal/man:/home/osboxes/perl5/perlbrew/perls/perl-5.18.1/man
    PERLBREW_PATH = /home/osboxes/.perlbrew/libs/perl-5.18.1@normal/bin:/home/osboxes/perl5/perlbrew/bin:/home/osboxes/perl5/perlbrew/perls/perl-5.18.1/bin
    PERLBREW_PERL = perl-5.18.1
    PERLBREW_ROOT = /home/osboxes/perl5/perlbrew
    PERLBREW_VERSION = 0.88
    PERL_LOCAL_LIB_ROOT = /home/osboxes/.perlbrew/libs/perl-5.18.1@normal
    PERL_MB_OPT = --install_base /home/osboxes/.perlbrew/libs/perl-5.18.1@normal
    PERL_MM_OPT = INSTALL_BASE=/home/osboxes/.perlbrew/libs/perl-5.18.1@normal
    RELEASE_TESTING = 1
    SHELL = /bin/bash
    TERM = xterm-256color

Perl special variables (and OS-specific diagnostics, for MSWin32):

    EGID = 1000 4 24 27 30 46 113 128 130 1000
    EUID = 1000
    EXECUTABLE_NAME = /home/osboxes/perl5/perlbrew/perls/perl-5.18.1/bin/perl
    GID = 1000 4 24 27 30 46 113 128 130 1000
    UID = 1000

Perl module toolchain versions installed:

    Module              Have    
    ------------------- --------
    CPAN                2.00    
    CPAN::Meta          2.150010
    Cwd                 3.40    
    ExtUtils::CBuilder  0.280210
    ExtUtils::Command   1.17    
    ExtUtils::Install   1.59    
    ExtUtils::MakeMaker 6.66    
    ExtUtils::Manifest  1.63    
    ExtUtils::ParseXS   3.18    
    File::Spec          3.40    
    JSON                n/a     
    JSON::PP            4.06    
    Module::Build       0.4231  
    Module::Signature   n/a     
    Parse::CPAN::Meta   2.150010
    Test::Harness       3.42    
    Test::More          1.302183
    YAML                n/a     
    YAML::Syck          n/a     
    version             0.9902  


--

Summary of my perl5 (revision 5 version 18 subversion 1) configuration:
   
  Platform:
    osname=linux, osvers=4.15.0-43-generic, archname=x86_64-linux
    uname='linux osboxes 4.15.0-43-generic #46-ubuntu smp thu dec 6 14:45:28 utc 2018 x86_64 x86_64 x86_64 gnulinux '
    config_args='-de -Dprefix=/home/osboxes/perl5/perlbrew/perls/perl-5.18.1 -Aeval:scriptdir=/home/osboxes/perl5/perlbrew/perls/perl-5.18.1/bin'
    hint=recommended, useposix=true, d_sigaction=define
    useithreads=undef, usemultiplicity=undef
    useperlio=define, d_sfio=undef, uselargefiles=define, usesocks=undef
    use64bitint=define, use64bitall=define, uselongdouble=undef
    usemymalloc=n, bincompat5005=undef
  Compiler:
    cc='cc', ccflags ='-fno-strict-aliasing -pipe -fstack-protector -I/usr/local/include -D_LARGEFILE_SOURCE -D_FILE_OFFSET_BITS=64',
    optimize='-O2',
    cppflags='-fno-strict-aliasing -pipe -fstack-protector -I/usr/local/include'
    ccversion='', gccversion='7.3.0', gccosandvers=''
    intsize=4, longsize=8, ptrsize=8, doublesize=8, byteorder=12345678
    d_longlong=define, longlongsize=8, d_longdbl=define, longdblsize=16
    ivtype='long', ivsize=8, nvtype='double', nvsize=8, Off_t='off_t', lseeksize=8
    alignbytes=8, prototype=define
  Linker and Libraries:
    ld='cc', ldflags =' -fstack-protector -L/usr/local/lib'
    libpth=/usr/local/lib /lib/x86_64-linux-gnu /lib/../lib /usr/lib/x86_64-linux-gnu /usr/lib/../lib /lib /usr/lib
    libs=-lnsl -ldb -ldl -lm -lcrypt -lutil -lc
    perllibs=-lnsl -ldl -lm -lcrypt -lutil -lc
    libc=libc-2.27.so, so=so, useshrplib=false, libperl=libperl.a
    gnulibc_version='2.27'
  Dynamic Linking:
    dlsrc=dl_dlopen.xs, dlext=so, d_dlsymun=undef, ccdlflags='-Wl,-E'
    cccdlflags='-fPIC', lddlflags='-shared -O2 -L/usr/local/lib -fstack-protector'


Characteristics of this binary (from libperl): 
  Compile-time options: HAS_TIMES PERLIO_LAYERS PERL_DONT_CREATE_GVSV
                        PERL_HASH_FUNC_ONE_AT_A_TIME_HARD PERL_MALLOC_WRAP
                        PERL_PRESERVE_IVUV PERL_SAWAMPERSAND USE_64_BIT_ALL
                        USE_64_BIT_INT USE_LARGE_FILES USE_LOCALE
                        USE_LOCALE_COLLATE USE_LOCALE_CTYPE
                        USE_LOCALE_NUMERIC USE_PERLIO USE_PERL_ATOF
  Locally applied patches:
	Devel::PatchPerl 1.48
  Built under linux
  Compiled at Apr  1 2019 06:24:36
  %ENV:
    PERL5LIB="/home/osboxes/.perlbrew/libs/perl-5.18.1@normal/lib/perl5"
    PERLBREW_BASHRC_VERSION="0.74"
    PERLBREW_HOME="/home/osboxes/.perlbrew"
    PERLBREW_LIB="normal"
    PERLBREW_MANPATH="/home/osboxes/.perlbrew/libs/perl-5.18.1@normal/man:/home/osboxes/perl5/perlbrew/perls/perl-5.18.1/man"
    PERLBREW_PATH="/home/osboxes/.perlbrew/libs/perl-5.18.1@normal/bin:/home/osboxes/perl5/perlbrew/bin:/home/osboxes/perl5/perlbrew/perls/perl-5.18.1/bin"
    PERLBREW_PERL="perl-5.18.1"
    PERLBREW_ROOT="/home/osboxes/perl5/perlbrew"
    PERLBREW_VERSION="0.88"
    PERL_LOCAL_LIB_ROOT="/home/osboxes/.perlbrew/libs/perl-5.18.1@normal"
    PERL_MB_OPT="--install_base /home/osboxes/.perlbrew/libs/perl-5.18.1@normal"
    PERL_MM_OPT="INSTALL_BASE=/home/osboxes/.perlbrew/libs/perl-5.18.1@normal"
  @INC:
    /home/osboxes/.perlbrew/libs/perl-5.18.1@normal/lib/perl5/x86_64-linux
    /home/osboxes/.perlbrew/libs/perl-5.18.1@normal/lib/perl5
    /home/osboxes/perl5/perlbrew/perls/perl-5.18.1/lib/site_perl/5.18.1/x86_64-linux
    /home/osboxes/perl5/perlbrew/perls/perl-5.18.1/lib/site_perl/5.18.1
    /home/osboxes/perl5/perlbrew/perls/perl-5.18.1/lib/5.18.1/x86_64-linux
    /home/osboxes/perl5/perlbrew/perls/perl-5.18.1/lib/5.18.1
    .