SPVM-IO v0.214 Perl 5 v5.36.1 darwin-2level

Status
Pass
From
David Cantrell (DCANTRELL)
Dist
SPVM-IO v0.214
Platform
Perl 5 v5.36.1 darwin-2level
Date
2024-05-22T00:01:58
ID
82352934-17ce-11ef-a33e-23134ffb060e
This distribution has been tested as part of the CPAN Testers
project, supporting the Perl programming language.  See
http://wiki.cpantesters.org/ for more information or email
questions to cpan-testers-discuss@perl.org


--
Dear Yuki Kimoto,

This is a computer-generated report for SPVM-IO-0.214
on perl 5.36.1, created by CPAN-Reporter-1.2019.

Thank you for uploading your work to CPAN.  Congratulations!
All tests were successful.

Sections of this report:

    * Tester comments
    * Program output
    * Prerequisites
    * Environment and other context

------------------------------
TESTER COMMENTS
------------------------------

Additional comments from tester:

this report is from an automated smoke testing program
and was not reviewed by a human for accuracy

------------------------------
PROGRAM OUTPUT
------------------------------

Output from '/usr/bin/make test':

PERL_DL_NONLAZY=1 "/Users/cpantesting/cpantesting/perl-5.36.1/bin/perl" "-MExtUtils::Command::MM" "-MTest::Harness" "-e" "undef *Test::Harness::Switches; test_harness(0, 'blib/lib', 'blib/arch')" t/*.t
[2024-05-22 01:01:36.13471] [69087] [info] Listening at "http://*:52238"
[2024-05-22 01:01:36.20296] [69087] [trace] [7j_lJRrOOKLr] GET "/hello"
[2024-05-22 01:01:36.20450] [69087] [trace] [7j_lJRrOOKLr] 200 OK (0.001501s, 666.223/s)
t/01-01-Test-Tcp_and_Mojolicious.t ........... ok
ld: warning: ignoring duplicate libraries: '-lc++'
ld: warning: ignoring duplicate libraries: '-lc++'
[2024-05-22 01:01:45.68519] [69307] [info] Listening at "http://*:52249"
[2024-05-22 01:01:45.70221] [69307] [trace] [PBLHrBrbjpO_] GET "/hello"
[2024-05-22 01:01:45.70369] [69307] [trace] [PBLHrBrbjpO_] 200 OK (0.001448s, 690.608/s)
t/01-02-Test-Tcp_and_Mojolicious_and_SPVM.t .. ok
t/IO-File.t .................................. ok
t/IO-Select.t ................................ ok
[2024-05-22 01:01:50.40552] [69772] [info] Listening at "http://*:52271"
[2024-05-22 01:01:50.41978] [69772] [trace] [nqNYopPkmxH3] GET "/hello"
[2024-05-22 01:01:50.42150] [69772] [trace] [nqNYopPkmxH3] 200 OK (0.001623s, 616.143/s)
[2024-05-22 01:01:50.42714] [69772] [trace] [hKVIe1mASFoj] GET "/hello"
[2024-05-22 01:01:50.42806] [69772] [trace] [hKVIe1mASFoj] 200 OK (0.000912s, 1096.491/s)
[2024-05-22 01:01:50.43259] [69772] [trace] [X_YkJZRBlxWR] GET "/hello"
[2024-05-22 01:01:50.43365] [69772] [trace] [X_YkJZRBlxWR] 200 OK (0.001033s, 968.054/s)
[2024-05-22 01:01:50.44014] [69772] [trace] [26eAAsO0ZEpB] GET "/hello"
[2024-05-22 01:01:50.44100] [69772] [trace] [26eAAsO0ZEpB] 200 OK (0.000846s, 1182.033/s)
[2024-05-22 01:01:50.44953] [69772] [trace] [nPZV6-eBAvUL] GET "/"
[2024-05-22 01:01:50.45138] [69772] [trace] [nPZV6-eBAvUL] Template "not_found.development.html.ep" not found
[2024-05-22 01:01:50.45214] [69772] [trace] [nPZV6-eBAvUL] Template "not_found.html.ep" not found
[2024-05-22 01:01:50.45276] [69772] [trace] [nPZV6-eBAvUL] Rendering template "mojo/debug.html.ep"
[2024-05-22 01:01:50.49252] [69772] [trace] Your secret passphrase needs to be changed (see FAQ for more)
[2024-05-22 01:01:50.50050] [69772] [trace] [nPZV6-eBAvUL] 404 Not Found (0.050941s, 19.631/s)
[2024-05-22 01:01:50.50767] [69772] [trace] [OKRAyWgmv7ko] GET "/"
[2024-05-22 01:01:50.50879] [69772] [trace] [OKRAyWgmv7ko] Template "not_found.development.html.ep" not found
[2024-05-22 01:01:50.50941] [69772] [trace] [OKRAyWgmv7ko] Template "not_found.html.ep" not found
[2024-05-22 01:01:50.50990] [69772] [trace] [OKRAyWgmv7ko] Rendering cached template "mojo/debug.html.ep"
[2024-05-22 01:01:50.51892] [69772] [trace] [OKRAyWgmv7ko] 404 Not Found (0.011238s, 88.984/s)
t/IO-Socket-INET.t ........................... ok
[2024-05-22 01:01:51.95573] [69937] [info] Listening at "http://[::1]:52292"
[2024-05-22 01:01:51.99259] [69937] [trace] [2-XiT6DaKkBG] GET "/hello"
[2024-05-22 01:01:51.99393] [69937] [trace] [2-XiT6DaKkBG] 200 OK (0.001294s, 772.798/s)
[2024-05-22 01:01:51.99959] [69937] [trace] [REqLhv54P9X_] GET "/hello"
[2024-05-22 01:01:52.00065] [69937] [trace] [REqLhv54P9X_] 200 OK (0.001031s, 969.932/s)
[2024-05-22 01:01:52.00640] [69937] [trace] [xV-xD74nbORL] GET "/hello"
[2024-05-22 01:01:52.00739] [69937] [trace] [xV-xD74nbORL] 200 OK (0.000962s, 1039.501/s)
[2024-05-22 01:01:52.01472] [69937] [trace] [mBHIoNGnrda-] GET "/hello"
[2024-05-22 01:01:52.01571] [69937] [trace] [mBHIoNGnrda-] 200 OK (0.000981s, 1019.368/s)
[2024-05-22 01:01:52.02416] [69937] [trace] [11WSNqVLQqgc] GET "/"
[2024-05-22 01:01:52.02603] [69937] [trace] [11WSNqVLQqgc] Template "not_found.development.html.ep" not found
[2024-05-22 01:01:52.02695] [69937] [trace] [11WSNqVLQqgc] Template "not_found.html.ep" not found
[2024-05-22 01:01:52.02766] [69937] [trace] [11WSNqVLQqgc] Rendering template "mojo/debug.html.ep"
[2024-05-22 01:01:52.06810] [69937] [trace] Your secret passphrase needs to be changed (see FAQ for more)
[2024-05-22 01:01:52.07565] [69937] [trace] [11WSNqVLQqgc] 404 Not Found (0.05146s, 19.433/s)
[2024-05-22 01:01:52.08269] [69937] [trace] [3CV7r4nUE4O1] GET "/"
[2024-05-22 01:01:52.08385] [69937] [trace] [3CV7r4nUE4O1] Template "not_found.development.html.ep" not found
[2024-05-22 01:01:52.08457] [69937] [trace] [3CV7r4nUE4O1] Template "not_found.html.ep" not found
[2024-05-22 01:01:52.08530] [69937] [trace] [3CV7r4nUE4O1] Rendering cached template "mojo/debug.html.ep"
[2024-05-22 01:01:52.09629] [69937] [trace] [3CV7r4nUE4O1] 404 Not Found (0.013571s, 73.687/s)
t/IO-Socket-INET6.t .......................... ok
[2024-05-22 01:01:53.59882] [69945] [info] Listening at "http://*:52308"
[2024-05-22 01:01:53.61166] [69945] [trace] [Xyobu0WyQrn6] GET "/hello"
[2024-05-22 01:01:53.61303] [69945] [trace] [Xyobu0WyQrn6] 200 OK (0.001335s, 749.064/s)
[2024-05-22 01:01:53.61886] [69945] [trace] [bfPqHE5mp9hk] GET "/hello"
[2024-05-22 01:01:53.61985] [69945] [trace] [bfPqHE5mp9hk] 200 OK (0.000968s, 1033.058/s)
[2024-05-22 01:01:53.62476] [69945] [trace] [fXA6VuMqywFB] GET "/hello"
[2024-05-22 01:01:53.62561] [69945] [trace] [fXA6VuMqywFB] 200 OK (0.000837s, 1194.743/s)
[2024-05-22 01:01:53.63261] [69945] [trace] [AZmdjVawwhBW] GET "/hello"
[2024-05-22 01:01:53.63357] [69945] [trace] [AZmdjVawwhBW] 200 OK (0.000945s, 1058.201/s)
[2024-05-22 01:01:53.64167] [69945] [trace] [B73U0cMjQASM] GET "/"
[2024-05-22 01:01:53.64356] [69945] [trace] [B73U0cMjQASM] Template "not_found.development.html.ep" not found
[2024-05-22 01:01:53.64437] [69945] [trace] [B73U0cMjQASM] Template "not_found.html.ep" not found
[2024-05-22 01:01:53.64497] [69945] [trace] [B73U0cMjQASM] Rendering template "mojo/debug.html.ep"
[2024-05-22 01:01:53.68661] [69945] [trace] Your secret passphrase needs to be changed (see FAQ for more)
[2024-05-22 01:01:53.69428] [69945] [trace] [B73U0cMjQASM] 404 Not Found (0.052577s, 19.020/s)
[2024-05-22 01:01:53.70036] [69945] [trace] [t8zFweIq_Any] GET "/"
[2024-05-22 01:01:53.70156] [69945] [trace] [t8zFweIq_Any] Template "not_found.development.html.ep" not found
[2024-05-22 01:01:53.70231] [69945] [trace] [t8zFweIq_Any] Template "not_found.html.ep" not found
[2024-05-22 01:01:53.70305] [69945] [trace] [t8zFweIq_Any] Rendering cached template "mojo/debug.html.ep"
[2024-05-22 01:01:53.71279] [69945] [trace] [t8zFweIq_Any] 404 Not Found (0.012404s, 80.619/s)
t/IO-Socket-IP.t ............................. ok
[2024-05-22 01:01:55.19933] [69951] [info] Listening at "http://[::1]:52325"
[2024-05-22 01:01:55.22817] [69951] [trace] [xxHJt-yYbUFX] GET "/hello"
[2024-05-22 01:01:55.22988] [69951] [trace] [xxHJt-yYbUFX] 200 OK (0.001655s, 604.230/s)
[2024-05-22 01:01:55.23861] [69951] [trace] [bvX8slXA1YBw] GET "/hello"
[2024-05-22 01:01:55.23957] [69951] [trace] [bvX8slXA1YBw] 200 OK (0.000939s, 1064.963/s)
[2024-05-22 01:01:55.24579] [69951] [trace] [zDzny2qlcIHO] GET "/hello"
[2024-05-22 01:01:55.24675] [69951] [trace] [zDzny2qlcIHO] 200 OK (0.000949s, 1053.741/s)
[2024-05-22 01:01:55.25433] [69951] [trace] [M3Nztdxgtb2D] GET "/hello"
[2024-05-22 01:01:55.25522] [69951] [trace] [M3Nztdxgtb2D] 200 OK (0.000872s, 1146.789/s)
[2024-05-22 01:01:55.26636] [69951] [trace] [u_3bcpr5OOJe] GET "/"
[2024-05-22 01:01:55.26837] [69951] [trace] [u_3bcpr5OOJe] Template "not_found.development.html.ep" not found
[2024-05-22 01:01:55.26915] [69951] [trace] [u_3bcpr5OOJe] Template "not_found.html.ep" not found
[2024-05-22 01:01:55.26980] [69951] [trace] [u_3bcpr5OOJe] Rendering template "mojo/debug.html.ep"
[2024-05-22 01:01:55.30852] [69951] [trace] Your secret passphrase needs to be changed (see FAQ for more)
[2024-05-22 01:01:55.31590] [69951] [trace] [u_3bcpr5OOJe] 404 Not Found (0.04951s, 20.198/s)
[2024-05-22 01:01:55.32292] [69951] [trace] [zsOTP4zgMQ0V] GET "/"
[2024-05-22 01:01:55.32399] [69951] [trace] [zsOTP4zgMQ0V] Template "not_found.development.html.ep" not found
[2024-05-22 01:01:55.32463] [69951] [trace] [zsOTP4zgMQ0V] Template "not_found.html.ep" not found
[2024-05-22 01:01:55.32520] [69951] [trace] [zsOTP4zgMQ0V] Rendering cached template "mojo/debug.html.ep"
[2024-05-22 01:01:55.33434] [69951] [trace] [zsOTP4zgMQ0V] 404 Not Found (0.011394s, 87.765/s)
t/IO-Socket-IP_IPv6.t ........................ ok
t/IO.t ....................................... ok
All tests successful.
Files=9, Tests=52, 20 wallclock secs ( 0.06 usr  0.03 sys + 11.60 cusr  3.49 csys = 15.18 CPU)
Result: PASS

------------------------------
PREREQUISITES
------------------------------

Prerequisite modules loaded:

requires:

    Module              Need     Have    
    ------------------- -------- --------
    SPVM                0.989040 0.990006
    SPVM::Go            0.005    0.007002
    SPVM::Math          0.11     1.001   
    SPVM::Sys           0.510    0.514001

build_requires:

    Module              Need     Have    
    ------------------- -------- --------
    ExtUtils::MakeMaker 0        7.70    
    IO                  1.55     1.55    
    Mojolicious         9.36     9.37    
    Test::TCP           2.22     2.22    

configure_requires:

    Module              Need     Have    
    ------------------- -------- --------
    SPVM                0.989040 0.990006


------------------------------
ENVIRONMENT AND OTHER CONTEXT
------------------------------

Environment variables:

    AUTOMATED_TESTING = 1
    NONINTERACTIVE_TESTING = 1
    PATH = /Users/cpantesting/perl5/perlbrew/bin:/Users/cpantesting/perl5/perlbrew/perls/perl-5.32.0/bin:/usr/local/bin:/System/Cryptexes/App/usr/bin:/usr/bin:/bin:/usr/sbin:/sbin:/var/run/com.apple.security.cryptexd/codex.system/bootstrap/usr/local/bin:/var/run/com.apple.security.cryptexd/codex.system/bootstrap/usr/bin:/var/run/com.apple.security.cryptexd/codex.system/bootstrap/usr/appleinternal/bin:/Library/Apple/usr/bin:/Users/cpantesting/.cargo/bin
    PERL = 5.36.1
    PERL5LIB = 
    PERL5OPT = 
    PERL5_CPANPLUS_IS_RUNNING = 22226
    PERL5_CPAN_IS_RUNNING = 22226
    PERLBREW_HOME = /Users/cpantesting/.perlbrew
    PERLBREW_MANPATH = /Users/cpantesting/perl5/perlbrew/perls/perl-5.32.0/man
    PERLBREW_PATH = /Users/cpantesting/perl5/perlbrew/bin:/Users/cpantesting/perl5/perlbrew/perls/perl-5.32.0/bin
    PERLBREW_PERL = perl-5.32.0
    PERLBREW_ROOT = /Users/cpantesting/perl5/perlbrew
    PERLBREW_SHELLRC_VERSION = 0.94
    PERLBREW_VERSION = 0.94
    PERLVER = 5.36.1
    PERL_INLINE_DIRECTORY = /Users/cpantesting/.Inline-5.36.1
    PERL_MM_USE_DEFAULT = 1
    PERL_USE_UNSAFE_INC = 0
    SHELL = /bin/bash
    TERM = screen

Perl special variables (and OS-specific diagnostics, for MSWin32):

    $^X = /Users/cpantesting/cpantesting/perl-5.36.1/bin/perl
    $UID/$EUID = 503 / 503
    $GID = 20 20 12 61 703 702 701 100
    $EGID = 20 20 12 61 703 702 701 100

Perl module toolchain versions installed:

    Module              Have    
    ------------------- --------
    CPAN                2.33    
    CPAN::Meta          2.150010
    Cwd                 3.84    
    ExtUtils::CBuilder  0.280236
    ExtUtils::Command   7.70    
    ExtUtils::Install   2.20    
    ExtUtils::MakeMaker 7.70    
    ExtUtils::Manifest  1.73    
    ExtUtils::ParseXS   3.45    
    File::Spec          3.84    
    JSON                4.10    
    JSON::PP            4.07    
    Module::Build       0.4232  
    Module::Signature   n/a     
    Parse::CPAN::Meta   2.150010
    Test2               1.302190
    Test::Harness       3.44    
    Test::More          1.302190
    YAML                1.31    
    YAML::Syck          n/a     
    version             0.9929  


--

Summary of my perl5 (revision 5 version 36 subversion 1) configuration:
   
  Platform:
    osname=darwin
    osvers=21.6.0
    archname=darwin-2level
    uname='darwin harrow.local 21.6.0 darwin kernel version 21.6.0: mon aug 22 20:17:10 pdt 2022; root:xnu-8020.140.49~2release_x86_64 x86_64 '
    config_args='-de -Dprefix=/Users/cpantesting/cpantesting/perl-5.36.1'
    hint=recommended
    useposix=true
    d_sigaction=define
    useithreads=undef
    usemultiplicity=undef
    use64bitint=define
    use64bitall=define
    uselongdouble=undef
    usemymalloc=n
    default_inc_excludes_dot=define
  Compiler:
    cc='cc'
    ccflags ='-fno-common -DPERL_DARWIN -mmacosx-version-min=12.6 -fno-strict-aliasing -pipe -fstack-protector-strong -I/usr/local/include -DPERL_USE_SAFE_PUTENV'
    optimize='-O3'
    cppflags='-fno-common -DPERL_DARWIN -mmacosx-version-min=12.6 -fno-strict-aliasing -pipe -fstack-protector-strong -I/usr/local/include'
    ccversion=''
    gccversion='Apple LLVM 14.0.0 (clang-1400.0.29.202)'
    gccosandvers=''
    intsize=4
    longsize=8
    ptrsize=8
    doublesize=8
    byteorder=12345678
    doublekind=3
    d_longlong=define
    longlongsize=8
    d_longdbl=define
    longdblsize=16
    longdblkind=3
    ivtype='long'
    ivsize=8
    nvtype='double'
    nvsize=8
    Off_t='off_t'
    lseeksize=8
    alignbytes=8
    prototype=define
  Linker and Libraries:
    ld='cc'
    ldflags =' -mmacosx-version-min=12.6 -fstack-protector-strong -L/usr/local/lib'
    libpth=/usr/local/lib /Applications/Xcode.app/Contents/Developer/Toolchains/XcodeDefault.xctoolchain/usr/lib/clang/14.0.0/lib /Applications/Xcode.app/Contents/Developer/Platforms/MacOSX.platform/Developer/SDKs/MacOSX.sdk/usr/lib /Applications/Xcode.app/Contents/Developer/Toolchains/XcodeDefault.xctoolchain/usr/lib /usr/lib
    libs=-lgdbm
    perllibs=
    libc=
    so=dylib
    useshrplib=false
    libperl=libperl.a
    gnulibc_version=''
  Dynamic Linking:
    dlsrc=dl_dlopen.xs
    dlext=bundle
    d_dlsymun=undef
    ccdlflags=' '
    cccdlflags=' '
    lddlflags=' -mmacosx-version-min=12.6 -bundle -undefined dynamic_lookup -L/usr/local/lib -fstack-protector-strong'


Characteristics of this binary (from libperl): 
  Compile-time options:
    HAS_TIMES
    PERLIO_LAYERS
    PERL_COPY_ON_WRITE
    PERL_DONT_CREATE_GVSV
    PERL_MALLOC_WRAP
    PERL_OP_PARENT
    PERL_PRESERVE_IVUV
    PERL_USE_SAFE_PUTENV
    USE_64_BIT_ALL
    USE_64_BIT_INT
    USE_LARGE_FILES
    USE_LOCALE
    USE_LOCALE_COLLATE
    USE_LOCALE_CTYPE
    USE_LOCALE_NUMERIC
    USE_LOCALE_TIME
    USE_PERLIO
    USE_PERL_ATOF
  Built under darwin
  Compiled at Apr 23 2023 16:37:45
  %ENV:
    PERL="5.36.1"
    PERL5LIB=""
    PERL5OPT=""
    PERL5_CPANPLUS_IS_RUNNING="22226"
    PERL5_CPAN_IS_RUNNING="22226"
    PERLBREW_HOME="/Users/cpantesting/.perlbrew"
    PERLBREW_MANPATH="/Users/cpantesting/perl5/perlbrew/perls/perl-5.32.0/man"
    PERLBREW_PATH="/Users/cpantesting/perl5/perlbrew/bin:/Users/cpantesting/perl5/perlbrew/perls/perl-5.32.0/bin"
    PERLBREW_PERL="perl-5.32.0"
    PERLBREW_ROOT="/Users/cpantesting/perl5/perlbrew"
    PERLBREW_SHELLRC_VERSION="0.94"
    PERLBREW_VERSION="0.94"
    PERLVER="5.36.1"
    PERL_INLINE_DIRECTORY="/Users/cpantesting/.Inline-5.36.1"
    PERL_MM_USE_DEFAULT="1"
    PERL_USE_UNSAFE_INC="0"
  @INC:
    /Users/cpantesting/cpantesting/perl-5.36.1/lib/site_perl/5.36.1/darwin-2level
    /Users/cpantesting/cpantesting/perl-5.36.1/lib/site_perl/5.36.1
    /Users/cpantesting/cpantesting/perl-5.36.1/lib/5.36.1/darwin-2level
    /Users/cpantesting/cpantesting/perl-5.36.1/lib/5.36.1