Report for Rose-DB-Object-0.815

Back
From: metabase:user:0d96120c-29e2-11e5-b049-ede3035d37de
Subject: PASS Rose-DB-Object-0.815 v5.18.4 GNU/Linux
Date: 2015-07-20T11:00:18Z

This distribution has been tested as part of the CPAN Testers
project, supporting the Perl programming language.  See
http://wiki.cpantesters.org/ for more information or email
questions to cpan-testers-discuss@perl.org


--
Dear John Siracusa,

This is a computer-generated report for Rose-DB-Object-0.815
on perl 5.18.4, created by CPAN-Reporter-1.2014.

Thank you for uploading your work to CPAN.  Congratulations!
All tests were successful.

Sections of this report:

    * Tester comments
    * Program output
    * Prerequisites
    * Environment and other context

------------------------------
TESTER COMMENTS
------------------------------

Additional comments from tester:

this report is from an automated smoke testing program
and was not reviewed by a human for accuracy

------------------------------
PROGRAM OUTPUT
------------------------------

Output from '/usr/bin/make test':

PERL_DL_NONLAZY=1 "/data/perl5/perlbrew/perls/perl-5.18.4-ld/bin/perl" "-MExtUtils::Command::MM" "-MTest::Harness" "-e" "undef *Test::Harness::Switches; test_harness(0, 'blib/lib', 'blib/arch')" t/*.t

##
## DBI             1.633
## DBD::SQLite     1.48
## JSON            2.90
##
## WARNING: Almost all the tests in this module distribution need to connect
## to a database in order to run.  The tests need full privileges on this
## database: the ability to create and drop tables, insert, update, and delete
## rows, create schemas, sequences, functions, triggers, the works.
## 
## By default, the tests will try to connect to the database named "test"
## running on "localhost" using the default superuser username for each
## database type and an empty password.
## 
## If you have setup your database in a secure manner, these connection
## attempts will fail, and the tests will be skipped.  If you want to override
## these values, set the following environment variables before running tests.
## (The current values are shown in parentheses.)
## 
## PostgreSQL:
## 
##     RDBO_PG_DSN      (dbi:Pg:dbname=test;host=localhost)
##     RDBO_PG_USER     (postgres)
##     RDBO_PG_PASS     (<none>)
## 
## MySQL:
## 
##     RDBO_MYSQL_DSN   (dbi:mysql:database=test;host=localhost)
##     RDBO_MYSQL_USER  (root)
##     RDBO_MYSQL_PASS  (<none>)
##
## Oracle:
## 
##     RDBO_ORACLE_DSN  (dbi:Oracle:dbname=test)
##     RDBO_ORACLE_USER (<none>)
##     RDBO_ORACLE_PASS (<none>)
##
## Informix:
## 
##     RDBO_INFORMIX_DSN   (dbi:Informix:test@test)
##     RDBO_INFORMIX_USER  (<none>)
##     RDBO_INFORMIX_PASS  (<none>)
## 
## SQLite: To disable the SQLite tests, set this environment varible
##
##     RDBO_NO_SQLITE  (<undef>)
##
## Press return to continue (or wait 60 seconds)
t/00-warning.t ..................... ok
t/as-tree.t ........................ ok
t/auto-setup.t ..................... ok
t/bind-param.t ..................... ok
t/column-triggers.t ................ ok
t/column-values.t .................. ok
t/db-migration.t ................... ok
t/db-object-auto.t ................. ok
t/db-object-cached.t ............... ok
t/db-object-changes-only-1.t ....... ok
t/db-object-changes-only-2.t ....... ok
t/db-object-convention.t ........... ok
t/db-object-foreign-key-auto.t ..... ok
t/db-object-foreign-key.t .......... ok
t/db-object-helpers.t .............. ok
t/db-object-loader-2.t ............. ok
t/db-object-loader-3.t ............. ok
t/db-object-loader-4.t ............. ok
t/db-object-loader-5.t ............. ok
t/db-object-loader-6.t ............. ok
t/db-object-loader-7.t ............. ok
t/db-object-loader-8.t ............. ok
t/db-object-loader-9.t ............. ok
t/db-object-loader.t ............... ok
t/db-object-manager-bulk-ops.t ..... ok
t/db-object-manager.t .............. ok
t/db-object-mapper.t ............... ok
t/db-object-metadata.t ............. ok
t/db-object-relationship-auto-2.t .. ok
t/db-object-relationship-auto.t .... ok
t/db-object-relationship.t ......... ok
t/db-object-std-cached.t ........... ok
t/db-object-std.t .................. ok
t/db-object.t ...................... ok
t/deep-joins.t ..................... ok
t/inheritance.t .................... ok
t/lazy-columns.t ................... ok
t/leaks.t .......................... ok
t/make-modules.t ................... ok
t/makemethods-db.t ................. ok
t/makemethods.t .................... ok
t/multi-many-the-hard-way.t ........ ok
t/multi-pk-sequences.t ............. ok
t/nested-joins.t ................... ok
t/one-to-many-reset.t .............. ok
t/pk-fk-columns.t .................. ok
t/pod.t ............................ ok
t/query-builder.t .................. ok
t/rt-cpan-45836.t .................. ok
t/save-cascade.t ................... ok
t/schema-override.t ................ ok
t/spot-check-01.t .................. ok
t/spot-check-02.t .................. ok
t/spot-check-03.t .................. ok
t/spot-check-04.t .................. ok
t/spot-check-05.t .................. ok
t/spot-check-06.t .................. ok
t/spot-check-07.t .................. ok
t/spot-check-08.t .................. ok
t/spot-check-09.t .................. ok
t/spot-check-10.t .................. ok
t/spot-check-11.t .................. ok
t/spot-check-12.t .................. ok
t/spot-check-13.t .................. ok
t/spot-check-14.t .................. ok
t/undef-overrides-default.t ........ ok
t/unique-key-prefs.t ............... ok
All tests successful.
Files=67, Tests=15335, 51 wallclock secs ( 1.32 usr  0.07 sys + 25.62 cusr  2.82 csys = 29.83 CPU)
Result: PASS

------------------------------
PREREQUISITES
------------------------------

Prerequisite modules loaded:

requires:

    Module               Need     Have    
    -------------------- -------- --------
    Bit::Vector          0        7.4     
    Clone                0.29     0.38    
    Cwd                  0        3.40    
    Data::Dumper         2.121    2.145   
    DateTime             0        1.20    
    DBI                  1.40     1.633   
    File::Path           0        2.09    
    File::Spec           0        3.40    
    List::MoreUtils      0        0.413   
    Math::BigInt         1.77     1.9991  
    perl                 5.006000 5.018004
    Rose::DateTime::Util 0.532    0.540   
    Rose::DB             0.763    0.777   
    Rose::Object         0.854    0.860   
    Scalar::Util         0        1.42    
    Test::More           0        1.001014
    Time::Clock          1.00     1.03    

build_requires:

    Module               Need     Have    
    -------------------- -------- --------
    ExtUtils::MakeMaker  0        7.04    

configure_requires:

    Module               Need     Have    
    -------------------- -------- --------
    ExtUtils::MakeMaker  0        7.04    


------------------------------
ENVIRONMENT AND OTHER CONTEXT
------------------------------

Environment variables:

    AUTOMATED_TESTING = 1
    LANG = en_US.UTF-8
    NONINTERACTIVE_TESTING = 1
    PATH = /home/perltest/sysperl/bin:/home/perltest/perl5/perlbrew/bin:/home/perltest/perl5/perlbrew/perls/perl-5.18.4-ld/bin:/home/perltest/perltest/bin:/home/perltest/perl5/perlbrew/bin:/home/perltest/perl5/perlbrew/perls/perl-5.18.4-thread-multi-ld/bin:/usr/local/sbin:/usr/local/bin:/usr/sbin:/usr/bin:/sbin:/bin:/usr/games:/usr/local/games:/home/perltest/perltest/bin
    PERL5LIB = /home/perltest/.cpan/build/Rose-DB-0.777-7A_JdM/blib/arch:/home/perltest/.cpan/build/Rose-DB-0.777-7A_JdM/blib/lib:/home/perltest/.cpan/build/SQL-ReservedWords-0.8-HEzorT/blib/arch:/home/perltest/.cpan/build/SQL-ReservedWords-0.8-HEzorT/blib/lib:/home/perltest/.cpan/build/DateTime-Format-Oracle-0.06-jT4w0g/blib/arch:/home/perltest/.cpan/build/DateTime-Format-Oracle-0.06-jT4w0g/blib/lib:/home/perltest/.cpan/build/Convert-NLS_DATE_FORMAT-0.05-9ptWTx/blib/arch:/home/perltest/.cpan/build/Convert-NLS_DATE_FORMAT-0.05-9ptWTx/blib/lib:/home/perltest/.cpan/build/DateTime-Format-Pg-0.16011-vbit71/blib/arch:/home/perltest/.cpan/build/DateTime-Format-Pg-0.16011-vbit71/blib/lib:/home/perltest/.cpan/build/DateTime-Format-MySQL-0.05-rsTNoq/blib/arch:/home/perltest/.cpan/build/DateTime-Format-MySQL-0.05-rsTNoq/blib/lib:/home/perltest/.cpan/build/DateTime-Format-Builder-0.81-3PEa2N/blib/arch:/home/perltest/.cpan/build/DateTime-Format-Builder-0.81-3PEa2N/blib/lib:/home/perltest/.cpan/build/Class-Factory-Util-1.7-JVvNGi/blib/arch:/home/perltest/.cpan/build/Class-Factory-Util-1.7-JVvNGi/blib/lib:/home/perltest/.cpan/build/Rose-DateTime-0.540-jGl2Jd/blib/arch:/home/perltest/.cpan/build/Rose-DateTime-0.540-jGl2Jd/blib/lib:/home/perltest/.cpan/build/Bit-Vector-7.4-qfVwkn/blib/arch:/home/perltest/.cpan/build/Bit-Vector-7.4-qfVwkn/blib/lib:/home/perltest/.cpan/build/Time-Clock-1.03-F1s88J/blib/arch:/home/perltest/.cpan/build/Time-Clock-1.03-F1s88J/blib/lib:/home/perltest/.cpan/build/Rose-Object-0.860-Y4WShB/blib/arch:/home/perltest/.cpan/build/Rose-Object-0.860-Y4WShB/blib/lib:/home/perltest/sysperl/lib/perl5
    PERL5OPT = 
    PERL5_CPANPLUS_IS_RUNNING = 5663
    PERL5_CPAN_IS_RUNNING = 5663
    PERL5_CPAN_IS_RUNNING_IN_RECURSION = 10702,5663
    PERLBREW_BASHRC_VERSION = 0.73
    PERLBREW_HOME = /home/perltest/.perlbrew
    PERLBREW_LIB = 
    PERLBREW_MANPATH = /home/perltest/perl5/perlbrew/perls/perl-5.18.4-ld/man
    PERLBREW_PATH = /home/perltest/perl5/perlbrew/bin:/home/perltest/perl5/perlbrew/perls/perl-5.18.4-ld/bin
    PERLBREW_PERL = perl-5.18.4-ld
    PERLBREW_ROOT = /home/perltest/perl5/perlbrew
    PERLBREW_VERSION = 0.73
    PERL_CR_SMOKER_CURRENT = Rose-DBx-Object-Cached-CHI-0.22
    PERL_EXTUTILS_AUTOINSTALL = --defaultdeps
    PERL_LOCAL_LIB_ROOT = /home/perltest/sysperl:
    PERL_MB_OPT = --install_base "//home/perltest/sysperl"
    PERL_MM_OPT = INSTALL_BASE=/home/perltest/sysperl
    PERL_MM_USE_DEFAULT = 1
    SHELL = /bin/bash
    TERM = screen

Perl special variables (and OS-specific diagnostics, for MSWin32):

    $^X = /data/perl5/perlbrew/perls/perl-5.18.4-ld/bin/perl
    $UID/$EUID = 2000 / 2000
    $GID = 2000 2000
    $EGID = 2000 2000

Perl module toolchain versions installed:

    Module              Have    
    ------------------- --------
    CPAN                2.00    
    CPAN::Meta          2.150005
    Cwd                 3.40    
    ExtUtils::CBuilder  0.280210
    ExtUtils::Command   1.17    
    ExtUtils::Install   1.59    
    ExtUtils::MakeMaker 7.04    
    ExtUtils::Manifest  1.70    
    ExtUtils::ParseXS   3.18    
    File::Spec          3.40    
    JSON                2.90    
    JSON::PP            2.27203 
    Module::Build       0.4214  
    Module::Signature   n/a     
    Parse::CPAN::Meta   1.4417  
    Test::Harness       3.35    
    Test::More          1.001014
    YAML                1.15    
    YAML::Syck          n/a     
    version             0.9912  


--

Summary of my perl5 (revision 5 version 18 subversion 4) configuration:
   
  Platform:
    osname=linux, osvers=3.19.0-18-generic, archname=x86_64-linux-ld
    uname='linux perltest.antelope.net 3.19.0-18-generic #18-ubuntu smp tue may 19 18:31:35 utc 2015 x86_64 x86_64 x86_64 gnulinux '
    config_args='-de -Dprefix=/home/perltest/perl5/perlbrew/perls/perl-5.18.4-ld -Duselongdouble -Aeval:scriptdir=/home/perltest/perl5/perlbrew/perls/perl-5.18.4-ld/bin'
    hint=recommended, useposix=true, d_sigaction=define
    useithreads=undef, usemultiplicity=undef
    useperlio=define, d_sfio=undef, uselargefiles=define, usesocks=undef
    use64bitint=define, use64bitall=define, uselongdouble=define
    usemymalloc=n, bincompat5005=undef
  Compiler:
    cc='cc', ccflags ='-fno-strict-aliasing -pipe -fstack-protector -I/usr/local/include -D_LARGEFILE_SOURCE -D_FILE_OFFSET_BITS=64',
    optimize='-O2',
    cppflags='-fno-strict-aliasing -pipe -fstack-protector -I/usr/local/include'
    ccversion='', gccversion='4.9.2', gccosandvers=''
    intsize=4, longsize=8, ptrsize=8, doublesize=8, byteorder=12345678
    d_longlong=define, longlongsize=8, d_longdbl=define, longdblsize=16
    ivtype='long', ivsize=8, nvtype='long double', nvsize=16, Off_t='off_t', lseeksize=8
    alignbytes=16, prototype=define
  Linker and Libraries:
    ld='cc', ldflags =' -fstack-protector -L/usr/local/lib'
    libpth=/usr/local/lib /lib/x86_64-linux-gnu /lib/../lib /usr/lib/x86_64-linux-gnu /usr/lib/../lib /lib /usr/lib
    libs=-lnsl -ldb -ldl -lm -lcrypt -lutil -lc
    perllibs=-lnsl -ldl -lm -lcrypt -lutil -lc
    libc=libc-2.21.so, so=so, useshrplib=false, libperl=libperl.a
    gnulibc_version='2.21'
  Dynamic Linking:
    dlsrc=dl_dlopen.xs, dlext=so, d_dlsymun=undef, ccdlflags='-Wl,-E'
    cccdlflags='-fPIC', lddlflags='-shared -O2 -L/usr/local/lib -fstack-protector'


Characteristics of this binary (from libperl): 
  Compile-time options: HAS_TIMES PERLIO_LAYERS PERL_DONT_CREATE_GVSV
                        PERL_HASH_FUNC_ONE_AT_A_TIME_HARD PERL_MALLOC_WRAP
                        PERL_PRESERVE_IVUV PERL_SAWAMPERSAND USE_64_BIT_ALL
                        USE_64_BIT_INT USE_LARGE_FILES USE_LOCALE
                        USE_LOCALE_COLLATE USE_LOCALE_CTYPE
                        USE_LOCALE_NUMERIC USE_LONG_DOUBLE USE_PERLIO
                        USE_PERL_ATOF
  Locally applied patches:
	Devel::PatchPerl 1.38
  Built under linux
  Compiled at Jul 19 2015 22:40:37
  %ENV:
    PERL5LIB="/home/perltest/.cpan/build/Rose-DB-0.777-7A_JdM/blib/arch:/home/perltest/.cpan/build/Rose-DB-0.777-7A_JdM/blib/lib:/home/perltest/.cpan/build/SQL-ReservedWords-0.8-HEzorT/blib/arch:/home/perltest/.cpan/build/SQL-ReservedWords-0.8-HEzorT/blib/lib:/home/perltest/.cpan/build/DateTime-Format-Oracle-0.06-jT4w0g/blib/arch:/home/perltest/.cpan/build/DateTime-Format-Oracle-0.06-jT4w0g/blib/lib:/home/perltest/.cpan/build/Convert-NLS_DATE_FORMAT-0.05-9ptWTx/blib/arch:/home/perltest/.cpan/build/Convert-NLS_DATE_FORMAT-0.05-9ptWTx/blib/lib:/home/perltest/.cpan/build/DateTime-Format-Pg-0.16011-vbit71/blib/arch:/home/perltest/.cpan/build/DateTime-Format-Pg-0.16011-vbit71/blib/lib:/home/perltest/.cpan/build/DateTime-Format-MySQL-0.05-rsTNoq/blib/arch:/home/perltest/.cpan/build/DateTime-Format-MySQL-0.05-rsTNoq/blib/lib:/home/perltest/.cpan/build/DateTime-Format-Builder-0.81-3PEa2N/blib/arch:/home/perltest/.cpan/build/DateTime-Format-Builder-0.81-3PEa2N/blib/lib:/home/perltest/.cpan/build/Class-Factory-Util-1.7-JVvNGi/blib/arch:/home/perltest/.cpan/build/Class-Factory-Util-1.7-JVvNGi/blib/lib:/home/perltest/.cpan/build/Rose-DateTime-0.540-jGl2Jd/blib/arch:/home/perltest/.cpan/build/Rose-DateTime-0.540-jGl2Jd/blib/lib:/home/perltest/.cpan/build/Bit-Vector-7.4-qfVwkn/blib/arch:/home/perltest/.cpan/build/Bit-Vector-7.4-qfVwkn/blib/lib:/home/perltest/.cpan/build/Time-Clock-1.03-F1s88J/blib/arch:/home/perltest/.cpan/build/Time-Clock-1.03-F1s88J/blib/lib:/home/perltest/.cpan/build/Rose-Object-0.860-Y4WShB/blib/arch:/home/perltest/.cpan/build/Rose-Object-0.860-Y4WShB/blib/lib:/home/perltest/sysperl/lib/perl5"
    PERL5OPT=""
    PERL5_CPANPLUS_IS_RUNNING="5663"
    PERL5_CPAN_IS_RUNNING="5663"
    PERL5_CPAN_IS_RUNNING_IN_RECURSION="10702,5663"
    PERLBREW_BASHRC_VERSION="0.73"
    PERLBREW_HOME="/home/perltest/.perlbrew"
    PERLBREW_LIB=""
    PERLBREW_MANPATH="/home/perltest/perl5/perlbrew/perls/perl-5.18.4-ld/man"
    PERLBREW_PATH="/home/perltest/perl5/perlbrew/bin:/home/perltest/perl5/perlbrew/perls/perl-5.18.4-ld/bin"
    PERLBREW_PERL="perl-5.18.4-ld"
    PERLBREW_ROOT="/home/perltest/perl5/perlbrew"
    PERLBREW_VERSION="0.73"
    PERL_CR_SMOKER_CURRENT="Rose-DBx-Object-Cached-CHI-0.22"
    PERL_EXTUTILS_AUTOINSTALL="--defaultdeps"
    PERL_LOCAL_LIB_ROOT="/home/perltest/sysperl:"
    PERL_MB_OPT="--install_base "//home/perltest/sysperl""
    PERL_MM_OPT="INSTALL_BASE=/home/perltest/sysperl"
    PERL_MM_USE_DEFAULT="1"
  @INC:
    /home/perltest/.cpan/build/Rose-DB-0.777-7A_JdM/blib/arch
    /home/perltest/.cpan/build/Rose-DB-0.777-7A_JdM/blib/lib
    /home/perltest/.cpan/build/SQL-ReservedWords-0.8-HEzorT/blib/arch
    /home/perltest/.cpan/build/SQL-ReservedWords-0.8-HEzorT/blib/lib
    /home/perltest/.cpan/build/DateTime-Format-Oracle-0.06-jT4w0g/blib/arch
    /home/perltest/.cpan/build/DateTime-Format-Oracle-0.06-jT4w0g/blib/lib
    /home/perltest/.cpan/build/Convert-NLS_DATE_FORMAT-0.05-9ptWTx/blib/arch
    /home/perltest/.cpan/build/Convert-NLS_DATE_FORMAT-0.05-9ptWTx/blib/lib
    /home/perltest/.cpan/build/DateTime-Format-Pg-0.16011-vbit71/blib/arch
    /home/perltest/.cpan/build/DateTime-Format-Pg-0.16011-vbit71/blib/lib
    /home/perltest/.cpan/build/DateTime-Format-MySQL-0.05-rsTNoq/blib/arch
    /home/perltest/.cpan/build/DateTime-Format-MySQL-0.05-rsTNoq/blib/lib
    /home/perltest/.cpan/build/DateTime-Format-Builder-0.81-3PEa2N/blib/arch
    /home/perltest/.cpan/build/DateTime-Format-Builder-0.81-3PEa2N/blib/lib
    /home/perltest/.cpan/build/Class-Factory-Util-1.7-JVvNGi/blib/arch
    /home/perltest/.cpan/build/Class-Factory-Util-1.7-JVvNGi/blib/lib
    /home/perltest/.cpan/build/Rose-DateTime-0.540-jGl2Jd/blib/arch
    /home/perltest/.cpan/build/Rose-DateTime-0.540-jGl2Jd/blib/lib
    /home/perltest/.cpan/build/Bit-Vector-7.4-qfVwkn/blib/arch
    /home/perltest/.cpan/build/Bit-Vector-7.4-qfVwkn/blib/lib
    /home/perltest/.cpan/build/Time-Clock-1.03-F1s88J/blib/arch
    /home/perltest/.cpan/build/Time-Clock-1.03-F1s88J/blib/lib
    /home/perltest/.cpan/build/Rose-Object-0.860-Y4WShB/blib/arch
    /home/perltest/.cpan/build/Rose-Object-0.860-Y4WShB/blib/lib
    /home/perltest/sysperl/lib/perl5/x86_64-linux-ld
    /home/perltest/sysperl/lib/perl5
    /home/perltest/perl5/perlbrew/perls/perl-5.18.4-ld/lib/site_perl/5.18.4/x86_64-linux-ld
    /home/perltest/perl5/perlbrew/perls/perl-5.18.4-ld/lib/site_perl/5.18.4
    /home/perltest/perl5/perlbrew/perls/perl-5.18.4-ld/lib/5.18.4/x86_64-linux-ld
    /home/perltest/perl5/perlbrew/perls/perl-5.18.4-ld/lib/5.18.4
    .