Plack-Test-Agent v1.5 Perl 5 v5.35.4 x86_64-linux-ld
- Status
- Pass
- From
- Andreas J. König (ANDK)
- Dist
-
Plack-Test-Agent v1.5
- Platform
- Perl 5 v5.35.4 x86_64-linux-ld
- Date
- 2021-09-01 00:35:28
- ID
- 81aff376-0abc-11ec-930c-c8f1daf7eae2
This distribution has been tested as part of the CPAN Testers
project, supporting the Perl programming language. See
http://wiki.cpantesters.org/ for more information or email
questions to cpan-testers-discuss@perl.org
--
Dear Olaf Alders,
This is a computer-generated report for Plack-Test-Agent-1.5
on perl 5.35.4, created by CPAN-Reporter-1.2018.
Thank you for uploading your work to CPAN. Congratulations!
All tests were successful.
Sections of this report:
* Tester comments
* Program output
* Prerequisites
* Environment and other context
------------------------------
TESTER COMMENTS
------------------------------
Additional comments from tester:
this report is from an automated smoke testing program
and was not reviewed by a human for accuracy
------------------------------
PROGRAM OUTPUT
------------------------------
Output from '/usr/bin/make test':
PERL_DL_NONLAZY=1 "/tmp/basesmoker-reloperl-xDGI/bin/perl" "-MExtUtils::Command::MM" "-MTest::Harness" "-e" "undef *Test::Harness::Switches; test_harness(0, 'blib/lib', 'blib/arch')" t/*.t
#
# Versions for all modules listed in MYMETA.json (including optional ones):
#
# === Configure Requires ===
#
# Module Want Have
# ------------------- ---- ----
# ExtUtils::MakeMaker any 7.62
#
# === Build Requires ===
#
# Module Want Have
# ------------------- ---- ----
# ExtUtils::MakeMaker any 7.62
#
# === Test Requires ===
#
# Module Want Have
# -------------------------- ---- ----------
# ExtUtils::MakeMaker any 7.62
# File::Spec any 3.81
# HTTP::Server::Simple::PSGI any 0.16
# Modern::Perl any 1.20200211
# Plack::Request any 1.0048
# Test::Memory::Cycle any 1.06
# Test::More any 1.302186
# Test::Requires any 0.11
# open any 1.13
# utf8 any 1.24
#
# === Test Recommends ===
#
# Module Want Have
# ---------- -------- --------
# CPAN::Meta 2.120900 2.150010
#
# === Runtime Requires ===
#
# Module Want Have
# --------------------- ---- -----
# HTTP::Cookies any 6.10
# HTTP::Message::PSGI any undef
# HTTP::Request::Common any 6.33
# HTTP::Response any 6.33
# Plack::Loader any undef
# Plack::Util::Accessor any undef
# Test::TCP any 2.22
# Test::WWW::Mechanize any 1.54
# parent any 0.238
# strict any 1.12
# warnings any 1.54
#
t/00-report-prereqs.t .. ok
t/2args.t .............. ok
t/cookie.t ............. ok
t/cycle.t .............. ok
t/extra_get_args.t ..... ok
t/hello.t .............. ok
t/hello_server.t ....... ok
t/mech.t ............... ok
t/okay.t ............... ok
All tests successful.
Files=9, Tests=57, 2 wallclock secs ( 0.01 usr 0.04 sys + 1.34 cusr 0.36 csys = 1.75 CPU)
Result: PASS
------------------------------
PREREQUISITES
------------------------------
Prerequisite modules loaded:
requires:
Module Need Have
-------------------------- ----- ----------
HTTP::Cookies 0 6.10
HTTP::Message::PSGI 0 0
HTTP::Request::Common 0 6.33
HTTP::Response 0 6.33
parent 0 0.238
perl 5.008 5.035004
Plack::Loader 0 0
Plack::Util::Accessor 0 0
strict 0 1.12
Test::TCP 0 2.22
Test::WWW::Mechanize 0 1.54
warnings 0 1.54
build_requires:
Module Need Have
-------------------------- ----- ----------
ExtUtils::MakeMaker 0 7.62
File::Spec 0 3.81
HTTP::Server::Simple::PSGI 0 0.16
Modern::Perl 0 1.20200211
open 0 1.13
Plack::Request 0 1.0048
Test::Memory::Cycle 0 1.06
Test::More 0 1.302186
Test::Requires 0 0.11
utf8 0 1.24
configure_requires:
Module Need Have
-------------------------- ----- ----------
ExtUtils::MakeMaker 0 7.62
perl 5.006 5.035004
------------------------------
ENVIRONMENT AND OTHER CONTEXT
------------------------------
Environment variables:
AUTOMATED_TESTING = 1
LANG = en_US.UTF-8
PATH = /home/sand/bin:/usr/local/bin:/usr/bin:/bin:/usr/games:/usr/local/perl/bin:/usr/X11/bin:/sbin:/usr/sbin
PERL = /tmp/basesmoker-reloperl-xDGI/bin/perl
PERL5LIB =
PERL5OPT =
PERL5_CPANPLUS_IS_RUNNING = 3323472
PERL5_CPAN_IS_RUNNING = 3323472
PERL_CANARY_STABILITY_NOPROMPT = 1
PERL_MM_USE_DEFAULT = 1
PERL_USE_UNSAFE_INC = 1
SHELL = /usr/bin/zsh
TERM = screen
Perl special variables (and OS-specific diagnostics, for MSWin32):
$^X = /tmp/basesmoker-reloperl-xDGI/bin/perl
$UID/$EUID = 1005 / 1005
$GID = 1005 1005
$EGID = 1005 1005
Perl module toolchain versions installed:
Module Have
------------------- --------
CPAN 2.28
CPAN::Meta 2.150010
Cwd 3.82
ExtUtils::CBuilder 0.280236
ExtUtils::Command 7.62
ExtUtils::Install 2.20
ExtUtils::MakeMaker 7.62
ExtUtils::Manifest 1.73
ExtUtils::ParseXS 3.43
File::Spec 3.81
JSON 4.03
JSON::PP 4.06
Module::Build 0.4231
Module::Signature 0.87
Parse::CPAN::Meta 2.150010
Test::Harness 3.43
Test::More 1.302186
YAML 1.30
YAML::Syck 1.34
version 0.9929
--
Summary of my perl5 (revision 5 version 35 subversion 4) configuration:
Commit id: a9a1cd1d6ae3cd249b78a78a8a41cb041d93c0d0
Platform:
osname=linux
osvers=5.3.0-2-amd64
archname=x86_64-linux-ld
uname='linux k93msid 5.3.0-2-amd64 #1 smp debian 5.3.9-3 (2019-11-19) x86_64 gnulinux '
config_args='-Dprefix=/home/sand/src/perl/repoperls/installed-perls/host/k93msid/v5.35.3-96-ga9a1cd1d6a/ea6b -Dmyhostname=k93msid -Dinstallusrbinperl=n -Uversiononly -Dusedevel -des -Ui_db -Dlibswanted=cl pthread socket inet nsl gdbm dbm malloc dl ld sun m crypt sec util c cposix posix ucb BSD gdbm_compat -Uuseithreads -Duselongdouble -DEBUGGING=none'
hint=recommended
useposix=true
d_sigaction=define
useithreads=undef
usemultiplicity=undef
use64bitint=define
use64bitall=define
uselongdouble=define
usemymalloc=n
default_inc_excludes_dot=define
Compiler:
cc='cc'
ccflags ='-fwrapv -fno-strict-aliasing -pipe -fstack-protector-strong -I/usr/local/include -D_LARGEFILE_SOURCE -D_FILE_OFFSET_BITS=64 -D_FORTIFY_SOURCE=2'
optimize='-O2'
cppflags='-fwrapv -fno-strict-aliasing -pipe -fstack-protector-strong -I/usr/local/include'
ccversion=''
gccversion='9.2.1 20191109'
gccosandvers=''
intsize=4
longsize=8
ptrsize=8
doublesize=8
byteorder=12345678
doublekind=3
d_longlong=define
longlongsize=8
d_longdbl=define
longdblsize=16
longdblkind=3
ivtype='long'
ivsize=8
nvtype='long double'
nvsize=16
Off_t='off_t'
lseeksize=8
alignbytes=16
prototype=define
Linker and Libraries:
ld='cc'
ldflags =' -fstack-protector-strong -L/usr/local/lib'
libpth=/usr/local/lib /usr/lib/x86_64-linux-gnu /usr/lib /lib/x86_64-linux-gnu /lib
libs=-lpthread -lnsl -ldl -lm -lcrypt -lutil -lc
perllibs=-lpthread -lnsl -ldl -lm -lcrypt -lutil -lc
libc=libc-2.29.so
so=so
useshrplib=false
libperl=libperl.a
gnulibc_version='2.29'
Dynamic Linking:
dlsrc=dl_dlopen.xs
dlext=so
d_dlsymun=undef
ccdlflags='-Wl,-E'
cccdlflags='-fPIC'
lddlflags='-shared -O2 -L/usr/local/lib -fstack-protector-strong'
Characteristics of this binary (from libperl):
Compile-time options:
HAS_TIMES
PERLIO_LAYERS
PERL_COPY_ON_WRITE
PERL_DONT_CREATE_GVSV
PERL_MALLOC_WRAP
PERL_OP_PARENT
PERL_PRESERVE_IVUV
PERL_USE_DEVEL
USE_64_BIT_ALL
USE_64_BIT_INT
USE_LARGE_FILES
USE_LOCALE
USE_LOCALE_COLLATE
USE_LOCALE_CTYPE
USE_LOCALE_NUMERIC
USE_LOCALE_TIME
USE_LONG_DOUBLE
USE_PERLIO
USE_PERL_ATOF
Built under linux
Compiled at Aug 30 2021 19:34:09
%ENV:
PERL="/tmp/basesmoker-reloperl-xDGI/bin/perl"
PERL5LIB=""
PERL5OPT=""
PERL5_CPANPLUS_IS_RUNNING="3323472"
PERL5_CPAN_IS_RUNNING="3323472"
PERL_CANARY_STABILITY_NOPROMPT="1"
PERL_MM_USE_DEFAULT="1"
PERL_USE_UNSAFE_INC="1"
@INC:
/home/sand/src/perl/repoperls/installed-perls/host/k93msid/v5.35.3-96-ga9a1cd1d6a/ea6b/lib/site_perl/5.35.4/x86_64-linux-ld
/home/sand/src/perl/repoperls/installed-perls/host/k93msid/v5.35.3-96-ga9a1cd1d6a/ea6b/lib/site_perl/5.35.4
/home/sand/src/perl/repoperls/installed-perls/host/k93msid/v5.35.3-96-ga9a1cd1d6a/ea6b/lib/5.35.4/x86_64-linux-ld
/home/sand/src/perl/repoperls/installed-perls/host/k93msid/v5.35.3-96-ga9a1cd1d6a/ea6b/lib/5.35.4
.