Markdown-Perl v1.11 Perl 5 v5.40.3 RC1 x86_64-linux-thread-multi-ld

Status
Pass
From
Andreas J. König (ANDK)
Dist
Markdown-Perl v1.11
Platform
Perl 5 v5.40.3 RC1 x86_64-linux-thread-multi-ld
Date
2025-07-26 22:25:59
ID
8163a5cc-6a6f-11f0-bfbf-85cba6065214
This distribution has been tested as part of the CPAN Testers
project, supporting the Perl programming language.  See
http://wiki.cpantesters.org/ for more information or email
questions to cpan-testers-discuss@perl.org


--
Dear Mathias Kende,

This is a computer-generated report for Markdown-Perl-1.11
on perl 5.40.3, created by CPAN-Reporter-1.2020.

Thank you for uploading your work to CPAN.  Congratulations!
All tests were successful.

Sections of this report:

    * Tester comments
    * Program output
    * Prerequisites
    * Environment and other context

------------------------------
TESTER COMMENTS
------------------------------

Additional comments from tester:

this report is from an automated smoke testing program
and was not reviewed by a human for accuracy

------------------------------
PROGRAM OUTPUT
------------------------------

Output from '/usr/bin/make test':

PERL_DL_NONLAZY=1 "/tmp/basesmoker-reloperl-TDtZ/bin/perl" "-MExtUtils::Command::MM" "-MTest::Harness" "-e" "undef *Test::Harness::Switches; test_harness(0, 'blib/lib', 'blib/arch')" t/*.t
t/101-inline-tree.t ............................ ok
t/102-html.t ................................... ok
t/001-cpanfile.t ............................... skipped: Extended test. Run manually or set $ENV{EXTENDED_TESTING} to a true value to run.
t/001-podsyntax.t .............................. skipped: Extended test. Run manually or set $ENV{EXTENDED_TESTING} to a true value to run.
t/100-util.t ................................... ok
t/000-load.t ................................... ok
t/201-basic-container-blocks.t ................. ok
t/200-basic-leaf-blocks.t ...................... ok
t/300-containers.t ............................. ok
t/203-options.t ................................ ok
t/302-reference-links.t ........................ ok
t/202-basic-inline-rendering.t ................. ok
t/301-inlines.t ................................ ok
t/303-lists.t .................................. ok
YAML Metadata (Markdown frontmatter) is invalid at /tmp/loop_over_bdir-388408-5nSnsG/Markdown-Perl-1.11-0/blib/lib/Markdown/Perl.pm line 116.
t/304-file_metadata.t .......................... ok
t/305-block-directives.t ....................... ok
t/400-opt-allow_spaces_in_links.t .............. ok
t/400-opt-inline_delimiters.t .................. ok
t/400-opt-fenced_code_blocks_must_be_closed.t .. ok
t/400-opt-inline_delimiters_max_run_length.t ... ok
t/400-opt-allow_task_list_markers.t ............ ok
t/400-opt-disallowed_html_tags.t ............... ok
t/400-opt-lists_can_interrupt_paragraph.t ...... ok
t/400-opt-multi_lines_setext_headings.t ........ ok
t/400-opt-two_spaces_hard_line_breaks.t ........ ok
t/500-hooks-resolve_link_ref.t ................. ok
t/400-opt-render_naked_paragraphs.t ............ ok
t/400-opt-use_fenced_code_blocks.t ............. ok
t/800-bugs.t ................................... ok
t/500-hooks-yaml_metadata.t .................... ok
t/902-markdown-test-suite.t .................... skipped: MMD-Test-Suite must be checked out.
t/904-pmarkdown.t .............................. skipped: The Syntax.md file is not part of this distribution
t/903-mmd-test-suite.t ......................... skipped: MMD-Test-Suite must be checked out.
t/900-cmark-test-suite.t ....................... ok
t/901-github-test-suite.t ...................... ok
t/801-fuzzing.t ................................ ok
All tests successful.
Files=36, Tests=2167,  8 wallclock secs ( 0.38 usr  0.07 sys + 11.80 cusr  2.10 csys = 14.35 CPU)
Result: PASS

------------------------------
PREREQUISITES
------------------------------

Prerequisite modules loaded:

requires:

    Module                        Need    Have    
    ----------------------------- ------- --------
    Encode::Locale                0       1.05    
    List::MoreUtils               0       0.430   
    List::Util                    1.45    1.69    
    perl                          5.026   5.040003
    Readonly                      0       2.05    
    Unicode::CaseFold             0       1.01    
    YAML::Tiny                    0       1.76    

build_requires:

    Module                        Need    Have    
    ----------------------------- ------- --------
    ExtUtils::MakeMaker           0       7.76    
    JSON                          0       4.10    
    Readonly                      0       2.05    
    Test2::V0                     0       1.302214
    Test::CPANfile                0       0.08    
    Test::More                    0       1.302214
    Text::Diff                    0       1.45    
    YAML::PP                      0       v0.39.0 

configure_requires:

    Module                        Need    Have    
    ----------------------------- ------- --------
    ExtUtils::MakeMaker::CPANfile 0.09    0.09    
    perl                          v5.26.0 5.040003


------------------------------
ENVIRONMENT AND OTHER CONTEXT
------------------------------

Environment variables:

    AUTOMATED_TESTING = 1
    LANG = en_US.UTF-8
    LC_ADDRESS = de_DE.UTF-8
    LC_IDENTIFICATION = de_DE.UTF-8
    LC_MEASUREMENT = de_DE.UTF-8
    LC_MONETARY = de_DE.UTF-8
    LC_NAME = de_DE.UTF-8
    LC_NUMERIC = de_DE.UTF-8
    LC_PAPER = de_DE.UTF-8
    LC_TELEPHONE = de_DE.UTF-8
    LC_TIME = de_DE.UTF-8
    PATH = /home/sand/bin:/usr/local/bin:/usr/local/sbin:/usr/sbin:/usr/bin:/sbin:/bin:/usr/games:/usr/local/games:/snap/bin:/usr/local/perl/bin:/usr/X11/bin
    PERL = /tmp/basesmoker-reloperl-TDtZ/bin/perl
    PERL5LIB = /tmp/loop_over_bdir-388408-5nSnsG/makepp-1.19-0/blib/arch:/tmp/loop_over_bdir-388408-5nSnsG/makepp-1.19-0/blib/lib:/tmp/loop_over_bdir-388408-5nSnsG/Net-Async-WebService-lxd-0.03-0/blib/arch:/tmp/loop_over_bdir-388408-5nSnsG/Net-Async-WebService-lxd-0.03-0/blib/lib:/tmp/loop_over_bdir-388408-5nSnsG/Dpkg-1.22.21-0/blib/arch:/tmp/loop_over_bdir-388408-5nSnsG/Dpkg-1.22.21-0/blib/lib:/tmp/loop_over_bdir-388408-5nSnsG/CGI-Application-NetNewsIface-0.0204-0/blib/arch:/tmp/loop_over_bdir-388408-5nSnsG/CGI-Application-NetNewsIface-0.0204-0/blib/lib:/tmp/loop_over_bdir-388408-5nSnsG/Devel-Required-0.17-0/blib/arch:/tmp/loop_over_bdir-388408-5nSnsG/Devel-Required-0.17-0/blib/lib:/tmp/loop_over_bdir-388408-5nSnsG/Linux-InitFS-0.2-0/blib/arch:/tmp/loop_over_bdir-388408-5nSnsG/Linux-InitFS-0.2-0/blib/lib:/tmp/loop_over_bdir-388408-5nSnsG/Module-ScanDeps-Static-1.7.6-0/blib/arch:/tmp/loop_over_bdir-388408-5nSnsG/Module-ScanDeps-Static-1.7.6-0/blib/lib
    PERL5OPT = 
    PERL5_CPANPLUS_IS_RUNNING = 388416
    PERL5_CPAN_IS_RUNNING = 388416
    PERL_CANARY_STABILITY_NOPROMPT = 1
    PERL_MM_USE_DEFAULT = 1
    PERL_USE_UNSAFE_INC = 1
    SHELL = /usr/bin/zsh
    TERM = screen

Perl special variables (and OS-specific diagnostics, for MSWin32):

    $^X = /tmp/basesmoker-reloperl-TDtZ/bin/perl
    $UID/$EUID = 1005 / 1005
    $GID = 1005 1005
    $EGID = 1005 1005

Perl module toolchain versions installed:

    Module              Have    
    ------------------- --------
    CPAN                2.38    
    CPAN::Meta          2.150010
    Cwd                 3.91    
    ExtUtils::CBuilder  0.280240
    ExtUtils::Command   7.76    
    ExtUtils::Install   2.22    
    ExtUtils::MakeMaker 7.76    
    ExtUtils::Manifest  1.75    
    ExtUtils::ParseXS   3.51    
    File::Spec          3.91    
    JSON                4.10    
    JSON::PP            4.16    
    Module::Build       0.4234  
    Module::Signature   0.93    
    Parse::CPAN::Meta   2.150010
    Test2               1.302214
    Test::Harness       3.52    
    Test::More          1.302214
    YAML                1.31    
    YAML::Syck          1.34    
    version             0.9933  


--

Summary of my perl5 (revision 5 version 40 subversion 3) configuration:
  Commit id: 57d9c1bc123e937a6e37d14b5597432f469a8ef7
  Platform:
    osname=linux
    osvers=6.8.0-64-generic
    archname=x86_64-linux-thread-multi-ld
    uname='linux k93jammy 6.8.0-64-generic #67~22.04.1-ubuntu smp preempt_dynamic tue jun 24 15:19:46 utc 2 x86_64 x86_64 x86_64 gnulinux '
    config_args='-Dprefix=/home/sand/src/perl/repoperls/installed-perls/host/k93jammy/v5.40.3-RC1/322f -Dmyhostname=k93jammy -Dinstallusrbinperl=n -Uversiononly -Dusedevel -des -Ui_db -Dlibswanted=cl pthread socket inet nsl gdbm dbm malloc dl ld sun m crypt sec util c cposix posix ucb BSD gdbm_compat -Duseithreads -Duselongdouble -DEBUGGING=-g'
    hint=recommended
    useposix=true
    d_sigaction=define
    useithreads=define
    usemultiplicity=define
    use64bitint=define
    use64bitall=define
    uselongdouble=define
    usemymalloc=n
    default_inc_excludes_dot=define
  Compiler:
    cc='cc'
    ccflags ='-D_REENTRANT -D_GNU_SOURCE -fwrapv -fno-strict-aliasing -pipe -fstack-protector-strong -I/usr/local/include -D_LARGEFILE_SOURCE -D_FILE_OFFSET_BITS=64'
    optimize='-O2 -g'
    cppflags='-D_REENTRANT -D_GNU_SOURCE -fwrapv -fno-strict-aliasing -pipe -fstack-protector-strong -I/usr/local/include'
    ccversion=''
    gccversion='11.4.0'
    gccosandvers=''
    intsize=4
    longsize=8
    ptrsize=8
    doublesize=8
    byteorder=12345678
    doublekind=3
    d_longlong=define
    longlongsize=8
    d_longdbl=define
    longdblsize=16
    longdblkind=3
    ivtype='long'
    ivsize=8
    nvtype='long double'
    nvsize=16
    Off_t='off_t'
    lseeksize=8
    alignbytes=16
    prototype=define
  Linker and Libraries:
    ld='cc'
    ldflags =' -fstack-protector-strong -L/usr/local/lib'
    libpth=/usr/local/lib /usr/lib/x86_64-linux-gnu /usr/lib /usr/lib64
    libs=-lpthread -lnsl -ldl -lm -lcrypt -lutil -lc
    perllibs=-lpthread -lnsl -ldl -lm -lcrypt -lutil -lc
    libc=/lib/x86_64-linux-gnu/libc.so.6
    so=so
    useshrplib=false
    libperl=libperl.a
    gnulibc_version='2.35'
  Dynamic Linking:
    dlsrc=dl_dlopen.xs
    dlext=so
    d_dlsymun=undef
    ccdlflags='-Wl,-E'
    cccdlflags='-fPIC'
    lddlflags='-shared -O2 -g -L/usr/local/lib -fstack-protector-strong'


Characteristics of this binary (from libperl): 
  Compile-time options:
    HAS_LONG_DOUBLE
    HAS_STRTOLD
    HAS_TIMES
    MULTIPLICITY
    PERLIO_LAYERS
    PERL_COPY_ON_WRITE
    PERL_DONT_CREATE_GVSV
    PERL_HASH_FUNC_SIPHASH13
    PERL_HASH_USE_SBOX32
    PERL_MALLOC_WRAP
    PERL_OP_PARENT
    PERL_PRESERVE_IVUV
    PERL_USE_DEVEL
    PERL_USE_SAFE_PUTENV
    USE_64_BIT_ALL
    USE_64_BIT_INT
    USE_ITHREADS
    USE_LARGE_FILES
    USE_LOCALE
    USE_LOCALE_COLLATE
    USE_LOCALE_CTYPE
    USE_LOCALE_NUMERIC
    USE_LOCALE_TIME
    USE_LONG_DOUBLE
    USE_PERLIO
    USE_PERL_ATOF
    USE_REENTRANT_API
    USE_THREAD_SAFE_LOCALE
  Locally applied patches:
    RC1
  Built under linux
  Compiled at Jul 23 2025 09:07:47
  %ENV:
    PERL="/tmp/basesmoker-reloperl-TDtZ/bin/perl"
    PERL5LIB="/tmp/loop_over_bdir-388408-5nSnsG/makepp-1.19-0/blib/arch:/tmp/loop_over_bdir-388408-5nSnsG/makepp-1.19-0/blib/lib:/tmp/loop_over_bdir-388408-5nSnsG/Net-Async-WebService-lxd-0.03-0/blib/arch:/tmp/loop_over_bdir-388408-5nSnsG/Net-Async-WebService-lxd-0.03-0/blib/lib:/tmp/loop_over_bdir-388408-5nSnsG/Dpkg-1.22.21-0/blib/arch:/tmp/loop_over_bdir-388408-5nSnsG/Dpkg-1.22.21-0/blib/lib:/tmp/loop_over_bdir-388408-5nSnsG/CGI-Application-NetNewsIface-0.0204-0/blib/arch:/tmp/loop_over_bdir-388408-5nSnsG/CGI-Application-NetNewsIface-0.0204-0/blib/lib:/tmp/loop_over_bdir-388408-5nSnsG/Devel-Required-0.17-0/blib/arch:/tmp/loop_over_bdir-388408-5nSnsG/Devel-Required-0.17-0/blib/lib:/tmp/loop_over_bdir-388408-5nSnsG/Linux-InitFS-0.2-0/blib/arch:/tmp/loop_over_bdir-388408-5nSnsG/Linux-InitFS-0.2-0/blib/lib:/tmp/loop_over_bdir-388408-5nSnsG/Module-ScanDeps-Static-1.7.6-0/blib/arch:/tmp/loop_over_bdir-388408-5nSnsG/Module-ScanDeps-Static-1.7.6-0/blib/lib"
    PERL5OPT=""
    PERL5_CPANPLUS_IS_RUNNING="388416"
    PERL5_CPAN_IS_RUNNING="388416"
    PERL_CANARY_STABILITY_NOPROMPT="1"
    PERL_MM_USE_DEFAULT="1"
    PERL_USE_UNSAFE_INC="1"
  @INC:
    /tmp/loop_over_bdir-388408-5nSnsG/makepp-1.19-0/blib/arch
    /tmp/loop_over_bdir-388408-5nSnsG/makepp-1.19-0/blib/lib
    /tmp/loop_over_bdir-388408-5nSnsG/Net-Async-WebService-lxd-0.03-0/blib/arch
    /tmp/loop_over_bdir-388408-5nSnsG/Net-Async-WebService-lxd-0.03-0/blib/lib
    /tmp/loop_over_bdir-388408-5nSnsG/Dpkg-1.22.21-0/blib/arch
    /tmp/loop_over_bdir-388408-5nSnsG/Dpkg-1.22.21-0/blib/lib
    /tmp/loop_over_bdir-388408-5nSnsG/CGI-Application-NetNewsIface-0.0204-0/blib/arch
    /tmp/loop_over_bdir-388408-5nSnsG/CGI-Application-NetNewsIface-0.0204-0/blib/lib
    /tmp/loop_over_bdir-388408-5nSnsG/Devel-Required-0.17-0/blib/arch
    /tmp/loop_over_bdir-388408-5nSnsG/Devel-Required-0.17-0/blib/lib
    /tmp/loop_over_bdir-388408-5nSnsG/Linux-InitFS-0.2-0/blib/arch
    /tmp/loop_over_bdir-388408-5nSnsG/Linux-InitFS-0.2-0/blib/lib
    /tmp/loop_over_bdir-388408-5nSnsG/Module-ScanDeps-Static-1.7.6-0/blib/arch
    /tmp/loop_over_bdir-388408-5nSnsG/Module-ScanDeps-Static-1.7.6-0/blib/lib
    /home/sand/src/perl/repoperls/installed-perls/host/k93jammy/v5.40.3-RC1/322f/lib/site_perl/5.40.3/x86_64-linux-thread-multi-ld
    /home/sand/src/perl/repoperls/installed-perls/host/k93jammy/v5.40.3-RC1/322f/lib/site_perl/5.40.3
    /home/sand/src/perl/repoperls/installed-perls/host/k93jammy/v5.40.3-RC1/322f/lib/5.40.3/x86_64-linux-thread-multi-ld
    /home/sand/src/perl/repoperls/installed-perls/host/k93jammy/v5.40.3-RC1/322f/lib/5.40.3
    .