Report for Parse-Eyapp-1.175

Back
From: metabase:user:30977d10-2aae-11df-837a-5e0a49663a4f
Subject: PASS Parse-Eyapp-1.175 v5.8.9 GNU/Linux
Date: 2010-12-24T15:07:18Z

This distribution has been tested as part of the CPAN Testers
project, supporting the Perl programming language.  See
http://wiki.cpantesters.org/ for more information or email
questions to cpan-testers-discuss@perl.org


--
Dear Casiano Rodriguez-Leon,

This is a computer-generated report for Parse-Eyapp-1.175
on perl 5.8.9, created by CPAN-Reporter-1.1803.

Thank you for uploading your work to CPAN.  Congratulations!
All tests were successful.

Sections of this report:

    * Tester comments
    * Program output
    * Prerequisites
    * Environment and other context

------------------------------
TESTER COMMENTS
------------------------------

Additional comments from tester:

this report is from an automated smoke testing program
and was not reviewed by a human for accuracy

------------------------------
PROGRAM OUTPUT
------------------------------

Output from '/usr/bin/make test':

PERL_DL_NONLAZY=1 /home/stro/perl/perl589/bin/perl "-MExtUtils::Command::MM" "-e" "test_harness(0, 'blib/lib', 'blib/arch')" t/*.t
t/01calc.t .................................. ok
t/03newgrammar.t ............................ ok
t/04foldandzero.t ........................... ok
t/05treewithvars.t .......................... ok
t/06meta.t .................................. ok
t/07translationschemetype.t ................. ok
t/08tschemetypestar.t ....................... ok
t/09ts_with_defaultaction.t ................. ok
t/10ts_with_treereg.t ....................... ok
t/11ts_simplify_codes.t ..................... ok
t/12ts_simplify_with_s.t .................... ok
t/13ts_simplify_with_delete.t ............... ok
t/14ts_simplify_with_trreereg.t ............. ok
t/15treeregswith2arrays.t ................... ok
t/16treeregswitharrayattheend.t ............. ok
t/17fatherisscalar.t ........................ ok
t/18fatherpatternwitharrays.t ............... ok
t/19treeregswitharrays2transf.t ............. ok
t/20treeregswitharrays2transf.t ............. ok
t/21fatherisdot.t ........................... ok
t/22treeregswithregexpwithid.t .............. ok
t/23treeregswitharraysandregexps.t .......... ok
t/24prefixes.t .............................. ok
t/25foldwithnew.t ........................... ok
t/26foldwithnewwithvars.t ................... ok
t/27unshiftinmyself.t ....................... ok
t/28unshifttwoitems.t ....................... ok
t/29foldinglistsofexpressions.t ............. ok
t/30complextreereg.t ........................ ok
t/31optional.t .............................. ok
t/32deletenodewithwarn.t .................... ok
t/33moveinvariantoutofloop.t ................ ok
t/34moveinvariantoutofloopcomplexformula.t .. ok
t/35match.t ................................. ok
t/36tswithmultipledefact.t .................. ok
t/37tsplus.t ................................ ok
t/38tspostfix.t ............................. ok
t/38tspostfix_resultisarray.t ............... ok
t/39tspostfix.t ............................. ok
t/40wrongoptionforTreeregexp_new.t .......... ok
t/41indexbug.t .............................. ok
t/42pod.t ................................... skipped: Developer test
t/43dotandscalar.t .......................... ok
t/44repeatedarray.t ......................... ok
t/45starandarray.t .......................... ok
t/46starandstar.t ........................... ok
t/47ruleindex.t ............................. ok
t/48yyprefix.t .............................. ok
t/49conflicts.t ............................. ok
t/50SimpleChalfscope.t ...................... ok
t/52accesors.t .............................. ok
t/53accessorsskip.t ......................... ok
t/54alias_and_yyprefix.t .................... ok
t/55builder.t ............................... ok
t/56equal.t ................................. ok
t/57testequal.t ............................. ok
t/58standalone.t ............................ ok
t/59newgrammarerrors.t ...................... ok
t/60dynamicyyprefix_and_alias.t ............. ok
t/61standalonegift.t ........................ ok
t/62docinsideeyapp.t ........................ ok
t/63docwithdoublecut.t ...................... ok
t/64standalonegiftandeyapp.t ................ ok
t/65yydebugandpod.t ......................... ok
t/66yydebugstandaloneandpod.t ............... ok
t/67outputfile.t ............................ ok
t/70dos2unix.t .............................. ok
t/71dynamicconflictresolution.t ............. ok
t/72mixedstandaloneanddynamicload.t ......... ok
t/73dynamicshiftreduceconflictresolution.t .. ok
t/74lalrdependanttest.t ..................... ok
t/75tokenandvariablewiththesamename.t ....... ok
t/76minusvoption.t .......................... ok
t/77lexicalanalyzergeneration.t ............. ok
t/78twolexers.t ............................. ok
t/79syntactictokenwithdef.t ................. ok
t/80ppcr.t .................................. ok
t/81tokendirectiveandsubstitution.t ......... ok
t/82expectandPLI.t .......................... ok
t/83parsingstringsandtrees.t ................ ok
t/84graphics.t .............................. ok
t/85minusSoption.t .......................... ok
t/86recycle.t ............................... ok
t/87namingSchemes.t ......................... ok
t/98nopm.t .................................. ok
t/99Cplusplusgrammar.t ...................... skipped: Developer test
All tests successful.
Files=86, Tests=702, 20 wallclock secs ( 0.67 usr  0.74 sys +  7.32 cusr  1.66 csys = 10.39 CPU)
Result: PASS

------------------------------
PREREQUISITES
------------------------------

Prerequisite modules loaded:

requires:

    Module              Need Have 
    ------------------- ---- -----
    Data::Dumper        1.0  2.128
    List::Util          1.0  1.23 
    Pod::Usage          1.0  1.36 

configure_requires:

    Module              Need Have 
    ------------------- ---- -----
    ExtUtils::MakeMaker 0    6.56 


------------------------------
ENVIRONMENT AND OTHER CONTEXT
------------------------------

Environment variables:

    AUTOMATED_TESTING = 1
    LANG = en_US.UTF-8
    PATH = /usr/local/bin:/usr/bin:/bin:/usr/games
    PERL5LIB = 
    PERL5OPT = 
    PERL5_CPANPLUS_IS_RUNNING = 6944
    PERL5_CPAN_IS_RUNNING = 6944
    PERL5_CPAN_IS_RUNNING_IN_RECURSION = 1690,6944
    PERL_CR_SMOKER_CURRENT = Parse-Eyapp-1.175
    PERL_EXTUTILS_AUTOINSTALL = --defaultdeps
    PERL_MM_USE_DEFAULT = 1
    SHELL = /bin/bash
    TERM = xterm

Perl special variables (and OS-specific diagnostics, for MSWin32):

    $^X = /home/stro/perl/perl589/bin/perl
    $UID/$EUID = 1000 / 1000
    $GID = 1000 20 24 25 29 44 46 1000
    $EGID = 1000 20 24 25 29 44 46 1000

Perl module toolchain versions installed:

    Module              Have  
    ------------------- ------
    CPAN                1.9402
    Cwd                 3.33  
    ExtUtils::CBuilder  0.2801
    ExtUtils::Command   1.16  
    ExtUtils::Install   1.52  
    ExtUtils::MakeMaker 6.56  
    ExtUtils::Manifest  1.56  
    ExtUtils::ParseXS   2.2206
    File::Spec          3.33  
    Module::Build       0.3607
    Module::Signature   0.66  
    Test::Harness       3.22  
    Test::More          0.96  
    YAML                0.72  
    YAML::Syck          1.17  
    version             0.88  


--

Summary of my perl5 (revision 5 version 8 subversion 9) configuration:
  Platform:
    osname=linux, osvers=2.6.26-2-686, archname=i686-linux
    uname='linux debian5 2.6.26-2-686 #1 smp wed may 12 21:56:10 utc 2010 i686 gnulinux '
    config_args=''
    hint=recommended, useposix=true, d_sigaction=define
    usethreads=undef use5005threads=undef useithreads=undef usemultiplicity=undef
    useperlio=define d_sfio=undef uselargefiles=define usesocks=undef
    use64bitint=undef use64bitall=undef uselongdouble=undef
    usemymalloc=n, bincompat5005=undef
  Compiler:
    cc='cc', ccflags ='-fno-strict-aliasing -pipe -I/usr/local/include -D_LARGEFILE_SOURCE -D_FILE_OFFSET_BITS=64',
    optimize='-O2',
    cppflags='-fno-strict-aliasing -pipe -I/usr/local/include'
    ccversion='', gccversion='4.3.2', gccosandvers=''
    intsize=4, longsize=4, ptrsize=4, doublesize=8, byteorder=1234
    d_longlong=define, longlongsize=8, d_longdbl=define, longdblsize=12
    ivtype='long', ivsize=4, nvtype='double', nvsize=8, Off_t='off_t', lseeksize=8
    alignbytes=4, prototype=define
  Linker and Libraries:
    ld='cc', ldflags =' -L/usr/local/lib'
    libpth=/usr/local/lib /lib /usr/lib
    libs=-lnsl -ldb -ldl -lm -lcrypt -lutil -lc
    perllibs=-lnsl -ldl -lm -lcrypt -lutil -lc
    libc=/lib/libc-2.7.so, so=so, useshrplib=false, libperl=libperl.a
    gnulibc_version='2.7'
  Dynamic Linking:
    dlsrc=dl_dlopen.xs, dlext=so, d_dlsymun=undef, ccdlflags='-Wl,-E'
    cccdlflags='-fPIC', lddlflags='-shared -O2 -L/usr/local/lib'


Characteristics of this binary (from libperl): 
  Compile-time options: PERL_MALLOC_WRAP USE_FAST_STDIO USE_LARGE_FILES
                        USE_PERLIO
  Built under linux
  Compiled at Jun 16 2010 16:55:18
  %ENV:
    PERL5LIB=""
    PERL5OPT=""
    PERL5_CPANPLUS_IS_RUNNING="6944"
    PERL5_CPAN_IS_RUNNING="6944"
    PERL5_CPAN_IS_RUNNING_IN_RECURSION="1690,6944"
    PERL_CR_SMOKER_CURRENT="Parse-Eyapp-1.175"
    PERL_EXTUTILS_AUTOINSTALL="--defaultdeps"
    PERL_MM_USE_DEFAULT="1"
  @INC:
    /home/stro/perl/perl589/lib/5.8.9/i686-linux
    /home/stro/perl/perl589/lib/5.8.9
    /home/stro/perl/perl589/lib/site_perl/5.8.9/i686-linux
    /home/stro/perl/perl589/lib/site_perl/5.8.9
    .