Archive-Tar-Wrapper v0.34 Perl 5 v5.29.7 amd64-netbsd
- Status
- Pass
- From
- Nigel Horne
- Dist
-
Archive-Tar-Wrapper v0.34
- Platform
- Perl 5 v5.29.7 amd64-netbsd
- Date
- 2019-03-24 09:23:34
- ID
- 7f526b78-4e16-11e9-a89a-b06762b887d7
This distribution has been tested as part of the CPAN Testers
project, supporting the Perl programming language. See
http://wiki.cpantesters.org/ for more information or email
questions to cpan-testers-discuss@perl.org
--
Dear Alceu Rodrigues de Freitas Junior,
This is a computer-generated report for Archive-Tar-Wrapper-0.34
on perl 5.29.7, created by CPAN-Reporter-1.2018.
Thank you for uploading your work to CPAN. Congratulations!
All tests were successful.
Sections of this report:
* Tester comments
* Program output
* Prerequisites
* Environment and other context
------------------------------
TESTER COMMENTS
------------------------------
Additional comments from tester:
this report is from an automated smoke testing program
and was not reviewed by a human for accuracy
------------------------------
PROGRAM OUTPUT
------------------------------
Output from '/usr/bin/make test':
PERL_DL_NONLAZY=1 "/home/njh/perl5/perlbrew/perls/perl-5.29.7/bin/perl5.29.7" "-MExtUtils::Command::MM" "-MTest::Harness" "-e" "undef *Test::Harness::Switches; test_harness(0, 'blib/lib', 'blib/arch')" t/*.t
t/001Basic.t ........ ok
t/002Mult.t ......... ok
t/003Dirs.t ......... ok
t/004Utf8.t ......... ok
t/005Cwd.t .......... ok
t/006DirPerms.t ..... ok
t/007bzip.t ......... ok
# with grep: Ran 1274 iterations (237 outliers).
# with grep: Rounded run time per iteration: 0.000678 +/- 0.000001 (0.2%)
# with grep and compiled regex: Ran 1214 iterations (146 outliers).
# with grep and compiled regex: Rounded run time per iteration: 0.001234 +/- 0.000005 (0.4%)
# with eq: Ran 1102 iterations (93 outliers).
# with eq: Rounded run time per iteration: 0.000739 +/- 0.000002 (0.3%)
# with enhanced eq: Ran 1050 iterations (36 outliers).
# with enhanced eq: Rounded run time per iteration: 0.000718 +/- 0.000003 (0.4%)
# with enhanced eq mark2: Ran 1102 iterations (92 outliers).
# with enhanced eq mark2: Rounded run time per iteration: 0.000633 +/- 0.000003 (0.4%)
# with enhanced eq mark3: Ran 1274 iterations (243 outliers).
# with enhanced eq mark3: Rounded run time per iteration: 0.000341 +/- 0.000001 (0.2%)
# sort and shift: Ran 1214 iterations (209 outliers).
# sort and shift: Rounded run time per iteration: 0.001382 +/- 0.000004 (0.3%)
t/008performance.t .. ok
t/009compressed.t ... ok
t/010openbsd.t ...... ok
All tests successful.
Files=10, Tests=65, 34 wallclock secs ( 0.14 usr 0.02 sys + 21.18 cusr 4.10 csys = 25.44 CPU)
Result: PASS
------------------------------
PREREQUISITES
------------------------------
Prerequisite modules loaded:
requires:
Module Need Have
------------------- -------- ----------
Cwd 0 3.77
File::Temp 0 0.2309
File::Which 0 1.23
IPC::Run 0 20180523.0
Log::Log4perl 0 1.49
perl 5.008001 5.029007
build_requires:
Module Need Have
------------------- -------- ----------
Dumbbench 0.111 0.111
ExtUtils::MakeMaker 0 7.34
Test::Simple 1.302073 1.302160
configure_requires:
Module Need Have
------------------- -------- ----------
ExtUtils::MakeMaker 0 7.34
File::Which 0 1.23
------------------------------
ENVIRONMENT AND OTHER CONTEXT
------------------------------
Environment variables:
AUTOMATED_TESTING = 1
NONINTERACTIVE_TESTING = 1
PATH = /home/njh/perl5/perlbrew/bin:/home/njh/perl5/perlbrew/perls/perl-5.29.7/bin:/home/njh/src/njh/smoker/bin:/usr/bin:/bin:/usr/pkg/bin:/usr/local/bin
PERL5LIB = /home/njh/.cpan/build/Log-Log4perl-1.49-0/blib/arch:/home/njh/.cpan/build/Log-Log4perl-1.49-0/blib/lib:/home/njh/.cpan/build/Dumbbench-0.111-0/blib/arch:/home/njh/.cpan/build/Dumbbench-0.111-0/blib/lib:/home/njh/.cpan/build/Statistics-CaseResampling-0.15-0/blib/arch:/home/njh/.cpan/build/Statistics-CaseResampling-0.15-0/blib/lib:/home/njh/.cpan/build/Number-WithError-1.01-0/blib/arch:/home/njh/.cpan/build/Number-WithError-1.01-0/blib/lib:/home/njh/.cpan/build/Test-LectroTest-0.5001-0/blib/arch:/home/njh/.cpan/build/Test-LectroTest-0.5001-0/blib/lib:/home/njh/.cpan/build/Devel-CheckOS-1.81-0/blib/arch:/home/njh/.cpan/build/Devel-CheckOS-1.81-0/blib/lib:/home/njh/.cpan/build/Data-Compare-1.25-0/blib/arch:/home/njh/.cpan/build/Data-Compare-1.25-0/blib/lib
PERL5OPT =
PERL5_CPANPLUS_IS_RUNNING = 3048
PERL5_CPAN_IS_RUNNING = 3048
PERLBREW_HOME = /home/njh/.perlbrew
PERLBREW_MANPATH = /home/njh/perl5/perlbrew/perls/perl-5.29.7/man
PERLBREW_PATH = /home/njh/perl5/perlbrew/bin:/home/njh/perl5/perlbrew/perls/perl-5.29.7/bin
PERLBREW_PERL = perl-5.29.7
PERLBREW_ROOT = /home/njh/perl5/perlbrew
PERLBREW_SHELLRC_VERSION = 0.82
PERLBREW_VERSION = 0.82
PERL_MM_USE_DEFAULT = 1
PERL_USE_UNSAFE_INC = 1
SHELL = /bin/sh
TMPDIR = /tmp/testwrapper.12646
Perl special variables (and OS-specific diagnostics, for MSWin32):
$^X = /home/njh/perl5/perlbrew/perls/perl-5.29.7/bin/perl5.29.7
$UID/$EUID = 1000 / 1000
$GID = 100 100 0
$EGID = 100 100 0
Perl module toolchain versions installed:
Module Have
------------------- --------
CPAN 2.22
CPAN::Meta 2.150010
Cwd 3.77
ExtUtils::CBuilder 0.280230
ExtUtils::Command 7.34
ExtUtils::Install 2.14
ExtUtils::MakeMaker 7.34
ExtUtils::Manifest 1.71
ExtUtils::ParseXS 3.40
File::Spec 3.77
JSON 4.02
JSON::PP 2.97001
Module::Build 0.4224
Module::Signature n/a
Parse::CPAN::Meta 2.150010
Test::Harness 3.42
Test::More 1.302160
YAML 1.27
YAML::Syck 1.31
version 0.9924
--
Summary of my perl5 (revision 5 version 29 subversion 7) configuration:
Platform:
osname=netbsd
osvers=7.1.2
archname=amd64-netbsd
uname='netbsd vultr2.bandsman.co.uk 7.1.2 netbsd 7.1.2 (generic.201803151611z) amd64 '
config_args='-de -Dprefix=/home/njh/perl5/perlbrew/perls/perl-5.29.7 -Dusedevel -Aeval:scriptdir=/home/njh/perl5/perlbrew/perls/perl-5.29.7/bin'
hint=recommended
useposix=true
d_sigaction=define
useithreads=undef
usemultiplicity=undef
use64bitint=define
use64bitall=define
uselongdouble=undef
usemymalloc=n
default_inc_excludes_dot=define
bincompat5005=undef
Compiler:
cc='cc'
ccflags ='-fwrapv -fno-strict-aliasing -pipe -fstack-protector -I/usr/pkg/include -D_FORTIFY_SOURCE=2'
optimize='-O'
cppflags='-fwrapv -fno-strict-aliasing -pipe -fstack-protector -I/usr/pkg/include'
ccversion=''
gccversion='4.8.5'
gccosandvers=''
intsize=4
longsize=8
ptrsize=8
doublesize=8
byteorder=12345678
doublekind=3
d_longlong=define
longlongsize=8
d_longdbl=define
longdblsize=16
longdblkind=3
ivtype='long'
ivsize=8
nvtype='double'
nvsize=8
Off_t='off_t'
lseeksize=8
alignbytes=8
prototype=define
Linker and Libraries:
ld='cc'
ldflags =' -Wl,-rpath,/usr/pkg/lib -Wl,-rpath,/usr/local/lib -fstack-protector -L/usr/pkg/lib'
libpth=/usr/include/gcc-4.8 /usr/lib /usr/pkg/lib /lib
libs=-lpthread -lm -lcrypt -lutil -lc -lposix
perllibs=-lpthread -lm -lcrypt -lutil -lc -lposix
libc=/lib/libc.so
so=so
useshrplib=false
libperl=libperl.a
gnulibc_version=''
Dynamic Linking:
dlsrc=dl_dlopen.xs
dlext=so
d_dlsymun=undef
ccdlflags='-Wl,-E '
cccdlflags='-DPIC -fPIC '
lddlflags='-shared -L/usr/pkg/lib -fstack-protector'
Characteristics of this binary (from libperl):
Compile-time options:
HAS_TIMES
PERLIO_LAYERS
PERL_COPY_ON_WRITE
PERL_DONT_CREATE_GVSV
PERL_MALLOC_WRAP
PERL_OP_PARENT
PERL_PRESERVE_IVUV
PERL_USE_DEVEL
USE_64_BIT_ALL
USE_64_BIT_INT
USE_LARGE_FILES
USE_LOCALE
USE_LOCALE_COLLATE
USE_LOCALE_CTYPE
USE_LOCALE_NUMERIC
USE_LOCALE_TIME
USE_PERLIO
USE_PERL_ATOF
Locally applied patches:
Devel::PatchPerl 1.48
Built under netbsd
Compiled at Feb 21 2019 14:46:47
%ENV:
PERL5LIB="/home/njh/.cpan/build/Log-Log4perl-1.49-0/blib/arch:/home/njh/.cpan/build/Log-Log4perl-1.49-0/blib/lib:/home/njh/.cpan/build/Dumbbench-0.111-0/blib/arch:/home/njh/.cpan/build/Dumbbench-0.111-0/blib/lib:/home/njh/.cpan/build/Statistics-CaseResampling-0.15-0/blib/arch:/home/njh/.cpan/build/Statistics-CaseResampling-0.15-0/blib/lib:/home/njh/.cpan/build/Number-WithError-1.01-0/blib/arch:/home/njh/.cpan/build/Number-WithError-1.01-0/blib/lib:/home/njh/.cpan/build/Test-LectroTest-0.5001-0/blib/arch:/home/njh/.cpan/build/Test-LectroTest-0.5001-0/blib/lib:/home/njh/.cpan/build/Devel-CheckOS-1.81-0/blib/arch:/home/njh/.cpan/build/Devel-CheckOS-1.81-0/blib/lib:/home/njh/.cpan/build/Data-Compare-1.25-0/blib/arch:/home/njh/.cpan/build/Data-Compare-1.25-0/blib/lib"
PERL5OPT=""
PERL5_CPANPLUS_IS_RUNNING="3048"
PERL5_CPAN_IS_RUNNING="3048"
PERLBREW_HOME="/home/njh/.perlbrew"
PERLBREW_MANPATH="/home/njh/perl5/perlbrew/perls/perl-5.29.7/man"
PERLBREW_PATH="/home/njh/perl5/perlbrew/bin:/home/njh/perl5/perlbrew/perls/perl-5.29.7/bin"
PERLBREW_PERL="perl-5.29.7"
PERLBREW_ROOT="/home/njh/perl5/perlbrew"
PERLBREW_SHELLRC_VERSION="0.82"
PERLBREW_VERSION="0.82"
PERL_MM_USE_DEFAULT="1"
PERL_USE_UNSAFE_INC="1"
@INC:
/home/njh/.cpan/build/Log-Log4perl-1.49-0/blib/arch
/home/njh/.cpan/build/Log-Log4perl-1.49-0/blib/lib
/home/njh/.cpan/build/Dumbbench-0.111-0/blib/arch
/home/njh/.cpan/build/Dumbbench-0.111-0/blib/lib
/home/njh/.cpan/build/Statistics-CaseResampling-0.15-0/blib/arch
/home/njh/.cpan/build/Statistics-CaseResampling-0.15-0/blib/lib
/home/njh/.cpan/build/Number-WithError-1.01-0/blib/arch
/home/njh/.cpan/build/Number-WithError-1.01-0/blib/lib
/home/njh/.cpan/build/Test-LectroTest-0.5001-0/blib/arch
/home/njh/.cpan/build/Test-LectroTest-0.5001-0/blib/lib
/home/njh/.cpan/build/Devel-CheckOS-1.81-0/blib/arch
/home/njh/.cpan/build/Devel-CheckOS-1.81-0/blib/lib
/home/njh/.cpan/build/Data-Compare-1.25-0/blib/arch
/home/njh/.cpan/build/Data-Compare-1.25-0/blib/lib
/home/njh/perl5/perlbrew/perls/perl-5.29.7/lib/site_perl/5.29.7/amd64-netbsd
/home/njh/perl5/perlbrew/perls/perl-5.29.7/lib/site_perl/5.29.7
/home/njh/perl5/perlbrew/perls/perl-5.29.7/lib/5.29.7/amd64-netbsd
/home/njh/perl5/perlbrew/perls/perl-5.29.7/lib/5.29.7
.