Net-Amazon-S3 v0.92 Perl 5 v5.30.0 amd64-freebsd
- Status
- Pass
- From
- Slaven Rezić (SREZIC)
- Dist
-
Net-Amazon-S3 v0.92
- Platform
- Perl 5 v5.30.0 amd64-freebsd
- Date
- 2020-09-26 06:57:08
- ID
- 7eb24c8a-ffc5-11ea-adc2-f53d1f24ea8f
This distribution has been tested as part of the CPAN Testers
project, supporting the Perl programming language. See
http://wiki.cpantesters.org/ for more information or email
questions to cpan-testers-discuss@perl.org
--
Dear Branislav Zahradnik,
This is a computer-generated report for Net-Amazon-S3-0.92
on perl 5.30.0, created by CPAN-Reporter-1.2018.
Thank you for uploading your work to CPAN. Congratulations!
All tests were successful.
Sections of this report:
* Tester comments
* Program output
* Prerequisites
* Environment and other context
------------------------------
TESTER COMMENTS
------------------------------
Additional comments from tester:
none provided
------------------------------
PROGRAM OUTPUT
------------------------------
Output from '/usr/bin/make test':
PERL_DL_NONLAZY=1 "/usr/perl5.30.0p/bin/perl" "-MExtUtils::Command::MM" "-MTest::Harness" "-e" "undef *Test::Harness::Switches; test_harness(0, 'blib/lib', 'blib/arch')" t/*.t
t/01api.t .............................. skipped: Testing this module for real costs money. Enable it by setting true value to env variable AMAZON_S3_EXPENSIVE_TESTS
t/02client.t ........................... skipped: Testing this module for real costs money.
t/03token.t ............................ skipped: Need these vars in ENV: AWS_ACCESS_KEY_ID, AWS_ACCESS_KEY_SECRET, AWS_ACCESS_TOKEN
t/acl-set.t ............................ ok
t/api-bucket-acl-get.t ................. ok
t/api-bucket-acl-set.t ................. ok
t/api-bucket-create.t .................. ok
t/api-bucket-delete.t .................. ok
t/api-bucket-objects-delete.t .......... ok
t/api-bucket-objects-list.t ............ ok
t/api-bucket-tags-add.t ................ ok
t/api-bucket-tags-delete.t ............. ok
t/api-build-bucket.t ................... ok
t/api-construct.t ...................... ok
t/api-object-acl-get.t ................. ok
t/api-object-acl-set.t ................. ok
t/api-object-create.t .................. ok
t/api-object-delete.t .................. ok
t/api-object-fetch.t ................... ok
t/api-object-head.t .................... ok
t/api-object-tags-add.t ................ ok
t/api-object-tags-delete.t ............. ok
t/api-service-buckets-list.t ........... ok
t/client-bucket-acl-get.t .............. ok
t/client-bucket-acl-set.t .............. ok
t/client-bucket-create.t ............... ok
t/client-bucket-delete.t ............... ok
t/client-bucket-objects-delete.t ....... ok
t/client-bucket-objects-list.t ......... ok
t/client-bucket-tags-add.t ............. ok
t/client-bucket-tags-delete.t .......... ok
t/client-construct.t ................... ok
t/client-object-acl-set.t .............. ok
t/client-object-create.t ............... ok
t/client-object-delete.t ............... ok
t/client-object-fetch.t ................ ok
t/client-object-tags-add.t ............. ok
t/client-object-tags-delete.t .......... ok
t/client-service-buckets-list.t ........ ok
t/error-handler-x.t .................... ok
t/issue-39-content-length-0.t .......... ok
t/query-string-authentication-uri.t .... ok
t/request.t ............................ ok
t/response.t ........................... ok
t/s3-request-bucket-acl-fetch.t ........ ok
t/s3-request-bucket-acl-set.t .......... ok
t/s3-request-bucket-create.t ........... ok
t/s3-request-bucket-delete.t ........... ok
t/s3-request-bucket-location.t ......... ok
t/s3-request-bucket-objects-delete.t ... ok
t/s3-request-bucket-objects-list.t ..... ok
t/s3-request-bucket-tags-add.t ......... ok
t/s3-request-bucket-tags-delete.t ...... ok
t/s3-request-object-acl-fetch.t ........ ok
t/s3-request-object-acl-set.t .......... ok
t/s3-request-object-add.t .............. ok
t/s3-request-object-delete.t ........... ok
t/s3-request-object-fetch.t ............ ok
t/s3-request-object-restore.t .......... ok
t/s3-request-object-tags-add.t ......... ok
t/s3-request-object-tags-delete.t ...... ok
t/s3-request-object-upload-abort.t ..... ok
t/s3-request-object-upload-complete.t .. ok
t/s3-request-object-upload-create.t .... ok
t/s3-request-object-upload-part.t ...... ok
t/s3-request-object-upload-parts.t ..... ok
t/s3-request-service-buckets-list.t .... ok
t/s3-response-object-upload-create.t ... ok
t/s3-response-service-buckets-list.t ... ok
t/signature-v4-with-security-token.t ... ok
t/vendor-amazon.t ...................... ok
t/vendor-generic.t ..................... ok
t/vendor-info.t ........................ ok
All tests successful.
Files=73, Tests=370, 110 wallclock secs ( 0.47 usr 0.23 sys + 100.15 cusr 8.72 csys = 109.56 CPU)
Result: PASS
------------------------------
PREREQUISITES
------------------------------
Prerequisite modules loaded:
requires:
Module Need Have
-------------------------------------- -------- ----------
Carp 0 1.50
constant 0 1.33
Data::Stream::Bulk::Callback 0 0.11
DateTime::Format::HTTP 0 0.42
Digest::HMAC_SHA1 0 1.03
Digest::MD5 0 2.55
Digest::MD5::File 0 0.08
Digest::SHA 0 6.02
Exporter::Tiny 0 1.002001
File::Find::Rule 0 0.34
File::stat 0 1.08
Getopt::Long 0 2.52
Hash::Util 0 0.22
HTTP::Date 0 6.05
HTTP::Response 0 6.26
HTTP::Status 0 6.26
IO::File 1.14 1.41
LWP 6.03 6.49
LWP::UserAgent::Determined 0 1.07
MIME::Base64 0 3.15
MIME::Types 0 2.17
Moose 0.85 2.2013
Moose::Meta::Class 0 2.2013
Moose::Object 0 2.2013
Moose::Role 0 2.2013
Moose::Util 0 2.2013
Moose::Util::TypeConstraints 0 2.2013
MooseX::Role::Parameterized 0 1.11
MooseX::StrictConstructor 0.16 0.21
MooseX::Types::DateTime::MoreCoercions 0.07 0.15
namespace::clean 0 0.27
parent 0 0.238
Path::Class 0 0.37
Pod::Usage 0 1.70
Ref::Util 0 0.204
Regexp::Common 0 2017060201
Safe::Isa 0 1.000010
Scalar::Util 0 1.55
sort 0 2.04
strict 0 1.11
Sub::Override 0 0.09
Term::Encoding 0 0.03
Term::ProgressBar::Simple 0 0.03
Test::Deep v0.111.0 1.130
Test::LWP::UserAgent 0 0.034
Test::More 0 1.302181
Time::Piece 0 1.3401
URI 0 1.76
URI::Escape 0 3.31
URI::QueryParam 0 1.76
warnings 0 1.44
XML::LibXML 0 2.0206
XML::LibXML::XPathContext 0 2.0206
build_requires:
Module Need Have
-------------------------------------- -------- ----------
ExtUtils::MakeMaker 0 7.46
File::Temp 0 0.2309
FindBin 0 1.51
HTTP::Request 0 6.26
lib 0 0.65
LWP::Simple 0 6.49
Test::Deep v0.111.0 1.130
Test::Exception 0 0.43
Test::MockTime 0 0.17
Test::Warnings 0 0.030
utf8 0 1.22
vars 0 1.05
configure_requires:
Module Need Have
-------------------------------------- -------- ----------
ExtUtils::MakeMaker 0 7.46
------------------------------
ENVIRONMENT AND OTHER CONTEXT
------------------------------
Environment variables:
PATH = /usr/local/bin:/usr/bin:/bin:/usr/local/sbin:/usr/sbin:/sbin:/home/cpansand/bin/sh:/home/cpansand/bin:/usr/games:/home/cpansand/devel:/usr/home/eserte/src/srezic-misc/scripts
PERL5LIB =
PERL5OPT =
PERL5_CPANPLUS_IS_RUNNING = 63808
PERL5_CPAN_IS_RUNNING = 63808
PERL5_CPAN_IS_RUNNING_IN_RECURSION = 55728,63808
PERL_BATCH = yes
PERL_CANARY_STABILITY_NOPROMPT = 1
PERL_CPAN_REPORTER_CONFIG = /var/tmp/cpansmoker-1023/2020092606/cpanreporter_000_config.ini
PERL_EXTUTILS_AUTOINSTALL = --defaultdeps
PERL_USE_UNSAFE_INC = 1
SHELL = /bin/sh
TMPDIR = /var/tmp/cpansmoker-1023/2020092606
Perl special variables (and OS-specific diagnostics, for MSWin32):
$^X = /usr/perl5.30.0p/bin/perl
$UID/$EUID = 1023 / 1023
$GID = 1023 1023
$EGID = 1023 1023
Perl module toolchain versions installed:
Module Have
------------------- --------
CPAN 2.28
CPAN::Meta 2.150010
Cwd 3.78
ExtUtils::CBuilder 0.280231
ExtUtils::Command 7.46
ExtUtils::Install 2.16
ExtUtils::MakeMaker 7.46
ExtUtils::Manifest 1.72
ExtUtils::ParseXS 3.40
File::Spec 3.78
JSON 4.02
JSON::PP 4.05
Module::Build 0.4231
Module::Signature 0.86
Parse::CPAN::Meta 2.150010
Test::Harness 3.42
Test::More 1.302181
YAML 1.30
YAML::Syck 1.32
version 0.9928
--
Summary of my perl5 (revision 5 version 30 subversion 0) configuration:
Platform:
osname=freebsd
osvers=13.0-current
archname=amd64-freebsd
uname='freebsd cloud2.bbbike.org 13.0-current freebsd 13.0-current cb9788efd6d(master) generic-nodebug amd64 '
config_args='-ds -e -Dprefix=/usr/perl5.30.0p -Dcf_email=srezic@cpan.org -Doptimize=-O2 -pipe'
hint=recommended
useposix=true
d_sigaction=define
useithreads=undef
usemultiplicity=undef
use64bitint=define
use64bitall=define
uselongdouble=undef
usemymalloc=n
default_inc_excludes_dot=define
bincompat5005=undef
Compiler:
cc='cc'
ccflags ='-DHAS_FPSETMASK -DHAS_FLOATINGPOINT_H -fno-strict-aliasing -pipe -fstack-protector-strong -I/usr/local/include -D_FORTIFY_SOURCE=2'
optimize='-O2 -pipe'
cppflags='-DHAS_FPSETMASK -DHAS_FLOATINGPOINT_H -fno-strict-aliasing -pipe -fstack-protector-strong -I/usr/local/include'
ccversion=''
gccversion='4.2.1 Compatible FreeBSD Clang 8.0.0 (tags/RELEASE_800/final 356365)'
gccosandvers=''
intsize=4
longsize=8
ptrsize=8
doublesize=8
byteorder=12345678
doublekind=3
d_longlong=define
longlongsize=8
d_longdbl=define
longdblsize=16
longdblkind=3
ivtype='long'
ivsize=8
nvtype='double'
nvsize=8
Off_t='off_t'
lseeksize=8
alignbytes=8
prototype=define
Linker and Libraries:
ld='cc'
ldflags ='-pthread -Wl,-E -fstack-protector-strong -L/usr/local/lib'
libpth=/usr/lib /usr/local/lib /usr/lib/clang/8.0.0/lib /usr/lib
libs=-lpthread -lgdbm -ldl -lm -lcrypt -lutil -lc
perllibs=-lpthread -ldl -lm -lcrypt -lutil -lc
libc=
so=so
useshrplib=false
libperl=libperl.a
gnulibc_version=''
Dynamic Linking:
dlsrc=dl_dlopen.xs
dlext=so
d_dlsymun=undef
ccdlflags=' '
cccdlflags='-DPIC -fPIC'
lddlflags='-shared -L/usr/local/lib -fstack-protector-strong'
Characteristics of this binary (from libperl):
Compile-time options:
HAS_TIMES
PERLIO_LAYERS
PERL_COPY_ON_WRITE
PERL_DONT_CREATE_GVSV
PERL_MALLOC_WRAP
PERL_OP_PARENT
PERL_PRESERVE_IVUV
USE_64_BIT_ALL
USE_64_BIT_INT
USE_LARGE_FILES
USE_LOCALE
USE_LOCALE_COLLATE
USE_LOCALE_CTYPE
USE_LOCALE_NUMERIC
USE_LOCALE_TIME
USE_PERLIO
USE_PERL_ATOF
Built under freebsd
Compiled at May 22 2019 20:13:34
%ENV:
PERL5LIB=""
PERL5OPT=""
PERL5_CPANPLUS_IS_RUNNING="63808"
PERL5_CPAN_IS_RUNNING="63808"
PERL5_CPAN_IS_RUNNING_IN_RECURSION="55728,63808"
PERL_BATCH="yes"
PERL_CANARY_STABILITY_NOPROMPT="1"
PERL_CPAN_REPORTER_CONFIG="/var/tmp/cpansmoker-1023/2020092606/cpanreporter_000_config.ini"
PERL_EXTUTILS_AUTOINSTALL="--defaultdeps"
PERL_USE_UNSAFE_INC="1"
@INC:
/usr/perl5.30.0p/lib/site_perl/5.30.0/amd64-freebsd
/usr/perl5.30.0p/lib/site_perl/5.30.0
/usr/perl5.30.0p/lib/5.30.0/amd64-freebsd
/usr/perl5.30.0p/lib/5.30.0
.