Const v0.002 Perl 5 v5.12.0 i386-netbsd-thread-multi-64int
- Status
- Pass
- From
- Chris Williams (BINGOS)
- Dist
-
Const v0.002
- Platform
- Perl 5 v5.12.0 i386-netbsd-thread-multi-64int
- Date
- 2010-07-15 01:44:22
- ID
- 7e2f2a28-8fb2-11df-a1aa-55996e8696e0
This distribution has been tested as part of the CPAN Testers
project, supporting the Perl programming language. See
http://wiki.cpantesters.org/ for more information or email
questions to cpan-testers-discuss@perl.org
--
Dear LEONT,
This is a computer-generated error report created automatically by
CPANPLUS, version 0.9007. Testers personal comments may appear
at the end of this report.
MAKE TEST passed:
# Testing Const 0.002, Perl 5.012000, /home/cpan/pit/rel/perl-5.12.0/bin/perl
t/00-load.t ....... ok
t/10-basics.t ..... ok
t/pod-coverage.t .. skipped: Test::Pod::Coverage 1.08 required for testing POD coverage
t/pod.t ........... skipped: Test::Pod 1.22 required for testing POD
All tests successful.
Files=4, Tests=15, 1 wallclock secs ( 0.04 usr 0.19 sys + 0.35 cusr 0.31 csys = 0.89 CPU)
Result: PASS
[MSG] [Thu Jul 15 02:44:22 2010] Sending test report for 'Const-0.002'
This report was machine-generated by CPANPLUS::Dist::YACSmoke 0.58.
Powered by minismokebox version 0.26
------------------------------
ENVIRONMENT AND OTHER CONTEXT
------------------------------
Environment variables:
AUTOMATED_TESTING = 1
PATH = /home/cpan/bin:/bin:/sbin:/usr/bin:/usr/sbin:/usr/X11R7/bin:/usr/X11R6/bin:/usr/pkg/bin:/usr/pkg/sbin:/usr/games:/usr/local/bin:/usr/local/sbin
PERL5LIB = :/home/cpan/pit/rel/conf/perl-5.12.0/.cpanplus/5.12.0/build/Sub-Uplevel-0.22/blib/lib:/home/cpan/pit/rel/conf/perl-5.12.0/.cpanplus/5.12.0/build/Sub-Uplevel-0.22/blib/arch:/home/cpan/pit/rel/conf/perl-5.12.0/.cpanplus/5.12.0/build/Test-Exception-0.29/blib/lib:/home/cpan/pit/rel/conf/perl-5.12.0/.cpanplus/5.12.0/build/Test-Exception-0.29/blib/arch:/home/cpan/pit/rel/conf/perl-5.12.0/.cpanplus/5.12.0/build/Const-0.002/blib/lib:/home/cpan/pit/rel/conf/perl-5.12.0/.cpanplus/5.12.0/build/Const-0.002/blib/arch
PERL5_CPANPLUS_IS_RUNNING = 18059
PERL5_CPANPLUS_IS_VERSION = 0.9007
PERL5_MINISMOKEBOX = 0.26
PERL5_YACSMOKE_BASE = /home/cpan/pit/rel/conf/perl-5.12.0
PERL_EXTUTILS_AUTOINSTALL = --defaultdeps
PERL_MM_USE_DEFAULT = 1
SHELL = /usr/pkg/bin/bash
TERM = screen
Perl special variables (and OS-specific diagnostics, for MSWin32):
Perl: $^X = /home/cpan/pit/rel/perl-5.12.0/bin/perl
UID: $< = 1000
EUID: $> = 1000
GID: $( = 100 100
EGID: $) = 100 100
-------------------------------
--
Summary of my perl5 (revision 5 version 12 subversion 0) configuration:
Platform:
osname=netbsd, osvers=5.0.1, archname=i386-netbsd-thread-multi-64int
uname='netbsd leapfrog.bingosnet.co.uk 5.0.1 netbsd 5.0.1 (generic) #0: thu jul 30 01:39:11 utc 2009 builds@b8.netbsd.org:homebuildsabnetbsd-5-0-1-releasei386200907292356z-objhomebuildsabnetbsd-5-0-1-releasesrcsysarchi386compilegeneric i386 '
config_args='-des -Dprefix=/home/cpan/pit/rel/perl-5.12.0 -Dusethreads -Duse64bitint -Dusemallocwrap=y -Dusemymalloc=n'
hint=recommended, useposix=true, d_sigaction=define
useithreads=define, usemultiplicity=define
useperlio=define, d_sfio=undef, uselargefiles=define, usesocks=undef
use64bitint=define, use64bitall=undef, uselongdouble=undef
usemymalloc=n, bincompat5005=undef
Compiler:
cc='cc', ccflags ='-fno-strict-aliasing -pipe -fstack-protector -I/usr/pkg/include',
optimize='-O',
cppflags='-fno-strict-aliasing -pipe -fstack-protector -I/usr/pkg/include'
ccversion='', gccversion='4.1.3 20080704 prerelease (NetBSD nb2 20081120)', gccosandvers=''
intsize=4, longsize=4, ptrsize=4, doublesize=8, byteorder=12345678
d_longlong=define, longlongsize=8, d_longdbl=define, longdblsize=12
ivtype='long long', ivsize=8, nvtype='double', nvsize=8, Off_t='off_t', lseeksize=8
alignbytes=4, prototype=define
Linker and Libraries:
ld='cc', ldflags =' -Wl,-rpath,/usr/pkg/lib -Wl,-rpath,/usr/local/lib -fstack-protector -L/usr/pkg/lib'
libpth=/usr/pkg/lib /lib /usr/lib
libs=-lm -lcrypt -lutil -lc -lposix -lpthread
perllibs=-lm -lcrypt -lutil -lc -lposix -lpthread
libc=/lib/libc.so, so=so, useshrplib=false, libperl=libperl.a
gnulibc_version=''
Dynamic Linking:
dlsrc=dl_dlopen.xs, dlext=so, d_dlsymun=undef, ccdlflags='-Wl,-E '
cccdlflags='-DPIC -fPIC ', lddlflags='--whole-archive -shared -L/usr/pkg/lib -fstack-protector'
Characteristics of this binary (from libperl):
Compile-time options: MULTIPLICITY PERL_DONT_CREATE_GVSV
PERL_IMPLICIT_CONTEXT PERL_MALLOC_WRAP USE_64_BIT_INT
USE_ITHREADS USE_LARGE_FILES USE_PERLIO USE_PERL_ATOF
USE_REENTRANT_API
Built under netbsd
Compiled at May 24 2010 15:24:12
%ENV:
PERL5LIB=":/home/cpan/pit/rel/conf/perl-5.12.0/.cpanplus/5.12.0/build/Sub-Uplevel-0.22/blib/lib:/home/cpan/pit/rel/conf/perl-5.12.0/.cpanplus/5.12.0/build/Sub-Uplevel-0.22/blib/arch:/home/cpan/pit/rel/conf/perl-5.12.0/.cpanplus/5.12.0/build/Test-Exception-0.29/blib/lib:/home/cpan/pit/rel/conf/perl-5.12.0/.cpanplus/5.12.0/build/Test-Exception-0.29/blib/arch:/home/cpan/pit/rel/conf/perl-5.12.0/.cpanplus/5.12.0/build/Const-0.002/blib/lib:/home/cpan/pit/rel/conf/perl-5.12.0/.cpanplus/5.12.0/build/Const-0.002/blib/arch"
PERL5_CPANPLUS_IS_RUNNING="18059"
PERL5_CPANPLUS_IS_VERSION="0.9007"
PERL5_MINISMOKEBOX="0.26"
PERL5_YACSMOKE_BASE="/home/cpan/pit/rel/conf/perl-5.12.0"
PERL_EXTUTILS_AUTOINSTALL="--defaultdeps"
PERL_MM_USE_DEFAULT="1"
@INC:
/home/cpan/pit/rel/conf/perl-5.12.0/.cpanplus/5.12.0/build/Sub-Uplevel-0.22/blib/lib
/home/cpan/pit/rel/conf/perl-5.12.0/.cpanplus/5.12.0/build/Sub-Uplevel-0.22/blib/arch
/home/cpan/pit/rel/conf/perl-5.12.0/.cpanplus/5.12.0/build/Test-Exception-0.29/blib/lib
/home/cpan/pit/rel/conf/perl-5.12.0/.cpanplus/5.12.0/build/Test-Exception-0.29/blib/arch
/home/cpan/pit/rel/conf/perl-5.12.0/.cpanplus/5.12.0/build/Const-0.002/blib/lib
/home/cpan/pit/rel/conf/perl-5.12.0/.cpanplus/5.12.0/build/Const-0.002/blib/arch
/home/cpan/pit/rel/perl-5.12.0/lib/site_perl/5.12.0/i386-netbsd-thread-multi-64int
/home/cpan/pit/rel/perl-5.12.0/lib/site_perl/5.12.0
/home/cpan/pit/rel/perl-5.12.0/lib/5.12.0/i386-netbsd-thread-multi-64int
/home/cpan/pit/rel/perl-5.12.0/lib/5.12.0
.