PDF-API2 v2.039 Perl 5 v5.24.2 amd64-freebsd

Status
Pass
From
Slaven Rezić
Dist
PDF-API2 v2.039
Platform
Perl 5 v5.24.2 amd64-freebsd
Date
2021-03-06 05:12:04
ID
7dd0e940-7e3a-11eb-af75-a5651f24ea8f
This distribution has been tested as part of the CPAN Testers
project, supporting the Perl programming language.  See
http://wiki.cpantesters.org/ for more information or email
questions to cpan-testers-discuss@perl.org


--
Dear Steve Simms,

This is a computer-generated report for PDF-API2-2.039
on perl 5.24.2, created by CPAN-Reporter-1.2018.

Thank you for uploading your work to CPAN.  Congratulations!
All tests were successful.

Sections of this report:

    * Tester comments
    * Program output
    * Prerequisites
    * Environment and other context

------------------------------
TESTER COMMENTS
------------------------------

Additional comments from tester:

none provided

------------------------------
PROGRAM OUTPUT
------------------------------

Output from '/usr/bin/make test':

PERL_DL_NONLAZY=1 "/usr/perl5.24.2p/bin/perl" "-MExtUtils::Command::MM" "-MTest::Harness" "-e" "undef *Test::Harness::Switches; test_harness(0, 'blib/lib', 'blib/arch')" t/*.t
t/00-all-usable.t ........... ok
t/01-basic.t ................ ok
t/02-xrefstm.t .............. ok
t/03-xrefstm-index.t ........ ok
t/annotate.t ................ ok
t/author-critic.t ........... skipped: these tests are for testing by the author
t/author-pod-syntax.t ....... skipped: these tests are for testing by the author
t/barcode.t ................. ok
t/bbox.t .................... ok
t/circular-references.t ..... ok
t/cmap.t .................... ok
t/content.t ................. ok
t/cs-webcolor.t ............. ok
t/deprecations.t ............ ok
t/extgstate.t ............... ok
t/filter-ascii85decode.t .... ok
t/filter-asciihexdecode.t ... ok
t/filter-runlengthdecode.t .. ok
t/font-corefont.t ........... ok
t/font-synfont.t ............ ok
t/font-ttf.t ................ ok
t/font-type1.t .............. ok
t/gd.t ...................... ok
t/gif.t ..................... ok
t/jpg.t ..................... ok
t/lite.t .................... ok
t/outline.t ................. ok
t/page.t .................... ok
t/papersizes.t .............. ok
t/pdf.t ..................... ok
t/png.t ..................... ok
t/pnm.t ..................... ok
t/rt120397.t ................ ok
t/rt120450.t ................ ok
t/rt126274.t ................ ok
t/rt67767.t ................. ok
t/rt69503.t ................. ok
t/string.t .................. ok
t/text.t .................... ok
t/tiff.t .................... ok
t/viewer-preferences.t ...... ok
All tests successful.
Files=41, Tests=593, 10 wallclock secs ( 0.01 usr  0.22 sys +  2.05 cusr  4.99 csys =  7.27 CPU)
Result: PASS

------------------------------
PREREQUISITES
------------------------------

Prerequisite modules loaded:

requires:

    Module              Need     Have     
    ------------------- -------- ---------
    Compress::Zlib      1.0      2.069_001
    Font::TTF           0        1.06     
    perl                5.010000 5.024002 

build_requires:

    Module              Need     Have     
    ------------------- -------- ---------
    ExtUtils::MakeMaker 0        7.58     
    Test::Exception     0        0.43     
    Test::Memory::Cycle 0        1.06     

configure_requires:

    Module              Need     Have     
    ------------------- -------- ---------
    ExtUtils::MakeMaker 0        7.58     


------------------------------
ENVIRONMENT AND OTHER CONTEXT
------------------------------

Environment variables:

    LC_ALL = de_DE.ISO8859-1
    PATH = /usr/local/bin:/usr/bin:/bin:/usr/local/sbin:/usr/sbin:/sbin:/home/cpansand/bin/freebsd10.3:/home/cpansand/bin/sh:/home/cpansand/bin:/usr/games:/home/cpansand/devel:/home/eserte/src/srezic-misc/scripts
    PERL5LIB = /home/cpansand/.cpan/build/2021030606/Test-Memory-Cycle-1.06-Sv44cv/blib/arch:/home/cpansand/.cpan/build/2021030606/Test-Memory-Cycle-1.06-Sv44cv/blib/lib:/home/cpansand/.cpan/build/2021030606/Devel-Cycle-1.12-XFw2SV/blib/arch:/home/cpansand/.cpan/build/2021030606/Devel-Cycle-1.12-XFw2SV/blib/lib:/home/cpansand/.cpan/build/2021030606/Font-TTF-1.06-1w5gAw/blib/arch:/home/cpansand/.cpan/build/2021030606/Font-TTF-1.06-1w5gAw/blib/lib:/home/cpansand/.cpan/build/2021030606/Image-Info-1.42-Xi9Hg6/blib/arch:/home/cpansand/.cpan/build/2021030606/Image-Info-1.42-Xi9Hg6/blib/lib:/home/cpansand/.cpan/build/2021030606/String-Interpolate-Named-1.00-gAPbUQ/blib/arch:/home/cpansand/.cpan/build/2021030606/String-Interpolate-Named-1.00-gAPbUQ/blib/lib
    PERL5OPT = 
    PERL5_CPANPLUS_IS_RUNNING = 7785
    PERL5_CPAN_IS_RUNNING = 7785
    PERL5_CPAN_IS_RUNNING_IN_RECURSION = 82255,7785
    PERLDOC = -MPod::Perldoc::ToTextOverstrike
    PERL_BATCH = yes
    PERL_CANARY_STABILITY_NOPROMPT = 1
    PERL_CPAN_REPORTER_CONFIG = /var/tmp/cpansmoker-1023/2021030604/cpanreporter_000_config.ini
    PERL_EXTUTILS_AUTOINSTALL = --defaultdeps
    SHELL = /usr/local/bin/zsh
    TERM = screen
    TMPDIR = /var/tmp/cpansmoker-1023/2021030604

Perl special variables (and OS-specific diagnostics, for MSWin32):

    $^X = /usr/perl5.24.2p/bin/perl
    $UID/$EUID = 1023 / 1023
    $GID = 1023 1023
    $EGID = 1023 1023

Perl module toolchain versions installed:

    Module              Have      
    ------------------- ----------
    CPAN                2.11_01   
    CPAN::Meta          2.150010  
    Cwd                 3.75      
    ExtUtils::CBuilder  0.280225  
    ExtUtils::Command   7.58      
    ExtUtils::Install   2.06      
    ExtUtils::MakeMaker 7.58      
    ExtUtils::Manifest  1.71      
    ExtUtils::ParseXS   3.31      
    File::Spec          3.75      
    JSON                2.94      
    JSON::PP            2.27300_01
    Module::Build       0.4224    
    Module::Signature   n/a       
    Parse::CPAN::Meta   2.150010  
    Test::Harness       3.36_01   
    Test::More          1.302140  
    YAML                1.23      
    YAML::Syck          1.30      
    version             0.9924    


--

Summary of my perl5 (revision 5 version 24 subversion 2) configuration:
   
  Platform:
    osname=freebsd, osvers=10.3-release-p11, archname=amd64-freebsd
    uname='freebsd cvrsnica-freebsd-101.herceg.de 10.3-release-p11 freebsd 10.3-release-p11 #0: mon oct 24 18:49:24 utc 2016 root@amd64-builder.daemonology.net:usrobjusrsrcsysgeneric amd64 '
    config_args='-ds -e -Dprefix=/usr/perl5.24.2p -Dcf_email=srezic@cpan.org -Doptimize=-O2 -pipe'
    hint=recommended, useposix=true, d_sigaction=define
    useithreads=undef, usemultiplicity=undef
    use64bitint=define, use64bitall=define, uselongdouble=undef
    usemymalloc=n, bincompat5005=undef
  Compiler:
    cc='cc', ccflags ='-DHAS_FPSETMASK -DHAS_FLOATINGPOINT_H -fno-strict-aliasing -pipe -fstack-protector -I/usr/local/include -D_FORTIFY_SOURCE=2',
    optimize='-O2 -pipe',
    cppflags='-DHAS_FPSETMASK -DHAS_FLOATINGPOINT_H -fno-strict-aliasing -pipe -fstack-protector -I/usr/local/include'
    ccversion='', gccversion='4.2.1 Compatible FreeBSD Clang 3.4.1 (tags/RELEASE_34/dot1-final 208032)', gccosandvers=''
    intsize=4, longsize=8, ptrsize=8, doublesize=8, byteorder=12345678, doublekind=3
    d_longlong=define, longlongsize=8, d_longdbl=define, longdblsize=16, longdblkind=3
    ivtype='long', ivsize=8, nvtype='double', nvsize=8, Off_t='off_t', lseeksize=8
    alignbytes=8, prototype=define
  Linker and Libraries:
    ld='cc', ldflags ='-pthread -Wl,-E  -fstack-protector -L/usr/local/lib'
    libpth=/usr/lib /usr/local/lib /usr/include/clang/3.4.1 /usr/lib
    libs=-lpthread -lgdbm -lm -lcrypt -lutil -lc
    perllibs=-lpthread -lm -lcrypt -lutil -lc
    libc=, so=so, useshrplib=false, libperl=libperl.a
    gnulibc_version=''
  Dynamic Linking:
    dlsrc=dl_dlopen.xs, dlext=so, d_dlsymun=undef, ccdlflags=' '
    cccdlflags='-DPIC -fPIC', lddlflags='-shared  -L/usr/local/lib -fstack-protector'


Characteristics of this binary (from libperl): 
  Compile-time options: HAS_TIMES PERLIO_LAYERS PERL_COPY_ON_WRITE
                        PERL_DONT_CREATE_GVSV
                        PERL_HASH_FUNC_ONE_AT_A_TIME_HARD PERL_MALLOC_WRAP
                        PERL_PRESERVE_IVUV USE_64_BIT_ALL USE_64_BIT_INT
                        USE_LARGE_FILES USE_LOCALE USE_LOCALE_COLLATE
                        USE_LOCALE_CTYPE USE_LOCALE_NUMERIC USE_LOCALE_TIME
                        USE_PERLIO USE_PERL_ATOF
  Built under freebsd
  Compiled at Jul 29 2017 11:20:18
  %ENV:
    PERL5LIB="/home/cpansand/.cpan/build/2021030606/Test-Memory-Cycle-1.06-Sv44cv/blib/arch:/home/cpansand/.cpan/build/2021030606/Test-Memory-Cycle-1.06-Sv44cv/blib/lib:/home/cpansand/.cpan/build/2021030606/Devel-Cycle-1.12-XFw2SV/blib/arch:/home/cpansand/.cpan/build/2021030606/Devel-Cycle-1.12-XFw2SV/blib/lib:/home/cpansand/.cpan/build/2021030606/Font-TTF-1.06-1w5gAw/blib/arch:/home/cpansand/.cpan/build/2021030606/Font-TTF-1.06-1w5gAw/blib/lib:/home/cpansand/.cpan/build/2021030606/Image-Info-1.42-Xi9Hg6/blib/arch:/home/cpansand/.cpan/build/2021030606/Image-Info-1.42-Xi9Hg6/blib/lib:/home/cpansand/.cpan/build/2021030606/String-Interpolate-Named-1.00-gAPbUQ/blib/arch:/home/cpansand/.cpan/build/2021030606/String-Interpolate-Named-1.00-gAPbUQ/blib/lib"
    PERL5OPT=""
    PERL5_CPANPLUS_IS_RUNNING="7785"
    PERL5_CPAN_IS_RUNNING="7785"
    PERL5_CPAN_IS_RUNNING_IN_RECURSION="82255,7785"
    PERLDOC="-MPod::Perldoc::ToTextOverstrike"
    PERL_BATCH="yes"
    PERL_CANARY_STABILITY_NOPROMPT="1"
    PERL_CPAN_REPORTER_CONFIG="/var/tmp/cpansmoker-1023/2021030604/cpanreporter_000_config.ini"
    PERL_EXTUTILS_AUTOINSTALL="--defaultdeps"
  @INC:
    /home/cpansand/.cpan/build/2021030606/Test-Memory-Cycle-1.06-Sv44cv/blib/arch
    /home/cpansand/.cpan/build/2021030606/Test-Memory-Cycle-1.06-Sv44cv/blib/lib
    /home/cpansand/.cpan/build/2021030606/Devel-Cycle-1.12-XFw2SV/blib/arch
    /home/cpansand/.cpan/build/2021030606/Devel-Cycle-1.12-XFw2SV/blib/lib
    /home/cpansand/.cpan/build/2021030606/Font-TTF-1.06-1w5gAw/blib/arch
    /home/cpansand/.cpan/build/2021030606/Font-TTF-1.06-1w5gAw/blib/lib
    /home/cpansand/.cpan/build/2021030606/Image-Info-1.42-Xi9Hg6/blib/arch
    /home/cpansand/.cpan/build/2021030606/Image-Info-1.42-Xi9Hg6/blib/lib
    /home/cpansand/.cpan/build/2021030606/String-Interpolate-Named-1.00-gAPbUQ/blib/arch
    /home/cpansand/.cpan/build/2021030606/String-Interpolate-Named-1.00-gAPbUQ/blib/lib
    /usr/perl5.24.2p/lib/site_perl/5.24.2/amd64-freebsd
    /usr/perl5.24.2p/lib/site_perl/5.24.2
    /usr/perl5.24.2p/lib/5.24.2/amd64-freebsd
    /usr/perl5.24.2p/lib/5.24.2
    .