Back
From: metabase:user:320bfe00-2aae-11df-837a-5e0a49663a4f
Subject: PASS Parse-DebControl-2.005 v5.13.9 GNU/Linux
Date: 2011-02-03T19:26:25Z
This distribution has been tested as part of the CPAN Testers
project, supporting the Perl programming language.  See
http://wiki.cpantesters.org/ for more information or email
questions to cpan-testers-discuss@perl.org
--
Dear Jay Bonci,
This is a computer-generated report for Parse-DebControl-2.005
on perl 5.13.9, created by CPAN-Reporter-1.1902.
Thank you for uploading your work to CPAN.  Congratulations!
All tests were successful.
Sections of this report:
    * Tester comments
    * Program output
    * Prerequisites
    * Environment and other context
------------------------------
TESTER COMMENTS
------------------------------
Additional comments from tester:
none provided
------------------------------
PROGRAM OUTPUT
------------------------------
Output from '/usr/bin/make test':
make[1]: Entering directory `/home/sand/.cpan/build/Parse-DebControl-2.005-SunWXp'
PERL_DL_NONLAZY=1 /home/src/perl/repoperls/installed-perls/perl/v5.13.9-231-g33d9abf/bin/perl "-MExtUtils::Command::MM" "-e" "test_harness(0, 'blib/lib', 'blib/arch')" t/*.t
t/10objects.t ........ ok
t/20new.t ............ ok
t/30parse.t .......... ok
t/31stripcomments.t .. ok
t/32trygzip.t ........ ok
t/33parseweb.t ....... ok
t/40write.t .......... ok
t/41writegzip.t ...... ok
t/42writefile.t ...... ok
t/50pod.t ............ ok
t/51podcoverage.t .... ok
All tests successful.
Files=11, Tests=155,  2 wallclock secs ( 0.05 usr  0.03 sys +  1.22 cusr  0.22 csys =  1.52 CPU)
Result: PASS
make[1]: Leaving directory `/home/sand/.cpan/build/Parse-DebControl-2.005-SunWXp'
------------------------------
PREREQUISITES
------------------------------
Prerequisite modules loaded:
requires:
    Module              Need  Have   
    ------------------- ----- -------
    Compress::Zlib      0     2.033  
    IO::Scalar          2.104 2.110  
    LWP::Simple         0     5.835  
    LWP::UserAgent      0     5.835  
    Test::More          0.45  0.97_01
build_requires:
    Module              Need  Have   
    ------------------- ----- -------
    ExtUtils::MakeMaker 0     6.57_05
------------------------------
ENVIRONMENT AND OTHER CONTEXT
------------------------------
Environment variables:
    LANG = en_US.UTF-8
    PATH = /home/sand/bin:/usr/local/bin:/usr/bin:/bin:/usr/bin/X11:/usr/games:/usr/local/perl/bin:/usr/X11/bin:/sbin:/usr/sbin
    PERL5LIB = /home/sand/.cpan/build/WAP-wbxml-1.12-HNamC2/blib/arch:/home/sand/.cpan/build/WAP-wbxml-1.12-HNamC2/blib/lib:/home/sand/.cpan/build/ProjectBuilder-0.10.1-tYZllC/blib/arch:/home/sand/.cpan/build/ProjectBuilder-0.10.1-tYZllC/blib/lib:/home/sand/.cpan/build/ProjectBuilder-0.9.10-6p9i1Q/blib/arch:/home/sand/.cpan/build/ProjectBuilder-0.9.10-6p9i1Q/blib/lib:/home/sand/.cpan/build/Mail-SpamAssassin-2.43-9UXpeZ/blib/arch:/home/sand/.cpan/build/Mail-SpamAssassin-2.43-9UXpeZ/blib/lib
    PERL5OPT = 
    PERL5_CPANPLUS_IS_RUNNING = 4605
    PERL5_CPAN_IS_RUNNING = 4605
    SHELL = /usr/bin/zsh
    TERM = screen
Perl special variables (and OS-specific diagnostics, for MSWin32):
    $^X = /home/src/perl/repoperls/installed-perls/perl/v5.13.9-231-g33d9abf/bin/perl
    $UID/$EUID = 1001 / 1001
    $GID = 1001 1001
    $EGID = 1001 1001
Perl module toolchain versions installed:
    Module              Have    
    ------------------- --------
    CPAN                1.94_64 
    Cwd                 3.36    
    ExtUtils::CBuilder  0.280202
    ExtUtils::Command   1.16    
    ExtUtils::Install   1.56    
    ExtUtils::MakeMaker 6.57_05 
    ExtUtils::Manifest  1.58    
    ExtUtils::ParseXS   2.2209  
    File::Spec          3.33    
    Module::Build       0.3624  
    Module::Signature   0.66    
    Test::Harness       3.22    
    Test::More          0.97_01 
    YAML                0.72    
    YAML::Syck          1.17    
    version             0.88    
--
Summary of my perl5 (revision 5 version 13 subversion 9) configuration:
  Commit id: 33d9abfb25a7c5e9e7ceec9ddc90e83a14466e70
  Platform:
    osname=linux, osvers=2.6.32-5-xen-amd64, archname=x86_64-linux-ld
    uname='linux k81 2.6.32-5-xen-amd64 #1 smp wed jan 12 05:46:49 utc 2011 x86_64 gnulinux '
    config_args='-Dprefix=/home/src/perl/repoperls/installed-perls/perl/v5.13.9-231-g33d9abf -Dinstallusrbinperl=n -Uversiononly -Dusedevel -des -Ui_db -Uuseithreads -Duselongdouble'
    hint=recommended, useposix=true, d_sigaction=define
    useithreads=undef, usemultiplicity=undef
    useperlio=define, d_sfio=undef, uselargefiles=define, usesocks=undef
    use64bitint=define, use64bitall=define, uselongdouble=define
    usemymalloc=n, bincompat5005=undef
  Compiler:
    cc='cc', ccflags ='-fno-strict-aliasing -pipe -fstack-protector -I/usr/local/include -D_LARGEFILE_SOURCE -D_FILE_OFFSET_BITS=64',
    optimize='-O2',
    cppflags='-fno-strict-aliasing -pipe -fstack-protector -I/usr/local/include'
    ccversion='', gccversion='4.4.5', gccosandvers=''
    intsize=4, longsize=8, ptrsize=8, doublesize=8, byteorder=12345678
    d_longlong=define, longlongsize=8, d_longdbl=define, longdblsize=16
    ivtype='long', ivsize=8, nvtype='long double', nvsize=16, Off_t='off_t', lseeksize=8
    alignbytes=16, prototype=define
  Linker and Libraries:
    ld='cc', ldflags =' -fstack-protector -L/usr/local/lib'
    libpth=/usr/local/lib /lib /usr/lib /lib64 /usr/lib64
    libs=-lnsl -lgdbm -ldb -ldl -lm -lcrypt -lutil -lc -lgdbm_compat
    perllibs=-lnsl -ldl -lm -lcrypt -lutil -lc
    libc=/lib/libc-2.11.2.so, so=so, useshrplib=false, libperl=libperl.a
    gnulibc_version='2.11.2'
  Dynamic Linking:
    dlsrc=dl_dlopen.xs, dlext=so, d_dlsymun=undef, ccdlflags='-Wl,-E'
    cccdlflags='-fPIC', lddlflags='-shared -O2 -L/usr/local/lib -fstack-protector'
Characteristics of this binary (from libperl): 
  Compile-time options: PERL_DONT_CREATE_GVSV PERL_MALLOC_WRAP PERL_USE_DEVEL
                        USE_64_BIT_ALL USE_64_BIT_INT USE_LARGE_FILES
                        USE_LONG_DOUBLE USE_PERLIO USE_PERL_ATOF
  Built under linux
  Compiled at Feb  3 2011 08:26:39
  %ENV:
    PERL5LIB="/home/sand/.cpan/build/WAP-wbxml-1.12-HNamC2/blib/arch:/home/sand/.cpan/build/WAP-wbxml-1.12-HNamC2/blib/lib:/home/sand/.cpan/build/ProjectBuilder-0.10.1-tYZllC/blib/arch:/home/sand/.cpan/build/ProjectBuilder-0.10.1-tYZllC/blib/lib:/home/sand/.cpan/build/ProjectBuilder-0.9.10-6p9i1Q/blib/arch:/home/sand/.cpan/build/ProjectBuilder-0.9.10-6p9i1Q/blib/lib:/home/sand/.cpan/build/Mail-SpamAssassin-2.43-9UXpeZ/blib/arch:/home/sand/.cpan/build/Mail-SpamAssassin-2.43-9UXpeZ/blib/lib"
    PERL5OPT=""
    PERL5_CPANPLUS_IS_RUNNING="4605"
    PERL5_CPAN_IS_RUNNING="4605"
  @INC:
    /home/sand/.cpan/build/WAP-wbxml-1.12-HNamC2/blib/arch
    /home/sand/.cpan/build/WAP-wbxml-1.12-HNamC2/blib/lib
    /home/sand/.cpan/build/ProjectBuilder-0.10.1-tYZllC/blib/arch
    /home/sand/.cpan/build/ProjectBuilder-0.10.1-tYZllC/blib/lib
    /home/sand/.cpan/build/ProjectBuilder-0.9.10-6p9i1Q/blib/arch
    /home/sand/.cpan/build/ProjectBuilder-0.9.10-6p9i1Q/blib/lib
    /home/sand/.cpan/build/Mail-SpamAssassin-2.43-9UXpeZ/blib/arch
    /home/sand/.cpan/build/Mail-SpamAssassin-2.43-9UXpeZ/blib/lib
    /home/src/perl/repoperls/installed-perls/perl/v5.13.9-231-g33d9abf/lib/site_perl/5.13.9/x86_64-linux-ld
    /home/src/perl/repoperls/installed-perls/perl/v5.13.9-231-g33d9abf/lib/site_perl/5.13.9
    /home/src/perl/repoperls/installed-perls/perl/v5.13.9-231-g33d9abf/lib/5.13.9/x86_64-linux-ld
    /home/src/perl/repoperls/installed-perls/perl/v5.13.9-231-g33d9abf/lib/5.13.9
    .