DateTime-Format-Intl vv0.1.7 Perl 5 v5.16.3 darwin-thread-multi-2level

Status
Pass
From
David Cantrell (DCANTRELL)
Dist
DateTime-Format-Intl vv0.1.7
Platform
Perl 5 v5.16.3 darwin-thread-multi-2level
Date
2025-01-07 02:17:05
ID
7cf512de-cc9d-11ef-90a4-a75bca1e7012
This distribution has been tested as part of the CPAN Testers
project, supporting the Perl programming language.  See
http://wiki.cpantesters.org/ for more information or email
questions to cpan-testers-discuss@perl.org


--
Dear Jacques Deguest,

This is a computer-generated report for DateTime-Format-Intl-v0.1.7
on perl 5.16.3, created by CPAN-Reporter-1.2019.

Thank you for uploading your work to CPAN.  Congratulations!
All tests were successful.

Sections of this report:

    * Tester comments
    * Program output
    * Prerequisites
    * Environment and other context

------------------------------
TESTER COMMENTS
------------------------------

Additional comments from tester:

this report is from an automated smoke testing program
and was not reviewed by a human for accuracy

------------------------------
PROGRAM OUTPUT
------------------------------

Output from '/usr/bin/make test':

PERL_DL_NONLAZY=1 "/Users/cpantesting/cpantesting/perl-5.16.3/bin/perl" "-MExtUtils::Command::MM" "-MTest::Harness" "-e" "undef *Test::Harness::Switches; test_harness(0, 'blib/lib', 'blib/arch')" t/*.t
t/001_load.t ....................... ok
t/002_methods.t .................... ok
Warning only: unsupported numbering system provided (jpanfin) via the locale "nu" extension (ja-Kana-JP-u-ca-gregory-nu-jpanfin-tz-jptyo). at lib/DateTime/Format/Intl.pm line 357.
Warning only: unsupported numbering system provided (jpanfin) via the locale "nu" extension (ja-Kana-JP-u-ca-gregory-nu-jpanfin-tz-jptyo). at lib/DateTime/Format/Intl.pm line 357.
Warning only: unsupported numbering system provided (arab) via the locale "nu" extension (ar-EG-u-ca-gregory-nu-arab-tz-egcai). at lib/DateTime/Format/Intl.pm line 357.
t/003_resolved_options.t ........... ok
t/004_supported_locales_of.t ....... ok
t/005_select_best_pattern.t ........ ok
t/006_format.t ..................... ok
Use of uninitialized value in join or string at /Users/cpantesting/cpantesting/perl-5.16.3/lib/site_perl/5.16.3/DateTime/Locale/FromCLDR.pm line 471.
Warning: something's wrong at /Users/cpantesting/cpantesting/perl-5.16.3/lib/site_perl/5.16.3/DateTime/Locale/FromCLDR.pm line 482.
Use of uninitialized value in join or string at /Users/cpantesting/cpantesting/perl-5.16.3/lib/site_perl/5.16.3/DateTime/Locale/FromCLDR.pm line 471.
Warning: something's wrong at /Users/cpantesting/cpantesting/perl-5.16.3/lib/site_perl/5.16.3/DateTime/Locale/FromCLDR.pm line 482.
Use of uninitialized value in join or string at /Users/cpantesting/cpantesting/perl-5.16.3/lib/site_perl/5.16.3/DateTime/Locale/FromCLDR.pm line 471.
Warning: something's wrong at /Users/cpantesting/cpantesting/perl-5.16.3/lib/site_perl/5.16.3/DateTime/Locale/FromCLDR.pm line 482.
Use of uninitialized value in join or string at /Users/cpantesting/cpantesting/perl-5.16.3/lib/site_perl/5.16.3/DateTime/Locale/FromCLDR.pm line 471.
Warning: something's wrong at /Users/cpantesting/cpantesting/perl-5.16.3/lib/site_perl/5.16.3/DateTime/Locale/FromCLDR.pm line 482.
Use of uninitialized value in join or string at /Users/cpantesting/cpantesting/perl-5.16.3/lib/site_perl/5.16.3/DateTime/Locale/FromCLDR.pm line 471.
Warning: something's wrong at /Users/cpantesting/cpantesting/perl-5.16.3/lib/site_perl/5.16.3/DateTime/Locale/FromCLDR.pm line 482.
Use of uninitialized value in join or string at /Users/cpantesting/cpantesting/perl-5.16.3/lib/site_perl/5.16.3/DateTime/Locale/FromCLDR.pm line 471.
Warning: something's wrong at /Users/cpantesting/cpantesting/perl-5.16.3/lib/site_perl/5.16.3/DateTime/Locale/FromCLDR.pm line 482.
Use of uninitialized value in join or string at /Users/cpantesting/cpantesting/perl-5.16.3/lib/site_perl/5.16.3/DateTime/Locale/FromCLDR.pm line 471.
Warning: something's wrong at /Users/cpantesting/cpantesting/perl-5.16.3/lib/site_perl/5.16.3/DateTime/Locale/FromCLDR.pm line 482.
Use of uninitialized value in join or string at /Users/cpantesting/cpantesting/perl-5.16.3/lib/site_perl/5.16.3/DateTime/Locale/FromCLDR.pm line 471.
Warning: something's wrong at /Users/cpantesting/cpantesting/perl-5.16.3/lib/site_perl/5.16.3/DateTime/Locale/FromCLDR.pm line 482.
t/007_select_best_range_pattern.t .. ok
Use of uninitialized value in join or string at /Users/cpantesting/cpantesting/perl-5.16.3/lib/site_perl/5.16.3/DateTime/Locale/FromCLDR.pm line 471.
Warning: something's wrong at /Users/cpantesting/cpantesting/perl-5.16.3/lib/site_perl/5.16.3/DateTime/Locale/FromCLDR.pm line 482.
Use of uninitialized value in join or string at /Users/cpantesting/cpantesting/perl-5.16.3/lib/site_perl/5.16.3/DateTime/Locale/FromCLDR.pm line 471.
Warning: something's wrong at /Users/cpantesting/cpantesting/perl-5.16.3/lib/site_perl/5.16.3/DateTime/Locale/FromCLDR.pm line 482.
Use of uninitialized value in join or string at /Users/cpantesting/cpantesting/perl-5.16.3/lib/site_perl/5.16.3/DateTime/Locale/FromCLDR.pm line 471.
Warning: something's wrong at /Users/cpantesting/cpantesting/perl-5.16.3/lib/site_perl/5.16.3/DateTime/Locale/FromCLDR.pm line 482.
Use of uninitialized value in join or string at /Users/cpantesting/cpantesting/perl-5.16.3/lib/site_perl/5.16.3/DateTime/Locale/FromCLDR.pm line 471.
Warning: something's wrong at /Users/cpantesting/cpantesting/perl-5.16.3/lib/site_perl/5.16.3/DateTime/Locale/FromCLDR.pm line 482.
Use of uninitialized value in join or string at /Users/cpantesting/cpantesting/perl-5.16.3/lib/site_perl/5.16.3/DateTime/Locale/FromCLDR.pm line 471.
Warning: something's wrong at /Users/cpantesting/cpantesting/perl-5.16.3/lib/site_perl/5.16.3/DateTime/Locale/FromCLDR.pm line 482.
Use of uninitialized value in join or string at /Users/cpantesting/cpantesting/perl-5.16.3/lib/site_perl/5.16.3/DateTime/Locale/FromCLDR.pm line 471.
Warning: something's wrong at /Users/cpantesting/cpantesting/perl-5.16.3/lib/site_perl/5.16.3/DateTime/Locale/FromCLDR.pm line 482.
Use of uninitialized value in join or string at /Users/cpantesting/cpantesting/perl-5.16.3/lib/site_perl/5.16.3/DateTime/Locale/FromCLDR.pm line 471.
Warning: something's wrong at /Users/cpantesting/cpantesting/perl-5.16.3/lib/site_perl/5.16.3/DateTime/Locale/FromCLDR.pm line 482.
Use of uninitialized value in join or string at /Users/cpantesting/cpantesting/perl-5.16.3/lib/site_perl/5.16.3/DateTime/Locale/FromCLDR.pm line 471.
Warning: something's wrong at /Users/cpantesting/cpantesting/perl-5.16.3/lib/site_perl/5.16.3/DateTime/Locale/FromCLDR.pm line 482.
t/008_format_range.t ............... ok
t/009_date_time_combination.t ...... ok
t/010_format_to_parts.t ............ ok
Use of uninitialized value in join or string at /Users/cpantesting/cpantesting/perl-5.16.3/lib/site_perl/5.16.3/DateTime/Locale/FromCLDR.pm line 471.
Warning: something's wrong at /Users/cpantesting/cpantesting/perl-5.16.3/lib/site_perl/5.16.3/DateTime/Locale/FromCLDR.pm line 482.
Use of uninitialized value in join or string at /Users/cpantesting/cpantesting/perl-5.16.3/lib/site_perl/5.16.3/DateTime/Locale/FromCLDR.pm line 471.
Warning: something's wrong at /Users/cpantesting/cpantesting/perl-5.16.3/lib/site_perl/5.16.3/DateTime/Locale/FromCLDR.pm line 482.
Use of uninitialized value in join or string at /Users/cpantesting/cpantesting/perl-5.16.3/lib/site_perl/5.16.3/DateTime/Locale/FromCLDR.pm line 471.
Warning: something's wrong at /Users/cpantesting/cpantesting/perl-5.16.3/lib/site_perl/5.16.3/DateTime/Locale/FromCLDR.pm line 482.
Use of uninitialized value in join or string at /Users/cpantesting/cpantesting/perl-5.16.3/lib/site_perl/5.16.3/DateTime/Locale/FromCLDR.pm line 471.
Warning: something's wrong at /Users/cpantesting/cpantesting/perl-5.16.3/lib/site_perl/5.16.3/DateTime/Locale/FromCLDR.pm line 482.
Use of uninitialized value in join or string at /Users/cpantesting/cpantesting/perl-5.16.3/lib/site_perl/5.16.3/DateTime/Locale/FromCLDR.pm line 471.
Warning: something's wrong at /Users/cpantesting/cpantesting/perl-5.16.3/lib/site_perl/5.16.3/DateTime/Locale/FromCLDR.pm line 482.
Use of uninitialized value in join or string at /Users/cpantesting/cpantesting/perl-5.16.3/lib/site_perl/5.16.3/DateTime/Locale/FromCLDR.pm line 471.
Warning: something's wrong at /Users/cpantesting/cpantesting/perl-5.16.3/lib/site_perl/5.16.3/DateTime/Locale/FromCLDR.pm line 482.
Use of uninitialized value in join or string at /Users/cpantesting/cpantesting/perl-5.16.3/lib/site_perl/5.16.3/DateTime/Locale/FromCLDR.pm line 471.
Warning: something's wrong at /Users/cpantesting/cpantesting/perl-5.16.3/lib/site_perl/5.16.3/DateTime/Locale/FromCLDR.pm line 482.
Use of uninitialized value in join or string at /Users/cpantesting/cpantesting/perl-5.16.3/lib/site_perl/5.16.3/DateTime/Locale/FromCLDR.pm line 471.
Warning: something's wrong at /Users/cpantesting/cpantesting/perl-5.16.3/lib/site_perl/5.16.3/DateTime/Locale/FromCLDR.pm line 482.
t/011_format_range_to_parts.t ...... ok
t/900_pod.t ........................ skipped: These tests are for author or release candidate testing
t/910_coverage.t ................... skipped: These tests are for author or release candidate testing
t/920_manifest.t ................... skipped: Author tests not required for installation
t/930_signature.t .................. skipped: Set the environment variable AUTHOR_TESTING to enable this test.
t/999_kwalitee.t ................... skipped: These tests are for author or release candidate testing
All tests successful.
Files=16, Tests=467, 52 wallclock secs ( 0.44 usr  0.09 sys + 38.99 cusr  2.45 csys = 41.97 CPU)
Result: PASS

------------------------------
PREREQUISITES
------------------------------

Prerequisite modules loaded:

requires:

    Module                     Need     Have    
    -------------------------- -------- --------
    DateTime                   0.42     1.65    
    DateTime::Format::Unicode  v0.1.5   v0.1.6  
    DateTime::Locale::FromCLDR v0.6.0   v0.6.1  
    Locale::Intl               v0.1.2   v0.1.3  
    Locale::Unicode::Data      v1.3.0   v1.3.1  
    parent                     0        0.225   
    perl                       5.010001 5.016003
    Scalar::Util               0        1.68    
    strict                     0        1.07    
    vars                       0        1.02    
    Want                       0.17     0.29    
    warnings                   0        1.13    
    warnings::register         0        1.02    

build_requires:

    Module                     Need     Have    
    -------------------------- -------- --------
    ExtUtils::MakeMaker        0        7.58    
    lib                        0.63     0.63    
    open                       0        1.10    
    Test::More                 1.302120 1.302207
    Test::Pod                  1.52     1.52    
    utf8                       0        1.09    

configure_requires:

    Module                     Need     Have    
    -------------------------- -------- --------
    ExtUtils::MakeMaker        0        7.58    


------------------------------
ENVIRONMENT AND OTHER CONTEXT
------------------------------

Environment variables:

    AUTOMATED_TESTING = 1
    NONINTERACTIVE_TESTING = 1
    PATH = /Users/cpantesting/perl5/perlbrew/bin:/Users/cpantesting/perl5/perlbrew/perls/perl-5.32.0/bin:/usr/local/bin:/System/Cryptexes/App/usr/bin:/usr/bin:/bin:/usr/sbin:/sbin:/var/run/com.apple.security.cryptexd/codex.system/bootstrap/usr/local/bin:/var/run/com.apple.security.cryptexd/codex.system/bootstrap/usr/bin:/var/run/com.apple.security.cryptexd/codex.system/bootstrap/usr/appleinternal/bin:/Library/Apple/usr/bin:/Applications/VMware Fusion.app/Contents/Public:/usr/local/zfs/bin:/Users/cpantesting/.cargo/bin
    PERL = 5.16.3
    PERL5LIB = 
    PERL5OPT = 
    PERL5_CPANPLUS_IS_RUNNING = 32946
    PERL5_CPAN_IS_RUNNING = 32946
    PERLBREW_HOME = /Users/cpantesting/.perlbrew
    PERLBREW_MANPATH = /Users/cpantesting/perl5/perlbrew/perls/perl-5.32.0/man
    PERLBREW_PATH = /Users/cpantesting/perl5/perlbrew/bin:/Users/cpantesting/perl5/perlbrew/perls/perl-5.32.0/bin
    PERLBREW_PERL = perl-5.32.0
    PERLBREW_ROOT = /Users/cpantesting/perl5/perlbrew
    PERLBREW_SHELLRC_VERSION = 0.94
    PERLBREW_VERSION = 0.94
    PERLVER = 5.16.3
    PERL_INLINE_DIRECTORY = /Users/cpantesting/.Inline-5.16.3
    PERL_MM_USE_DEFAULT = 1
    PERL_USE_UNSAFE_INC = 0
    SHELL = /bin/bash
    TERM = screen

Perl special variables (and OS-specific diagnostics, for MSWin32):

    $^X = /Users/cpantesting/cpantesting/perl-5.16.3/bin/perl
    $UID/$EUID = 503 / 503
    $GID = 20 20 12 61 703 702 701 100
    $EGID = 20 20 12 61 703 702 701 100

Perl module toolchain versions installed:

    Module              Have    
    ------------------- --------
    CPAN                1.9800  
    CPAN::Meta          2.143240
    Cwd                 3.75    
    ExtUtils::CBuilder  0.280235
    ExtUtils::Command   7.58    
    ExtUtils::Install   2.06    
    ExtUtils::MakeMaker 7.58    
    ExtUtils::Manifest  1.70    
    ExtUtils::ParseXS   3.16    
    File::Spec          3.75    
    JSON                4.10    
    JSON::PP            4.05    
    Module::Build       0.4234  
    Module::Signature   n/a     
    Parse::CPAN::Meta   1.4414  
    Test2               1.302207
    Test::Harness       3.50    
    Test::More          1.302207
    YAML                n/a     
    YAML::Syck          n/a     
    version             0.99    


--

Summary of my perl5 (revision 5 version 16 subversion 3) configuration:
   
  Platform:
    osname=darwin, osvers=19.6.0, archname=darwin-thread-multi-2level
    uname='darwin harrow.local 19.6.0 darwin kernel version 19.6.0: thu oct 29 22:56:45 pdt 2020; root:xnu-6153.141.2.2~1release_x86_64 x86_64 '
    config_args='-de -Dusethreads -Dprefix=/Users/cpantesting/cpantesting/perl-5.16.3'
    hint=recommended, useposix=true, d_sigaction=define
    useithreads=define, usemultiplicity=define
    useperlio=define, d_sfio=undef, uselargefiles=define, usesocks=undef
    use64bitint=define, use64bitall=define, uselongdouble=undef
    usemymalloc=n, bincompat5005=undef
  Compiler:
    cc='cc', ccflags ='-fno-common -DPERL_DARWIN -fno-strict-aliasing -pipe -fstack-protector -I/usr/local/include',
    optimize='-O3',
    cppflags='-fno-common -DPERL_DARWIN -fno-strict-aliasing -pipe -fstack-protector -I/usr/local/include'
    ccversion='', gccversion='Apple LLVM 12.0.0 (clang-1200.0.32.27)', gccosandvers=''
    intsize=4, longsize=8, ptrsize=8, doublesize=8, byteorder=12345678
    d_longlong=define, longlongsize=8, d_longdbl=define, longdblsize=16
    ivtype='long', ivsize=8, nvtype='double', nvsize=8, Off_t='off_t', lseeksize=8
    alignbytes=8, prototype=define
  Linker and Libraries:
    ld='env MACOSX_DEPLOYMENT_TARGET=10.3 cc', ldflags =' -fstack-protector -L/usr/local/lib'
    libpth=/usr/local/lib /usr/lib
    libs=-lgdbm -ldbm -ldl -lm -lutil -lc
    perllibs=-ldl -lm -lutil -lc
    libc=, so=dylib, useshrplib=false, libperl=libperl.a
    gnulibc_version=''
  Dynamic Linking:
    dlsrc=dl_dlopen.xs, dlext=bundle, d_dlsymun=undef, ccdlflags=' '
    cccdlflags=' ', lddlflags=' -bundle -undefined dynamic_lookup -L/usr/local/lib -fstack-protector'


Characteristics of this binary (from libperl): 
  Compile-time options: HAS_TIMES MULTIPLICITY PERLIO_LAYERS
                        PERL_DONT_CREATE_GVSV PERL_IMPLICIT_CONTEXT
                        PERL_MALLOC_WRAP PERL_PRESERVE_IVUV USE_64_BIT_ALL
                        USE_64_BIT_INT USE_ITHREADS USE_LARGE_FILES
                        USE_LOCALE USE_LOCALE_COLLATE USE_LOCALE_CTYPE
                        USE_LOCALE_NUMERIC USE_PERLIO USE_PERL_ATOF
                        USE_REENTRANT_API
  Built under darwin
  Compiled at Dec 29 2020 22:52:51
  %ENV:
    PERL="5.16.3"
    PERL5LIB=""
    PERL5OPT=""
    PERL5_CPANPLUS_IS_RUNNING="32946"
    PERL5_CPAN_IS_RUNNING="32946"
    PERLBREW_HOME="/Users/cpantesting/.perlbrew"
    PERLBREW_MANPATH="/Users/cpantesting/perl5/perlbrew/perls/perl-5.32.0/man"
    PERLBREW_PATH="/Users/cpantesting/perl5/perlbrew/bin:/Users/cpantesting/perl5/perlbrew/perls/perl-5.32.0/bin"
    PERLBREW_PERL="perl-5.32.0"
    PERLBREW_ROOT="/Users/cpantesting/perl5/perlbrew"
    PERLBREW_SHELLRC_VERSION="0.94"
    PERLBREW_VERSION="0.94"
    PERLVER="5.16.3"
    PERL_INLINE_DIRECTORY="/Users/cpantesting/.Inline-5.16.3"
    PERL_MM_USE_DEFAULT="1"
    PERL_USE_UNSAFE_INC="0"
  @INC:
    /Users/cpantesting/cpantesting/perl-5.16.3/lib/site_perl/5.16.3/darwin-thread-multi-2level
    /Users/cpantesting/cpantesting/perl-5.16.3/lib/site_perl/5.16.3
    /Users/cpantesting/cpantesting/perl-5.16.3/lib/5.16.3/darwin-thread-multi-2level
    /Users/cpantesting/cpantesting/perl-5.16.3/lib/5.16.3
    .