App-perlbrew v0.92 Perl 5 v5.24.2 darwin-2level

Status
Pass
From
Slaven Rezić
Dist
App-perlbrew v0.92
Platform
Perl 5 v5.24.2 darwin-2level
Date
2021-04-18 15:48:13
ID
7c21c5fc-a05d-11eb-bcf3-1f2f1f24ea8f
This distribution has been tested as part of the CPAN Testers
project, supporting the Perl programming language.  See
http://wiki.cpantesters.org/ for more information or email
questions to cpan-testers-discuss@perl.org


--
Dear Liu Kang Min,

This is a computer-generated report for App-perlbrew-0.92
on perl 5.24.2, created by CPAN-Reporter-1.2018.

Thank you for uploading your work to CPAN.  Congratulations!
All tests were successful.

Sections of this report:

    * Tester comments
    * Program output
    * Prerequisites
    * Environment and other context

------------------------------
TESTER COMMENTS
------------------------------

Additional comments from tester:

none provided

------------------------------
PROGRAM OUTPUT
------------------------------

Output from './Build test':

t/00.load.t ............................ ok
t/01.options.t ......................... ok
t/02.format_perl_version.t ............. ok
t/03.test_get_available_versions.t ..... ok
t/04.find_available_perls.t ............ ok
t/05.get_current_perl.t ................ ok
t/06.installed_perls.t ................. skipped: No perl installation under PERLBREW_ROOT
t/07.argv.t ............................ ok
t/08.error_available.t ................. ok
t/08.error_install.t ................... ok
t/08.error_install_blead.t ............. ok
t/08.error_install_cpanm.t ............. ok
t/09.exit_status.t ..................... ok
t/10.resolve.t ......................... ok
t/11.editdist.t ........................ ok
t/11.root_from_arg.t ................... ok
t/12.destdir.t ......................... ok
t/12.sitecustomize.t ................... ok
t/13.perl_release.t .................... ok
t/14.perl_version_parsing.t ............ ok
# /var/tmp/cpansmoker-501/2021041816/VIvyssmmzz/build/test/test
t/15.no-reuse-build-dir.t .............. ok
t/16.release-detail.t .................. ok
t/17.release-detail-cperl-local.t ...... ok
t/17.release-detail-cperl-remote.t ..... skipped: These tests send HTTP requests. Set env TEST_LIVE=1 to really run them.
t/18.release-detail-perl-local.t ....... ok
t/18.release-detail-perl-remote.t ...... skipped: These tests send HTTP requests. Set env TEST_LIVE=1 to really run them.
t/app-perlbrew-path-installation.t ..... ok
t/app-perlbrew-path.t .................. ok
t/bashrc_content.t ..................... ok
t/builddir.t ........................... ok
t/command-alias.t ...................... ok
t/command-available.t .................. ok
# ARGS: --with perl-5.14.1 perl -MExtUtils::Installed -le BEGIN{@INC=grep {$_ ne q!.!} @INC}; open my $output_fh, ">", "/var/tmp/cpansmoker-501/2021041816/8SbbQQn8Co"; print {$output_fh} $_ for ExtUtils::Installed->new->modules;
# ARGS: --with perl-5.16.0 cpanm Foo Bar
# ARGS: --with perl-5.14.1 perl -MExtUtils::Installed -le BEGIN{@INC=grep {$_ ne q!.!} @INC}; open my $output_fh, ">", "/var/tmp/cpansmoker-501/2021041816/uaKgwfZ70D"; print {$output_fh} $_ for ExtUtils::Installed->new->modules;
# ARGS: --with perl-5.16.0 cpanm Foo Bar
# ARGS: --with perl-5.16.0 perl -MExtUtils::Installed -le BEGIN{@INC=grep {$_ ne q!.!} @INC}; open my $output_fh, ">", "/var/tmp/cpansmoker-501/2021041816/K9oQGGOniu"; print {$output_fh} $_ for ExtUtils::Installed->new->modules;
# ARGS: --with perl-5.14.1 cpanm Foo Bar
# ARGS: --with perl-5.16.0 perl -MExtUtils::Installed -le BEGIN{@INC=grep {$_ ne q!.!} @INC}; open my $output_fh, ">", "/var/tmp/cpansmoker-501/2021041816/3aJ7kR7mcw"; print {$output_fh} $_ for ExtUtils::Installed->new->modules;
# ARGS: --with perl-5.14.1 cpanm Foo Bar
t/command-clone-modules.t .............. ok
t/command-compgen.t .................... ok
t/command-display-rc.t ................. ok
Attempting to create directory /var/tmp/cpansmoker-501/2021041816/QjFWUf0aqv/libs/perl-5.14.1@nobita
t/command-env.t ........................ ok
sort (...) interpreted as function at t/command-exec.t line 283.
sort (...) interpreted as function at t/command-exec.t line 305.
Command [perl -E 'somesub 42'] terminated with exit code 7 ($? = 1792) under the following perl environment:
format_info_output_value
Command [perl -E 'say 42'] terminated with exit code 3 ($? = 768) under the following perl environment:
Command [perl -E 'say 42'] terminated with exit code 3 ($? = 768) under the following perl environment:
Command [perl -E 'say 42'] terminated with exit code 3 ($? = 768) under the following perl environment:
Command [perl -E 'say 42'] terminated with exit code 255 ($? = -1) under the following perl environment:
Command [perl -E 'say 42'] terminated with exit code 7 ($? = 1792) under the following perl environment:
t/command-exec.t ....................... ok
t/command-help.t ....................... ok
t/command-info.t ....................... ok
t/command-install-cpanm.t .............. ok
t/command-install-from-archive.t ....... ok
t/command-install-patchperl.t .......... ok
t/command-install.t .................... ok
t/command-lib.t ........................ ok
t/command-list.t ....................... ok
t/current_perl.t ....................... ok
t/current_shell.t ...................... ok
t/do_system.t .......................... ok
t/failure-command-install-cpanm.t ...... ok
t/failure-command-install-patchperl.t .. ok
t/home.t ............................... ok
t/http-program-control.t ............... ok
# PATH=/Users/slaven.rezic/.cpan/build/2021041817/App-perlbrew-0.92-fgehjn/t/fake-bin:/usr/local/bin:/usr/bin:/bin:/usr/local/sbin:/usr/sbin:/sbin:/Users/slaven.rezic/bin/darwin18.0:/Users/slaven.rezic/bin/sh:/Users/slaven.rezic/bin:/Users/slaven.rezic/bin/pistachio-perl/bin:/usr/games:/Users/slaven.rezic/devel:/Users/slaven.rezic/work/drafts-slaven.rezic/misc:/Users/slaven.rezic/work2/fzf/bin:/Users/slaven.rezic/src/srezic-misc/scripts
# curl = /Users/slaven.rezic/.cpan/build/2021041817/App-perlbrew-0.92-fgehjn/t/fake-bin/curl
t/http-ua-detect-non-curl.t ............ ok
t/http-ua-detect.t ..................... ok
t/http.t ............................... skipped: (no reason given)
t/installation-perlbrew.t .............. ok
t/installation.t ....................... ok
t/installation2.t ...................... ok
t/installation3.t ...................... ok
t/unit-files-are-the-same.t ............ ok
All tests successful.
Files=60, Tests=416, 22 wallclock secs ( 0.27 usr  0.19 sys + 10.97 cusr  2.92 csys = 14.35 CPU)
Result: PASS

------------------------------
PREREQUISITES
------------------------------

Prerequisite modules loaded:

requires:

    Module               Need       Have      
    -------------------- ---------- ----------
    Capture::Tiny        0.36       0.46      
    CPAN::Perl::Releases 5.20210320 5.20210320
    Devel::PatchPerl     2.08       2.08      
    ExtUtils::MakeMaker  7.22       7.62      
    File::Copy           0          2.31      
    File::Temp           0.2304     0.2311    
    JSON::PP             0          2.27300_01
    local::lib           2.000014   2.000024  
    Pod::Parser          1.63       1.63      
    Pod::Usage           1.68       1.69      

build_requires:

    Module               Need       Have      
    -------------------- ---------- ----------
    File::Which          1.21       1.21      
    IO::All              0.51       0.87      
    Path::Class          0.33       0.37      
    Test::Exception      0.32       0.43      
    Test::More           1.001002   1.302086  
    Test::NoWarnings     1.04       1.04      
    Test::Output         1.03       1.031     
    Test::Simple         1.001002   1.302086  
    Test::Spec           0.49       0.54      
    Test::TempDir::Tiny  0.016      0.018     

configure_requires:

    Module               Need       Have      
    -------------------- ---------- ----------
    Module::Build::Tiny  0.034      0.039     


------------------------------
ENVIRONMENT AND OTHER CONTEXT
------------------------------

Environment variables:

    LANG = de_DE.UTF-8
    PATH = /usr/local/bin:/usr/bin:/bin:/usr/local/sbin:/usr/sbin:/sbin:/Users/slaven.rezic/bin/darwin18.0:/Users/slaven.rezic/bin/sh:/Users/slaven.rezic/bin:/Users/slaven.rezic/bin/pistachio-perl/bin:/usr/games:/Users/slaven.rezic/devel:/Users/slaven.rezic/work/drafts-slaven.rezic/misc:/Users/slaven.rezic/work2/fzf/bin:/Users/slaven.rezic/src/srezic-misc/scripts
    PERL5LIB = /Users/slaven.rezic/.cpan/build/2021041817/CPAN-Perl-Releases-5.20210320-r65lUp/blib/arch:/Users/slaven.rezic/.cpan/build/2021041817/CPAN-Perl-Releases-5.20210320-r65lUp/blib/lib:/Users/slaven.rezic/.cpan/build/2021041817/ExtUtils-MakeMaker-7.62-hZGUQd/blib/arch:/Users/slaven.rezic/.cpan/build/2021041817/ExtUtils-MakeMaker-7.62-hZGUQd/blib/lib:/Users/slaven.rezic/.cpan/build/2021041817/IO-All-0.87-7eVu1o/blib/arch:/Users/slaven.rezic/.cpan/build/2021041817/IO-All-0.87-7eVu1o/blib/lib:/Users/slaven.rezic/.cpan/build/2021041817/local-lib-2.000024-0so5B7/blib/arch:/Users/slaven.rezic/.cpan/build/2021041817/local-lib-2.000024-0so5B7/blib/lib:/Users/slaven.rezic/.cpan/build/2021041817/Test-TempDir-Tiny-0.018-nJ1bL7/blib/arch:/Users/slaven.rezic/.cpan/build/2021041817/Test-TempDir-Tiny-0.018-nJ1bL7/blib/lib:/Users/slaven.rezic/.cpan/build/2021041817/File-Temp-0.2311-47q1ik/blib/arch:/Users/slaven.rezic/.cpan/build/2021041817/File-Temp-0.2311-47q1ik/blib/lib:/Users/slaven.rezic/.cpan/build/2021041817/Devel-PatchPerl-2.08-j1T7X2/blib/arch:/Users/slaven.rezic/.cpan/build/2021041817/Devel-PatchPerl-2.08-j1T7X2/blib/lib:/Users/slaven.rezic/.cpan/build/2021041817/Test-Spec-0.54-nMPLvA/blib/arch:/Users/slaven.rezic/.cpan/build/2021041817/Test-Spec-0.54-nMPLvA/blib/lib:/Users/slaven.rezic/.cpan/build/2021041817/Devel-GlobalPhase-0.003003-qm7_wW/blib/arch:/Users/slaven.rezic/.cpan/build/2021041817/Devel-GlobalPhase-0.003003-qm7_wW/blib/lib:/Users/slaven.rezic/.cpan/build/2021041817/Test-Trap-v0.3.4-rmmlp4/blib/arch:/Users/slaven.rezic/.cpan/build/2021041817/Test-Trap-v0.3.4-rmmlp4/blib/lib
    PERL5OPT = 
    PERL5_CPANPLUS_IS_RUNNING = 88342
    PERL5_CPAN_IS_RUNNING = 88342
    PERL5_CPAN_IS_RUNNING_IN_RECURSION = 6824,88342
    PERLDOC = -MPod::Perldoc::ToTextOverstrike
    PERL_BATCH = yes
    PERL_CANARY_STABILITY_NOPROMPT = 1
    PERL_CPAN_REPORTER_CONFIG = /var/tmp/cpansmoker-501/2021041816/cpanreporter_002_config.ini
    PERL_EXTUTILS_AUTOINSTALL = --defaultdeps
    SHELL = /bin/zsh
    TERM = screen
    TMPDIR = /var/tmp/cpansmoker-501/2021041816

Perl special variables (and OS-specific diagnostics, for MSWin32):

    $^X = /opt/perl-5.24.2/bin/perl
    $UID/$EUID = 501 / 501
    $GID = 20 20 501 701 12 61 702 98 100 703
    $EGID = 20 20 501 701 12 61 702 98 100 703

Perl module toolchain versions installed:

    Module              Have      
    ------------------- ----------
    CPAN                2.11_01   
    CPAN::Meta          2.150005  
    Cwd                 3.63_01   
    ExtUtils::CBuilder  0.280225  
    ExtUtils::Command   7.62      
    ExtUtils::Install   2.06      
    ExtUtils::MakeMaker 7.62      
    ExtUtils::Manifest  1.70      
    ExtUtils::ParseXS   3.31      
    File::Spec          3.63_01   
    JSON                2.94      
    JSON::PP            2.27300_01
    Module::Build       0.4224    
    Module::Signature   0.81      
    Parse::CPAN::Meta   1.4417_001
    Test::Harness       3.36_01   
    Test::More          1.302086  
    YAML                1.23      
    YAML::Syck          1.30      
    version             0.9916    


--

Summary of my perl5 (revision 5 version 24 subversion 2) configuration:
   
  Platform:
    osname=darwin, osvers=16.7.0, archname=darwin-2level
    uname='darwin macbook.herceg.de 16.7.0 darwin kernel version 16.7.0: thu jun 15 17:36:27 pdt 2017; root:xnu-3789.70.16~2release_x86_64 x86_64 '
    config_args='-ds -e -Dprefix=/opt/perl-5.24.2 -Dcf_email=srezic@cpan.org'
    hint=previous, useposix=true, d_sigaction=define
    useithreads=undef, usemultiplicity=undef
    use64bitint=define, use64bitall=define, uselongdouble=undef
    usemymalloc=n, bincompat5005=undef
  Compiler:
    cc='cc', ccflags ='-fno-common -DPERL_DARWIN -mmacosx-version-min=10.12 -fno-strict-aliasing -pipe -fstack-protector-strong -I/usr/local/include -DPERL_USE_SAFE_PUTENV',
    optimize='-O3',
    cppflags='-fno-common -DPERL_DARWIN -mmacosx-version-min=10.12 -fno-strict-aliasing -pipe -fstack-protector-strong -I/usr/local/include'
    ccversion='', gccversion='4.2.1 Compatible Apple LLVM 8.1.0 (clang-802.0.42)', gccosandvers=''
    intsize=4, longsize=8, ptrsize=8, doublesize=8, byteorder=12345678, doublekind=3
    d_longlong=define, longlongsize=8, d_longdbl=define, longdblsize=16, longdblkind=3
    ivtype='long', ivsize=8, nvtype='double', nvsize=8, Off_t='off_t', lseeksize=8
    alignbytes=8, prototype=define
  Linker and Libraries:
    ld='cc', ldflags =' -mmacosx-version-min=10.12 -fstack-protector-strong -L/usr/local/lib'
    libpth=/usr/local/lib /Library/Developer/CommandLineTools/usr/bin/../lib/clang/8.1.0/lib /Library/Developer/CommandLineTools/usr/lib /usr/lib /usr/local/lib /Library/Developer/CommandLineTools/usr/bin/../lib/clang/8.1.0/lib /Library/Developer/CommandLineTools/usr/lib /usr/lib
    libs=-lpthread -ldbm -ldb -ldl -lm -lutil -lc
    perllibs=-lpthread -ldl -lm -lutil -lc
    libc=, so=dylib, useshrplib=false, libperl=libperl.a
    gnulibc_version=''
  Dynamic Linking:
    dlsrc=dl_dlopen.xs, dlext=bundle, d_dlsymun=undef, ccdlflags=' '
    cccdlflags=' ', lddlflags=' -mmacosx-version-min=10.12 -bundle -undefined dynamic_lookup -L/usr/local/lib -fstack-protector-strong'


Characteristics of this binary (from libperl): 
  Compile-time options: HAS_TIMES PERLIO_LAYERS PERL_COPY_ON_WRITE
                        PERL_DONT_CREATE_GVSV
                        PERL_HASH_FUNC_ONE_AT_A_TIME_HARD PERL_MALLOC_WRAP
                        PERL_PRESERVE_IVUV PERL_USE_SAFE_PUTENV
                        USE_64_BIT_ALL USE_64_BIT_INT USE_LARGE_FILES
                        USE_LOCALE USE_LOCALE_COLLATE USE_LOCALE_CTYPE
                        USE_LOCALE_NUMERIC USE_LOCALE_TIME USE_PERLIO
                        USE_PERL_ATOF
  Built under darwin
  Compiled at Aug 19 2017 09:09:15
  %ENV:
    PERL5LIB="/Users/slaven.rezic/.cpan/build/2021041817/CPAN-Perl-Releases-5.20210320-r65lUp/blib/arch:/Users/slaven.rezic/.cpan/build/2021041817/CPAN-Perl-Releases-5.20210320-r65lUp/blib/lib:/Users/slaven.rezic/.cpan/build/2021041817/ExtUtils-MakeMaker-7.62-hZGUQd/blib/arch:/Users/slaven.rezic/.cpan/build/2021041817/ExtUtils-MakeMaker-7.62-hZGUQd/blib/lib:/Users/slaven.rezic/.cpan/build/2021041817/IO-All-0.87-7eVu1o/blib/arch:/Users/slaven.rezic/.cpan/build/2021041817/IO-All-0.87-7eVu1o/blib/lib:/Users/slaven.rezic/.cpan/build/2021041817/local-lib-2.000024-0so5B7/blib/arch:/Users/slaven.rezic/.cpan/build/2021041817/local-lib-2.000024-0so5B7/blib/lib:/Users/slaven.rezic/.cpan/build/2021041817/Test-TempDir-Tiny-0.018-nJ1bL7/blib/arch:/Users/slaven.rezic/.cpan/build/2021041817/Test-TempDir-Tiny-0.018-nJ1bL7/blib/lib:/Users/slaven.rezic/.cpan/build/2021041817/File-Temp-0.2311-47q1ik/blib/arch:/Users/slaven.rezic/.cpan/build/2021041817/File-Temp-0.2311-47q1ik/blib/lib:/Users/slaven.rezic/.cpan/build/2021041817/Devel-PatchPerl-2.08-j1T7X2/blib/arch:/Users/slaven.rezic/.cpan/build/2021041817/Devel-PatchPerl-2.08-j1T7X2/blib/lib:/Users/slaven.rezic/.cpan/build/2021041817/Test-Spec-0.54-nMPLvA/blib/arch:/Users/slaven.rezic/.cpan/build/2021041817/Test-Spec-0.54-nMPLvA/blib/lib:/Users/slaven.rezic/.cpan/build/2021041817/Devel-GlobalPhase-0.003003-qm7_wW/blib/arch:/Users/slaven.rezic/.cpan/build/2021041817/Devel-GlobalPhase-0.003003-qm7_wW/blib/lib:/Users/slaven.rezic/.cpan/build/2021041817/Test-Trap-v0.3.4-rmmlp4/blib/arch:/Users/slaven.rezic/.cpan/build/2021041817/Test-Trap-v0.3.4-rmmlp4/blib/lib"
    PERL5OPT=""
    PERL5_CPANPLUS_IS_RUNNING="88342"
    PERL5_CPAN_IS_RUNNING="88342"
    PERL5_CPAN_IS_RUNNING_IN_RECURSION="6824,88342"
    PERLDOC="-MPod::Perldoc::ToTextOverstrike"
    PERL_BATCH="yes"
    PERL_CANARY_STABILITY_NOPROMPT="1"
    PERL_CPAN_REPORTER_CONFIG="/var/tmp/cpansmoker-501/2021041816/cpanreporter_002_config.ini"
    PERL_EXTUTILS_AUTOINSTALL="--defaultdeps"
  @INC:
    /Users/slaven.rezic/.cpan/build/2021041817/CPAN-Perl-Releases-5.20210320-r65lUp/blib/arch
    /Users/slaven.rezic/.cpan/build/2021041817/CPAN-Perl-Releases-5.20210320-r65lUp/blib/lib
    /Users/slaven.rezic/.cpan/build/2021041817/ExtUtils-MakeMaker-7.62-hZGUQd/blib/arch
    /Users/slaven.rezic/.cpan/build/2021041817/ExtUtils-MakeMaker-7.62-hZGUQd/blib/lib
    /Users/slaven.rezic/.cpan/build/2021041817/IO-All-0.87-7eVu1o/blib/arch
    /Users/slaven.rezic/.cpan/build/2021041817/IO-All-0.87-7eVu1o/blib/lib
    /Users/slaven.rezic/.cpan/build/2021041817/local-lib-2.000024-0so5B7/blib/arch
    /Users/slaven.rezic/.cpan/build/2021041817/local-lib-2.000024-0so5B7/blib/lib
    /Users/slaven.rezic/.cpan/build/2021041817/Test-TempDir-Tiny-0.018-nJ1bL7/blib/arch
    /Users/slaven.rezic/.cpan/build/2021041817/Test-TempDir-Tiny-0.018-nJ1bL7/blib/lib
    /Users/slaven.rezic/.cpan/build/2021041817/File-Temp-0.2311-47q1ik/blib/arch
    /Users/slaven.rezic/.cpan/build/2021041817/File-Temp-0.2311-47q1ik/blib/lib
    /Users/slaven.rezic/.cpan/build/2021041817/Devel-PatchPerl-2.08-j1T7X2/blib/arch
    /Users/slaven.rezic/.cpan/build/2021041817/Devel-PatchPerl-2.08-j1T7X2/blib/lib
    /Users/slaven.rezic/.cpan/build/2021041817/Test-Spec-0.54-nMPLvA/blib/arch
    /Users/slaven.rezic/.cpan/build/2021041817/Test-Spec-0.54-nMPLvA/blib/lib
    /Users/slaven.rezic/.cpan/build/2021041817/Devel-GlobalPhase-0.003003-qm7_wW/blib/arch
    /Users/slaven.rezic/.cpan/build/2021041817/Devel-GlobalPhase-0.003003-qm7_wW/blib/lib
    /Users/slaven.rezic/.cpan/build/2021041817/Test-Trap-v0.3.4-rmmlp4/blib/arch
    /Users/slaven.rezic/.cpan/build/2021041817/Test-Trap-v0.3.4-rmmlp4/blib/lib
    /opt/perl-5.24.2/lib/site_perl/5.24.2/darwin-2level
    /opt/perl-5.24.2/lib/site_perl/5.24.2
    /opt/perl-5.24.2/lib/5.24.2/darwin-2level
    /opt/perl-5.24.2/lib/5.24.2
    .