Report for MooseX-WithCache-0.01002

Back
From: metabase:user:88ef830e-3cb1-11e3-afcf-3a1e153c5931
Subject: PASS MooseX-WithCache-0.01002 v5.8.9 GNU/Linux
Date: 2013-10-24T20:40:13Z

This distribution has been tested as part of the CPAN Testers
project, supporting the Perl programming language.  See
http://wiki.cpantesters.org/ for more information or email
questions to cpan-testers-discuss@perl.org


--
Dear DMAKI,

This is a computer-generated report for MooseX-WithCache-0.01002
on perl 5.8.9, created by App::cpanminus::reporter 0.10 (1.7001).

Thank you for uploading your work to CPAN.  Congratulations!
All tests were successful.

Sections of this report:

    * Tester comments
    * Program output
    * Prerequisites
    * Environment and other context

------------------------------
TESTER COMMENTS
------------------------------

Additional comments from tester:

none provided

------------------------------
PROGRAM OUTPUT
------------------------------

Output from '':

Building and testing MooseX-WithCache-0.01002
cp lib/MooseX/WithCache/Backend/Cache/Memcached.pm blib/lib/MooseX/WithCache/Backend/Cache/Memcached.pm
cp lib/MooseX/WithCache/Backend.pm blib/lib/MooseX/WithCache/Backend.pm
cp lib/MooseX/WithCache/Backend/Cache/FastMmap.pm blib/lib/MooseX/WithCache/Backend/Cache/FastMmap.pm
cp lib/MooseX/WithCache.pm blib/lib/MooseX/WithCache.pm
cp lib/MooseX/WithCache/Backend/CHI.pm blib/lib/MooseX/WithCache/Backend/CHI.pm
cp lib/MooseX/WithCache/KeyGenerator.pm blib/lib/MooseX/WithCache/KeyGenerator.pm
cp lib/MooseX/WithCache/KeyGenerator/DumpChecksum.pm blib/lib/MooseX/WithCache/KeyGenerator/DumpChecksum.pm
Manifying blib/man3/MooseX::WithCache.3
Manifying blib/man3/MooseX::WithCache::Backend.3
Manifying blib/man3/MooseX::WithCache::Backend::CHI.3
Manifying blib/man3/MooseX::WithCache::Backend::Cache::FastMmap.3
Manifying blib/man3/MooseX::WithCache::Backend::Cache::Memcached.3
Manifying blib/man3/MooseX::WithCache::KeyGenerator.3
Manifying blib/man3/MooseX::WithCache::KeyGenerator::DumpChecksum.3
PERL_DL_NONLAZY=1 /root/perl5/perlbrew/perls/perl-5.8.9/bin/perl "-MExtUtils::Command::MM" "-MTest::Harness" "-e" "undef *Test::Harness::Switches; test_harness(0, 'inc', 'blib/lib', 'blib/arch')" t/*.t t/*/*.t
t/00_compile.t ............... ok
t/02_memcached.t ............. skipped: no memcached server found
t/03_chi.t ................... skipped: CHI not available
t/04_fastmmap.t .............. skipped: no Cache::FastMmap found
t/deprecated/00_compile.t .... ok
t/deprecated/02_memcached.t .. skipped: no memcached server found
t/deprecated/03_chi.t ........ skipped: CHI not available
t/deprecated/04_fastmmap.t ... skipped: no Cache::FastMmap found
All tests successful.
Files=8, Tests=2,  6 wallclock secs ( 0.04 usr  0.05 sys +  2.61 cusr  0.34 csys =  3.04 CPU)
Result: PASS

------------------------------
PREREQUISITES
------------------------------

Prerequisite modules loaded:

runtime:

    Module                      Need   Have    
    --------------------------- ------ --------
    Cache::Memcached            0      1.30    
    Data::Dumper                0      2.145   
    Digest::MD5                 0      2.53    
    Moose                       0.59   2.1005  
    MooseX::Role::Parameterized 0      1.02    
    perl                        v5.8.0 5.008009

build:

    Module                      Need   Have    
    --------------------------- ------ --------
    ExtUtils::MakeMaker         6.42   6.80    
    IO::Socket::INET            0      1.31    
    Test::Exception             0      0.32    
    Test::More                  0      0.99    

configure:

    Module                      Need   Have    
    --------------------------- ------ --------
    ExtUtils::MakeMaker         6.42   6.80    


------------------------------
ENVIRONMENT AND OTHER CONTEXT
------------------------------

Environment variables:

    LANG = de_DE.UTF-8
    PATH = /root/perl5/perlbrew/bin:/root/perl5/perlbrew/perls/perl-5.8.9/bin:/sbin:/usr/sbin:/usr/local/sbin:/root/bin:/usr/local/bin:/usr/bin:/bin:/usr/X11R6/bin:/usr/games
    PERLBREW_MANPATH = /root/perl5/perlbrew/perls/perl-5.8.9/man
    PERLBREW_PATH = /root/perl5/perlbrew/bin:/root/perl5/perlbrew/perls/perl-5.8.9/bin
    PERLBREW_PERL = perl-5.8.9
    PERLBREW_ROOT = /root/perl5/perlbrew
    PERLBREW_SKIP_INIT = 1
    PERLBREW_VERSION = 0.42
    SHELL = /bin/bash
    TERM = xterm

Perl special variables (and OS-specific diagnostics, for MSWin32):

    EGID = 0 0
    EUID = 0
    EXECUTABLE_NAME = /root/perl5/perlbrew/perls/perl-5.8.9/bin/perl
    GID = 0 0
    UID = 0

Perl module toolchain versions installed:

    Module              Have    
    ------------------- --------
    CPAN                2.00    
    CPAN::Meta          2.132830
    Cwd                 3.40    
    ExtUtils::CBuilder  0.280212
    ExtUtils::Command   1.16    
    ExtUtils::Install   1.54    
    ExtUtils::MakeMaker 6.80    
    ExtUtils::Manifest  1.60    
    ExtUtils::ParseXS   3.22    
    File::Spec          3.40    
    JSON                2.61    
    JSON::PP            2.27203 
    Module::Build       0.4007  
    Module::Signature   0.73    
    Parse::CPAN::Meta   1.4409  
    Test::Harness       3.29    
    Test::More          0.99    
    YAML                0.84    
    YAML::Syck          1.27    
    version             0.9904  


--

Summary of my perl5 (revision 5 version 8 subversion 9) configuration:
  Platform:
    osname=linux, osvers=3.10.13-x86_64-jb1, archname=x86_64-linux
    uname='linux j67734 3.10.13-x86_64-jb1 #3 smp fri oct 4 11:46:29 cest 2013 x86_64 x86_64 x86_64 gnulinux '
    config_args='-de -Dprefix=/root/perl5/perlbrew/perls/perl-5.8.9'
    hint=recommended, useposix=true, d_sigaction=define
    usethreads=undef use5005threads=undef useithreads=undef usemultiplicity=undef
    useperlio=define d_sfio=undef uselargefiles=define usesocks=undef
    use64bitint=define use64bitall=define uselongdouble=undef
    usemymalloc=n, bincompat5005=undef
  Compiler:
    cc='cc', ccflags ='-fno-strict-aliasing -pipe -I/usr/local/include -D_LARGEFILE_SOURCE -D_FILE_OFFSET_BITS=64',
    optimize='-O2',
    cppflags='-fno-strict-aliasing -pipe -I/usr/local/include'
    ccversion='', gccversion='4.7.2 20130108 [gcc-4_7-branch revision 195012]', gccosandvers=''
    intsize=4, longsize=8, ptrsize=8, doublesize=8, byteorder=12345678
    d_longlong=define, longlongsize=8, d_longdbl=define, longdblsize=16
    ivtype='long', ivsize=8, nvtype='double', nvsize=8, Off_t='off_t', lseeksize=8
    alignbytes=8, prototype=define
  Linker and Libraries:
    ld='cc', ldflags =' -L/usr/local/lib'
    libpth=/usr/local/lib /lib/../lib64 /usr/lib/../lib64 /lib /usr/lib /lib64 /usr/lib64 /usr/local/lib64
    libs=-lnsl -ldl -lm -lcrypt -lutil -lc
    perllibs=-lnsl -ldl -lm -lcrypt -lutil -lc
    libc=/lib/libc-2.17.so, so=so, useshrplib=false, libperl=libperl.a
    gnulibc_version='2.17'
  Dynamic Linking:
    dlsrc=dl_dlopen.xs, dlext=so, d_dlsymun=undef, ccdlflags='-Wl,-E'
    cccdlflags='-fPIC', lddlflags='-shared -O2 -L/usr/local/lib'


Characteristics of this binary (from libperl): 
  Compile-time options: PERL_MALLOC_WRAP USE_64_BIT_ALL USE_64_BIT_INT
                        USE_FAST_STDIO USE_LARGE_FILES USE_PERLIO
  Built under linux
  Compiled at Oct 24 2013 13:12:26
  %ENV:
    PERLBREW_MANPATH="/root/perl5/perlbrew/perls/perl-5.8.9/man"
    PERLBREW_PATH="/root/perl5/perlbrew/bin:/root/perl5/perlbrew/perls/perl-5.8.9/bin"
    PERLBREW_PERL="perl-5.8.9"
    PERLBREW_ROOT="/root/perl5/perlbrew"
    PERLBREW_SKIP_INIT="1"
    PERLBREW_VERSION="0.42"
  @INC:
    /root/perl5/perlbrew/perls/perl-5.8.9/lib/5.8.9/x86_64-linux
    /root/perl5/perlbrew/perls/perl-5.8.9/lib/5.8.9
    /root/perl5/perlbrew/perls/perl-5.8.9/lib/site_perl/5.8.9/x86_64-linux
    /root/perl5/perlbrew/perls/perl-5.8.9/lib/site_perl/5.8.9
    .