Archive-Tar-Wrapper v0.33 Perl 5 v5.29.1 x86_64-linux-multi

Status
Pass
From
Serguei Trouchelle (STRO)
Dist
Archive-Tar-Wrapper v0.33
Platform
Perl 5 v5.29.1 x86_64-linux-multi
Date
2018-08-14 22:22:06
ID
7a0144e6-a010-11e8-9e3f-f12afdd4ab5d
This distribution has been tested as part of the CPAN Testers
project, supporting the Perl programming language.  See
http://wiki.cpantesters.org/ for more information or email
questions to cpan-testers-discuss@perl.org


--
Dear Alceu Rodrigues de Freitas Junior,

This is a computer-generated report for Archive-Tar-Wrapper-0.33
on perl 5.29.1, created by CPAN-Reporter-1.2018.

Thank you for uploading your work to CPAN.  Congratulations!
All tests were successful.

Sections of this report:

    * Tester comments
    * Program output
    * Prerequisites
    * Environment and other context

------------------------------
TESTER COMMENTS
------------------------------

Additional comments from tester:

this report is from an automated smoke testing program
and was not reviewed by a human for accuracy

------------------------------
PROGRAM OUTPUT
------------------------------

Output from '/usr/bin/make test':

PERL_DL_NONLAZY=1 "/home/stro/perl/5.29.1m/bin/perl" "-MExtUtils::Command::MM" "-MTest::Harness" "-e" "undef *Test::Harness::Switches; test_harness(0, 'blib/lib', 'blib/arch')" t/*.t
t/001Basic.t .............. ok
t/002Mult.t ............... ok
t/003Dirs.t ............... ok
t/004Utf8.t ............... ok
t/005Cwd.t ................ ok
t/006DirPerms.t ........... ok
t/007bzip.t ............... ok
# with grep: Ran 1337 iterations (318 outliers).
# with grep: Rounded run time per iteration: 0.000681 +/- 0.000001 (0.1%)
# with grep and compiled regex: Ran 1704 iterations (680 outliers).
# with grep and compiled regex: Rounded run time per iteration: 0.000911 +/- 0.000001 (0.1%)
# with eq: Ran 1274 iterations (237 outliers).
# with eq: Rounded run time per iteration: 0.000566 +/- 0.000000 (0.1%)
# with enhanced eq: Ran 1274 iterations (225 outliers).
# with enhanced eq: Rounded run time per iteration: 0.000551 +/- 0.000000 (0.1%)
# with enhanced eq mark2: Ran 1274 iterations (251 outliers).
# with enhanced eq mark2: Rounded run time per iteration: 0.000458 +/- 0.000000 (0.0%)
# with enhanced eq mark3: Ran 1337 iterations (290 outliers).
# with enhanced eq mark3: Rounded run time per iteration: 0.000399 +/- 0.000000 (0.0%)
# sort and shift: Ran 1274 iterations (231 outliers).
# sort and shift: Rounded run time per iteration: 0.000641 +/- 0.000000 (0.0%)
t/008performance.t ........ ok
# with grep: Ran 1546 iterations (512 outliers).
# with grep: Rounded run time per iteration: 0.000010 +/- 0.000000 (0.0%)
# with grep and compiled regex: Ran 1274 iterations (240 outliers).
# with grep and compiled regex: Rounded run time per iteration: 0.000013 +/- 0.000000 (0.1%)
# with eq: Ran 1704 iterations (681 outliers).
# with eq: Rounded run time per iteration: 0.000008 +/- 0.000000 (0.0%)
# with enhanced eq: Ran 1473 iterations (442 outliers).
# with enhanced eq: Rounded run time per iteration: 0.000008 +/- 0.000000 (0.0%)
# with enhanced eq mark2: Ran 1704 iterations (655 outliers).
# with enhanced eq mark2: Rounded run time per iteration: 0.000008 +/- 0.000000 (0.0%)
# with enhanced eq mark3: Ran 1473 iterations (446 outliers).
# with enhanced eq mark3: Rounded run time per iteration: 0.000008 +/- 0.000000 (0.0%)
# sort and shift: Ran 1403 iterations (374 outliers).
# sort and shift: Rounded run time per iteration: 0.000007 +/- 0.000000 (0.1%)
t/009performance-small.t .. ok
All tests successful.

Test Summary Report
-------------------
t/008performance.t      (Wstat: 0 Tests: 1 Failed: 0)
  TODO passed:   1
t/009performance-small.t (Wstat: 0 Tests: 1 Failed: 0)
  TODO passed:   1
Files=9, Tests=54, 52 wallclock secs ( 0.04 usr  0.00 sys + 24.63 cusr  3.93 csys = 28.60 CPU)
Result: PASS

------------------------------
PREREQUISITES
------------------------------

Prerequisite modules loaded:

requires:

    Module              Need     Have      
    ------------------- -------- ----------
    Cwd                 0        3.74      
    File::Temp          0        0.2308    
    File::Which         0        1.22      
    IPC::Run            0        20180523.0
    Log::Log4perl       0        1.49      
    perl                5.008001 5.029001  

build_requires:

    Module              Need     Have      
    ------------------- -------- ----------
    Dumbbench           0.111    0.111     
    ExtUtils::MakeMaker 0        7.34      
    Test::Simple        1.302073 1.302138  

configure_requires:

    Module              Need     Have      
    ------------------- -------- ----------
    ExtUtils::MakeMaker 0        7.34      
    File::Which         0        1.22      


------------------------------
ENVIRONMENT AND OTHER CONTEXT
------------------------------

Environment variables:

    AUTOMATED_TESTING = 1
    LANG = en_US.UTF-8
    PATH = /usr/local/bin:/usr/bin:/bin:/usr/local/games:/usr/games
    PERL5LIB = 
    PERL5OPT = 
    PERL5_CPANPLUS_IS_RUNNING = 28575
    PERL5_CPAN_IS_RUNNING = 28575
    PERL5_CPAN_IS_RUNNING_IN_RECURSION = 14457,28575
    PERL_CR_SMOKER_CURRENT = Dist-Zilla-Plugin-LicenseFromModule-0.06
    PERL_EXTUTILS_AUTOINSTALL = --defaultdeps
    PERL_MM_USE_DEFAULT = 1
    PERL_USE_UNSAFE_INC = 1
    SHELL = /bin/bash
    TERM = xterm

Perl special variables (and OS-specific diagnostics, for MSWin32):

    $^X = /home/stro/perl/5.29.1m/bin/perl
    $UID/$EUID = 1000 / 1000
    $GID = 1000 24 25 29 30 44 46 108 114 1000
    $EGID = 1000 24 25 29 30 44 46 108 114 1000

Perl module toolchain versions installed:

    Module              Have    
    ------------------- --------
    CPAN                2.20    
    CPAN::Meta          2.150010
    Cwd                 3.74    
    ExtUtils::CBuilder  0.280230
    ExtUtils::Command   7.34    
    ExtUtils::Install   2.14    
    ExtUtils::MakeMaker 7.34    
    ExtUtils::Manifest  1.71    
    ExtUtils::ParseXS   3.39    
    File::Spec          3.74    
    JSON                2.97001 
    JSON::PP            2.97001 
    Module::Build       0.4224  
    Module::Signature   n/a     
    Parse::CPAN::Meta   2.150010
    Test::Harness       3.42    
    Test::More          1.302138
    YAML                1.26    
    YAML::Syck          1.30    
    version             0.9924  


--

Summary of my perl5 (revision 5 version 29 subversion 1) configuration:
   
  Platform:
    osname=linux
    osvers=3.16.0-4-amd64
    archname=x86_64-linux-multi
    uname='linux vm-debian-001 3.16.0-4-amd64 #1 smp debian 3.16.7-ckt11-1 (2015-05-24) x86_64 gnulinux '
    config_args=''
    hint=recommended
    useposix=true
    d_sigaction=define
    useithreads=undef
    usemultiplicity=define
    use64bitint=define
    use64bitall=define
    uselongdouble=undef
    usemymalloc=n
    default_inc_excludes_dot=define
    bincompat5005=undef
  Compiler:
    cc='cc'
    ccflags ='-fwrapv -fno-strict-aliasing -pipe -fstack-protector-strong -I/usr/local/include -D_LARGEFILE_SOURCE -D_FILE_OFFSET_BITS=64 -D_FORTIFY_SOURCE=2'
    optimize='-O2'
    cppflags='-fwrapv -fno-strict-aliasing -pipe -fstack-protector-strong -I/usr/local/include'
    ccversion=''
    gccversion='4.9.2'
    gccosandvers=''
    intsize=4
    longsize=8
    ptrsize=8
    doublesize=8
    byteorder=12345678
    doublekind=3
    d_longlong=define
    longlongsize=8
    d_longdbl=define
    longdblsize=16
    longdblkind=3
    ivtype='long'
    ivsize=8
    nvtype='double'
    nvsize=8
    Off_t='off_t'
    lseeksize=8
    alignbytes=8
    prototype=define
  Linker and Libraries:
    ld='cc'
    ldflags =' -fstack-protector-strong -L/usr/local/lib'
    libpth=/usr/local/lib /usr/lib/gcc/x86_64-linux-gnu/4.9/include-fixed /usr/include/x86_64-linux-gnu /usr/lib /lib/x86_64-linux-gnu /lib/../lib /usr/lib/x86_64-linux-gnu /usr/lib/../lib /lib
    libs=-lpthread -lnsl -ldl -lm -lcrypt -lutil -lc
    perllibs=-lpthread -lnsl -ldl -lm -lcrypt -lutil -lc
    libc=libc-2.19.so
    so=so
    useshrplib=false
    libperl=libperl.a
    gnulibc_version='2.19'
  Dynamic Linking:
    dlsrc=dl_dlopen.xs
    dlext=so
    d_dlsymun=undef
    ccdlflags='-Wl,-E'
    cccdlflags='-fPIC'
    lddlflags='-shared -O2 -L/usr/local/lib -fstack-protector-strong'


Characteristics of this binary (from libperl): 
  Compile-time options:
    HAS_TIMES
    MULTIPLICITY
    PERLIO_LAYERS
    PERL_COPY_ON_WRITE
    PERL_DONT_CREATE_GVSV
    PERL_IMPLICIT_CONTEXT
    PERL_MALLOC_WRAP
    PERL_OP_PARENT
    PERL_PRESERVE_IVUV
    USE_64_BIT_ALL
    USE_64_BIT_INT
    USE_LARGE_FILES
    USE_LOCALE
    USE_LOCALE_COLLATE
    USE_LOCALE_CTYPE
    USE_LOCALE_NUMERIC
    USE_LOCALE_TIME
    USE_PERLIO
    USE_PERL_ATOF
  Built under linux
  Compiled at Aug 13 2018 13:07:58
  %ENV:
    PERL5LIB=""
    PERL5OPT=""
    PERL5_CPANPLUS_IS_RUNNING="28575"
    PERL5_CPAN_IS_RUNNING="28575"
    PERL5_CPAN_IS_RUNNING_IN_RECURSION="14457,28575"
    PERL_CR_SMOKER_CURRENT="Dist-Zilla-Plugin-LicenseFromModule-0.06"
    PERL_EXTUTILS_AUTOINSTALL="--defaultdeps"
    PERL_MM_USE_DEFAULT="1"
    PERL_USE_UNSAFE_INC="1"
  @INC:
    /home/stro/perl/5.29.1m/lib/site_perl/5.29.1/x86_64-linux-multi
    /home/stro/perl/5.29.1m/lib/site_perl/5.29.1
    /home/stro/perl/5.29.1m/lib/5.29.1/x86_64-linux-multi
    /home/stro/perl/5.29.1m/lib/5.29.1
    .