KiokuDB v0.57 Perl 5 v5.28.1 RC1 x86_64-linux

Status
Pass
From
Andreas J. König (ANDK)
Dist
KiokuDB v0.57
Platform
Perl 5 v5.28.1 RC1 x86_64-linux
Date
2018-11-16 11:48:03
ID
79b843c6-e995-11e8-a35f-17caf2544f93
This distribution has been tested as part of the CPAN Testers
project, supporting the Perl programming language.  See
http://wiki.cpantesters.org/ for more information or email
questions to cpan-testers-discuss@perl.org


--
Dear Jesse Luehrs,

This is a computer-generated report for KiokuDB-0.57
on perl 5.28.1, created by CPAN-Reporter-1.2018.

Thank you for uploading your work to CPAN.  Congratulations!
All tests were successful.

Sections of this report:

    * Tester comments
    * Program output
    * Prerequisites
    * Environment and other context

------------------------------
TESTER COMMENTS
------------------------------

Additional comments from tester:

this report is from an automated smoke testing program
and was not reviewed by a human for accuracy

------------------------------
PROGRAM OUTPUT
------------------------------

Output from '/usr/bin/make test':

PERL_DL_NONLAZY=1 "/tmp/basesmoker-reloperl-46dT/bin/perl" "-MExtUtils::Command::MM" "-MTest::Harness" "-e" "undef *Test::Harness::Switches; test_harness(0, 'blib/lib', 'blib/arch')" t/*.t
t/00-compile.t ................. ok
t/coderefs.t ................... ok
t/collapser.t .................. ok
t/digest.t ..................... ok
t/directory.t .................. ok
t/entry.t ...................... ok
t/gc_naive.t ................... ok
Attempt to free unreferenced scalar: SV 0x562634eb3f80 at /tmp/loop_over_bdir-20021-gZMJHu/KiokuDB-0.57-0/blib/lib/KiokuDB/Test/Fixture/Sets.pm line 150.
t/gin.t ........................ ok
Attempt to free unreferenced scalar: SV 0x558615886a90 at /tmp/loop_over_bdir-20021-gZMJHu/KiokuDB-0.57-0/blib/lib/KiokuDB/Test/Fixture/Sets.pm line 150.
Attempt to free unreferenced scalar: SV 0x5586160f4ac0 at /tmp/loop_over_bdir-20021-gZMJHu/KiokuDB-0.57-0/blib/lib/KiokuDB/Test/Fixture/Sets.pm line 150.
Attempt to free unreferenced scalar: SV 0x5586158a04a8 at /tmp/loop_over_bdir-20021-gZMJHu/KiokuDB-0.57-0/blib/lib/KiokuDB/Test/Fixture/Sets.pm line 150.
Attempt to free unreferenced scalar: SV 0x5586164edbf8 at /tmp/loop_over_bdir-20021-gZMJHu/KiokuDB-0.57-0/blib/lib/KiokuDB/Test/Fixture/Sets.pm line 150.
Attempt to free unreferenced scalar: SV 0x558615ffc548 at /tmp/loop_over_bdir-20021-gZMJHu/KiokuDB-0.57-0/blib/lib/KiokuDB/Test/Fixture/Sets.pm line 150.
Attempt to free unreferenced scalar: SV 0x5586164d87c0 at /tmp/loop_over_bdir-20021-gZMJHu/KiokuDB-0.57-0/blib/lib/KiokuDB/Test/Fixture/Sets.pm line 150.
Attempt to free unreferenced scalar: SV 0x5586164bb6e0 at /tmp/loop_over_bdir-20021-gZMJHu/KiokuDB-0.57-0/blib/lib/KiokuDB/Test/Fixture/Sets.pm line 150.
Attempt to free unreferenced scalar: SV 0x558615f3e968 at /tmp/loop_over_bdir-20021-gZMJHu/KiokuDB-0.57-0/blib/lib/KiokuDB/Test/Fixture/Sets.pm line 150.
Attempt to free unreferenced scalar: SV 0x5586163e7de0 at /tmp/loop_over_bdir-20021-gZMJHu/KiokuDB-0.57-0/blib/lib/KiokuDB/Test/Fixture/Sets.pm line 150.
Attempt to free unreferenced scalar: SV 0x55861687d4a8 at /tmp/loop_over_bdir-20021-gZMJHu/KiokuDB-0.57-0/blib/lib/KiokuDB/Test/Fixture/Sets.pm line 150.
Attempt to free unreferenced scalar: SV 0x558616baa080 at /tmp/loop_over_bdir-20021-gZMJHu/KiokuDB-0.57-0/blib/lib/KiokuDB/Test/Fixture/Sets.pm line 150.
Attempt to free unreferenced scalar: SV 0x5586169de2b8 at /tmp/loop_over_bdir-20021-gZMJHu/KiokuDB-0.57-0/blib/lib/KiokuDB/Test/Fixture/Sets.pm line 150.
Attempt to free unreferenced scalar: SV 0x55861609c6e8 at /tmp/loop_over_bdir-20021-gZMJHu/KiokuDB-0.57-0/blib/lib/KiokuDB/Test/Fixture/Sets.pm line 150.
Attempt to free unreferenced scalar: SV 0x558616af7918 at /tmp/loop_over_bdir-20021-gZMJHu/KiokuDB-0.57-0/blib/lib/KiokuDB/Test/Fixture/Sets.pm line 150.
Attempt to free unreferenced scalar: SV 0x558616953a90 at /tmp/loop_over_bdir-20021-gZMJHu/KiokuDB-0.57-0/blib/lib/KiokuDB/Test/Fixture/Sets.pm line 150.
Attempt to free unreferenced scalar: SV 0x5586166847c0 at /tmp/loop_over_bdir-20021-gZMJHu/KiokuDB-0.57-0/blib/lib/KiokuDB/Test/Fixture/Sets.pm line 150.
Attempt to free unreferenced scalar: SV 0x5586162f62c8 at /tmp/loop_over_bdir-20021-gZMJHu/KiokuDB-0.57-0/blib/lib/KiokuDB/Test/Fixture/Sets.pm line 150.
Attempt to free unreferenced scalar: SV 0x558617405340 at /tmp/loop_over_bdir-20021-gZMJHu/KiokuDB-0.57-0/blib/lib/KiokuDB/Test/Fixture/Sets.pm line 150.
Attempt to free unreferenced scalar: SV 0x558616e103d8 at /tmp/loop_over_bdir-20021-gZMJHu/KiokuDB-0.57-0/blib/lib/KiokuDB/Test/Fixture/Sets.pm line 150.
Attempt to free unreferenced scalar: SV 0x558616f79588 at /tmp/loop_over_bdir-20021-gZMJHu/KiokuDB-0.57-0/blib/lib/KiokuDB/Test/Fixture/Sets.pm line 150.
Attempt to free unreferenced scalar: SV 0x558616095dd8 at /tmp/loop_over_bdir-20021-gZMJHu/KiokuDB-0.57-0/blib/lib/KiokuDB/Test/Fixture/Sets.pm line 150.
Attempt to free unreferenced scalar: SV 0x558616877840 at /tmp/loop_over_bdir-20021-gZMJHu/KiokuDB-0.57-0/blib/lib/KiokuDB/Test/Fixture/Sets.pm line 150.
Attempt to free unreferenced scalar: SV 0x558617428df8 at /tmp/loop_over_bdir-20021-gZMJHu/KiokuDB-0.57-0/blib/lib/KiokuDB/Test/Fixture/Sets.pm line 150.
Attempt to free unreferenced scalar: SV 0x5586176c1ba8 at /tmp/loop_over_bdir-20021-gZMJHu/KiokuDB-0.57-0/blib/lib/KiokuDB/Test/Fixture/Sets.pm line 150.
Attempt to free unreferenced scalar: SV 0x5586162f9d08 at /tmp/loop_over_bdir-20021-gZMJHu/KiokuDB-0.57-0/blib/lib/KiokuDB/Test/Fixture/Sets.pm line 150.
Attempt to free unreferenced scalar: SV 0x55861754a030 at /tmp/loop_over_bdir-20021-gZMJHu/KiokuDB-0.57-0/blib/lib/KiokuDB/Test/Fixture/Sets.pm line 150.
Attempt to free unreferenced scalar: SV 0x558616eb17c8 at /tmp/loop_over_bdir-20021-gZMJHu/KiokuDB-0.57-0/blib/lib/KiokuDB/Test/Fixture/Sets.pm line 150.
Attempt to free unreferenced scalar: SV 0x558615f29810 at /tmp/loop_over_bdir-20021-gZMJHu/KiokuDB-0.57-0/blib/lib/KiokuDB/Test/Fixture/Sets.pm line 150.
Attempt to free unreferenced scalar: SV 0x558617359138 at /tmp/loop_over_bdir-20021-gZMJHu/KiokuDB-0.57-0/blib/lib/KiokuDB/Test/Fixture/Sets.pm line 150.
Attempt to free unreferenced scalar: SV 0x558616da4068 at /tmp/loop_over_bdir-20021-gZMJHu/KiokuDB-0.57-0/blib/lib/KiokuDB/Test/Fixture/Sets.pm line 150.
Attempt to free unreferenced scalar: SV 0x558617078df0 at /tmp/loop_over_bdir-20021-gZMJHu/KiokuDB-0.57-0/blib/lib/KiokuDB/Test/Fixture/Sets.pm line 150.
Attempt to free unreferenced scalar: SV 0x558617caa338 at /tmp/loop_over_bdir-20021-gZMJHu/KiokuDB-0.57-0/blib/lib/KiokuDB/Test/Fixture/Sets.pm line 150.
t/hash.t ....................... ok
t/hash_backend.t ............... ok
t/jspon_serialization.t ........ ok
t/kiokudb_class_native.t ....... ok
t/lazy.t ....................... ok
t/link_checker.t ............... ok
t/link_checker_real.t .......... ok
t/live_objs.t .................. ok
t/moose_triggers.t ............. ok
t/ref.t ........................ ok
t/scaling.t .................... ok
t/serializer.t ................. ok
t/stream.t ..................... ok
t/tied.t ....................... ok
t/typemap.t .................... ok
t/typemap_default_json.t ....... ok
t/typemap_default_storable.t ... ok
t/typemap_entry_callback.t ..... ok
t/typemap_entry_mop.t .......... ok
t/typemap_entry_naive.t ........ ok
t/typemap_entry_passthrough.t .. ok
t/typemap_entry_storable.t ..... ok
t/typemap_extra.t .............. ok
t/typemap_resolver.t ........... ok
t/typemap_values.t ............. ok
t/uuid.t ....................... ok
t/versioning.t ................. ok
All tests successful.
Files=35, Tests=23265, 78 wallclock secs ( 1.64 usr  0.58 sys + 72.48 cusr  5.23 csys = 79.93 CPU)
Result: PASS

------------------------------
PREREQUISITES
------------------------------

Prerequisite modules loaded:

requires:

    Module                                         Need   Have    
    ---------------------------------------------- ------ --------
    B                                              0      1.74    
    B::Deparse                                     0      1.48    
    Cache::Ref                                     0.02   0.04    
    Carp                                           0      1.50    
    Class::Load                                    0      0.25    
    constant                                       0      1.33    
    Data::Stream::Bulk                             0.08   0.11    
    Data::Stream::Bulk::Util                       0      0.11    
  ! Data::Swap                                     0      n/a     
    Data::UUID                                     1.203  1.221   
    Data::Visitor                                  0.24   0.30    
    Digest::SHA                                    0      6.02    
    Encode                                         0      2.97    
    Hash::Util::FieldHash::Compat                  0      0.11    
    IO::Handle                                     0      1.39    
    JSON                                           2.12   2.97001 
    JSON::XS                                       2.231  3.04    
    List::Util                                     0      1.50    
    Module::Pluggable::Object                      0      5.2     
    Moose                                          2.0000 2.2011  
    Moose::Exporter                                0      2.2011  
    Moose::Role                                    0      2.2011  
    Moose::Util                                    0      2.2011  
    Moose::Util::MetaRole                          0      2.2011  
    Moose::Util::TypeConstraints                   0      2.2011  
    MooseX::Clone                                  0.04   0.06    
    MooseX::Clone::Meta::Attribute::Trait::NoClone 0      0.06    
    MooseX::Role::Parameterized                    0.10   1.10    
    MooseX::YAML                                   0.04   0.04    
    namespace::clean                               0.08   0.27    
    overload                                       0      1.30    
    PadWalker                                      1.9    2.3     
    Path::Class                                    0      0.37    
    POSIX                                          0      1.84    
    Scalar::Util                                   0      1.50    
    Scope::Guard                                   0      0.21    
    Search::GIN::Driver                            0      0.11    
    Search::GIN::Extract                           0      0.11    
    Search::GIN::Query::Class                      0.03   0.11    
    Set::Object                                    1.26   1.39    
    Storable                                       0      3.08    
    strict                                         0      1.11    
    Sub::Exporter                                  0      0.987   
    Symbol                                         0      1.08    
    Test::Exception                                0      0.43    
    Test::Moose                                    0      2.2011  
    Test::More                                     0.88   1.302140
    Throwable                                      0      0.200013
    Tie::RefHash                                   0      1.39    
    Tie::ToObject                                  0      0.03    
    Try::Tiny                                      0      0.30    
    utf8                                           0      1.21    
    warnings                                       0      1.42    
    YAML::XS                                       0.30   0.75    

build_requires:

    Module                                         Need   Have    
    ---------------------------------------------- ------ --------
    base                                           0      2.27    
    Cache::Ref::CART                               0      0.04    
    Cache::Ref::CLOCK                              0      0.04    
    Data::Dumper                                   0      2.173   
    Data::Stream::Bulk::Callback                   0      0.11    
    File::Spec                                     0      3.75    
    if                                             0      0.0608  
    IO::Handle                                     0      1.39    
    IPC::Open3                                     0      1.20    
    Search::GIN::Driver::Hash                      0      0.11    
    Search::GIN::Extract::Class                    0      0.11    
    Search::GIN::Extract::Delegate                 0      0.11    
    Test::More                                     0.88   1.302140

configure_requires:

    Module                                         Need   Have    
    ---------------------------------------------- ------ --------
    ExtUtils::MakeMaker                            6.30   7.34    


------------------------------
ENVIRONMENT AND OTHER CONTEXT
------------------------------

Environment variables:

    AUTOMATED_TESTING = 1
    LANG = en_US.UTF-8
    PATH = /home/sand/bin:/usr/local/bin:/usr/local/sbin:/usr/sbin:/usr/bin:/sbin:/bin:/usr/games:/usr/local/games:/usr/local/perl/bin:/usr/X11/bin
    PERL = /tmp/basesmoker-reloperl-46dT/bin/perl
    PERL5LIB = 
    PERL5OPT = 
    PERL5_CPANPLUS_IS_RUNNING = 20025
    PERL5_CPAN_IS_RUNNING = 20025
    PERL_CANARY_STABILITY_NOPROMPT = 1
    PERL_MM_USE_DEFAULT = 1
    PERL_USE_UNSAFE_INC = 1
    SHELL = /usr/bin/zsh
    TERM = screen

Perl special variables (and OS-specific diagnostics, for MSWin32):

    $^X = /tmp/basesmoker-reloperl-46dT/bin/perl
    $UID/$EUID = 1005 / 1005
    $GID = 1005 1005
    $EGID = 1005 1005

Perl module toolchain versions installed:

    Module              Have    
    ------------------- --------
    CPAN                2.21    
    CPAN::Meta          2.150010
    Cwd                 3.75    
    ExtUtils::CBuilder  0.280230
    ExtUtils::Command   7.34    
    ExtUtils::Install   2.14    
    ExtUtils::MakeMaker 7.34    
    ExtUtils::Manifest  1.70    
    ExtUtils::ParseXS   3.39    
    File::Spec          3.75    
    JSON                2.97001 
    JSON::PP            2.97001 
    Module::Build       0.4224  
    Module::Signature   0.83    
    Parse::CPAN::Meta   2.150010
    Test::Harness       3.42    
    Test::More          1.302140
    YAML                1.27    
    YAML::Syck          1.31    
    version             0.9923  


--

Summary of my perl5 (revision 5 version 28 subversion 1) configuration:
   
  Platform:
    osname=linux
    osvers=4.10.0-37-generic
    archname=x86_64-linux
    uname='linux k93zesty 4.10.0-37-generic #41-ubuntu smp fri oct 6 20:20:37 utc 2017 x86_64 x86_64 x86_64 gnulinux '
    config_args='-Dprefix=/home/sand/src/perl/repoperls/installed-perls/host/k93zesty/perl-5.28.1-RC1/bc26 -Dmyhostname=k93zesty -Dinstallusrbinperl=n -Uversiononly -Dusedevel -des -Ui_db -Dlibswanted=cl pthread socket inet nsl gdbm dbm malloc dl ld sun m crypt sec util c cposix posix ucb BSD gdbm_compat -Uuseithreads -Uuselongdouble -DEBUGGING=-g'
    hint=recommended
    useposix=true
    d_sigaction=define
    useithreads=undef
    usemultiplicity=undef
    use64bitint=define
    use64bitall=define
    uselongdouble=undef
    usemymalloc=n
    default_inc_excludes_dot=define
    bincompat5005=undef
  Compiler:
    cc='cc'
    ccflags ='-fwrapv -fno-strict-aliasing -pipe -fstack-protector-strong -I/usr/local/include -D_LARGEFILE_SOURCE -D_FILE_OFFSET_BITS=64'
    optimize='-O2 -g'
    cppflags='-fwrapv -fno-strict-aliasing -pipe -fstack-protector-strong -I/usr/local/include'
    ccversion=''
    gccversion='6.3.0 20170406'
    gccosandvers=''
    intsize=4
    longsize=8
    ptrsize=8
    doublesize=8
    byteorder=12345678
    doublekind=3
    d_longlong=define
    longlongsize=8
    d_longdbl=define
    longdblsize=16
    longdblkind=3
    ivtype='long'
    ivsize=8
    nvtype='double'
    nvsize=8
    Off_t='off_t'
    lseeksize=8
    alignbytes=8
    prototype=define
  Linker and Libraries:
    ld='cc'
    ldflags =' -fstack-protector-strong -L/usr/local/lib'
    libpth=/usr/local/lib /usr/lib/gcc/x86_64-linux-gnu/6/include-fixed /usr/include/x86_64-linux-gnu /usr/lib /lib/x86_64-linux-gnu /lib/../lib /usr/lib/x86_64-linux-gnu /usr/lib/../lib /lib
    libs=-lpthread -lnsl -ldl -lm -lcrypt -lutil -lc
    perllibs=-lpthread -lnsl -ldl -lm -lcrypt -lutil -lc
    libc=libc-2.24.so
    so=so
    useshrplib=false
    libperl=libperl.a
    gnulibc_version='2.24'
  Dynamic Linking:
    dlsrc=dl_dlopen.xs
    dlext=so
    d_dlsymun=undef
    ccdlflags='-Wl,-E'
    cccdlflags='-fPIC'
    lddlflags='-shared -O2 -g -L/usr/local/lib -fstack-protector-strong'


Characteristics of this binary (from libperl): 
  Compile-time options:
    HAS_TIMES
    PERLIO_LAYERS
    PERL_COPY_ON_WRITE
    PERL_DONT_CREATE_GVSV
    PERL_MALLOC_WRAP
    PERL_OP_PARENT
    PERL_PRESERVE_IVUV
    PERL_USE_DEVEL
    USE_64_BIT_ALL
    USE_64_BIT_INT
    USE_LARGE_FILES
    USE_LOCALE
    USE_LOCALE_COLLATE
    USE_LOCALE_CTYPE
    USE_LOCALE_NUMERIC
    USE_LOCALE_TIME
    USE_PERLIO
    USE_PERL_ATOF
  Locally applied patches:
    RC1
    Devel::PatchPerl 1.48
  Built under linux
  Compiled at Nov 16 2018 04:37:38
  %ENV:
    PERL="/tmp/basesmoker-reloperl-46dT/bin/perl"
    PERL5LIB=""
    PERL5OPT=""
    PERL5_CPANPLUS_IS_RUNNING="20025"
    PERL5_CPAN_IS_RUNNING="20025"
    PERL_CANARY_STABILITY_NOPROMPT="1"
    PERL_MM_USE_DEFAULT="1"
    PERL_USE_UNSAFE_INC="1"
  @INC:
    /home/sand/src/perl/repoperls/installed-perls/host/k93zesty/perl-5.28.1-RC1/bc26/lib/site_perl/5.28.1/x86_64-linux
    /home/sand/src/perl/repoperls/installed-perls/host/k93zesty/perl-5.28.1-RC1/bc26/lib/site_perl/5.28.1
    /home/sand/src/perl/repoperls/installed-perls/host/k93zesty/perl-5.28.1-RC1/bc26/lib/5.28.1/x86_64-linux
    /home/sand/src/perl/repoperls/installed-perls/host/k93zesty/perl-5.28.1-RC1/bc26/lib/5.28.1
    .