Params-Util v1.102 Perl 5 v5.36.0 x86_64-linux

Status
Pass
From
Ioan Rogers
Dist
Params-Util v1.102
Platform
Perl 5 v5.36.0 x86_64-linux
Date
2023-01-31 19:07:13
ID
78aaa2b4-a19a-11ed-8ba1-fea3cbd1a801
This distribution has been tested as part of the CPAN Testers
project, supporting the Perl programming language.  See
http://wiki.cpantesters.org/ for more information or email
questions to cpan-testers-discuss@perl.org


--
Dear REHSACK,

This is a computer-generated report for Params-Util-1.102
on perl 5.36.0, created by App::cpanminus::reporter 0.18 (1.7046).

Thank you for uploading your work to CPAN.  Congratulations!
All tests were successful.

Sections of this report:

    * Tester comments
    * Program output
    * Prerequisites
    * Environment and other context

------------------------------
TESTER COMMENTS
------------------------------

Additional comments from tester:

none provided

------------------------------
PROGRAM OUTPUT
------------------------------

Output from '':

Building and testing Params-Util-1.102
Running Mkbootstrap for Util ()
"/home/irogers/.plenv/versions/5.36.0/bin/perl5.36.0" "/home/irogers/.plenv/versions/5.36.0/lib/perl5/5.36.0/ExtUtils/xsubpp"  -typemap '/home/irogers/.plenv/versions/5.36.0/lib/perl5/5.36.0/ExtUtils/typemap'  Util.xs > Util.xsc
chmod 644 "Util.bs"
"/home/irogers/.plenv/versions/5.36.0/bin/perl5.36.0" -MExtUtils::Command::MM -e 'cp_nonempty' -- Util.bs blib/arch/auto/Params/Util/Util.bs 644
cp lib/Params/Util.pm blib/lib/Params/Util.pm
cp lib/Params/Util/PP.pm blib/lib/Params/Util/PP.pm
mv Util.xsc Util.c
clang -c   -fno-strict-aliasing -pipe -fstack-protector-strong -I/usr/local/include -D_LARGEFILE_SOURCE -D_FILE_OFFSET_BITS=64 -O3   -DVERSION=\"1.102\" -DXS_VERSION=\"1.102\" -fPIC "-I/home/irogers/.plenv/versions/5.36.0/lib/perl5/5.36.0/x86_64-linux/CORE"   Util.c
rm -f blib/arch/auto/Params/Util/Util.so
clang  -shared -O3 -L/usr/local/lib -fstack-protector-strong  Util.o  -o blib/arch/auto/Params/Util/Util.so  \
      \
  
chmod 755 blib/arch/auto/Params/Util/Util.so
"/home/irogers/.plenv/versions/5.36.0/bin/perl5.36.0" -MExtUtils::Command::MM -e 'cp_nonempty' -- Util.bs blib/arch/auto/Params/Util/Util.bs 644
PERL_DL_NONLAZY=1 "/home/irogers/.plenv/versions/5.36.0/bin/perl5.36.0" "-MExtUtils::Command::MM" "-MTest::Harness" "-e" "undef *Test::Harness::Switches; test_harness(0, 'blib/lib', 'blib/arch')" t/pp/*.t t/xs/*.t xt/*.t
t/pp/01_compile.t .... ok
t/pp/03_all.t ........ ok
t/pp/04_codelike.t ... ok
t/pp/09_insideout.t .. ok
t/pp/06_invocant.t ... ok
t/pp/05_typelike.t ... ok
t/pp/07_handle.t ..... ok
t/xs/01_compile.t .... ok
t/xs/04_codelike.t ... ok
t/pp/08_driver.t ..... ok
t/xs/03_all.t ........ ok
t/xs/06_invocant.t ... ok
t/xs/05_typelike.t ... ok
t/xs/07_handle.t ..... ok
t/xs/09_insideout.t .. ok
t/pp/02_main.t ....... ok
t/xs/08_driver.t ..... ok
t/xs/02_main.t ....... ok
All tests successful.
Files=18, Tests=1864,  1 wallclock secs ( 0.09 usr  0.02 sys +  1.20 cusr  0.16 csys =  1.47 CPU)
Result: PASS

------------------------------
PREREQUISITES
------------------------------

Prerequisite modules loaded:

runtime:

    Module              Need Have 
    ------------------- ---- -----
    Scalar::Util        1.18 1.62 
    XSLoader            0.22 0.31 

build:

    Module              Need Have 
    ------------------- ---- -----
    ExtUtils::MakeMaker 0    7.64 

configure:

    Module              Need Have 
    ------------------- ---- -----
    Carp                0    1.52 
    ExtUtils::MakeMaker 0    7.64 
    File::Basename      0    2.85 
    File::Copy          0    2.39 
    File::Path          0    2.18 
    File::Spec          0    3.84 
    IPC::Cmd            0    1.04 
    parent              0    0.238


------------------------------
ENVIRONMENT AND OTHER CONTEXT
------------------------------

Environment variables:

    HARNESS_OPTIONS = j16
    LANG = en_GB.UTF-8
    LANGUAGE = en_GB:en_CA:en
    LC_ADDRESS = en_CA.UTF-8
    LC_IDENTIFICATION = en_CA.UTF-8
    LC_MEASUREMENT = en_CA.UTF-8
    LC_MONETARY = en_CA.UTF-8
    LC_NAME = en_CA.UTF-8
    LC_NUMERIC = en_CA.UTF-8
    LC_PAPER = en_CA.UTF-8
    LC_TELEPHONE = en_CA.UTF-8
    LC_TIME = en_CA.UTF-8
    PATH = /home/irogers/.plenv/versions/5.36.0/bin:/home/irogers/.plenv/libexec:/home/irogers/.plenv/plugins/perl-build/bin:/home/irogers/.plenv/shims:~/.plenv/bin:/home/irogers/go/bin:/home/irogers/.local/bin:/home/irogers/.plenv/shims:~/.plenv/bin:/home/irogers/go/bin:/home/irogers/.local/bin:/usr/local/sbin:/usr/local/bin:/usr/sbin:/usr/bin:/sbin:/bin:/snap/bin
    PERL5LIB = /home/irogers/Projects/github.maxmind.com/maxmind/mm_website/lib
    PERL_CPANM_OPT = --prompt --no-man-pages --verify --mirror https://cpan.metacpan.org
    SHELL = /bin/bash
    TERM = xterm-256color

Perl special variables (and OS-specific diagnostics, for MSWin32):

    EGID = 1000 4 24 27 30 46 122 134 135 1000
    EUID = 1000
    EXECUTABLE_NAME = /home/irogers/.plenv/versions/5.36.0/bin/perl5.36.0
    GID = 1000 4 24 27 30 46 122 134 135 1000
    UID = 1000

Perl module toolchain versions installed:

    Module              Have    
    ------------------- --------
    CPAN                2.33    
    CPAN::Meta          2.150010
    Cwd                 3.84    
    ExtUtils::CBuilder  0.280236
    ExtUtils::Command   7.64    
    ExtUtils::Install   2.20    
    ExtUtils::MakeMaker 7.64    
    ExtUtils::Manifest  1.73    
    ExtUtils::ParseXS   3.45    
    File::Spec          3.84    
    JSON                n/a     
    JSON::PP            4.07    
    Module::Build       n/a     
    Module::Signature   0.88    
    Parse::CPAN::Meta   2.150010
    Test::Harness       3.44    
    Test::More          1.302190
    YAML                n/a     
    YAML::Syck          n/a     
    version             0.9929  


--

Summary of my perl5 (revision 5 version 36 subversion 0) configuration:
   
  Platform:
    osname=linux
    osvers=5.19.0-29-generic
    archname=x86_64-linux
    uname='linux mm-starbook 5.19.0-29-generic #30-ubuntu smp preempt_dynamic wed jan 4 12:14:09 utc 2023 x86_64 x86_64 x86_64 gnulinux '
    config_args='-Dprefix=/home/irogers/.plenv/versions/5.36.0 -de -Dversiononly -Dcc=clang -Doptimize=-O3 -Dccflags-march=native  -Dman1dir=none -Dman3dir=none -A'eval:scriptdir=/home/irogers/.plenv/versions/5.36.0/bin''
    hint=recommended
    useposix=true
    d_sigaction=define
    useithreads=undef
    usemultiplicity=undef
    use64bitint=define
    use64bitall=define
    uselongdouble=undef
    usemymalloc=n
    default_inc_excludes_dot=define
  Compiler:
    cc='clang'
    ccflags ='-fno-strict-aliasing -pipe -fstack-protector-strong -I/usr/local/include -D_LARGEFILE_SOURCE -D_FILE_OFFSET_BITS=64'
    optimize='-O3'
    cppflags='-fno-strict-aliasing -pipe -fstack-protector-strong -I/usr/local/include'
    ccversion=''
    gccversion='Ubuntu Clang 15.0.6'
    gccosandvers=''
    intsize=4
    longsize=8
    ptrsize=8
    doublesize=8
    byteorder=12345678
    doublekind=3
    d_longlong=define
    longlongsize=8
    d_longdbl=define
    longdblsize=16
    longdblkind=3
    ivtype='long'
    ivsize=8
    nvtype='double'
    nvsize=8
    Off_t='off_t'
    lseeksize=8
    alignbytes=8
    prototype=define
  Linker and Libraries:
    ld='clang'
    ldflags =' -fstack-protector-strong -L/usr/local/lib'
    libpth=/usr/lib/llvm-15/lib/clang/15.0.6/lib /usr/local/lib /usr/lib/x86_64-linux-gnu /usr/lib /usr/lib64
    libs=-lpthread -lnsl -ldl -lm -lcrypt -lutil -lc
    perllibs=-lpthread -lnsl -ldl -lm -lcrypt -lutil -lc
    libc=/lib/x86_64-linux-gnu/libc.so.6
    so=so
    useshrplib=false
    libperl=libperl.a
    gnulibc_version='2.36'
  Dynamic Linking:
    dlsrc=dl_dlopen.xs
    dlext=so
    d_dlsymun=undef
    ccdlflags='-Wl,-E'
    cccdlflags='-fPIC'
    lddlflags='-shared -O3 -L/usr/local/lib -fstack-protector-strong'


Characteristics of this binary (from libperl): 
  Compile-time options:
    HAS_TIMES
    PERLIO_LAYERS
    PERL_COPY_ON_WRITE
    PERL_DONT_CREATE_GVSV
    PERL_MALLOC_WRAP
    PERL_OP_PARENT
    PERL_PRESERVE_IVUV
    USE_64_BIT_ALL
    USE_64_BIT_INT
    USE_LARGE_FILES
    USE_LOCALE
    USE_LOCALE_COLLATE
    USE_LOCALE_CTYPE
    USE_LOCALE_NUMERIC
    USE_LOCALE_TIME
    USE_PERLIO
    USE_PERL_ATOF
  Built under linux
  Compiled at Jan 31 2023 10:51:11
  %ENV:
    PERL5LIB="/home/irogers/Projects/github.maxmind.com/maxmind/mm_website/lib"
    PERL_CPANM_OPT="--prompt --no-man-pages --verify --mirror https://cpan.metacpan.org"
  @INC:
    /home/irogers/Projects/github.maxmind.com/maxmind/mm_website/lib
    /home/irogers/.plenv/versions/5.36.0/lib/perl5/site_perl/5.36.0/x86_64-linux
    /home/irogers/.plenv/versions/5.36.0/lib/perl5/site_perl/5.36.0
    /home/irogers/.plenv/versions/5.36.0/lib/perl5/5.36.0/x86_64-linux
    /home/irogers/.plenv/versions/5.36.0/lib/perl5/5.36.0