KiokuDB v0.57 Perl 5 v5.28.2 MSWin32-x86-multi-thread-64int
- Status
- Pass
- From
- Alexandr Ciornii (CHORNY)
- Dist
-
KiokuDB v0.57
- Platform
- Perl 5 v5.28.2 MSWin32-x86-multi-thread-64int
- Date
- 2019-04-25 14:44:39
- ID
- 7892ce0e-6c0e-1014-96af-fbc93b50a26f
This distribution has been tested as part of the CPAN Testers
project, supporting the Perl programming language. See
http://wiki.cpantesters.org/ for more information or email
questions to cpan-testers-discuss@perl.org
--
Dear Jesse Luehrs,
This is a computer-generated report for KiokuDB-0.57
on perl 5.28.2, created by CPAN-Reporter-1.2018.
Thank you for uploading your work to CPAN. Congratulations!
All tests were successful.
Sections of this report:
* Tester comments
* Program output
* Prerequisites
* Environment and other context
------------------------------
TESTER COMMENTS
------------------------------
Additional comments from tester:
this report is from an automated smoke testing program
and was not reviewed by a human for accuracy
------------------------------
PROGRAM OUTPUT
------------------------------
Output from 'C:\STRAWB~1\c\bin\gmake.exe test':
"C:\Strawberry282\perl\bin\perl.exe" "-MExtUtils::Command::MM" "-MTest::Harness" "-e" "undef *Test::Harness::Switches; test_harness(0, 'blib\lib', 'blib\arch')" t/*.t
t/00-compile.t ................. ok
t/coderefs.t ................... ok
t/collapser.t .................. ok
t/digest.t ..................... ok
t/directory.t .................. ok
t/entry.t ...................... ok
t/gc_naive.t ................... ok
Attempt to free unreferenced scalar: SV 0x3d7fd34, Perl interpreter: 0x3f8a04 at C:\STRAWB~1\cpan\build\KiokuDB-0.57-0\blib\lib/KiokuDB/Test/Fixture/Sets.pm line 150.
t/gin.t ........................ ok
Attempt to free unreferenced scalar: SV 0x3d5e67c, Perl interpreter: 0x3f8a04 at C:\STRAWB~1\cpan\build\KiokuDB-0.57-0\blib\lib/KiokuDB/Test/Fixture/Sets.pm line 150.
Attempt to free unreferenced scalar: SV 0x41be864, Perl interpreter: 0x3f8a04 at C:\STRAWB~1\cpan\build\KiokuDB-0.57-0\blib\lib/KiokuDB/Test/Fixture/Sets.pm line 150.
Attempt to free unreferenced scalar: SV 0x44e994c, Perl interpreter: 0x3f8a04 at C:\STRAWB~1\cpan\build\KiokuDB-0.57-0\blib\lib/KiokuDB/Test/Fixture/Sets.pm line 150.
Attempt to free unreferenced scalar: SV 0x47be15c, Perl interpreter: 0x3f8a04 at C:\STRAWB~1\cpan\build\KiokuDB-0.57-0\blib\lib/KiokuDB/Test/Fixture/Sets.pm line 150.
Attempt to free unreferenced scalar: SV 0x4722edc, Perl interpreter: 0x3f8a04 at C:\STRAWB~1\cpan\build\KiokuDB-0.57-0\blib\lib/KiokuDB/Test/Fixture/Sets.pm line 150.
Attempt to free unreferenced scalar: SV 0x417b3f4, Perl interpreter: 0x3f8a04 at C:\STRAWB~1\cpan\build\KiokuDB-0.57-0\blib\lib/KiokuDB/Test/Fixture/Sets.pm line 150.
Attempt to free unreferenced scalar: SV 0x476163c, Perl interpreter: 0x3f8a04 at C:\STRAWB~1\cpan\build\KiokuDB-0.57-0\blib\lib/KiokuDB/Test/Fixture/Sets.pm line 150.
Attempt to free unreferenced scalar: SV 0x48635c4, Perl interpreter: 0x3f8a04 at C:\STRAWB~1\cpan\build\KiokuDB-0.57-0\blib\lib/KiokuDB/Test/Fixture/Sets.pm line 150.
Attempt to free unreferenced scalar: SV 0x42f92b4, Perl interpreter: 0x3f8a04 at C:\STRAWB~1\cpan\build\KiokuDB-0.57-0\blib\lib/KiokuDB/Test/Fixture/Sets.pm line 150.
Attempt to free unreferenced scalar: SV 0x4cbea0c, Perl interpreter: 0x3f8a04 at C:\STRAWB~1\cpan\build\KiokuDB-0.57-0\blib\lib/KiokuDB/Test/Fixture/Sets.pm line 150.
Attempt to free unreferenced scalar: SV 0x41c3144, Perl interpreter: 0x3f8a04 at C:\STRAWB~1\cpan\build\KiokuDB-0.57-0\blib\lib/KiokuDB/Test/Fixture/Sets.pm line 150.
Attempt to free unreferenced scalar: SV 0x4477194, Perl interpreter: 0x3f8a04 at C:\STRAWB~1\cpan\build\KiokuDB-0.57-0\blib\lib/KiokuDB/Test/Fixture/Sets.pm line 150.
Attempt to free unreferenced scalar: SV 0x4d5d044, Perl interpreter: 0x3f8a04 at C:\STRAWB~1\cpan\build\KiokuDB-0.57-0\blib\lib/KiokuDB/Test/Fixture/Sets.pm line 150.
Attempt to free unreferenced scalar: SV 0x4dc39fc, Perl interpreter: 0x3f8a04 at C:\STRAWB~1\cpan\build\KiokuDB-0.57-0\blib\lib/KiokuDB/Test/Fixture/Sets.pm line 150.
Attempt to free unreferenced scalar: SV 0x48ab9dc, Perl interpreter: 0x3f8a04 at C:\STRAWB~1\cpan\build\KiokuDB-0.57-0\blib\lib/KiokuDB/Test/Fixture/Sets.pm line 150.
Attempt to free unreferenced scalar: SV 0x4931f74, Perl interpreter: 0x3f8a04 at C:\STRAWB~1\cpan\build\KiokuDB-0.57-0\blib\lib/KiokuDB/Test/Fixture/Sets.pm line 150.
Attempt to free unreferenced scalar: SV 0x450ae4c, Perl interpreter: 0x3f8a04 at C:\STRAWB~1\cpan\build\KiokuDB-0.57-0\blib\lib/KiokuDB/Test/Fixture/Sets.pm line 150.
Attempt to free unreferenced scalar: SV 0x44465cc, Perl interpreter: 0x3f8a04 at C:\STRAWB~1\cpan\build\KiokuDB-0.57-0\blib\lib/KiokuDB/Test/Fixture/Sets.pm line 150.
Attempt to free unreferenced scalar: SV 0x52f2cb4, Perl interpreter: 0x3f8a04 at C:\STRAWB~1\cpan\build\KiokuDB-0.57-0\blib\lib/KiokuDB/Test/Fixture/Sets.pm line 150.
Attempt to free unreferenced scalar: SV 0x4a30aac, Perl interpreter: 0x3f8a04 at C:\STRAWB~1\cpan\build\KiokuDB-0.57-0\blib\lib/KiokuDB/Test/Fixture/Sets.pm line 150.
Attempt to free unreferenced scalar: SV 0x4acddec, Perl interpreter: 0x3f8a04 at C:\STRAWB~1\cpan\build\KiokuDB-0.57-0\blib\lib/KiokuDB/Test/Fixture/Sets.pm line 150.
Attempt to free unreferenced scalar: SV 0x49c3b3c, Perl interpreter: 0x3f8a04 at C:\STRAWB~1\cpan\build\KiokuDB-0.57-0\blib\lib/KiokuDB/Test/Fixture/Sets.pm line 150.
Attempt to free unreferenced scalar: SV 0x487314c, Perl interpreter: 0x3f8a04 at C:\STRAWB~1\cpan\build\KiokuDB-0.57-0\blib\lib/KiokuDB/Test/Fixture/Sets.pm line 150.
Attempt to free unreferenced scalar: SV 0x41868a4, Perl interpreter: 0x3f8a04 at C:\STRAWB~1\cpan\build\KiokuDB-0.57-0\blib\lib/KiokuDB/Test/Fixture/Sets.pm line 150.
Attempt to free unreferenced scalar: SV 0x5443284, Perl interpreter: 0x3f8a04 at C:\STRAWB~1\cpan\build\KiokuDB-0.57-0\blib\lib/KiokuDB/Test/Fixture/Sets.pm line 150.
Attempt to free unreferenced scalar: SV 0x569858c, Perl interpreter: 0x3f8a04 at C:\STRAWB~1\cpan\build\KiokuDB-0.57-0\blib\lib/KiokuDB/Test/Fixture/Sets.pm line 150.
Attempt to free unreferenced scalar: SV 0x5393944, Perl interpreter: 0x3f8a04 at C:\STRAWB~1\cpan\build\KiokuDB-0.57-0\blib\lib/KiokuDB/Test/Fixture/Sets.pm line 150.
Attempt to free unreferenced scalar: SV 0x55f60ac, Perl interpreter: 0x3f8a04 at C:\STRAWB~1\cpan\build\KiokuDB-0.57-0\blib\lib/KiokuDB/Test/Fixture/Sets.pm line 150.
Attempt to free unreferenced scalar: SV 0x4fd4654, Perl interpreter: 0x3f8a04 at C:\STRAWB~1\cpan\build\KiokuDB-0.57-0\blib\lib/KiokuDB/Test/Fixture/Sets.pm line 150.
Attempt to free unreferenced scalar: SV 0x54d5424, Perl interpreter: 0x3f8a04 at C:\STRAWB~1\cpan\build\KiokuDB-0.57-0\blib\lib/KiokuDB/Test/Fixture/Sets.pm line 150.
Attempt to free unreferenced scalar: SV 0x545974c, Perl interpreter: 0x3f8a04 at C:\STRAWB~1\cpan\build\KiokuDB-0.57-0\blib\lib/KiokuDB/Test/Fixture/Sets.pm line 150.
Attempt to free unreferenced scalar: SV 0x558f69c, Perl interpreter: 0x3f8a04 at C:\STRAWB~1\cpan\build\KiokuDB-0.57-0\blib\lib/KiokuDB/Test/Fixture/Sets.pm line 150.
t/hash.t ....................... ok
t/hash_backend.t ............... ok
t/jspon_serialization.t ........ ok
t/kiokudb_class_native.t ....... ok
t/lazy.t ....................... ok
t/link_checker.t ............... ok
t/link_checker_real.t .......... ok
t/live_objs.t .................. ok
t/moose_triggers.t ............. ok
t/ref.t ........................ ok
t/scaling.t .................... ok
t/serializer.t ................. ok
t/stream.t ..................... ok
t/tied.t ....................... ok
t/typemap.t .................... ok
t/typemap_default_json.t ....... ok
t/typemap_default_storable.t ... ok
t/typemap_entry_callback.t ..... ok
t/typemap_entry_mop.t .......... ok
t/typemap_entry_naive.t ........ ok
t/typemap_entry_passthrough.t .. ok
t/typemap_entry_storable.t ..... ok
t/typemap_extra.t .............. ok
t/typemap_resolver.t ........... ok
t/typemap_values.t ............. ok
t/uuid.t ....................... ok
t/versioning.t ................. ok
All tests successful.
Files=35, Tests=23590, 361 wallclock secs ( 2.47 usr + 0.69 sys = 3.16 CPU)
Result: PASS
------------------------------
PREREQUISITES
------------------------------
Prerequisite modules loaded:
requires:
Module Need Have
---------------------------------------------- ------ --------
B 0 1.74
B::Deparse 0 1.48
Cache::Ref 0.02 0.04
Carp 0 1.50
Class::Load 0 0.25
constant 0 1.33
Data::Stream::Bulk 0.08 0.11
Data::Stream::Bulk::Util 0 0.11
! Data::Swap 0 n/a
Data::UUID 1.203 1.224
Data::Visitor 0.24 0.30
Digest::SHA 0 6.02
Encode 0 3.01
Hash::Util::FieldHash::Compat 0 0.11
IO::Handle 0 1.39
JSON 2.12 4.02
JSON::XS 2.231 4.02
List::Util 0 1.50
Module::Pluggable::Object 0 5.2
Moose 2.0000 2.2011
Moose::Exporter 0 2.2011
Moose::Role 0 2.2011
Moose::Util 0 2.2011
Moose::Util::MetaRole 0 2.2011
Moose::Util::TypeConstraints 0 2.2011
MooseX::Clone 0.04 0.06
MooseX::Clone::Meta::Attribute::Trait::NoClone 0 0.06
MooseX::Role::Parameterized 0.10 1.10
MooseX::YAML 0.04 0.04
namespace::clean 0.08 0.27
overload 0 1.30
PadWalker 1.9 2.3
Path::Class 0 0.37
POSIX 0 1.84
Scalar::Util 0 1.50
Scope::Guard 0 0.21
Search::GIN::Driver 0 0.11
Search::GIN::Extract 0 0.11
Search::GIN::Query::Class 0.03 0.11
Set::Object 1.26 1.39
Storable 0 3.11
strict 0 1.11
Sub::Exporter 0 0.987
Symbol 0 1.08
Test::Exception 0 0.43
Test::Moose 0 2.2011
Test::More 0.88 1.302162
Throwable 0 0.200013
Tie::RefHash 0 1.39
Tie::ToObject 0 0.03
Try::Tiny 0 0.30
utf8 0 1.21
warnings 0 1.42
YAML::XS 0.30 0.77
build_requires:
Module Need Have
---------------------------------------------- ------ --------
base 0 2.27
Cache::Ref::CART 0 0.04
Cache::Ref::CLOCK 0 0.04
Data::Dumper 0 2.173
Data::Stream::Bulk::Callback 0 0.11
File::Spec 0 3.75
if 0 0.0608
IO::Handle 0 1.39
IPC::Open3 0 1.20
Search::GIN::Driver::Hash 0 0.11
Search::GIN::Extract::Class 0 0.11
Search::GIN::Extract::Delegate 0 0.11
Test::More 0.88 1.302162
configure_requires:
Module Need Have
---------------------------------------------- ------ --------
ExtUtils::MakeMaker 6.30 7.34
------------------------------
ENVIRONMENT AND OTHER CONTEXT
------------------------------
Environment variables:
AUTOMATED_TESTING = 1
COMSPEC = C:\WINDOWS\system32\cmd.exe
NONINTERACTIVE_TESTING = 1
NUMBER_OF_PROCESSORS = 1
PATH = C:\Program Files\Far Manager\;C:\WINDOWS\system32;C:\WINDOWS;C:\WINDOWS\System32\Wbem;C:\Git\cmd;C:\Strawberry282\c\bin;C:\Strawberry282\perl\site\bin;C:\Strawberry282\perl\bin
PERL5LIB =
PERL5OPT =
PERL5_CPANPLUS_IS_RUNNING = 1100
PERL5_CPAN_IS_RUNNING = 1100
PERL5_CPAN_IS_RUNNING_IN_RECURSION = 1832,1100
PERL_CR_SMOKER_CURRENT = KiokuDB::Navigator
PERL_EXTUTILS_AUTOINSTALL = --defaultdeps
PERL_MM_USE_DEFAULT = 1
PERL_USE_UNSAFE_INC = 1
PROCESSOR_IDENTIFIER = x86 Family 16 Model 5 Stepping 3, AuthenticAMD
TEMP = C:\DOCUME~1\a\LOCALS~1\Temp
Perl special variables (and OS-specific diagnostics, for MSWin32):
$^X = C:\Strawberry282\perl\bin\perl.exe
$UID/$EUID = 0 / 0
$GID = 0
$EGID = 0
Win32::GetOSName = WinXP/.Net
Win32::GetOSVersion = Service Pack 3, 5, 1, 2600, 2, 3, 0, 256, 1
Win32::FsType = NTFS
Win32::IsAdminUser = 1
Perl module toolchain versions installed:
Module Have
------------------- --------
CPAN 2.26
CPAN::Meta 2.150010
Cwd 3.75
ExtUtils::CBuilder 0.280231
ExtUtils::Command 7.34
ExtUtils::Install 2.14
ExtUtils::MakeMaker 7.34
ExtUtils::Manifest 1.72
ExtUtils::ParseXS 3.39
File::Spec 3.75
JSON 4.02
JSON::PP 4.02
Module::Build 0.4229
Module::Signature n/a
Parse::CPAN::Meta 2.150010
Test::Harness 3.42
Test::More 1.302162
YAML 1.27
YAML::Syck 1.31
version 0.9924
--
Summary of my perl5 (revision 5 version 28 subversion 2) configuration:
Platform:
osname=MSWin32
osvers=5.1.2600
archname=MSWin32-x86-multi-thread-64int
uname='Win32 strawberry-perl 5.28.2.1 #1 Mon Apr 22 21:59:01 2019 i386'
config_args='undef'
hint=recommended
useposix=true
d_sigaction=undef
useithreads=define
usemultiplicity=define
use64bitint=define
use64bitall=undef
uselongdouble=undef
usemymalloc=n
default_inc_excludes_dot=define
bincompat5005=undef
Compiler:
cc='gcc'
ccflags =' -s -O2 -DWIN32 -D__USE_MINGW_ANSI_STDIO -DPERL_TEXTMODE_SCRIPTS -DPERL_IMPLICIT_CONTEXT -DPERL_IMPLICIT_SYS -DUSE_PERLIO -fwrapv -fno-strict-aliasing -mms-bitfields'
optimize='-s -O2'
cppflags='-DWIN32'
ccversion=''
gccversion='7.1.0'
gccosandvers=''
intsize=4
longsize=4
ptrsize=4
doublesize=8
byteorder=12345678
doublekind=3
d_longlong=define
longlongsize=8
d_longdbl=define
longdblsize=12
longdblkind=3
ivtype='long long'
ivsize=8
nvtype='double'
nvsize=8
Off_t='long long'
lseeksize=8
alignbytes=8
prototype=define
Linker and Libraries:
ld='g++'
ldflags ='-s -L"C:\STRAWB~1\perl\lib\CORE" -L"C:\STRAWB~1\c\lib"'
libpth=C:\STRAWB~1\c\lib C:\STRAWB~1\c\i686-w64-mingw32\lib C:\STRAWB~1\c\lib\gcc\i686-w64-mingw32\7.1.0
libs= -lmoldname -lkernel32 -luser32 -lgdi32 -lwinspool -lcomdlg32 -ladvapi32 -lshell32 -lole32 -loleaut32 -lnetapi32 -luuid -lws2_32 -lmpr -lwinmm -lversion -lodbc32 -lodbccp32 -lcomctl32
perllibs= -lmoldname -lkernel32 -luser32 -lgdi32 -lwinspool -lcomdlg32 -ladvapi32 -lshell32 -lole32 -loleaut32 -lnetapi32 -luuid -lws2_32 -lmpr -lwinmm -lversion -lodbc32 -lodbccp32 -lcomctl32
libc=
so=dll
useshrplib=true
libperl=libperl528.a
gnulibc_version=''
Dynamic Linking:
dlsrc=dl_win32.xs
dlext=xs.dll
d_dlsymun=undef
ccdlflags=' '
cccdlflags=' '
lddlflags='-mdll -s -L"C:\STRAWB~1\perl\lib\CORE" -L"C:\STRAWB~1\c\lib"'
Characteristics of this binary (from libperl):
Compile-time options:
HAS_TIMES
HAVE_INTERP_INTERN
MULTIPLICITY
PERLIO_LAYERS
PERL_COPY_ON_WRITE
PERL_DONT_CREATE_GVSV
PERL_IMPLICIT_CONTEXT
PERL_IMPLICIT_SYS
PERL_MALLOC_WRAP
PERL_OP_PARENT
PERL_PRESERVE_IVUV
USE_64_BIT_INT
USE_ITHREADS
USE_LARGE_FILES
USE_LOCALE
USE_LOCALE_COLLATE
USE_LOCALE_CTYPE
USE_LOCALE_NUMERIC
USE_LOCALE_TIME
USE_PERLIO
USE_PERL_ATOF
Built under MSWin32
Compiled at Apr 22 2019 22:09:26
%ENV:
PERL5_CPANPLUS_IS_RUNNING="1100"
PERL5_CPAN_IS_RUNNING="1100"
PERL5_CPAN_IS_RUNNING_IN_RECURSION="1832,1100"
PERL_CR_SMOKER_CURRENT="KiokuDB::Navigator"
PERL_EXTUTILS_AUTOINSTALL="--defaultdeps"
PERL_MM_USE_DEFAULT="1"
PERL_USE_UNSAFE_INC="1"
@INC:
C:/Strawberry282/perl/site/lib
C:/Strawberry282/perl/vendor/lib
C:/Strawberry282/perl/lib
.