Report for MouseX-NativeTraits-1.09

Back
From: metabase:user:314402c4-2aae-11df-837a-5e0a49663a4f
Subject: PASS MouseX-NativeTraits-1.09 v5.21.7 GNU/Linux
Date: 2014-12-20T21:45:08Z

This distribution has been tested as part of the CPAN Testers
project, supporting the Perl programming language.  See
http://wiki.cpantesters.org/ for more information or email
questions to cpan-testers-discuss@perl.org


--
Dear Goro Fuji,

This is a computer-generated report for MouseX-NativeTraits-1.09
on perl 5.21.7, created by CPAN-Reporter-1.2011.

Thank you for uploading your work to CPAN.  Congratulations!
All tests were successful.

Sections of this report:

    * Tester comments
    * Program output
    * Prerequisites
    * Environment and other context

------------------------------
TESTER COMMENTS
------------------------------

Additional comments from tester:

none provided

------------------------------
PROGRAM OUTPUT
------------------------------

Output from '/usr/bin/make test':

PERL_DL_NONLAZY=1 "/opt/perl-5.21.7/bin/perl5.21.7" "-MExtUtils::Command::MM" "-MTest::Harness" "-e" "\$ENV{q{ANY_MOOSE}} = q{Mouse}; undef *Test::Harness::Switches; test_harness(0, 'inc', 'blib/lib', 'blib/arch'); " t/*.t t/070_native_traits/*.t
Constants from lexical variables potentially modified elsewhere are deprecated at /opt/perl-5.21.7/lib/site_perl/5.21.7/x86_64-linux/Mouse/Util.pm line 79.
# Testing MouseX::NativeTraits/1.09
# Dependencies:
#     Mouse/2.4.1
t/00_load.t ...................................... ok
Constants from lexical variables potentially modified elsewhere are deprecated at /opt/perl-5.21.7/lib/site_perl/5.21.7/x86_64-linux/Mouse/Util.pm line 79.
t/01_basic.t ..................................... ok
Constants from lexical variables potentially modified elsewhere are deprecated at /opt/perl-5.21.7/lib/site_perl/5.21.7/x86_64-linux/Mouse/Util.pm line 79.
t/02_meta.t ...................................... ok
Constants from lexical variables potentially modified elsewhere are deprecated at /opt/perl-5.21.7/lib/site_perl/5.21.7/x86_64-linux/Mouse/Util.pm line 79.
t/03_extra.t ..................................... ok
Constants from lexical variables potentially modified elsewhere are deprecated at /opt/perl-5.21.7/lib/site_perl/5.21.7/x86_64-linux/Mouse/Util.pm line 79.
t/04_counter.t ................................... ok
Constants from lexical variables potentially modified elsewhere are deprecated at /opt/perl-5.21.7/lib/site_perl/5.21.7/x86_64-linux/Mouse/Util.pm line 79.
t/05_remain_tied.t ............................... ok
Constants from lexical variables potentially modified elsewhere are deprecated at /opt/perl-5.21.7/lib/site_perl/5.21.7/x86_64-linux/Mouse/Util.pm line 79.
t/070_native_traits/010_trait_array.t ............ ok
Constants from lexical variables potentially modified elsewhere are deprecated at /opt/perl-5.21.7/lib/site_perl/5.21.7/x86_64-linux/Mouse/Util.pm line 79.
t/070_native_traits/011_array_subtypes.t ......... ok
Constants from lexical variables potentially modified elsewhere are deprecated at /opt/perl-5.21.7/lib/site_perl/5.21.7/x86_64-linux/Mouse/Util.pm line 79.
t/070_native_traits/012_array_trigger.t .......... ok
t/070_native_traits/013_array_coerce.t ........... skipped: Not supported by MouseX::NativeTraits
Constants from lexical variables potentially modified elsewhere are deprecated at /opt/perl-5.21.7/lib/site_perl/5.21.7/x86_64-linux/Mouse/Util.pm line 79.
t/070_native_traits/020_trait_bool.t ............. ok
Constants from lexical variables potentially modified elsewhere are deprecated at /opt/perl-5.21.7/lib/site_perl/5.21.7/x86_64-linux/Mouse/Util.pm line 79.
t/070_native_traits/030_trait_code.t ............. ok
Constants from lexical variables potentially modified elsewhere are deprecated at /opt/perl-5.21.7/lib/site_perl/5.21.7/x86_64-linux/Mouse/Util.pm line 79.
t/070_native_traits/040_trait_counter.t .......... ok
Constants from lexical variables potentially modified elsewhere are deprecated at /opt/perl-5.21.7/lib/site_perl/5.21.7/x86_64-linux/Mouse/Util.pm line 79.
t/070_native_traits/050_trait_hash.t ............. ok
Constants from lexical variables potentially modified elsewhere are deprecated at /opt/perl-5.21.7/lib/site_perl/5.21.7/x86_64-linux/Mouse/Util.pm line 79.
t/070_native_traits/051_hash_subtypes.t .......... ok
Constants from lexical variables potentially modified elsewhere are deprecated at /opt/perl-5.21.7/lib/site_perl/5.21.7/x86_64-linux/Mouse/Util.pm line 79.
t/070_native_traits/052_hash_trigger.t ........... ok
t/070_native_traits/053_hash_coerce.t ............ skipped: Not supported by MouseX::NativeTraits
Constants from lexical variables potentially modified elsewhere are deprecated at /opt/perl-5.21.7/lib/site_perl/5.21.7/x86_64-linux/Mouse/Util.pm line 79.
t/070_native_traits/060_trait_number.t ........... ok
Constants from lexical variables potentially modified elsewhere are deprecated at /opt/perl-5.21.7/lib/site_perl/5.21.7/x86_64-linux/Mouse/Util.pm line 79.
t/070_native_traits/070_trait_string.t ........... ok
Constants from lexical variables potentially modified elsewhere are deprecated at /opt/perl-5.21.7/lib/site_perl/5.21.7/x86_64-linux/Mouse/Util.pm line 79.
t/070_native_traits/100_array_from_role.t ........ ok
t/070_native_traits/101_remove_attribute.t ....... skipped: Not supported by MouseX::NativeTraits
Constants from lexical variables potentially modified elsewhere are deprecated at /opt/perl-5.21.7/lib/site_perl/5.21.7/x86_64-linux/Mouse/Util.pm line 79.
t/070_native_traits/102_collection_with_roles.t .. ok
t/070_native_traits/103_custom_instance.t ........ skipped: not supproted by MouseX::NativeTraits
All tests successful.
Files=23, Tests=3482,  2 wallclock secs ( 0.17 usr  0.18 sys +  1.57 cusr  0.30 csys =  2.22 CPU)
Result: PASS

------------------------------
PREREQUISITES
------------------------------

Prerequisite modules loaded:

requires:

    Module              Need     Have        
    ------------------- -------- ------------
    Mouse               0.82     2.4.1       
    perl                5.006002 5.021007    

build_requires:

    Module              Need     Have        
    ------------------- -------- ------------
    Any::Moose          0.13     0.24        
    ExtUtils::MakeMaker 6.59     7.04        
    Test::Fatal         0.003    0.014       
    Test::More          0.88     1.301001_090

configure_requires:

    Module              Need     Have        
    ------------------- -------- ------------
    ExtUtils::MakeMaker 6.59     7.04        


------------------------------
ENVIRONMENT AND OTHER CONTEXT
------------------------------

Environment variables:

    DBIC_NO_WARN_BAD_PERL = 1
    LANG = C
    LC_ALL = de_DE.UTF-8
    PATH = /usr/local/bin:/usr/bin:/bin:/usr/local/sbin:/usr/sbin:/sbin:/home/eserte/bin/linux-gnu:/home/eserte/bin/sh:/home/eserte/bin:/usr/games:/home/eserte/devel:/home/eserte/src/srezic-misc/scripts
    PERL5LIB = 
    PERL5OPT = 
    PERL5_CPANPLUS_IS_RUNNING = 15749
    PERL5_CPAN_IS_RUNNING = 15749
    PERL5_CPAN_IS_RUNNING_IN_RECURSION = 9512,15749
    PERLDOC = -MPod::Perldoc::ToTextOverstrike
    PERL_BATCH = yes
    PERL_CPAN_REPORTER_CONFIG = /var/tmp/cpansmoker-1001/YsCeN4T4sO_config.ini
    PERL_EXTUTILS_AUTOINSTALL = --defaultdeps
    PERL_HTML_DISPLAY_CLASS = HTML::Display::Mozilla
    PERL_PARALLEL_SMOKER = yes
    SHELL = /bin/zsh
    TERM = screen
    TMPDIR = /var/tmp/cpansmoker-1001

Perl special variables (and OS-specific diagnostics, for MSWin32):

    $^X = /opt/perl-5.21.7/bin/perl5.21.7
    $UID/$EUID = 1001 / 1001
    $GID = 1001 109 1001
    $EGID = 1001 109 1001

Perl module toolchain versions installed:

    Module              Have        
    ------------------- ------------
    CPAN                2.05        
    CPAN::Meta          2.143240    
    Cwd                 3.54        
    ExtUtils::CBuilder  0.280221    
    ExtUtils::Command   1.18        
    ExtUtils::Install   2.04        
    ExtUtils::MakeMaker 7.04        
    ExtUtils::Manifest  1.69        
    ExtUtils::ParseXS   3.27        
    File::Spec          3.53        
    JSON                2.90        
    JSON::PP            2.27300     
    Module::Build       0.4210      
    Module::Signature   n/a         
    Parse::CPAN::Meta   1.4414      
    Test::Harness       3.34        
    Test::More          1.301001_090
    YAML                1.13        
    YAML::Syck          1.29        
    version             0.9909      


--

Summary of my perl5 (revision 5 version 21 subversion 7) configuration:
   
  Platform:
    osname=linux, osvers=3.2.0-4-amd64, archname=x86_64-linux
    uname='linux eserte 3.2.0-4-amd64 #1 smp debian 3.2.63-2+deb7u2 x86_64 gnulinux '
    config_args='-ds -e -Dprefix=/opt/perl-5.21.7 -Dusedevel -Dusemallocwrap=no'
    hint=recommended, useposix=true, d_sigaction=define
    useithreads=undef, usemultiplicity=undef
    use64bitint=define, use64bitall=define, uselongdouble=undef
    usemymalloc=n, bincompat5005=undef
  Compiler:
    cc='cc', ccflags ='-fwrapv -fno-strict-aliasing -pipe -fstack-protector -I/usr/local/include -D_LARGEFILE_SOURCE -D_FILE_OFFSET_BITS=64 -D_FORTIFY_SOURCE=2',
    optimize='-O2',
    cppflags='-fwrapv -fno-strict-aliasing -pipe -fstack-protector -I/usr/local/include'
    ccversion='', gccversion='4.7.2', gccosandvers=''
    intsize=4, longsize=8, ptrsize=8, doublesize=8, byteorder=12345678, doublekind=3
    d_longlong=define, longlongsize=8, d_longdbl=define, longdblsize=16, longdblkind=3
    ivtype='long', ivsize=8, nvtype='double', nvsize=8, Off_t='off_t', lseeksize=8
    alignbytes=8, prototype=define
  Linker and Libraries:
    ld='cc', ldflags =' -fstack-protector -L/usr/local/lib'
    libpth=/usr/local/lib /usr/lib/gcc/x86_64-linux-gnu/4.7/include-fixed /usr/include/x86_64-linux-gnu /usr/lib /lib/x86_64-linux-gnu /lib/../lib /usr/lib/x86_64-linux-gnu /usr/lib/../lib /lib
    libs=-lnsl -ldb -ldl -lm -lcrypt -lutil -lc -lpthread
    perllibs=-lnsl -ldl -lm -lcrypt -lutil -lc -lpthread
    libc=libc-2.13.so, so=so, useshrplib=false, libperl=libperl.a
    gnulibc_version='2.13'
  Dynamic Linking:
    dlsrc=dl_dlopen.xs, dlext=so, d_dlsymun=undef, ccdlflags='-Wl,-E'
    cccdlflags='-fPIC', lddlflags='-shared -O2 -L/usr/local/lib -fstack-protector'


Characteristics of this binary (from libperl): 
  Compile-time options: HAS_TIMES PERLIO_LAYERS PERL_DONT_CREATE_GVSV
                        PERL_HASH_FUNC_ONE_AT_A_TIME_HARD
                        PERL_NEW_COPY_ON_WRITE PERL_PRESERVE_IVUV
                        PERL_USE_DEVEL USE_64_BIT_ALL USE_64_BIT_INT
                        USE_LARGE_FILES USE_LOCALE USE_LOCALE_COLLATE
                        USE_LOCALE_CTYPE USE_LOCALE_NUMERIC USE_LOCALE_TIME
                        USE_PERLIO USE_PERL_ATOF
  Built under linux
  Compiled at Dec 20 2014 19:00:46
  %ENV:
    PERL5LIB=""
    PERL5OPT=""
    PERL5_CPANPLUS_IS_RUNNING="15749"
    PERL5_CPAN_IS_RUNNING="15749"
    PERL5_CPAN_IS_RUNNING_IN_RECURSION="9512,15749"
    PERLDOC="-MPod::Perldoc::ToTextOverstrike"
    PERL_BATCH="yes"
    PERL_CPAN_REPORTER_CONFIG="/var/tmp/cpansmoker-1001/YsCeN4T4sO_config.ini"
    PERL_EXTUTILS_AUTOINSTALL="--defaultdeps"
    PERL_HTML_DISPLAY_CLASS="HTML::Display::Mozilla"
    PERL_PARALLEL_SMOKER="yes"
  @INC:
    /opt/perl-5.21.7/lib/site_perl/5.21.7/x86_64-linux
    /opt/perl-5.21.7/lib/site_perl/5.21.7
    /opt/perl-5.21.7/lib/5.21.7/x86_64-linux
    /opt/perl-5.21.7/lib/5.21.7
    .