Archive-Tar-Wrapper v0.33 Perl 5 v5.20.0 amd64-freebsd

Status
Pass
From
Slaven Rezić (SREZIC)
Dist
Archive-Tar-Wrapper v0.33
Platform
Perl 5 v5.20.0 amd64-freebsd
Date
2018-07-10 12:26:26
ID
772f1d96-843c-11e8-bc70-d6af9edb29ff
This distribution has been tested as part of the CPAN Testers
project, supporting the Perl programming language.  See
http://wiki.cpantesters.org/ for more information or email
questions to cpan-testers-discuss@perl.org


--
Dear Alceu Rodrigues de Freitas Junior,

This is a computer-generated report for Archive-Tar-Wrapper-0.33
on perl 5.20.0, created by CPAN-Reporter-1.2018.

Thank you for uploading your work to CPAN.  Congratulations!
All tests were successful.

Sections of this report:

    * Tester comments
    * Program output
    * Prerequisites
    * Environment and other context

------------------------------
TESTER COMMENTS
------------------------------

Additional comments from tester:

none provided

------------------------------
PROGRAM OUTPUT
------------------------------

Output from '/usr/bin/make test':

PERL_DL_NONLAZY=1 "/usr/perl5.20.0/bin/perl" "-MExtUtils::Command::MM" "-MTest::Harness" "-e" "undef *Test::Harness::Switches; test_harness(0, 'blib/lib', 'blib/arch')" t/*.t
t/001Basic.t .............. ok
t/002Mult.t ............... ok
t/003Dirs.t ............... ok
t/004Utf8.t ............... ok
t/005Cwd.t ................ ok
t/006DirPerms.t ........... ok
t/007bzip.t ............... ok
# with grep: Ran 1214 iterations (162 outliers).
# with grep: Rounded run time per iteration: 0.000748 +/- 0.000002 (0.3%)
# with grep and compiled regex: Ran 1214 iterations (175 outliers).
# with grep and compiled regex: Rounded run time per iteration: 0.001173 +/- 0.000003 (0.3%)
# with eq: Ran 1403 iterations (383 outliers).
# with eq: Rounded run time per iteration: 0.000650 +/- 0.000000 (0.1%)
# with enhanced eq: Ran 1274 iterations (268 outliers).
# with enhanced eq: Rounded run time per iteration: 0.000642 +/- 0.000001 (0.1%)
# with enhanced eq mark2: Ran 1274 iterations (268 outliers).
# with enhanced eq mark2: Rounded run time per iteration: 0.000491 +/- 0.000001 (0.1%)
# with enhanced eq mark3: Ran 1274 iterations (244 outliers).
# with enhanced eq mark3: Rounded run time per iteration: 0.000358 +/- 0.000001 (0.2%)
# sort and shift: Ran 1214 iterations (192 outliers).
# sort and shift: Rounded run time per iteration: 0.000808 +/- 0.000002 (0.2%)
t/008performance.t ........ ok
# with grep: Ran 1337 iterations (314 outliers).
# with grep: Rounded run time per iteration: 0.000019 +/- 0.000000 (0.1%)
# with grep and compiled regex: Ran 1274 iterations (221 outliers).
# with grep and compiled regex: Rounded run time per iteration: 0.000024 +/- 0.000000 (0.2%)
# with eq: Ran 1274 iterations (254 outliers).
# with eq: Rounded run time per iteration: 0.000018 +/- 0.000000 (0.2%)
# with enhanced eq: Ran 1274 iterations (225 outliers).
# with enhanced eq: Rounded run time per iteration: 0.000018 +/- 0.000000 (0.2%)
# with enhanced eq mark2: Ran 1214 iterations (212 outliers).
# with enhanced eq mark2: Rounded run time per iteration: 0.000017 +/- 0.000000 (0.1%)
# with enhanced eq mark3: Ran 1337 iterations (302 outliers).
# with enhanced eq mark3: Rounded run time per iteration: 0.000016 +/- 0.000000 (0.1%)
# sort and shift: Ran 1274 iterations (250 outliers).
# sort and shift: Rounded run time per iteration: 0.000015 +/- 0.000000 (0.2%)
t/009performance-small.t .. ok
All tests successful.

Test Summary Report
-------------------
t/008performance.t      (Wstat: 0 Tests: 1 Failed: 0)
  TODO passed:   1
t/009performance-small.t (Wstat: 0 Tests: 1 Failed: 0)
  TODO passed:   1
Files=9, Tests=54, 972 wallclock secs ( 0.01 usr  0.04 sys + 785.43 cusr 156.14 csys = 941.62 CPU)
Result: PASS

------------------------------
PREREQUISITES
------------------------------

Prerequisite modules loaded:

requires:

    Module              Need     Have    
    ------------------- -------- --------
    Cwd                 0        3.74    
    File::Temp          0        0.2304  
    File::Which         0        1.22    
    IPC::Run            0        0.99    
    Log::Log4perl       0        1.49    
    perl                5.008001 5.020000

build_requires:

    Module              Need     Have    
    ------------------- -------- --------
    Dumbbench           0.111    0.111   
    ExtUtils::MakeMaker 0        7.34    
    Test::Simple        1.302073 1.302136

configure_requires:

    Module              Need     Have    
    ------------------- -------- --------
    ExtUtils::MakeMaker 0        7.34    
    File::Which         0        1.22    


------------------------------
ENVIRONMENT AND OTHER CONTEXT
------------------------------

Environment variables:

    LC_ALL = de_DE.ISO8859-1
    PATH = /usr/local/bin:/usr/bin:/bin:/usr/local/sbin:/usr/sbin:/sbin:/home/cpansand/bin/freebsd9.3:/home/cpansand/bin/sh:/home/cpansand/bin:/usr/games:/home/cpansand/devel:/usr/home/eserte/src/srezic-misc/scripts
    PERL5LIB = 
    PERL5OPT = 
    PERL5_CPANPLUS_IS_RUNNING = 4762
    PERL5_CPAN_IS_RUNNING = 4762
    PERL5_CPAN_IS_RUNNING_IN_RECURSION = 4714,4762
    PERLDOC = -MPod::Perldoc::ToTextOverstrike
    PERL_BATCH = yes
    PERL_CANARY_STABILITY_NOPROMPT = 1
    PERL_CPAN_REPORTER_CONFIG = /var/tmp/cpansmoker-1023/2018071014/cpanreporter_000_config.ini
    PERL_EXTUTILS_AUTOINSTALL = --defaultdeps
    SHELL = /usr/local/bin/zsh
    TERM = screen
    TMPDIR = /var/tmp/cpansmoker-1023/2018071014

Perl special variables (and OS-specific diagnostics, for MSWin32):

    $^X = /usr/perl5.20.0/bin/perl
    $UID/$EUID = 1023 / 1023
    $GID = 1023 1023
    $EGID = 1023 1023

Perl module toolchain versions installed:

    Module              Have    
    ------------------- --------
    CPAN                2.16    
    CPAN::Meta          2.150010
    Cwd                 3.74    
    ExtUtils::CBuilder  0.280230
    ExtUtils::Command   7.34    
    ExtUtils::Install   2.14    
    ExtUtils::MakeMaker 7.34    
    ExtUtils::Manifest  1.71    
    ExtUtils::ParseXS   3.35    
    File::Spec          3.74    
    JSON                2.97001 
    JSON::PP            2.97001 
    Module::Build       0.4224  
    Module::Signature   0.81    
    Parse::CPAN::Meta   2.150010
    Test::Harness       3.41    
    Test::More          1.302136
    YAML                1.24    
    YAML::Syck          1.30    
    version             0.9924  


--

Summary of my perl5 (revision 5 version 20 subversion 0) configuration:
   
  Platform:
    osname=freebsd, osvers=9.2-release-p4, archname=amd64-freebsd
    uname='freebsd cvrsnica-freebsd-92 9.2-release-p4 freebsd 9.2-release-p4 #0: tue apr 8 18:08:22 utc 2014 root@amd64-builder.daemonology.net:usrobjusrsrcsysgeneric amd64 '
    config_args='-ds -e -Dprefix=/usr/perl5.20.0'
    hint=recommended, useposix=true, d_sigaction=define
    useithreads=undef, usemultiplicity=undef
    use64bitint=define, use64bitall=define, uselongdouble=undef
    usemymalloc=n, bincompat5005=undef
  Compiler:
    cc='cc', ccflags ='-DHAS_FPSETMASK -DHAS_FLOATINGPOINT_H -fno-strict-aliasing -pipe -fstack-protector -I/usr/local/include',
    optimize='-O',
    cppflags='-DHAS_FPSETMASK -DHAS_FLOATINGPOINT_H -fno-strict-aliasing -pipe -fstack-protector -I/usr/local/include'
    ccversion='', gccversion='4.2.1 20070831 patched [FreeBSD]', gccosandvers=''
    intsize=4, longsize=8, ptrsize=8, doublesize=8, byteorder=12345678
    d_longlong=define, longlongsize=8, d_longdbl=define, longdblsize=16
    ivtype='long', ivsize=8, nvtype='double', nvsize=8, Off_t='off_t', lseeksize=8
    alignbytes=8, prototype=define
  Linker and Libraries:
    ld='cc', ldflags ='-Wl,-E  -fstack-protector -L/usr/local/lib'
    libpth=/usr/lib /usr/local/lib /usr/include/gcc/4.2 /usr/lib
    libs=-lgdbm -lm -lcrypt -lutil -lc
    perllibs=-lm -lcrypt -lutil -lc
    libc=, so=so, useshrplib=false, libperl=libperl.a
    gnulibc_version=''
  Dynamic Linking:
    dlsrc=dl_dlopen.xs, dlext=so, d_dlsymun=undef, ccdlflags=' '
    cccdlflags='-DPIC -fPIC', lddlflags='-shared  -L/usr/local/lib -fstack-protector'


Characteristics of this binary (from libperl): 
  Compile-time options: HAS_TIMES PERLIO_LAYERS PERL_DONT_CREATE_GVSV
                        PERL_HASH_FUNC_ONE_AT_A_TIME_HARD PERL_MALLOC_WRAP
                        PERL_NEW_COPY_ON_WRITE PERL_PRESERVE_IVUV
                        USE_64_BIT_ALL USE_64_BIT_INT USE_LARGE_FILES
                        USE_LOCALE USE_LOCALE_COLLATE USE_LOCALE_CTYPE
                        USE_LOCALE_NUMERIC USE_PERLIO USE_PERL_ATOF
  Built under freebsd
  Compiled at May 27 2014 13:55:26
  %ENV:
    PERL5LIB=""
    PERL5OPT=""
    PERL5_CPANPLUS_IS_RUNNING="4762"
    PERL5_CPAN_IS_RUNNING="4762"
    PERL5_CPAN_IS_RUNNING_IN_RECURSION="4714,4762"
    PERLDOC="-MPod::Perldoc::ToTextOverstrike"
    PERL_BATCH="yes"
    PERL_CANARY_STABILITY_NOPROMPT="1"
    PERL_CPAN_REPORTER_CONFIG="/var/tmp/cpansmoker-1023/2018071014/cpanreporter_000_config.ini"
    PERL_EXTUTILS_AUTOINSTALL="--defaultdeps"
  @INC:
    /usr/perl5.20.0/lib/site_perl/5.20.0/amd64-freebsd
    /usr/perl5.20.0/lib/site_perl/5.20.0
    /usr/perl5.20.0/lib/5.20.0/amd64-freebsd
    /usr/perl5.20.0/lib/5.20.0
    .