RSH-Logging v0.4.3 Perl 5 v5.34.3 x86_64-linux-thread-multi

Status
Pass
From
Andreas J. König (ANDK)
Dist
RSH-Logging v0.4.3
Platform
Perl 5 v5.34.3 x86_64-linux-thread-multi
Date
2023-12-20 04:30:12
ID
76fcfe90-9ef0-11ee-a8c6-82b1a2e74eed
This distribution has been tested as part of the CPAN Testers
project, supporting the Perl programming language.  See
http://wiki.cpantesters.org/ for more information or email
questions to cpan-testers-discuss@perl.org


--
Dear Matt Luker,

This is a computer-generated report for RSH-Logging-0.4.3
on perl 5.34.3, created by CPAN-Reporter-1.2019.

Thank you for uploading your work to CPAN.  Congratulations!
All tests were successful.

Sections of this report:

    * Tester comments
    * Program output
    * Prerequisites
    * Environment and other context

------------------------------
TESTER COMMENTS
------------------------------

Additional comments from tester:

this report is from an automated smoke testing program
and was not reviewed by a human for accuracy

------------------------------
PROGRAM OUTPUT
------------------------------

Output from '/usr/bin/make test':

PERL_DL_NONLAZY=1 "/tmp/basesmoker-reloperl-Qjrg/bin/perl" "-MExtUtils::Command::MM" "-MTest::Harness" "-e" "undef *Test::Harness::Switches; test_harness(0, 'inc', 'blib/lib', 'blib/arch')" t/000.load.t t/010.RSH-Logging.t t/011.RSH-Logging-chunking.t t/999.perlcritic.t t/999.pod-coverage.t t/999.pod.t
# Testing RSH::Logging 0.4.3
t/000.load.t .................. ok
TOTAL TIME 6.3e-05s (15873.016/s)
.----------------------------------------------------------------+-----------.
| Event                                                          | Time      |
+----------------------------------------------------------------+-----------+
| + foo                                                          | 0.000063s |
'----------------------------------------------------------------+-----------'

TOTAL TIME 0.000454s (2202.643/s)
.----------------------------------------------------------------+-----------.
| Event                                                          | Time      |
+----------------------------------------------------------------+-----------+
| + foo                                                          | 0.000454s |
|   + sub1a                                                      | 0.000319s |
|     + sub2a                                                    | 0.000066s |
|     + sub2b                                                    | 0.000062s |
'----------------------------------------------------------------+-----------'

TOTAL TIME 0.000455s (2197.802/s)
.----------------------------------------------------------------+-----------.
| Event                                                          | Time      |
+----------------------------------------------------------------+-----------+
| + main                                                         | 0.000455s |
|   + main                                                       | 0.000321s |
|     + main                                                     | 0.000066s |
|     + main                                                     | 0.000064s |
'----------------------------------------------------------------+-----------'

DEBUG Logging.pm:407, RSH::Logging::__ANON__: TOTAL TIME 0.000505s (1980.198/s)
.----------------------------------------------------------------+-----------.
| Event                                                          | Time      |
+----------------------------------------------------------------+-----------+
| + foo                                                          | 0.000505s |
|   + sub1a                                                      | 0.000337s |
|     + sub2a                                                    | 0.000069s |
|     + sub2b                                                    | 0.000064s |
'----------------------------------------------------------------+-----------'

TOTAL TIME 0.002434s (410.846/s)
.----------------------------------------------------------------+-----------.
| Event                                                          | Time      |
+----------------------------------------------------------------+-----------+
| + foo                                                          | 0.002434s |
|   + sub1a                                                      | 0.002260s |
|     + sub2a                                                    | 0.000152s |
|     + sub2b                                                    | 0.000072s |
'----------------------------------------------------------------+-----------'

TOTAL TIME 0.00047s (2127.660/s)
.----------------------------------------------------------------+-----------.
| Event                                                          | Time      |
+----------------------------------------------------------------+-----------+
| + foo                                                          | 0.000470s |
|   + sub1a (notation 1)                                         | 0.000335s |
|     + sub2a (notation 2)                                       | 0.000066s |
|     + sub2b (this is a very long note, which you shouldn't do- | 0.000067s |
| , but it can't be helped that people don't think things throu- |           |
| gh from time to time.)                                         |           |
'----------------------------------------------------------------+-----------'

TOTAL TIME 0.000494s (2024.291/s)
.----------------------------------------------------------------+-----------.
| Event                                                          | Time      |
+----------------------------------------------------------------+-----------+
| + foo                                                          | 0.000494s |
|   + sub1a                                                      | 0.000354s |
|     + sub2a                                                    | 0.000063s |
|     + sub2b                                                    | 0.000071s |
'----------------------------------------------------------------+-----------'

TOTAL TIME 0.000481s (2079.002/s)
.----------------------------------------------------------------+-----------.
| Event                                                          | Time      |
+----------------------------------------------------------------+-----------+
| + foo2                                                         | 0.000481s |
|   + sub1a                                                      | 0.000331s |
|     + sub2a                                                    | 0.000069s |
|     + sub2b                                                    | 0.000063s |
'----------------------------------------------------------------+-----------'

TOTAL TIME 0.000988s (1012.146/s)
.----------------------------------------------------------------+-----------.
| Event                                                          | Time      |
+----------------------------------------------------------------+-----------+
| + foo                                                          | 0.000988s |
|   + sub1a                                                      | 0.000853s |
|     + sub2a                                                    | 0.000073s |
|     + sub2b                                                    | 0.000591s |
|       + foo2                                                   | 0.000455s |
|         + sub1a                                                | 0.000303s |
|           + sub2a                                              | 0.000062s |
|           + sub2b                                              | 0.000060s |
'----------------------------------------------------------------+-----------'

TOTAL TIME 0.00036s (2777.778/s)
.----------------------------------------------------------------+-----------.
| Event                                                          | Time      |
+----------------------------------------------------------------+-----------+
| + foo                                                          | 0.000360s |
|   + sub1a                                                      | 0.000278s |
|     + sub2a                                                    | 0.000068s |
|     + sub2b                                                    | 0.000071s |
'----------------------------------------------------------------+-----------'

t/010.RSH-Logging.t ........... ok
DEBUG Logging.pm:407, RSH::Logging::__ANON__: TOTAL TIME 0.001649s (606.428/s)
Use of uninitialized value in repeat (x) at /tmp/loop_over_bdir-3693824-pLp42p/RSH-Logging-0.4.3-0/blib/lib/RSH/Logging/TextTable.pm line 166.
Use of uninitialized value $Text::SimpleTable::TOP_LEFT in concatenation (.) or string at /tmp/loop_over_bdir-3693824-pLp42p/RSH-Logging-0.4.3-0/blib/lib/RSH/Logging/TextTable.pm line 171.
Use of uninitialized value $Text::SimpleTable::TOP_SEPARATOR in concatenation (.) or string at /tmp/loop_over_bdir-3693824-pLp42p/RSH-Logging-0.4.3-0/blib/lib/RSH/Logging/TextTable.pm line 171.
Use of uninitialized value in repeat (x) at /tmp/loop_over_bdir-3693824-pLp42p/RSH-Logging-0.4.3-0/blib/lib/RSH/Logging/TextTable.pm line 166.
Use of uninitialized value $Text::SimpleTable::TOP_RIGHT in concatenation (.) or string at /tmp/loop_over_bdir-3693824-pLp42p/RSH-Logging-0.4.3-0/blib/lib/RSH/Logging/TextTable.pm line 172.
DEBUG Logging.pm:407, RSH::Logging::__ANON__: 
Use of uninitialized value $Text::SimpleTable::LEFT_BORDER in concatenation (.) or string at /tmp/loop_over_bdir-3693824-pLp42p/RSH-Logging-0.4.3-0/blib/lib/RSH/Logging/TextTable.pm line 201.
Use of uninitialized value $Text::SimpleTable::SEPARATOR in concatenation (.) or string at /tmp/loop_over_bdir-3693824-pLp42p/RSH-Logging-0.4.3-0/blib/lib/RSH/Logging/TextTable.pm line 201.
Use of uninitialized value $Text::SimpleTable::RIGHT_BORDER in concatenation (.) or string at /tmp/loop_over_bdir-3693824-pLp42p/RSH-Logging-0.4.3-0/blib/lib/RSH/Logging/TextTable.pm line 202.
DEBUG Logging.pm:407, RSH::Logging::__ANON__: Event                                                         Time     
DEBUG Logging.pm:407, RSH::Logging::__ANON__: +----------------------------------------------------------------+-----------+
Use of uninitialized value $Text::SimpleTable::LEFT_BORDER in concatenation (.) or string at /tmp/loop_over_bdir-3693824-pLp42p/RSH-Logging-0.4.3-0/blib/lib/RSH/Logging/TextTable.pm line 240.
Use of uninitialized value $Text::SimpleTable::SEPARATOR in concatenation (.) or string at /tmp/loop_over_bdir-3693824-pLp42p/RSH-Logging-0.4.3-0/blib/lib/RSH/Logging/TextTable.pm line 240.
Use of uninitialized value $Text::SimpleTable::RIGHT_BORDER in concatenation (.) or string at /tmp/loop_over_bdir-3693824-pLp42p/RSH-Logging-0.4.3-0/blib/lib/RSH/Logging/TextTable.pm line 241.
DEBUG Logging.pm:407, RSH::Logging::__ANON__: + foo                                                         0.001649s
Use of uninitialized value $Text::SimpleTable::LEFT_BORDER in concatenation (.) or string at /tmp/loop_over_bdir-3693824-pLp42p/RSH-Logging-0.4.3-0/blib/lib/RSH/Logging/TextTable.pm line 240.
Use of uninitialized value $Text::SimpleTable::SEPARATOR in concatenation (.) or string at /tmp/loop_over_bdir-3693824-pLp42p/RSH-Logging-0.4.3-0/blib/lib/RSH/Logging/TextTable.pm line 240.
Use of uninitialized value $Text::SimpleTable::RIGHT_BORDER in concatenation (.) or string at /tmp/loop_over_bdir-3693824-pLp42p/RSH-Logging-0.4.3-0/blib/lib/RSH/Logging/TextTable.pm line 241.
DEBUG Logging.pm:407, RSH::Logging::__ANON__:   + sub1a                                                     0.000436s
Use of uninitialized value $Text::SimpleTable::LEFT_BORDER in concatenation (.) or string at /tmp/loop_over_bdir-3693824-pLp42p/RSH-Logging-0.4.3-0/blib/lib/RSH/Logging/TextTable.pm line 240.
Use of uninitialized value $Text::SimpleTable::SEPARATOR in concatenation (.) or string at /tmp/loop_over_bdir-3693824-pLp42p/RSH-Logging-0.4.3-0/blib/lib/RSH/Logging/TextTable.pm line 240.
Use of uninitialized value $Text::SimpleTable::RIGHT_BORDER in concatenation (.) or string at /tmp/loop_over_bdir-3693824-pLp42p/RSH-Logging-0.4.3-0/blib/lib/RSH/Logging/TextTable.pm line 241.
DEBUG Logging.pm:407, RSH::Logging::__ANON__:     + sub2a                                                   0.000080s
Use of uninitialized value $Text::SimpleTable::LEFT_BORDER in concatenation (.) or string at /tmp/loop_over_bdir-3693824-pLp42p/RSH-Logging-0.4.3-0/blib/lib/RSH/Logging/TextTable.pm line 240.
Use of uninitialized value $Text::SimpleTable::SEPARATOR in concatenation (.) or string at /tmp/loop_over_bdir-3693824-pLp42p/RSH-Logging-0.4.3-0/blib/lib/RSH/Logging/TextTable.pm line 240.
Use of uninitialized value $Text::SimpleTable::RIGHT_BORDER in concatenation (.) or string at /tmp/loop_over_bdir-3693824-pLp42p/RSH-Logging-0.4.3-0/blib/lib/RSH/Logging/TextTable.pm line 241.
DEBUG Logging.pm:407, RSH::Logging::__ANON__:     + sub2b                                                   0.000092s
Use of uninitialized value in repeat (x) at /tmp/loop_over_bdir-3693824-pLp42p/RSH-Logging-0.4.3-0/blib/lib/RSH/Logging/TextTable.pm line 256.
Use of uninitialized value $Text::SimpleTable::BOTTOM_LEFT in concatenation (.) or string at /tmp/loop_over_bdir-3693824-pLp42p/RSH-Logging-0.4.3-0/blib/lib/RSH/Logging/TextTable.pm line 261.
Use of uninitialized value $Text::SimpleTable::BOTTOM_SEPARATOR in concatenation (.) or string at /tmp/loop_over_bdir-3693824-pLp42p/RSH-Logging-0.4.3-0/blib/lib/RSH/Logging/TextTable.pm line 261.
Use of uninitialized value in repeat (x) at /tmp/loop_over_bdir-3693824-pLp42p/RSH-Logging-0.4.3-0/blib/lib/RSH/Logging/TextTable.pm line 256.
Use of uninitialized value $Text::SimpleTable::BOTTOM_RIGHT in concatenation (.) or string at /tmp/loop_over_bdir-3693824-pLp42p/RSH-Logging-0.4.3-0/blib/lib/RSH/Logging/TextTable.pm line 262.
DEBUG Logging.pm:407, RSH::Logging::__ANON__: 
DEBUG Logging.pm:407, RSH::Logging::__ANON__: 
Use of uninitialized value in repeat (x) at /tmp/loop_over_bdir-3693824-pLp42p/RSH-Logging-0.4.3-0/blib/lib/RSH/Logging/TextTable.pm line 166.
Use of uninitialized value $Text::SimpleTable::TOP_LEFT in concatenation (.) or string at /tmp/loop_over_bdir-3693824-pLp42p/RSH-Logging-0.4.3-0/blib/lib/RSH/Logging/TextTable.pm line 171.
Use of uninitialized value $Text::SimpleTable::TOP_SEPARATOR in concatenation (.) or string at /tmp/loop_over_bdir-3693824-pLp42p/RSH-Logging-0.4.3-0/blib/lib/RSH/Logging/TextTable.pm line 171.
Use of uninitialized value in repeat (x) at /tmp/loop_over_bdir-3693824-pLp42p/RSH-Logging-0.4.3-0/blib/lib/RSH/Logging/TextTable.pm line 166.
Use of uninitialized value $Text::SimpleTable::TOP_RIGHT in concatenation (.) or string at /tmp/loop_over_bdir-3693824-pLp42p/RSH-Logging-0.4.3-0/blib/lib/RSH/Logging/TextTable.pm line 172.
Use of uninitialized value $Text::SimpleTable::LEFT_BORDER in concatenation (.) or string at /tmp/loop_over_bdir-3693824-pLp42p/RSH-Logging-0.4.3-0/blib/lib/RSH/Logging/TextTable.pm line 201.
Use of uninitialized value $Text::SimpleTable::SEPARATOR in concatenation (.) or string at /tmp/loop_over_bdir-3693824-pLp42p/RSH-Logging-0.4.3-0/blib/lib/RSH/Logging/TextTable.pm line 201.
Use of uninitialized value $Text::SimpleTable::RIGHT_BORDER in concatenation (.) or string at /tmp/loop_over_bdir-3693824-pLp42p/RSH-Logging-0.4.3-0/blib/lib/RSH/Logging/TextTable.pm line 202.
Use of uninitialized value $Text::SimpleTable::LEFT_BORDER in concatenation (.) or string at /tmp/loop_over_bdir-3693824-pLp42p/RSH-Logging-0.4.3-0/blib/lib/RSH/Logging/TextTable.pm line 240.
Use of uninitialized value $Text::SimpleTable::SEPARATOR in concatenation (.) or string at /tmp/loop_over_bdir-3693824-pLp42p/RSH-Logging-0.4.3-0/blib/lib/RSH/Logging/TextTable.pm line 240.
Use of uninitialized value $Text::SimpleTable::RIGHT_BORDER in concatenation (.) or string at /tmp/loop_over_bdir-3693824-pLp42p/RSH-Logging-0.4.3-0/blib/lib/RSH/Logging/TextTable.pm line 241.
Use of uninitialized value $Text::SimpleTable::LEFT_BORDER in concatenation (.) or string at /tmp/loop_over_bdir-3693824-pLp42p/RSH-Logging-0.4.3-0/blib/lib/RSH/Logging/TextTable.pm line 240.
Use of uninitialized value $Text::SimpleTable::SEPARATOR in concatenation (.) or string at /tmp/loop_over_bdir-3693824-pLp42p/RSH-Logging-0.4.3-0/blib/lib/RSH/Logging/TextTable.pm line 240.
Use of uninitialized value $Text::SimpleTable::RIGHT_BORDER in concatenation (.) or string at /tmp/loop_over_bdir-3693824-pLp42p/RSH-Logging-0.4.3-0/blib/lib/RSH/Logging/TextTable.pm line 241.
Use of uninitialized value $Text::SimpleTable::LEFT_BORDER in concatenation (.) or string at /tmp/loop_over_bdir-3693824-pLp42p/RSH-Logging-0.4.3-0/blib/lib/RSH/Logging/TextTable.pm line 240.
Use of uninitialized value $Text::SimpleTable::SEPARATOR in concatenation (.) or string at /tmp/loop_over_bdir-3693824-pLp42p/RSH-Logging-0.4.3-0/blib/lib/RSH/Logging/TextTable.pm line 240.
Use of uninitialized value $Text::SimpleTable::RIGHT_BORDER in concatenation (.) or string at /tmp/loop_over_bdir-3693824-pLp42p/RSH-Logging-0.4.3-0/blib/lib/RSH/Logging/TextTable.pm line 241.
Use of uninitialized value $Text::SimpleTable::LEFT_BORDER in concatenation (.) or string at /tmp/loop_over_bdir-3693824-pLp42p/RSH-Logging-0.4.3-0/blib/lib/RSH/Logging/TextTable.pm line 240.
Use of uninitialized value $Text::SimpleTable::SEPARATOR in concatenation (.) or string at /tmp/loop_over_bdir-3693824-pLp42p/RSH-Logging-0.4.3-0/blib/lib/RSH/Logging/TextTable.pm line 240.
Use of uninitialized value $Text::SimpleTable::RIGHT_BORDER in concatenation (.) or string at /tmp/loop_over_bdir-3693824-pLp42p/RSH-Logging-0.4.3-0/blib/lib/RSH/Logging/TextTable.pm line 241.
Use of uninitialized value in repeat (x) at /tmp/loop_over_bdir-3693824-pLp42p/RSH-Logging-0.4.3-0/blib/lib/RSH/Logging/TextTable.pm line 256.
Use of uninitialized value $Text::SimpleTable::BOTTOM_LEFT in concatenation (.) or string at /tmp/loop_over_bdir-3693824-pLp42p/RSH-Logging-0.4.3-0/blib/lib/RSH/Logging/TextTable.pm line 261.
Use of uninitialized value $Text::SimpleTable::BOTTOM_SEPARATOR in concatenation (.) or string at /tmp/loop_over_bdir-3693824-pLp42p/RSH-Logging-0.4.3-0/blib/lib/RSH/Logging/TextTable.pm line 261.
Use of uninitialized value in repeat (x) at /tmp/loop_over_bdir-3693824-pLp42p/RSH-Logging-0.4.3-0/blib/lib/RSH/Logging/TextTable.pm line 256.
Use of uninitialized value $Text::SimpleTable::BOTTOM_RIGHT in concatenation (.) or string at /tmp/loop_over_bdir-3693824-pLp42p/RSH-Logging-0.4.3-0/blib/lib/RSH/Logging/TextTable.pm line 262.
Use of uninitialized value in repeat (x) at /tmp/loop_over_bdir-3693824-pLp42p/RSH-Logging-0.4.3-0/blib/lib/RSH/Logging/TextTable.pm line 166.
Use of uninitialized value $Text::SimpleTable::TOP_LEFT in concatenation (.) or string at /tmp/loop_over_bdir-3693824-pLp42p/RSH-Logging-0.4.3-0/blib/lib/RSH/Logging/TextTable.pm line 171.
Use of uninitialized value $Text::SimpleTable::TOP_SEPARATOR in concatenation (.) or string at /tmp/loop_over_bdir-3693824-pLp42p/RSH-Logging-0.4.3-0/blib/lib/RSH/Logging/TextTable.pm line 171.
Use of uninitialized value in repeat (x) at /tmp/loop_over_bdir-3693824-pLp42p/RSH-Logging-0.4.3-0/blib/lib/RSH/Logging/TextTable.pm line 166.
Use of uninitialized value $Text::SimpleTable::TOP_RIGHT in concatenation (.) or string at /tmp/loop_over_bdir-3693824-pLp42p/RSH-Logging-0.4.3-0/blib/lib/RSH/Logging/TextTable.pm line 172.
Use of uninitialized value $Text::SimpleTable::LEFT_BORDER in concatenation (.) or string at /tmp/loop_over_bdir-3693824-pLp42p/RSH-Logging-0.4.3-0/blib/lib/RSH/Logging/TextTable.pm line 201.
Use of uninitialized value $Text::SimpleTable::SEPARATOR in concatenation (.) or string at /tmp/loop_over_bdir-3693824-pLp42p/RSH-Logging-0.4.3-0/blib/lib/RSH/Logging/TextTable.pm line 201.
Use of uninitialized value $Text::SimpleTable::RIGHT_BORDER in concatenation (.) or string at /tmp/loop_over_bdir-3693824-pLp42p/RSH-Logging-0.4.3-0/blib/lib/RSH/Logging/TextTable.pm line 202.
Use of uninitialized value $Text::SimpleTable::LEFT_BORDER in concatenation (.) or string at /tmp/loop_over_bdir-3693824-pLp42p/RSH-Logging-0.4.3-0/blib/lib/RSH/Logging/TextTable.pm line 240.
Use of uninitialized value $Text::SimpleTable::SEPARATOR in concatenation (.) or string at /tmp/loop_over_bdir-3693824-pLp42p/RSH-Logging-0.4.3-0/blib/lib/RSH/Logging/TextTable.pm line 240.
Use of uninitialized value $Text::SimpleTable::RIGHT_BORDER in concatenation (.) or string at /tmp/loop_over_bdir-3693824-pLp42p/RSH-Logging-0.4.3-0/blib/lib/RSH/Logging/TextTable.pm line 241.
Use of uninitialized value $Text::SimpleTable::LEFT_BORDER in concatenation (.) or string at /tmp/loop_over_bdir-3693824-pLp42p/RSH-Logging-0.4.3-0/blib/lib/RSH/Logging/TextTable.pm line 240.
Use of uninitialized value $Text::SimpleTable::SEPARATOR in concatenation (.) or string at /tmp/loop_over_bdir-3693824-pLp42p/RSH-Logging-0.4.3-0/blib/lib/RSH/Logging/TextTable.pm line 240.
Use of uninitialized value $Text::SimpleTable::RIGHT_BORDER in concatenation (.) or string at /tmp/loop_over_bdir-3693824-pLp42p/RSH-Logging-0.4.3-0/blib/lib/RSH/Logging/TextTable.pm line 241.
Use of uninitialized value $Text::SimpleTable::LEFT_BORDER in concatenation (.) or string at /tmp/loop_over_bdir-3693824-pLp42p/RSH-Logging-0.4.3-0/blib/lib/RSH/Logging/TextTable.pm line 240.
Use of uninitialized value $Text::SimpleTable::SEPARATOR in concatenation (.) or string at /tmp/loop_over_bdir-3693824-pLp42p/RSH-Logging-0.4.3-0/blib/lib/RSH/Logging/TextTable.pm line 240.
Use of uninitialized value $Text::SimpleTable::RIGHT_BORDER in concatenation (.) or string at /tmp/loop_over_bdir-3693824-pLp42p/RSH-Logging-0.4.3-0/blib/lib/RSH/Logging/TextTable.pm line 241.
Use of uninitialized value $Text::SimpleTable::LEFT_BORDER in concatenation (.) or string at /tmp/loop_over_bdir-3693824-pLp42p/RSH-Logging-0.4.3-0/blib/lib/RSH/Logging/TextTable.pm line 240.
Use of uninitialized value $Text::SimpleTable::SEPARATOR in concatenation (.) or string at /tmp/loop_over_bdir-3693824-pLp42p/RSH-Logging-0.4.3-0/blib/lib/RSH/Logging/TextTable.pm line 240.
Use of uninitialized value $Text::SimpleTable::RIGHT_BORDER in concatenation (.) or string at /tmp/loop_over_bdir-3693824-pLp42p/RSH-Logging-0.4.3-0/blib/lib/RSH/Logging/TextTable.pm line 241.
Use of uninitialized value in repeat (x) at /tmp/loop_over_bdir-3693824-pLp42p/RSH-Logging-0.4.3-0/blib/lib/RSH/Logging/TextTable.pm line 256.
Use of uninitialized value $Text::SimpleTable::BOTTOM_LEFT in concatenation (.) or string at /tmp/loop_over_bdir-3693824-pLp42p/RSH-Logging-0.4.3-0/blib/lib/RSH/Logging/TextTable.pm line 261.
Use of uninitialized value $Text::SimpleTable::BOTTOM_SEPARATOR in concatenation (.) or string at /tmp/loop_over_bdir-3693824-pLp42p/RSH-Logging-0.4.3-0/blib/lib/RSH/Logging/TextTable.pm line 261.
Use of uninitialized value in repeat (x) at /tmp/loop_over_bdir-3693824-pLp42p/RSH-Logging-0.4.3-0/blib/lib/RSH/Logging/TextTable.pm line 256.
Use of uninitialized value $Text::SimpleTable::BOTTOM_RIGHT in concatenation (.) or string at /tmp/loop_over_bdir-3693824-pLp42p/RSH-Logging-0.4.3-0/blib/lib/RSH/Logging/TextTable.pm line 262.
TOTAL TIME 0.000519s (1926.782/s)

Event                                                         Time     
+----------------------------------------------------------------+-----------+
+ foo                                                         0.000519s
  + sub1a                                                     0.000371s
    + sub2a                                                   0.000097s
    + sub2b                                                   0.000066s


DEBUG Logging.pm:407, RSH::Logging::__ANON__: TOTAL TIME 0.000639s (1564.945/s)
.----------------------------------------------------------------+-----------.
| Event                                                          | Time      |
+----------------------------------------------------------------+-----------+
| + foo                                                          | 0.000639s |
|   + sub1a                                                      | 0.000390s |
|     + sub2a                                                    | 0.000074s |
|     + sub2b                                                    | 0.000071s |
|   + sub0                                                       | 0.000003s |
|   + sub1                                                       | 0.000002s |
|   + sub2                                                       | 0.000002s |
|   + sub3                                                       | 0.000002s |
|   + sub4                                                       | 0.000002s |
'----------------------------------------------------------------+-----------'

DEBUG Logging.pm:407, RSH::Logging::__ANON__: TOTAL TIME 0.000652s (1533.742/s)
Use of uninitialized value in repeat (x) at /tmp/loop_over_bdir-3693824-pLp42p/RSH-Logging-0.4.3-0/blib/lib/RSH/Logging/TextTable.pm line 166.
Use of uninitialized value $Text::SimpleTable::TOP_LEFT in concatenation (.) or string at /tmp/loop_over_bdir-3693824-pLp42p/RSH-Logging-0.4.3-0/blib/lib/RSH/Logging/TextTable.pm line 171.
Use of uninitialized value $Text::SimpleTable::TOP_SEPARATOR in concatenation (.) or string at /tmp/loop_over_bdir-3693824-pLp42p/RSH-Logging-0.4.3-0/blib/lib/RSH/Logging/TextTable.pm line 171.
Use of uninitialized value in repeat (x) at /tmp/loop_over_bdir-3693824-pLp42p/RSH-Logging-0.4.3-0/blib/lib/RSH/Logging/TextTable.pm line 166.
Use of uninitialized value $Text::SimpleTable::TOP_RIGHT in concatenation (.) or string at /tmp/loop_over_bdir-3693824-pLp42p/RSH-Logging-0.4.3-0/blib/lib/RSH/Logging/TextTable.pm line 172.
DEBUG Logging.pm:407, RSH::Logging::__ANON__: 
Use of uninitialized value $Text::SimpleTable::LEFT_BORDER in concatenation (.) or string at /tmp/loop_over_bdir-3693824-pLp42p/RSH-Logging-0.4.3-0/blib/lib/RSH/Logging/TextTable.pm line 201.
Use of uninitialized value $Text::SimpleTable::SEPARATOR in concatenation (.) or string at /tmp/loop_over_bdir-3693824-pLp42p/RSH-Logging-0.4.3-0/blib/lib/RSH/Logging/TextTable.pm line 201.
Use of uninitialized value $Text::SimpleTable::RIGHT_BORDER in concatenation (.) or string at /tmp/loop_over_bdir-3693824-pLp42p/RSH-Logging-0.4.3-0/blib/lib/RSH/Logging/TextTable.pm line 202.
DEBUG Logging.pm:407, RSH::Logging::__ANON__: Event                                                         Time     
DEBUG Logging.pm:407, RSH::Logging::__ANON__: +----------------------------------------------------------------+-----------+
Use of uninitialized value $Text::SimpleTable::LEFT_BORDER in concatenation (.) or string at /tmp/loop_over_bdir-3693824-pLp42p/RSH-Logging-0.4.3-0/blib/lib/RSH/Logging/TextTable.pm line 240.
Use of uninitialized value $Text::SimpleTable::SEPARATOR in concatenation (.) or string at /tmp/loop_over_bdir-3693824-pLp42p/RSH-Logging-0.4.3-0/blib/lib/RSH/Logging/TextTable.pm line 240.
Use of uninitialized value $Text::SimpleTable::RIGHT_BORDER in concatenation (.) or string at /tmp/loop_over_bdir-3693824-pLp42p/RSH-Logging-0.4.3-0/blib/lib/RSH/Logging/TextTable.pm line 241.
DEBUG Logging.pm:407, RSH::Logging::__ANON__: + foo                                                         0.000652s
Use of uninitialized value $Text::SimpleTable::LEFT_BORDER in concatenation (.) or string at /tmp/loop_over_bdir-3693824-pLp42p/RSH-Logging-0.4.3-0/blib/lib/RSH/Logging/TextTable.pm line 240.
Use of uninitialized value $Text::SimpleTable::SEPARATOR in concatenation (.) or string at /tmp/loop_over_bdir-3693824-pLp42p/RSH-Logging-0.4.3-0/blib/lib/RSH/Logging/TextTable.pm line 240.
Use of uninitialized value $Text::SimpleTable::RIGHT_BORDER in concatenation (.) or string at /tmp/loop_over_bdir-3693824-pLp42p/RSH-Logging-0.4.3-0/blib/lib/RSH/Logging/TextTable.pm line 241.
DEBUG Logging.pm:407, RSH::Logging::__ANON__:   + sub1a                                                     0.000350s
Use of uninitialized value $Text::SimpleTable::LEFT_BORDER in concatenation (.) or string at /tmp/loop_over_bdir-3693824-pLp42p/RSH-Logging-0.4.3-0/blib/lib/RSH/Logging/TextTable.pm line 240.
Use of uninitialized value $Text::SimpleTable::SEPARATOR in concatenation (.) or string at /tmp/loop_over_bdir-3693824-pLp42p/RSH-Logging-0.4.3-0/blib/lib/RSH/Logging/TextTable.pm line 240.
Use of uninitialized value $Text::SimpleTable::RIGHT_BORDER in concatenation (.) or string at /tmp/loop_over_bdir-3693824-pLp42p/RSH-Logging-0.4.3-0/blib/lib/RSH/Logging/TextTable.pm line 241.
DEBUG Logging.pm:407, RSH::Logging::__ANON__:     + sub2a                                                   0.000074s
Use of uninitialized value $Text::SimpleTable::LEFT_BORDER in concatenation (.) or string at /tmp/loop_over_bdir-3693824-pLp42p/RSH-Logging-0.4.3-0/blib/lib/RSH/Logging/TextTable.pm line 240.
Use of uninitialized value $Text::SimpleTable::SEPARATOR in concatenation (.) or string at /tmp/loop_over_bdir-3693824-pLp42p/RSH-Logging-0.4.3-0/blib/lib/RSH/Logging/TextTable.pm line 240.
Use of uninitialized value $Text::SimpleTable::RIGHT_BORDER in concatenation (.) or string at /tmp/loop_over_bdir-3693824-pLp42p/RSH-Logging-0.4.3-0/blib/lib/RSH/Logging/TextTable.pm line 241.
DEBUG Logging.pm:407, RSH::Logging::__ANON__:     + sub2b                                                   0.000066s
Use of uninitialized value $Text::SimpleTable::LEFT_BORDER in concatenation (.) or string at /tmp/loop_over_bdir-3693824-pLp42p/RSH-Logging-0.4.3-0/blib/lib/RSH/Logging/TextTable.pm line 240.
Use of uninitialized value $Text::SimpleTable::SEPARATOR in concatenation (.) or string at /tmp/loop_over_bdir-3693824-pLp42p/RSH-Logging-0.4.3-0/blib/lib/RSH/Logging/TextTable.pm line 240.
Use of uninitialized value $Text::SimpleTable::RIGHT_BORDER in concatenation (.) or string at /tmp/loop_over_bdir-3693824-pLp42p/RSH-Logging-0.4.3-0/blib/lib/RSH/Logging/TextTable.pm line 241.
DEBUG Logging.pm:407, RSH::Logging::__ANON__:   + sub0                                                      0.000003s
Use of uninitialized value $Text::SimpleTable::LEFT_BORDER in concatenation (.) or string at /tmp/loop_over_bdir-3693824-pLp42p/RSH-Logging-0.4.3-0/blib/lib/RSH/Logging/TextTable.pm line 240.
Use of uninitialized value $Text::SimpleTable::SEPARATOR in concatenation (.) or string at /tmp/loop_over_bdir-3693824-pLp42p/RSH-Logging-0.4.3-0/blib/lib/RSH/Logging/TextTable.pm line 240.
Use of uninitialized value $Text::SimpleTable::RIGHT_BORDER in concatenation (.) or string at /tmp/loop_over_bdir-3693824-pLp42p/RSH-Logging-0.4.3-0/blib/lib/RSH/Logging/TextTable.pm line 241.
DEBUG Logging.pm:407, RSH::Logging::__ANON__:   + sub1                                                      0.000002s
Use of uninitialized value $Text::SimpleTable::LEFT_BORDER in concatenation (.) or string at /tmp/loop_over_bdir-3693824-pLp42p/RSH-Logging-0.4.3-0/blib/lib/RSH/Logging/TextTable.pm line 240.
Use of uninitialized value $Text::SimpleTable::SEPARATOR in concatenation (.) or string at /tmp/loop_over_bdir-3693824-pLp42p/RSH-Logging-0.4.3-0/blib/lib/RSH/Logging/TextTable.pm line 240.
Use of uninitialized value $Text::SimpleTable::RIGHT_BORDER in concatenation (.) or string at /tmp/loop_over_bdir-3693824-pLp42p/RSH-Logging-0.4.3-0/blib/lib/RSH/Logging/TextTable.pm line 241.
DEBUG Logging.pm:407, RSH::Logging::__ANON__:   + sub2                                                      0.000002s
Use of uninitialized value $Text::SimpleTable::LEFT_BORDER in concatenation (.) or string at /tmp/loop_over_bdir-3693824-pLp42p/RSH-Logging-0.4.3-0/blib/lib/RSH/Logging/TextTable.pm line 240.
Use of uninitialized value $Text::SimpleTable::SEPARATOR in concatenation (.) or string at /tmp/loop_over_bdir-3693824-pLp42p/RSH-Logging-0.4.3-0/blib/lib/RSH/Logging/TextTable.pm line 240.
Use of uninitialized value $Text::SimpleTable::RIGHT_BORDER in concatenation (.) or string at /tmp/loop_over_bdir-3693824-pLp42p/RSH-Logging-0.4.3-0/blib/lib/RSH/Logging/TextTable.pm line 241.
DEBUG Logging.pm:407, RSH::Logging::__ANON__:   + sub3                                                      0.000001s
Use of uninitialized value $Text::SimpleTable::LEFT_BORDER in concatenation (.) or string at /tmp/loop_over_bdir-3693824-pLp42p/RSH-Logging-0.4.3-0/blib/lib/RSH/Logging/TextTable.pm line 240.
Use of uninitialized value $Text::SimpleTable::SEPARATOR in concatenation (.) or string at /tmp/loop_over_bdir-3693824-pLp42p/RSH-Logging-0.4.3-0/blib/lib/RSH/Logging/TextTable.pm line 240.
Use of uninitialized value $Text::SimpleTable::RIGHT_BORDER in concatenation (.) or string at /tmp/loop_over_bdir-3693824-pLp42p/RSH-Logging-0.4.3-0/blib/lib/RSH/Logging/TextTable.pm line 241.
DEBUG Logging.pm:407, RSH::Logging::__ANON__:   + sub4                                                      0.000002s
Use of uninitialized value $Text::SimpleTable::LEFT_BORDER in concatenation (.) or string at /tmp/loop_over_bdir-3693824-pLp42p/RSH-Logging-0.4.3-0/blib/lib/RSH/Logging/TextTable.pm line 240.
Use of uninitialized value $Text::SimpleTable::SEPARATOR in concatenation (.) or string at /tmp/loop_over_bdir-3693824-pLp42p/RSH-Logging-0.4.3-0/blib/lib/RSH/Logging/TextTable.pm line 240.
Use of uninitialized value $Text::SimpleTable::RIGHT_BORDER in concatenation (.) or string at /tmp/loop_over_bdir-3693824-pLp42p/RSH-Logging-0.4.3-0/blib/lib/RSH/Logging/TextTable.pm line 241.
DEBUG Logging.pm:407, RSH::Logging::__ANON__:   + sub5                                                      0.000002s
Use of uninitialized value $Text::SimpleTable::LEFT_BORDER in concatenation (.) or string at /tmp/loop_over_bdir-3693824-pLp42p/RSH-Logging-0.4.3-0/blib/lib/RSH/Logging/TextTable.pm line 240.
Use of uninitialized value $Text::SimpleTable::SEPARATOR in concatenation (.) or string at /tmp/loop_over_bdir-3693824-pLp42p/RSH-Logging-0.4.3-0/blib/lib/RSH/Logging/TextTable.pm line 240.
Use of uninitialized value $Text::SimpleTable::RIGHT_BORDER in concatenation (.) or string at /tmp/loop_over_bdir-3693824-pLp42p/RSH-Logging-0.4.3-0/blib/lib/RSH/Logging/TextTable.pm line 241.
DEBUG Logging.pm:407, RSH::Logging::__ANON__:   + sub6                                                      0.000001s
Use of uninitialized value $Text::SimpleTable::LEFT_BORDER in concatenation (.) or string at /tmp/loop_over_bdir-3693824-pLp42p/RSH-Logging-0.4.3-0/blib/lib/RSH/Logging/TextTable.pm line 240.
Use of uninitialized value $Text::SimpleTable::SEPARATOR in concatenation (.) or string at /tmp/loop_over_bdir-3693824-pLp42p/RSH-Logging-0.4.3-0/blib/lib/RSH/Logging/TextTable.pm line 240.
Use of uninitialized value $Text::SimpleTable::RIGHT_BORDER in concatenation (.) or string at /tmp/loop_over_bdir-3693824-pLp42p/RSH-Logging-0.4.3-0/blib/lib/RSH/Logging/TextTable.pm line 241.
DEBUG Logging.pm:407, RSH::Logging::__ANON__:   + sub7                                                      0.000002s
Use of uninitialized value $Text::SimpleTable::LEFT_BORDER in concatenation (.) or string at /tmp/loop_over_bdir-3693824-pLp42p/RSH-Logging-0.4.3-0/blib/lib/RSH/Logging/TextTable.pm line 240.
Use of uninitialized value $Text::SimpleTable::SEPARATOR in concatenation (.) or string at /tmp/loop_over_bdir-3693824-pLp42p/RSH-Logging-0.4.3-0/blib/lib/RSH/Logging/TextTable.pm line 240.
Use of uninitialized value $Text::SimpleTable::RIGHT_BORDER in concatenation (.) or string at /tmp/loop_over_bdir-3693824-pLp42p/RSH-Logging-0.4.3-0/blib/lib/RSH/Logging/TextTable.pm line 241.
DEBUG Logging.pm:407, RSH::Logging::__ANON__:   + sub8                                                      0.000002s
Use of uninitialized value $Text::SimpleTable::LEFT_BORDER in concatenation (.) or string at /tmp/loop_over_bdir-3693824-pLp42p/RSH-Logging-0.4.3-0/blib/lib/RSH/Logging/TextTable.pm line 240.
Use of uninitialized value $Text::SimpleTable::SEPARATOR in concatenation (.) or string at /tmp/loop_over_bdir-3693824-pLp42p/RSH-Logging-0.4.3-0/blib/lib/RSH/Logging/TextTable.pm line 240.
Use of uninitialized value $Text::SimpleTable::RIGHT_BORDER in concatenation (.) or string at /tmp/loop_over_bdir-3693824-pLp42p/RSH-Logging-0.4.3-0/blib/lib/RSH/Logging/TextTable.pm line 241.
DEBUG Logging.pm:407, RSH::Logging::__ANON__:   + sub9                                                      0.000002s
Use of uninitialized value $Text::SimpleTable::LEFT_BORDER in concatenation (.) or string at /tmp/loop_over_bdir-3693824-pLp42p/RSH-Logging-0.4.3-0/blib/lib/RSH/Logging/TextTable.pm line 240.
Use of uninitialized value $Text::SimpleTable::SEPARATOR in concatenation (.) or string at /tmp/loop_over_bdir-3693824-pLp42p/RSH-Logging-0.4.3-0/blib/lib/RSH/Logging/TextTable.pm line 240.
Use of uninitialized value $Text::SimpleTable::RIGHT_BORDER in concatenation (.) or string at /tmp/loop_over_bdir-3693824-pLp42p/RSH-Logging-0.4.3-0/blib/lib/RSH/Logging/TextTable.pm line 241.
DEBUG Logging.pm:407, RSH::Logging::__ANON__:   + sub10                                                     0.000001s
Use of uninitialized value $Text::SimpleTable::LEFT_BORDER in concatenation (.) or string at /tmp/loop_over_bdir-3693824-pLp42p/RSH-Logging-0.4.3-0/blib/lib/RSH/Logging/TextTable.pm line 240.
Use of uninitialized value $Text::SimpleTable::SEPARATOR in concatenation (.) or string at /tmp/loop_over_bdir-3693824-pLp42p/RSH-Logging-0.4.3-0/blib/lib/RSH/Logging/TextTable.pm line 240.
Use of uninitialized value $Text::SimpleTable::RIGHT_BORDER in concatenation (.) or string at /tmp/loop_over_bdir-3693824-pLp42p/RSH-Logging-0.4.3-0/blib/lib/RSH/Logging/TextTable.pm line 241.
DEBUG Logging.pm:407, RSH::Logging::__ANON__:   + sub11                                                     0.000002s
Use of uninitialized value $Text::SimpleTable::LEFT_BORDER in concatenation (.) or string at /tmp/loop_over_bdir-3693824-pLp42p/RSH-Logging-0.4.3-0/blib/lib/RSH/Logging/TextTable.pm line 240.
Use of uninitialized value $Text::SimpleTable::SEPARATOR in concatenation (.) or string at /tmp/loop_over_bdir-3693824-pLp42p/RSH-Logging-0.4.3-0/blib/lib/RSH/Logging/TextTable.pm line 240.
Use of uninitialized value $Text::SimpleTable::RIGHT_BORDER in concatenation (.) or string at /tmp/loop_over_bdir-3693824-pLp42p/RSH-Logging-0.4.3-0/blib/lib/RSH/Logging/TextTable.pm line 241.
DEBUG Logging.pm:407, RSH::Logging::__ANON__:   + sub12                                                     0.000002s
Use of uninitialized value $Text::SimpleTable::LEFT_BORDER in concatenation (.) or string at /tmp/loop_over_bdir-3693824-pLp42p/RSH-Logging-0.4.3-0/blib/lib/RSH/Logging/TextTable.pm line 240.
Use of uninitialized value $Text::SimpleTable::SEPARATOR in concatenation (.) or string at /tmp/loop_over_bdir-3693824-pLp42p/RSH-Logging-0.4.3-0/blib/lib/RSH/Logging/TextTable.pm line 240.
Use of uninitialized value $Text::SimpleTable::RIGHT_BORDER in concatenation (.) or string at /tmp/loop_over_bdir-3693824-pLp42p/RSH-Logging-0.4.3-0/blib/lib/RSH/Logging/TextTable.pm line 241.
DEBUG Logging.pm:407, RSH::Logging::__ANON__:   + sub13                                                     0.000002s
Use of uninitialized value $Text::SimpleTable::LEFT_BORDER in concatenation (.) or string at /tmp/loop_over_bdir-3693824-pLp42p/RSH-Logging-0.4.3-0/blib/lib/RSH/Logging/TextTable.pm line 240.
Use of uninitialized value $Text::SimpleTable::SEPARATOR in concatenation (.) or string at /tmp/loop_over_bdir-3693824-pLp42p/RSH-Logging-0.4.3-0/blib/lib/RSH/Logging/TextTable.pm line 240.
Use of uninitialized value $Text::SimpleTable::RIGHT_BORDER in concatenation (.) or string at /tmp/loop_over_bdir-3693824-pLp42p/RSH-Logging-0.4.3-0/blib/lib/RSH/Logging/TextTable.pm line 241.
DEBUG Logging.pm:407, RSH::Logging::__ANON__:   + sub14                                                     0.000001s
Use of uninitialized value $Text::SimpleTable::LEFT_BORDER in concatenation (.) or string at /tmp/loop_over_bdir-3693824-pLp42p/RSH-Logging-0.4.3-0/blib/lib/RSH/Logging/TextTable.pm line 240.
Use of uninitialized value $Text::SimpleTable::SEPARATOR in concatenation (.) or string at /tmp/loop_over_bdir-3693824-pLp42p/RSH-Logging-0.4.3-0/blib/lib/RSH/Logging/TextTable.pm line 240.
Use of uninitialized value $Text::SimpleTable::RIGHT_BORDER in concatenation (.) or string at /tmp/loop_over_bdir-3693824-pLp42p/RSH-Logging-0.4.3-0/blib/lib/RSH/Logging/TextTable.pm line 241.
DEBUG Logging.pm:407, RSH::Logging::__ANON__:   + sub15                                                     0.000002s
Use of uninitialized value $Text::SimpleTable::LEFT_BORDER in concatenation (.) or string at /tmp/loop_over_bdir-3693824-pLp42p/RSH-Logging-0.4.3-0/blib/lib/RSH/Logging/TextTable.pm line 240.
Use of uninitialized value $Text::SimpleTable::SEPARATOR in concatenation (.) or string at /tmp/loop_over_bdir-3693824-pLp42p/RSH-Logging-0.4.3-0/blib/lib/RSH/Logging/TextTable.pm line 240.
Use of uninitialized value $Text::SimpleTable::RIGHT_BORDER in concatenation (.) or string at /tmp/loop_over_bdir-3693824-pLp42p/RSH-Logging-0.4.3-0/blib/lib/RSH/Logging/TextTable.pm line 241.
DEBUG Logging.pm:407, RSH::Logging::__ANON__:   + sub16                                                     0.000001s
Use of uninitialized value $Text::SimpleTable::LEFT_BORDER in concatenation (.) or string at /tmp/loop_over_bdir-3693824-pLp42p/RSH-Logging-0.4.3-0/blib/lib/RSH/Logging/TextTable.pm line 240.
Use of uninitialized value $Text::SimpleTable::SEPARATOR in concatenation (.) or string at /tmp/loop_over_bdir-3693824-pLp42p/RSH-Logging-0.4.3-0/blib/lib/RSH/Logging/TextTable.pm line 240.
Use of uninitialized value $Text::SimpleTable::RIGHT_BORDER in concatenation (.) or string at /tmp/loop_over_bdir-3693824-pLp42p/RSH-Logging-0.4.3-0/blib/lib/RSH/Logging/TextTable.pm line 241.
DEBUG Logging.pm:407, RSH::Logging::__ANON__:   + sub17                                                     0.000002s
Use of uninitialized value $Text::SimpleTable::LEFT_BORDER in concatenation (.) or string at /tmp/loop_over_bdir-3693824-pLp42p/RSH-Logging-0.4.3-0/blib/lib/RSH/Logging/TextTable.pm line 240.
Use of uninitialized value $Text::SimpleTable::SEPARATOR in concatenation (.) or string at /tmp/loop_over_bdir-3693824-pLp42p/RSH-Logging-0.4.3-0/blib/lib/RSH/Logging/TextTable.pm line 240.
Use of uninitialized value $Text::SimpleTable::RIGHT_BORDER in concatenation (.) or string at /tmp/loop_over_bdir-3693824-pLp42p/RSH-Logging-0.4.3-0/blib/lib/RSH/Logging/TextTable.pm line 241.
DEBUG Logging.pm:407, RSH::Logging::__ANON__:   + sub18                                                     0.000001s
Use of uninitialized value $Text::SimpleTable::LEFT_BORDER in concatenation (.) or string at /tmp/loop_over_bdir-3693824-pLp42p/RSH-Logging-0.4.3-0/blib/lib/RSH/Logging/TextTable.pm line 240.
Use of uninitialized value $Text::SimpleTable::SEPARATOR in concatenation (.) or string at /tmp/loop_over_bdir-3693824-pLp42p/RSH-Logging-0.4.3-0/blib/lib/RSH/Logging/TextTable.pm line 240.
Use of uninitialized value $Text::SimpleTable::RIGHT_BORDER in concatenation (.) or string at /tmp/loop_over_bdir-3693824-pLp42p/RSH-Logging-0.4.3-0/blib/lib/RSH/Logging/TextTable.pm line 241.
DEBUG Logging.pm:407, RSH::Logging::__ANON__:   + sub19                                                     0.000002s
Use of uninitialized value $Text::SimpleTable::LEFT_BORDER in concatenation (.) or string at /tmp/loop_over_bdir-3693824-pLp42p/RSH-Logging-0.4.3-0/blib/lib/RSH/Logging/TextTable.pm line 240.
Use of uninitialized value $Text::SimpleTable::SEPARATOR in concatenation (.) or string at /tmp/loop_over_bdir-3693824-pLp42p/RSH-Logging-0.4.3-0/blib/lib/RSH/Logging/TextTable.pm line 240.
Use of uninitialized value $Text::SimpleTable::RIGHT_BORDER in concatenation (.) or string at /tmp/loop_over_bdir-3693824-pLp42p/RSH-Logging-0.4.3-0/blib/lib/RSH/Logging/TextTable.pm line 241.
DEBUG Logging.pm:407, RSH::Logging::__ANON__:   + sub20                                                     0.000001s
Use of uninitialized value $Text::SimpleTable::LEFT_BORDER in concatenation (.) or string at /tmp/loop_over_bdir-3693824-pLp42p/RSH-Logging-0.4.3-0/blib/lib/RSH/Logging/TextTable.pm line 240.
Use of uninitialized value $Text::SimpleTable::SEPARATOR in concatenation (.) or string at /tmp/loop_over_bdir-3693824-pLp42p/RSH-Logging-0.4.3-0/blib/lib/RSH/Logging/TextTable.pm line 240.
Use of uninitialized value $Text::SimpleTable::RIGHT_BORDER in concatenation (.) or string at /tmp/loop_over_bdir-3693824-pLp42p/RSH-Logging-0.4.3-0/blib/lib/RSH/Logging/TextTable.pm line 241.
DEBUG Logging.pm:407, RSH::Logging::__ANON__:   + sub21                                                     0.000001s
Use of uninitialized value $Text::SimpleTable::LEFT_BORDER in concatenation (.) or string at /tmp/loop_over_bdir-3693824-pLp42p/RSH-Logging-0.4.3-0/blib/lib/RSH/Logging/TextTable.pm line 240.
Use of uninitialized value $Text::SimpleTable::SEPARATOR in concatenation (.) or string at /tmp/loop_over_bdir-3693824-pLp42p/RSH-Logging-0.4.3-0/blib/lib/RSH/Logging/TextTable.pm line 240.
Use of uninitialized value $Text::SimpleTable::RIGHT_BORDER in concatenation (.) or string at /tmp/loop_over_bdir-3693824-pLp42p/RSH-Logging-0.4.3-0/blib/lib/RSH/Logging/TextTable.pm line 241.
DEBUG Logging.pm:407, RSH::Logging::__ANON__:   + sub22                                                     0.000002s
Use of uninitialized value $Text::SimpleTable::LEFT_BORDER in concatenation (.) or string at /tmp/loop_over_bdir-3693824-pLp42p/RSH-Logging-0.4.3-0/blib/lib/RSH/Logging/TextTable.pm line 240.
Use of uninitialized value $Text::SimpleTable::SEPARATOR in concatenation (.) or string at /tmp/loop_over_bdir-3693824-pLp42p/RSH-Logging-0.4.3-0/blib/lib/RSH/Logging/TextTable.pm line 240.
Use of uninitialized value $Text::SimpleTable::RIGHT_BORDER in concatenation (.) or string at /tmp/loop_over_bdir-3693824-pLp42p/RSH-Logging-0.4.3-0/blib/lib/RSH/Logging/TextTable.pm line 241.
DEBUG Logging.pm:407, RSH::Logging::__ANON__:   + sub23                                                     0.000004s
Use of uninitialized value $Text::SimpleTable::LEFT_BORDER in concatenation (.) or string at /tmp/loop_over_bdir-3693824-pLp42p/RSH-Logging-0.4.3-0/blib/lib/RSH/Logging/TextTable.pm line 240.
Use of uninitialized value $Text::SimpleTable::SEPARATOR in concatenation (.) or string at /tmp/loop_over_bdir-3693824-pLp42p/RSH-Logging-0.4.3-0/blib/lib/RSH/Logging/TextTable.pm line 240.
Use of uninitialized value $Text::SimpleTable::RIGHT_BORDER in concatenation (.) or string at /tmp/loop_over_bdir-3693824-pLp42p/RSH-Logging-0.4.3-0/blib/lib/RSH/Logging/TextTable.pm line 241.
DEBUG Logging.pm:407, RSH::Logging::__ANON__:   + sub24                                                     0.000003s
Use of uninitialized value in repeat (x) at /tmp/loop_over_bdir-3693824-pLp42p/RSH-Logging-0.4.3-0/blib/lib/RSH/Logging/TextTable.pm line 256.
Use of uninitialized value $Text::SimpleTable::BOTTOM_LEFT in concatenation (.) or string at /tmp/loop_over_bdir-3693824-pLp42p/RSH-Logging-0.4.3-0/blib/lib/RSH/Logging/TextTable.pm line 261.
Use of uninitialized value $Text::SimpleTable::BOTTOM_SEPARATOR in concatenation (.) or string at /tmp/loop_over_bdir-3693824-pLp42p/RSH-Logging-0.4.3-0/blib/lib/RSH/Logging/TextTable.pm line 261.
Use of uninitialized value in repeat (x) at /tmp/loop_over_bdir-3693824-pLp42p/RSH-Logging-0.4.3-0/blib/lib/RSH/Logging/TextTable.pm line 256.
Use of uninitialized value $Text::SimpleTable::BOTTOM_RIGHT in concatenation (.) or string at /tmp/loop_over_bdir-3693824-pLp42p/RSH-Logging-0.4.3-0/blib/lib/RSH/Logging/TextTable.pm line 262.
DEBUG Logging.pm:407, RSH::Logging::__ANON__: 
DEBUG Logging.pm:407, RSH::Logging::__ANON__: 
t/011.RSH-Logging-chunking.t .. ok
t/999.perlcritic.t ............ skipped: Not worrying about perl critic right now.
t/999.pod-coverage.t .......... ok
t/999.pod.t ................... ok
All tests successful.
Files=6, Tests=160,  3 wallclock secs ( 0.06 usr  0.05 sys +  1.89 cusr  0.42 csys =  2.42 CPU)
Result: PASS

------------------------------
PREREQUISITES
------------------------------

Prerequisite modules loaded:

requires:

    Module              Need  Have    
    ------------------- ----- --------
    IO::File            0     1.51    
    Log::Log4perl       0     1.57    
    perl                5.008 5.034003
    Scalar::Util        0     1.63    
    Test::More          0     1.302198
    Text::SimpleTable   0     2.07    
    Time::HiRes         0     1.9767  

build_requires:

    Module              Need  Have    
    ------------------- ----- --------
    ExtUtils::MakeMaker 6.42  7.70    
    Test::More          0     1.302198

configure_requires:

    Module              Need  Have    
    ------------------- ----- --------
    ExtUtils::MakeMaker 6.42  7.70    

opt_requires:

    Module              Need  Have    
    ------------------- ----- --------
    Test::Perl::Critic  0     1.04    
    Test::Pod           0     1.52    
    Test::Pod::Coverage 0     1.10    


------------------------------
ENVIRONMENT AND OTHER CONTEXT
------------------------------

Environment variables:

    AUTOMATED_TESTING = 1
    LANG = en_US.UTF-8
    PATH = /home/sand/bin:/usr/local/bin:/usr/local/sbin:/usr/sbin:/usr/bin:/sbin:/bin:/usr/games:/usr/local/games:/snap/bin:/usr/local/perl/bin:/usr/X11/bin
    PERL = /tmp/basesmoker-reloperl-Qjrg/bin/perl
    PERL5LIB = /tmp/loop_over_bdir-3693824-pLp42p/RackMan-1.19-0/blib/arch:/tmp/loop_over_bdir-3693824-pLp42p/RackMan-1.19-0/blib/lib:/tmp/loop_over_bdir-3693824-pLp42p/NoZone-1.3-0/blib/arch:/tmp/loop_over_bdir-3693824-pLp42p/NoZone-1.3-0/blib/lib:/tmp/loop_over_bdir-3693824-pLp42p/mmds-1.902-0/blib/arch:/tmp/loop_over_bdir-3693824-pLp42p/mmds-1.902-0/blib/lib:/tmp/loop_over_bdir-3693824-pLp42p/Net-ISP-Balance-1.31-0/blib/arch:/tmp/loop_over_bdir-3693824-pLp42p/Net-ISP-Balance-1.31-0/blib/lib:/tmp/loop_over_bdir-3693824-pLp42p/Lemonldap-NG-Cli-0.2-0/blib/arch:/tmp/loop_over_bdir-3693824-pLp42p/Lemonldap-NG-Cli-0.2-0/blib/lib:/tmp/loop_over_bdir-3693824-pLp42p/CORBA-Python-2.66-0/blib/arch:/tmp/loop_over_bdir-3693824-pLp42p/CORBA-Python-2.66-0/blib/lib:/tmp/loop_over_bdir-3693824-pLp42p/RDF-NLP-SPARQLQuery-0.1-0/blib/arch:/tmp/loop_over_bdir-3693824-pLp42p/RDF-NLP-SPARQLQuery-0.1-0/blib/lib:/tmp/loop_over_bdir-3693824-pLp42p/Simulation-Automate-1.0.1-0/blib/arch:/tmp/loop_over_bdir-3693824-pLp42p/Simulation-Automate-1.0.1-0/blib/lib:/tmp/loop_over_bdir-3693824-pLp42p/triceps-2.1.0-0/blib/arch:/tmp/loop_over_bdir-3693824-pLp42p/triceps-2.1.0-0/blib/lib:/tmp/loop_over_bdir-3693824-pLp42p/shishi-0.0.1-0/blib/arch:/tmp/loop_over_bdir-3693824-pLp42p/shishi-0.0.1-0/blib/lib:/tmp/loop_over_bdir-3693824-pLp42p/OSDial-3.0.2.124-0/blib/arch:/tmp/loop_over_bdir-3693824-pLp42p/OSDial-3.0.2.124-0/blib/lib:/tmp/loop_over_bdir-3693824-pLp42p/Business-Shipping-DataFiles-1.02-0/blib/arch:/tmp/loop_over_bdir-3693824-pLp42p/Business-Shipping-DataFiles-1.02-0/blib/lib:/tmp/loop_over_bdir-3693824-pLp42p/Sysync-0.35-0/blib/arch:/tmp/loop_over_bdir-3693824-pLp42p/Sysync-0.35-0/blib/lib:/tmp/loop_over_bdir-3693824-pLp42p/perl-Hardware-UPS-Perl-0.43-0/blib/arch:/tmp/loop_over_bdir-3693824-pLp42p/perl-Hardware-UPS-Perl-0.43-0/blib/lib:/tmp/loop_over_bdir-3693824-pLp42p/Lingua-BioYaTeA-0.11-0/blib/arch:/tmp/loop_over_bdir-3693824-pLp42p/Lingua-BioYaTeA-0.11-0/blib/lib:/tmp/loop_over_bdir-3693824-pLp42p/Lingua-YaTeA-0.626-0/blib/arch:/tmp/loop_over_bdir-3693824-pLp42p/Lingua-YaTeA-0.626-0/blib/lib:/tmp/loop_over_bdir-3693824-pLp42p/Net-OpenVPN-DDNS-0.1-0/blib/arch:/tmp/loop_over_bdir-3693824-pLp42p/Net-OpenVPN-DDNS-0.1-0/blib/lib:/tmp/loop_over_bdir-3693824-pLp42p/Devel-Required-0.16-0/blib/arch:/tmp/loop_over_bdir-3693824-pLp42p/Devel-Required-0.16-0/blib/lib:/tmp/loop_over_bdir-3693824-pLp42p/LiquidWeb-Storm-CLI-1.03-0/blib/arch:/tmp/loop_over_bdir-3693824-pLp42p/LiquidWeb-Storm-CLI-1.03-0/blib/lib:/tmp/loop_over_bdir-3693824-pLp42p/App-oo_modulino_zsh_completion_helper-0.04-0/blib/arch:/tmp/loop_over_bdir-3693824-pLp42p/App-oo_modulino_zsh_completion_helper-0.04-0/blib/lib:/tmp/loop_over_bdir-3693824-pLp42p/dta-tokwrap-0.98-0/blib/arch:/tmp/loop_over_bdir-3693824-pLp42p/dta-tokwrap-0.98-0/blib/lib:/tmp/loop_over_bdir-3693824-pLp42p/DBIx-Migration-Directories-0.12-0/blib/arch:/tmp/loop_over_bdir-3693824-pLp42p/DBIx-Migration-Directories-0.12-0/blib/lib:/tmp/loop_over_bdir-3693824-pLp42p/App-nrun-v1.1.2-0/blib/arch:/tmp/loop_over_bdir-3693824-pLp42p/App-nrun-v1.1.2-0/blib/lib:/tmp/loop_over_bdir-3693824-pLp42p/Net-Async-WebService-lxd-0.03-0/blib/arch:/tmp/loop_over_bdir-3693824-pLp42p/Net-Async-WebService-lxd-0.03-0/blib/lib:/tmp/loop_over_bdir-3693824-pLp42p/Dpkg-1.22.1-0/blib/arch:/tmp/loop_over_bdir-3693824-pLp42p/Dpkg-1.22.1-0/blib/lib:/tmp/loop_over_bdir-3693824-pLp42p/CGI-Application-NetNewsIface-0.0204-0/blib/arch:/tmp/loop_over_bdir-3693824-pLp42p/CGI-Application-NetNewsIface-0.0204-0/blib/lib:/tmp/loop_over_bdir-3693824-pLp42p/App-rmcd-0.280-0/blib/arch:/tmp/loop_over_bdir-3693824-pLp42p/App-rmcd-0.280-0/blib/lib
    PERL5OPT = 
    PERL5_CPANPLUS_IS_RUNNING = 3693833
    PERL5_CPAN_IS_RUNNING = 3693833
    PERL_CANARY_STABILITY_NOPROMPT = 1
    PERL_MM_USE_DEFAULT = 1
    PERL_USE_UNSAFE_INC = 1
    SHELL = /usr/bin/zsh
    TERM = screen

Perl special variables (and OS-specific diagnostics, for MSWin32):

    $^X = /tmp/basesmoker-reloperl-Qjrg/bin/perl
    $UID/$EUID = 1005 / 1005
    $GID = 1005 1005
    $EGID = 1005 1005

Perl module toolchain versions installed:

    Module              Have    
    ------------------- --------
    CPAN                2.36    
    CPAN::Meta          2.150010
    Cwd                 3.80    
    ExtUtils::CBuilder  0.280236
    ExtUtils::Command   7.70    
    ExtUtils::Install   2.22    
    ExtUtils::MakeMaker 7.70    
    ExtUtils::Manifest  1.75    
    ExtUtils::ParseXS   3.51    
    File::Spec          3.80    
    JSON                4.10    
    JSON::PP            4.16    
    Module::Build       0.4234  
    Module::Signature   0.88    
    Parse::CPAN::Meta   2.150010
    Test2               1.302198
    Test::Harness       3.48    
    Test::More          1.302198
    YAML                1.30    
    YAML::Syck          1.34    
    version             0.9930  


--

Summary of my perl5 (revision 5 version 34 subversion 3) configuration:
  Commit id: 81db88e83a981f603c5207a1fc4cc41da8dd5d79
  Platform:
    osname=linux
    osvers=5.4.0-167-generic
    archname=x86_64-linux-thread-multi
    uname='linux k93focal 5.4.0-167-generic #184-ubuntu smp tue oct 31 09:21:49 utc 2023 x86_64 x86_64 x86_64 gnulinux '
    config_args='-Dprefix=/home/sand/src/perl/repoperls/installed-perls/host/k93focal/v5.34.3/d119 -Dmyhostname=k93focal -Dinstallusrbinperl=n -Uversiononly -Dusedevel -des -Ui_db -Dlibswanted=cl pthread socket inet nsl gdbm dbm malloc dl ld sun m crypt sec util c cposix posix ucb BSD gdbm_compat -Duseithreads -Uuselongdouble -DEBUGGING=both'
    hint=recommended
    useposix=true
    d_sigaction=define
    useithreads=define
    usemultiplicity=define
    use64bitint=define
    use64bitall=define
    uselongdouble=undef
    usemymalloc=n
    default_inc_excludes_dot=define
  Compiler:
    cc='cc'
    ccflags ='-D_REENTRANT -D_GNU_SOURCE -fwrapv -DDEBUGGING -fno-strict-aliasing -pipe -fstack-protector-strong -I/usr/local/include -D_LARGEFILE_SOURCE -D_FILE_OFFSET_BITS=64'
    optimize='-O2 -g'
    cppflags='-D_REENTRANT -D_GNU_SOURCE -fwrapv -DDEBUGGING -fno-strict-aliasing -pipe -fstack-protector-strong -I/usr/local/include'
    ccversion=''
    gccversion='9.4.0'
    gccosandvers=''
    intsize=4
    longsize=8
    ptrsize=8
    doublesize=8
    byteorder=12345678
    doublekind=3
    d_longlong=define
    longlongsize=8
    d_longdbl=define
    longdblsize=16
    longdblkind=3
    ivtype='long'
    ivsize=8
    nvtype='double'
    nvsize=8
    Off_t='off_t'
    lseeksize=8
    alignbytes=8
    prototype=define
  Linker and Libraries:
    ld='cc'
    ldflags =' -fstack-protector-strong -L/usr/local/lib'
    libpth=/usr/local/lib /usr/lib/x86_64-linux-gnu /usr/lib /usr/lib64
    libs=-lpthread -lnsl -ldl -lm -lcrypt -lutil -lc
    perllibs=-lpthread -lnsl -ldl -lm -lcrypt -lutil -lc
    libc=libc-2.31.so
    so=so
    useshrplib=false
    libperl=libperl.a
    gnulibc_version='2.31'
  Dynamic Linking:
    dlsrc=dl_dlopen.xs
    dlext=so
    d_dlsymun=undef
    ccdlflags='-Wl,-E'
    cccdlflags='-fPIC'
    lddlflags='-shared -O2 -g -L/usr/local/lib -fstack-protector-strong'


Characteristics of this binary (from libperl): 
  Compile-time options:
    DEBUGGING
    HAS_TIMES
    MULTIPLICITY
    PERLIO_LAYERS
    PERL_COPY_ON_WRITE
    PERL_DONT_CREATE_GVSV
    PERL_IMPLICIT_CONTEXT
    PERL_MALLOC_WRAP
    PERL_OP_PARENT
    PERL_PRESERVE_IVUV
    PERL_TRACK_MEMPOOL
    PERL_USE_DEVEL
    USE_64_BIT_ALL
    USE_64_BIT_INT
    USE_ITHREADS
    USE_LARGE_FILES
    USE_LOCALE
    USE_LOCALE_COLLATE
    USE_LOCALE_CTYPE
    USE_LOCALE_NUMERIC
    USE_LOCALE_TIME
    USE_PERLIO
    USE_PERL_ATOF
    USE_REENTRANT_API
    USE_THREAD_SAFE_LOCALE
  Built under linux
  Compiled at Dec  7 2023 07:58:32
  %ENV:
    PERL="/tmp/basesmoker-reloperl-Qjrg/bin/perl"
    PERL5LIB="/tmp/loop_over_bdir-3693824-pLp42p/RackMan-1.19-0/blib/arch:/tmp/loop_over_bdir-3693824-pLp42p/RackMan-1.19-0/blib/lib:/tmp/loop_over_bdir-3693824-pLp42p/NoZone-1.3-0/blib/arch:/tmp/loop_over_bdir-3693824-pLp42p/NoZone-1.3-0/blib/lib:/tmp/loop_over_bdir-3693824-pLp42p/mmds-1.902-0/blib/arch:/tmp/loop_over_bdir-3693824-pLp42p/mmds-1.902-0/blib/lib:/tmp/loop_over_bdir-3693824-pLp42p/Net-ISP-Balance-1.31-0/blib/arch:/tmp/loop_over_bdir-3693824-pLp42p/Net-ISP-Balance-1.31-0/blib/lib:/tmp/loop_over_bdir-3693824-pLp42p/Lemonldap-NG-Cli-0.2-0/blib/arch:/tmp/loop_over_bdir-3693824-pLp42p/Lemonldap-NG-Cli-0.2-0/blib/lib:/tmp/loop_over_bdir-3693824-pLp42p/CORBA-Python-2.66-0/blib/arch:/tmp/loop_over_bdir-3693824-pLp42p/CORBA-Python-2.66-0/blib/lib:/tmp/loop_over_bdir-3693824-pLp42p/RDF-NLP-SPARQLQuery-0.1-0/blib/arch:/tmp/loop_over_bdir-3693824-pLp42p/RDF-NLP-SPARQLQuery-0.1-0/blib/lib:/tmp/loop_over_bdir-3693824-pLp42p/Simulation-Automate-1.0.1-0/blib/arch:/tmp/loop_over_bdir-3693824-pLp42p/Simulation-Automate-1.0.1-0/blib/lib:/tmp/loop_over_bdir-3693824-pLp42p/triceps-2.1.0-0/blib/arch:/tmp/loop_over_bdir-3693824-pLp42p/triceps-2.1.0-0/blib/lib:/tmp/loop_over_bdir-3693824-pLp42p/shishi-0.0.1-0/blib/arch:/tmp/loop_over_bdir-3693824-pLp42p/shishi-0.0.1-0/blib/lib:/tmp/loop_over_bdir-3693824-pLp42p/OSDial-3.0.2.124-0/blib/arch:/tmp/loop_over_bdir-3693824-pLp42p/OSDial-3.0.2.124-0/blib/lib:/tmp/loop_over_bdir-3693824-pLp42p/Business-Shipping-DataFiles-1.02-0/blib/arch:/tmp/loop_over_bdir-3693824-pLp42p/Business-Shipping-DataFiles-1.02-0/blib/lib:/tmp/loop_over_bdir-3693824-pLp42p/Sysync-0.35-0/blib/arch:/tmp/loop_over_bdir-3693824-pLp42p/Sysync-0.35-0/blib/lib:/tmp/loop_over_bdir-3693824-pLp42p/perl-Hardware-UPS-Perl-0.43-0/blib/arch:/tmp/loop_over_bdir-3693824-pLp42p/perl-Hardware-UPS-Perl-0.43-0/blib/lib:/tmp/loop_over_bdir-3693824-pLp42p/Lingua-BioYaTeA-0.11-0/blib/arch:/tmp/loop_over_bdir-3693824-pLp42p/Lingua-BioYaTeA-0.11-0/blib/lib:/tmp/loop_over_bdir-3693824-pLp42p/Lingua-YaTeA-0.626-0/blib/arch:/tmp/loop_over_bdir-3693824-pLp42p/Lingua-YaTeA-0.626-0/blib/lib:/tmp/loop_over_bdir-3693824-pLp42p/Net-OpenVPN-DDNS-0.1-0/blib/arch:/tmp/loop_over_bdir-3693824-pLp42p/Net-OpenVPN-DDNS-0.1-0/blib/lib:/tmp/loop_over_bdir-3693824-pLp42p/Devel-Required-0.16-0/blib/arch:/tmp/loop_over_bdir-3693824-pLp42p/Devel-Required-0.16-0/blib/lib:/tmp/loop_over_bdir-3693824-pLp42p/LiquidWeb-Storm-CLI-1.03-0/blib/arch:/tmp/loop_over_bdir-3693824-pLp42p/LiquidWeb-Storm-CLI-1.03-0/blib/lib:/tmp/loop_over_bdir-3693824-pLp42p/App-oo_modulino_zsh_completion_helper-0.04-0/blib/arch:/tmp/loop_over_bdir-3693824-pLp42p/App-oo_modulino_zsh_completion_helper-0.04-0/blib/lib:/tmp/loop_over_bdir-3693824-pLp42p/dta-tokwrap-0.98-0/blib/arch:/tmp/loop_over_bdir-3693824-pLp42p/dta-tokwrap-0.98-0/blib/lib:/tmp/loop_over_bdir-3693824-pLp42p/DBIx-Migration-Directories-0.12-0/blib/arch:/tmp/loop_over_bdir-3693824-pLp42p/DBIx-Migration-Directories-0.12-0/blib/lib:/tmp/loop_over_bdir-3693824-pLp42p/App-nrun-v1.1.2-0/blib/arch:/tmp/loop_over_bdir-3693824-pLp42p/App-nrun-v1.1.2-0/blib/lib:/tmp/loop_over_bdir-3693824-pLp42p/Net-Async-WebService-lxd-0.03-0/blib/arch:/tmp/loop_over_bdir-3693824-pLp42p/Net-Async-WebService-lxd-0.03-0/blib/lib:/tmp/loop_over_bdir-3693824-pLp42p/Dpkg-1.22.1-0/blib/arch:/tmp/loop_over_bdir-3693824-pLp42p/Dpkg-1.22.1-0/blib/lib:/tmp/loop_over_bdir-3693824-pLp42p/CGI-Application-NetNewsIface-0.0204-0/blib/arch:/tmp/loop_over_bdir-3693824-pLp42p/CGI-Application-NetNewsIface-0.0204-0/blib/lib:/tmp/loop_over_bdir-3693824-pLp42p/App-rmcd-0.280-0/blib/arch:/tmp/loop_over_bdir-3693824-pLp42p/App-rmcd-0.280-0/blib/lib"
    PERL5OPT=""
    PERL5_CPANPLUS_IS_RUNNING="3693833"
    PERL5_CPAN_IS_RUNNING="3693833"
    PERL_CANARY_STABILITY_NOPROMPT="1"
    PERL_MM_USE_DEFAULT="1"
    PERL_USE_UNSAFE_INC="1"
  @INC:
    /tmp/loop_over_bdir-3693824-pLp42p/RackMan-1.19-0/blib/arch
    /tmp/loop_over_bdir-3693824-pLp42p/RackMan-1.19-0/blib/lib
    /tmp/loop_over_bdir-3693824-pLp42p/NoZone-1.3-0/blib/arch
    /tmp/loop_over_bdir-3693824-pLp42p/NoZone-1.3-0/blib/lib
    /tmp/loop_over_bdir-3693824-pLp42p/mmds-1.902-0/blib/arch
    /tmp/loop_over_bdir-3693824-pLp42p/mmds-1.902-0/blib/lib
    /tmp/loop_over_bdir-3693824-pLp42p/Net-ISP-Balance-1.31-0/blib/arch
    /tmp/loop_over_bdir-3693824-pLp42p/Net-ISP-Balance-1.31-0/blib/lib
    /tmp/loop_over_bdir-3693824-pLp42p/Lemonldap-NG-Cli-0.2-0/blib/arch
    /tmp/loop_over_bdir-3693824-pLp42p/Lemonldap-NG-Cli-0.2-0/blib/lib
    /tmp/loop_over_bdir-3693824-pLp42p/CORBA-Python-2.66-0/blib/arch
    /tmp/loop_over_bdir-3693824-pLp42p/CORBA-Python-2.66-0/blib/lib
    /tmp/loop_over_bdir-3693824-pLp42p/RDF-NLP-SPARQLQuery-0.1-0/blib/arch
    /tmp/loop_over_bdir-3693824-pLp42p/RDF-NLP-SPARQLQuery-0.1-0/blib/lib
    /tmp/loop_over_bdir-3693824-pLp42p/Simulation-Automate-1.0.1-0/blib/arch
    /tmp/loop_over_bdir-3693824-pLp42p/Simulation-Automate-1.0.1-0/blib/lib
    /tmp/loop_over_bdir-3693824-pLp42p/triceps-2.1.0-0/blib/arch
    /tmp/loop_over_bdir-3693824-pLp42p/triceps-2.1.0-0/blib/lib
    /tmp/loop_over_bdir-3693824-pLp42p/shishi-0.0.1-0/blib/arch
    /tmp/loop_over_bdir-3693824-pLp42p/shishi-0.0.1-0/blib/lib
    /tmp/loop_over_bdir-3693824-pLp42p/OSDial-3.0.2.124-0/blib/arch
    /tmp/loop_over_bdir-3693824-pLp42p/OSDial-3.0.2.124-0/blib/lib
    /tmp/loop_over_bdir-3693824-pLp42p/Business-Shipping-DataFiles-1.02-0/blib/arch
    /tmp/loop_over_bdir-3693824-pLp42p/Business-Shipping-DataFiles-1.02-0/blib/lib
    /tmp/loop_over_bdir-3693824-pLp42p/Sysync-0.35-0/blib/arch
    /tmp/loop_over_bdir-3693824-pLp42p/Sysync-0.35-0/blib/lib
    /tmp/loop_over_bdir-3693824-pLp42p/perl-Hardware-UPS-Perl-0.43-0/blib/arch
    /tmp/loop_over_bdir-3693824-pLp42p/perl-Hardware-UPS-Perl-0.43-0/blib/lib
    /tmp/loop_over_bdir-3693824-pLp42p/Lingua-BioYaTeA-0.11-0/blib/arch
    /tmp/loop_over_bdir-3693824-pLp42p/Lingua-BioYaTeA-0.11-0/blib/lib
    /tmp/loop_over_bdir-3693824-pLp42p/Lingua-YaTeA-0.626-0/blib/arch
    /tmp/loop_over_bdir-3693824-pLp42p/Lingua-YaTeA-0.626-0/blib/lib
    /tmp/loop_over_bdir-3693824-pLp42p/Net-OpenVPN-DDNS-0.1-0/blib/arch
    /tmp/loop_over_bdir-3693824-pLp42p/Net-OpenVPN-DDNS-0.1-0/blib/lib
    /tmp/loop_over_bdir-3693824-pLp42p/Devel-Required-0.16-0/blib/arch
    /tmp/loop_over_bdir-3693824-pLp42p/Devel-Required-0.16-0/blib/lib
    /tmp/loop_over_bdir-3693824-pLp42p/LiquidWeb-Storm-CLI-1.03-0/blib/arch
    /tmp/loop_over_bdir-3693824-pLp42p/LiquidWeb-Storm-CLI-1.03-0/blib/lib
    /tmp/loop_over_bdir-3693824-pLp42p/App-oo_modulino_zsh_completion_helper-0.04-0/blib/arch
    /tmp/loop_over_bdir-3693824-pLp42p/App-oo_modulino_zsh_completion_helper-0.04-0/blib/lib
    /tmp/loop_over_bdir-3693824-pLp42p/dta-tokwrap-0.98-0/blib/arch
    /tmp/loop_over_bdir-3693824-pLp42p/dta-tokwrap-0.98-0/blib/lib
    /tmp/loop_over_bdir-3693824-pLp42p/DBIx-Migration-Directories-0.12-0/blib/arch
    /tmp/loop_over_bdir-3693824-pLp42p/DBIx-Migration-Directories-0.12-0/blib/lib
    /tmp/loop_over_bdir-3693824-pLp42p/App-nrun-v1.1.2-0/blib/arch
    /tmp/loop_over_bdir-3693824-pLp42p/App-nrun-v1.1.2-0/blib/lib
    /tmp/loop_over_bdir-3693824-pLp42p/Net-Async-WebService-lxd-0.03-0/blib/arch
    /tmp/loop_over_bdir-3693824-pLp42p/Net-Async-WebService-lxd-0.03-0/blib/lib
    /tmp/loop_over_bdir-3693824-pLp42p/Dpkg-1.22.1-0/blib/arch
    /tmp/loop_over_bdir-3693824-pLp42p/Dpkg-1.22.1-0/blib/lib
    /tmp/loop_over_bdir-3693824-pLp42p/CGI-Application-NetNewsIface-0.0204-0/blib/arch
    /tmp/loop_over_bdir-3693824-pLp42p/CGI-Application-NetNewsIface-0.0204-0/blib/lib
    /tmp/loop_over_bdir-3693824-pLp42p/App-rmcd-0.280-0/blib/arch
    /tmp/loop_over_bdir-3693824-pLp42p/App-rmcd-0.280-0/blib/lib
    /home/sand/src/perl/repoperls/installed-perls/host/k93focal/v5.34.3/d119/lib/site_perl/5.34.3/x86_64-linux-thread-multi
    /home/sand/src/perl/repoperls/installed-perls/host/k93focal/v5.34.3/d119/lib/site_perl/5.34.3
    /home/sand/src/perl/repoperls/installed-perls/host/k93focal/v5.34.3/d119/lib/5.34.3/x86_64-linux-thread-multi
    /home/sand/src/perl/repoperls/installed-perls/host/k93focal/v5.34.3/d119/lib/5.34.3
    .