Report for App-fsql-0.21

Back
From: metabase:user:e3434da8-b236-11df-85ca-0247c6d74bde
Subject: PASS App-fsql-0.21 v5.21.1 GNU/Linux
Date: 2015-09-21T22:59:50Z

This distribution has been tested as part of the CPAN Testers
project, supporting the Perl programming language.  See
http://wiki.cpantesters.org/ for more information or email
questions to cpan-testers-discuss@perl.org


--
Dear perlancar,

This is a computer-generated report for App-fsql-0.21
on perl 5.21.1, created by CPAN-Reporter-1.2011.

Thank you for uploading your work to CPAN.  Congratulations!
All tests were successful.

Sections of this report:

    * Tester comments
    * Program output
    * Prerequisites
    * Environment and other context

------------------------------
TESTER COMMENTS
------------------------------

Additional comments from tester:

none provided

------------------------------
PROGRAM OUTPUT
------------------------------

Output from '/usr/bin/make test':

PERL_DL_NONLAZY=1 /home/ack/perl5/perlbrew/perls/perl-blead/bin/perl5.21.1 "-MExtUtils::Command::MM" "-MTest::Harness" "-e" "undef *Test::Harness::Switches; test_harness(0, 'blib/lib', 'blib/arch')" t/*.t
t/00-compile.t ............ ok
# all tests successful, deleting test data dir
t/01-basics.t ............. ok
t/release-pod-coverage.t .. skipped: these tests are for release candidate testing
t/release-pod-syntax.t .... skipped: these tests are for release candidate testing
t/release-rinci.t ......... skipped: these tests are for release candidate testing
All tests successful.
Files=5, Tests=11,  2 wallclock secs ( 0.04 usr  0.01 sys +  1.60 cusr  0.23 csys =  1.88 CPU)
Result: PASS

------------------------------
PREREQUISITES
------------------------------

Prerequisite modules loaded:

requires:

    Module                        Need     Have    
    ----------------------------- -------- --------
    Data::Format::Pretty::Console 0        0.34    
    Data::Format::Pretty::JSON    0        0.11    
    Data::Format::Pretty::Perl    0        0.05    
    Data::Format::Pretty::YAML    0        0.08    
    DBD::CSV                      0        0.48    
    DBI                           0        1.631   
    IPC::Cmd                      0.52     0.92    
    JSON                          0        2.90    
    Perinci::Result::Util         0        0.03    
    perl                          5.010001 5.021001
    Text::CSV_XS                  0        1.19    
    Text::LTSV                    0        0.08    
    YAML::XS                      0        0.51    

build_requires:

    Module                        Need     Have    
    ----------------------------- -------- --------
    ExtUtils::MakeMaker           0        6.98    
    File::chdir                   0        0.1010  
    File::Slurp::Tiny             0        0.004   
    File::Spec                    0        3.48    
    IO::Handle                    0        1.35    
    IPC::Open3                    0        1.16    
    String::ShellQuote            0        1.04    
    Test::More                    0.98     1.001003

configure_requires:

    Module                        Need     Have    
    ----------------------------- -------- --------
    ExtUtils::MakeMaker           0        6.98    
    Perl::osnames                 0.09     0.11    


------------------------------
ENVIRONMENT AND OTHER CONTEXT
------------------------------

Environment variables:

    LANG = en_GB.utf8
    LC_ADDRESS = nl_NL.utf8
    LC_COLLATE = C
    LC_IDENTIFICATION = nl_NL.utf8
    LC_MEASUREMENT = nl_NL.utf8
    LC_MONETARY = nl_NL.utf8
    LC_NAME = nl_NL.utf8
    LC_NUMERIC = nl_NL.utf8
    LC_PAPER = nl_NL.utf8
    LC_TELEPHONE = nl_NL.utf8
    LC_TIME = nl_NL.utf8
    LD_LIBRARY_PATH = /home/ack/.local/lib
    PATH = /home/ack/.opam/4.01.0/bin:/home/ack/perl5/perlbrew/bin:/home/ack/perl5/perlbrew/perls/perl-blead/bin:/home/ack/.local/bin:/home/ack/.cabal/bin:/home/ack/bin:/home/ack/racket/bin:/home/ack/lisp/plt/bin:/usr/bin/mh:/home/ack/.local/bin:/home/ack/.cabal/bin:/home/ack/bin:/home/ack/racket/bin:/home/ack/lisp/plt/bin:/usr/bin/mh:/home/ack/.opam/4.01.0/bin:/home/ack/.local/bin:/home/ack/.cabal/bin:/home/ack/bin:/home/ack/racket/bin:/home/ack/lisp/plt/bin:/usr/bin/mh:/usr/lib64/qt-3.3/bin:/usr/local/heroku/bin:/usr/local/bin:/usr/bin:/bin:/usr/local/sbin:/usr/sbin:/usr/games:/usr/lib/surfraw:/home/ack/lisp/racket/bin:/home/ack/src/go/bin:/home/ack/AndroidSDK:/home/ack/AndroidSDK/tools:/home/ack/AndroidSDK/platform-tools:/home/ack/src/android-studio/bin:/home/ack/.local/bin:/home/ack/bin:/usr/games:/usr/lib/surfraw:/home/ack/lisp/racket/bin:/home/ack/src/go/bin:/home/ack/AndroidSDK:/home/ack/AndroidSDK/tools:/home/ack/AndroidSDK/platform-tools:/home/ack/src/android-studio/bin:/usr/games:/usr/lib/surfraw:/home/ack/lisp/racket/bin:/home/ack/src/go/bin:/home/ack/AndroidSDK:/home/ack/AndroidSDK/tools:/home/ack/AndroidSDK/platform-tools:/home/ack/src/android-studio/bin:/home/ack/.local/bin:/home/ack/bin
    PERL5LIB = /home/ack/.opam/4.01.0/lib/perl5:/home/ack/.opam/4.01.0/lib/perl5
    PERL5OPT = 
    PERL5_CPANPLUS_IS_RUNNING = 14384
    PERL5_CPAN_IS_RUNNING = 14384
    PERLBREW_BASHRC_VERSION = 0.69
    PERLBREW_HOME = /home/ack/.perlbrew
    PERLBREW_MANPATH = /home/ack/perl5/perlbrew/perls/perl-blead/man
    PERLBREW_PATH = /home/ack/perl5/perlbrew/bin:/home/ack/perl5/perlbrew/perls/perl-blead/bin
    PERLBREW_PERL = perl-blead
    PERLBREW_ROOT = /home/ack/perl5/perlbrew
    PERLBREW_VERSION = 0.69
    SHELL = /bin/bash
    TERM = screen-256color

Perl special variables (and OS-specific diagnostics, for MSWin32):

    $^X = /home/ack/perl5/perlbrew/perls/perl-blead/bin/perl5.21.1
    $UID/$EUID = 1000 / 1000
    $GID = 1000 10 63 980 989 1000
    $EGID = 1000 10 63 980 989 1000

Perl module toolchain versions installed:

    Module              Have    
    ------------------- --------
    CPAN                2.05    
    CPAN::Meta          2.141520
    Cwd                 3.48    
    ExtUtils::CBuilder  0.280216
    ExtUtils::Command   1.18    
    ExtUtils::Install   1.68    
    ExtUtils::MakeMaker 6.98    
    ExtUtils::Manifest  1.63    
    ExtUtils::ParseXS   3.24    
    File::Spec          3.48    
    JSON                2.90    
    JSON::PP            2.27203 
    Module::Build       0.4205  
    Module::Signature   n/a     
    Parse::CPAN::Meta   1.4414  
    Test::Harness       3.32    
    Test::More          1.001003
    YAML                1.09    
    YAML::Syck          1.27    
    version             0.9908  


--

Summary of my perl5 (revision 5 version 21 subversion 1) configuration:
  Snapshot of: 7e9572462f6d8949ffd898bb5320541cb2f76b48
  Platform:
    osname=linux, osvers=3.11.10-301.fc20.x86_64, archname=x86_64-linux
    uname='linux localhost.localdomain 3.11.10-301.fc20.x86_64 #1 smp thu dec 5 14:01:17 utc 2013 x86_64 x86_64 x86_64 gnulinux '
    config_args='-de -Dprefix=/home/ack/perl5/perlbrew/perls/perl-blead -Dusedevel -Aeval:scriptdir=/home/ack/perl5/perlbrew/perls/perl-blead/bin'
    hint=recommended, useposix=true, d_sigaction=define
    useithreads=undef, usemultiplicity=undef
    use64bitint=define, use64bitall=define, uselongdouble=undef
    usemymalloc=n, bincompat5005=undef
  Compiler:
    cc='cc', ccflags ='-fwrapv -fno-strict-aliasing -pipe -fstack-protector -I/usr/local/include -D_LARGEFILE_SOURCE -D_FILE_OFFSET_BITS=64',
    optimize='-O2',
    cppflags='-fwrapv -fno-strict-aliasing -pipe -fstack-protector -I/usr/local/include'
    ccversion='', gccversion='4.8.2 20131212 (Red Hat 4.8.2-7)', gccosandvers=''
    intsize=4, longsize=8, ptrsize=8, doublesize=8, byteorder=12345678
    d_longlong=define, longlongsize=8, d_longdbl=define, longdblsize=16
    ivtype='long', ivsize=8, nvtype='double', nvsize=8, Off_t='off_t', lseeksize=8
    alignbytes=8, prototype=define
  Linker and Libraries:
    ld='cc', ldflags =' -fstack-protector -L/usr/local/lib'
    libpth=/usr/local/lib /usr/lib /lib/../lib64 /usr/lib/../lib64 /lib /lib64 /usr/lib64 /usr/local/lib64
    libs=-lnsl -lgdbm -ldb -ldl -lm -lcrypt -lutil -lc -lgdbm_compat
    perllibs=-lnsl -ldl -lm -lcrypt -lutil -lc
    libc=libc-2.18.so, so=so, useshrplib=false, libperl=libperl.a
    gnulibc_version='2.18'
  Dynamic Linking:
    dlsrc=dl_dlopen.xs, dlext=so, d_dlsymun=undef, ccdlflags='-Wl,-E'
    cccdlflags='-fPIC', lddlflags='-shared -O2 -L/usr/local/lib -fstack-protector'


Characteristics of this binary (from libperl): 
  Compile-time options: HAS_TIMES PERLIO_LAYERS PERL_DONT_CREATE_GVSV
                        PERL_HASH_FUNC_ONE_AT_A_TIME_HARD PERL_MALLOC_WRAP
                        PERL_NEW_COPY_ON_WRITE PERL_PRESERVE_IVUV
                        PERL_USE_DEVEL USE_64_BIT_ALL USE_64_BIT_INT
                        USE_LARGE_FILES USE_LOCALE USE_LOCALE_COLLATE
                        USE_LOCALE_CTYPE USE_LOCALE_NUMERIC USE_PERLIO
                        USE_PERL_ATOF
  Built under linux
  Compiled at Jun 12 2014 19:48:17
  %ENV:
    PERL5LIB="/home/ack/.opam/4.01.0/lib/perl5:/home/ack/.opam/4.01.0/lib/perl5"
    PERL5OPT=""
    PERL5_CPANPLUS_IS_RUNNING="14384"
    PERL5_CPAN_IS_RUNNING="14384"
    PERLBREW_BASHRC_VERSION="0.69"
    PERLBREW_HOME="/home/ack/.perlbrew"
    PERLBREW_MANPATH="/home/ack/perl5/perlbrew/perls/perl-blead/man"
    PERLBREW_PATH="/home/ack/perl5/perlbrew/bin:/home/ack/perl5/perlbrew/perls/perl-blead/bin"
    PERLBREW_PERL="perl-blead"
    PERLBREW_ROOT="/home/ack/perl5/perlbrew"
    PERLBREW_VERSION="0.69"
  @INC:
    /home/ack/.opam/4.01.0/lib/perl5
    /home/ack/.opam/4.01.0/lib/perl5
    /home/ack/perl5/perlbrew/perls/perl-blead/lib/site_perl/5.21.1/x86_64-linux
    /home/ack/perl5/perlbrew/perls/perl-blead/lib/site_perl/5.21.1
    /home/ack/perl5/perlbrew/perls/perl-blead/lib/5.21.1/x86_64-linux
    /home/ack/perl5/perlbrew/perls/perl-blead/lib/5.21.1
    .