Report for libapreq2-2.13

Back
From: metabase:user:09636e4e-cb73-11e1-b383-096bca215854
Subject: PASS libapreq2-2.13 v5.20.1 GNU/Linux
Date: 2014-09-19T04:07:24Z

This distribution has been tested as part of the CPAN Testers
project, supporting the Perl programming language.  See
http://wiki.cpantesters.org/ for more information or email
questions to cpan-testers-discuss@perl.org


--
Dear Issac Goldstand,

This is a computer-generated report for libapreq2-2.13
on perl 5.20.1, created by CPAN-Reporter-1.2011.

Thank you for uploading your work to CPAN.  Congratulations!
All tests were successful.

Sections of this report:

    * Tester comments
    * Program output
    * Prerequisites
    * Environment and other context

------------------------------
TESTER COMMENTS
------------------------------

Additional comments from tester:

none provided

------------------------------
PROGRAM OUTPUT
------------------------------

Output from '/usr/bin/make test':

Making all in .
make[1]: Entering directory `/home/rik/.cpan/build/libapreq2-2.13-Xn4SYr'
make[1]: Nothing to be done for `all-am'.
make[1]: Leaving directory `/home/rik/.cpan/build/libapreq2-2.13-Xn4SYr'
Making all in include
make[1]: Entering directory `/home/rik/.cpan/build/libapreq2-2.13-Xn4SYr/include'
/usr/bin/make  all-am
make[2]: Entering directory `/home/rik/.cpan/build/libapreq2-2.13-Xn4SYr/include'
make[2]: Leaving directory `/home/rik/.cpan/build/libapreq2-2.13-Xn4SYr/include'
make[1]: Leaving directory `/home/rik/.cpan/build/libapreq2-2.13-Xn4SYr/include'
Making all in library
make[1]: Entering directory `/home/rik/.cpan/build/libapreq2-2.13-Xn4SYr/library'
/usr/bin/make  all-am
make[2]: Entering directory `/home/rik/.cpan/build/libapreq2-2.13-Xn4SYr/library'
make[2]: Nothing to be done for `all-am'.
make[2]: Leaving directory `/home/rik/.cpan/build/libapreq2-2.13-Xn4SYr/library'
make[1]: Leaving directory `/home/rik/.cpan/build/libapreq2-2.13-Xn4SYr/library'
Making all in module
make[1]: Entering directory `/home/rik/.cpan/build/libapreq2-2.13-Xn4SYr/module'
Making all in apache2
make[2]: Entering directory `/home/rik/.cpan/build/libapreq2-2.13-Xn4SYr/module/apache2'
make[2]: Nothing to be done for `all'.
make[2]: Leaving directory `/home/rik/.cpan/build/libapreq2-2.13-Xn4SYr/module/apache2'
make[2]: Entering directory `/home/rik/.cpan/build/libapreq2-2.13-Xn4SYr/module'
make[2]: Nothing to be done for `all-am'.
make[2]: Leaving directory `/home/rik/.cpan/build/libapreq2-2.13-Xn4SYr/module'
make[1]: Leaving directory `/home/rik/.cpan/build/libapreq2-2.13-Xn4SYr/module'
Making all in glue
make[1]: Entering directory `/home/rik/.cpan/build/libapreq2-2.13-Xn4SYr/glue'
cd perl; /usr/bin/make
make[2]: Entering directory `/home/rik/.cpan/build/libapreq2-2.13-Xn4SYr/glue/perl'
make[3]: Entering directory `/home/rik/.cpan/build/libapreq2-2.13-Xn4SYr/glue/perl/xs'
make[4]: Entering directory `/home/rik/.cpan/build/libapreq2-2.13-Xn4SYr/glue/perl/xs/APR'
make[5]: Entering directory `/home/rik/.cpan/build/libapreq2-2.13-Xn4SYr/glue/perl/xs/APR/Request'
make[6]: Entering directory `/home/rik/.cpan/build/libapreq2-2.13-Xn4SYr/glue/perl/xs/APR/Request/Apache2'
Running Mkbootstrap for APR::Request::Apache2 ()
chmod 644 Apache2.bs
make[6]: Leaving directory `/home/rik/.cpan/build/libapreq2-2.13-Xn4SYr/glue/perl/xs/APR/Request/Apache2'
make[6]: Entering directory `/home/rik/.cpan/build/libapreq2-2.13-Xn4SYr/glue/perl/xs/APR/Request/CGI'
Running Mkbootstrap for APR::Request::CGI ()
chmod 644 CGI.bs
make[6]: Leaving directory `/home/rik/.cpan/build/libapreq2-2.13-Xn4SYr/glue/perl/xs/APR/Request/CGI'
make[6]: Entering directory `/home/rik/.cpan/build/libapreq2-2.13-Xn4SYr/glue/perl/xs/APR/Request/Cookie'
Running Mkbootstrap for APR::Request::Cookie ()
chmod 644 Cookie.bs
make[6]: Leaving directory `/home/rik/.cpan/build/libapreq2-2.13-Xn4SYr/glue/perl/xs/APR/Request/Cookie'
make[6]: Entering directory `/home/rik/.cpan/build/libapreq2-2.13-Xn4SYr/glue/perl/xs/APR/Request/Error'
Running Mkbootstrap for APR::Request::Error ()
chmod 644 Error.bs
make[6]: Leaving directory `/home/rik/.cpan/build/libapreq2-2.13-Xn4SYr/glue/perl/xs/APR/Request/Error'
make[6]: Entering directory `/home/rik/.cpan/build/libapreq2-2.13-Xn4SYr/glue/perl/xs/APR/Request/Hook'
Running Mkbootstrap for APR::Request::Hook ()
chmod 644 Hook.bs
make[6]: Leaving directory `/home/rik/.cpan/build/libapreq2-2.13-Xn4SYr/glue/perl/xs/APR/Request/Hook'
make[6]: Entering directory `/home/rik/.cpan/build/libapreq2-2.13-Xn4SYr/glue/perl/xs/APR/Request/Param'
Running Mkbootstrap for APR::Request::Param ()
chmod 644 Param.bs
make[6]: Leaving directory `/home/rik/.cpan/build/libapreq2-2.13-Xn4SYr/glue/perl/xs/APR/Request/Param'
make[6]: Entering directory `/home/rik/.cpan/build/libapreq2-2.13-Xn4SYr/glue/perl/xs/APR/Request/Parser'
Running Mkbootstrap for APR::Request::Parser ()
chmod 644 Parser.bs
make[6]: Leaving directory `/home/rik/.cpan/build/libapreq2-2.13-Xn4SYr/glue/perl/xs/APR/Request/Parser'
Running Mkbootstrap for APR::Request ()
chmod 644 Request.bs
make[5]: Leaving directory `/home/rik/.cpan/build/libapreq2-2.13-Xn4SYr/glue/perl/xs/APR/Request'
make[4]: Leaving directory `/home/rik/.cpan/build/libapreq2-2.13-Xn4SYr/glue/perl/xs/APR'
make[3]: Leaving directory `/home/rik/.cpan/build/libapreq2-2.13-Xn4SYr/glue/perl/xs'
make[2]: Leaving directory `/home/rik/.cpan/build/libapreq2-2.13-Xn4SYr/glue/perl'
make[1]: Leaving directory `/home/rik/.cpan/build/libapreq2-2.13-Xn4SYr/glue'
cd library; /usr/bin/make test
make[1]: Entering directory `/home/rik/.cpan/build/libapreq2-2.13-Xn4SYr/library'
/usr/bin/make  all-am
make[2]: Entering directory `/home/rik/.cpan/build/libapreq2-2.13-Xn4SYr/library'
make[2]: Nothing to be done for `all-am'.
make[2]: Leaving directory `/home/rik/.cpan/build/libapreq2-2.13-Xn4SYr/library'
cd t; /usr/bin/make test
make[2]: Entering directory `/home/rik/.cpan/build/libapreq2-2.13-Xn4SYr/library/t'
gcc -DHAVE_CONFIG_H -I. -I../../include  -I/usr/local/apache2/include  -DLINUX -D_REENTRANT -D_GNU_SOURCE  -g -O2 -MT version.o -MD -MP -MF .deps/version.Tpo -c -o version.o version.c
mv -f .deps/version.Tpo .deps/version.Po
gcc -DHAVE_CONFIG_H -I. -I../../include  -I/usr/local/apache2/include  -DLINUX -D_REENTRANT -D_GNU_SOURCE  -g -O2 -MT at.o -MD -MP -MF .deps/at.Tpo -c -o at.o at.c
mv -f .deps/at.Tpo .deps/at.Po
rm -f libapache_test.a
ar cru libapache_test.a at.o 
ranlib libapache_test.a
/bin/sh ../../libtool --tag=CC   --mode=link gcc  -g -O2 `/home/rik/.cpan/build/libapreq2-2.13-Xn4SYr/apreq2-config --link-libtool --libs`  /usr/local/apache2/lib/libapr-1.la /usr/local/apache2/lib/libaprutil-1.la  -o version version.o libapache_test.a 
mkdir .libs
gcc -g -O2 -o .libs/version version.o  /home/rik/.cpan/build/libapreq2-2.13-Xn4SYr/library/.libs/libapreq2.so /usr/lib64/libuuid.so -lrt -lcrypt -lpthread -ldl /usr/lib64/libexpat.so /usr/local/apache2/lib/libapr-1.so /usr/local/apache2/lib/libaprutil-1.so libapache_test.a  -Wl,--rpath -Wl,/usr/local/apache2/lib -Wl,--rpath -Wl,/usr/lib64
creating version
echo "#!perl" > version.t
echo "exec './version'" >> version.t
gcc -DHAVE_CONFIG_H -I. -I../../include  -I/usr/local/apache2/include  -DLINUX -D_REENTRANT -D_GNU_SOURCE  -g -O2 -MT cookie.o -MD -MP -MF .deps/cookie.Tpo -c -o cookie.o cookie.c
mv -f .deps/cookie.Tpo .deps/cookie.Po
/bin/sh ../../libtool --tag=CC   --mode=link gcc  -g -O2 `/home/rik/.cpan/build/libapreq2-2.13-Xn4SYr/apreq2-config --link-libtool --libs`  /usr/local/apache2/lib/libapr-1.la /usr/local/apache2/lib/libaprutil-1.la  -o cookie cookie.o libapache_test.a 
gcc -g -O2 -o .libs/cookie cookie.o  /home/rik/.cpan/build/libapreq2-2.13-Xn4SYr/library/.libs/libapreq2.so /usr/lib64/libuuid.so -lrt -lcrypt -lpthread -ldl /usr/lib64/libexpat.so /usr/local/apache2/lib/libapr-1.so /usr/local/apache2/lib/libaprutil-1.so libapache_test.a  -Wl,--rpath -Wl,/usr/local/apache2/lib -Wl,--rpath -Wl,/usr/lib64
creating cookie
echo "#!perl" > cookie.t
echo "exec './cookie'" >> cookie.t
gcc -DHAVE_CONFIG_H -I. -I../../include  -I/usr/local/apache2/include  -DLINUX -D_REENTRANT -D_GNU_SOURCE  -g -O2 -MT params.o -MD -MP -MF .deps/params.Tpo -c -o params.o params.c
mv -f .deps/params.Tpo .deps/params.Po
/bin/sh ../../libtool --tag=CC   --mode=link gcc  -g -O2 `/home/rik/.cpan/build/libapreq2-2.13-Xn4SYr/apreq2-config --link-libtool --libs`  /usr/local/apache2/lib/libapr-1.la /usr/local/apache2/lib/libaprutil-1.la  -o params params.o libapache_test.a 
gcc -g -O2 -o .libs/params params.o  /home/rik/.cpan/build/libapreq2-2.13-Xn4SYr/library/.libs/libapreq2.so /usr/lib64/libuuid.so -lrt -lcrypt -lpthread -ldl /usr/lib64/libexpat.so /usr/local/apache2/lib/libapr-1.so /usr/local/apache2/lib/libaprutil-1.so libapache_test.a  -Wl,--rpath -Wl,/usr/local/apache2/lib -Wl,--rpath -Wl,/usr/lib64
creating params
echo "#!perl" > params.t
echo "exec './params'" >> params.t
gcc -DHAVE_CONFIG_H -I. -I../../include  -I/usr/local/apache2/include  -DLINUX -D_REENTRANT -D_GNU_SOURCE  -g -O2 -MT parsers.o -MD -MP -MF .deps/parsers.Tpo -c -o parsers.o parsers.c
mv -f .deps/parsers.Tpo .deps/parsers.Po
/bin/sh ../../libtool --tag=CC   --mode=link gcc  -g -O2 `/home/rik/.cpan/build/libapreq2-2.13-Xn4SYr/apreq2-config --link-libtool --libs`  /usr/local/apache2/lib/libapr-1.la /usr/local/apache2/lib/libaprutil-1.la  -o parsers parsers.o libapache_test.a 
gcc -g -O2 -o .libs/parsers parsers.o  /home/rik/.cpan/build/libapreq2-2.13-Xn4SYr/library/.libs/libapreq2.so /usr/lib64/libuuid.so -lrt -lcrypt -lpthread -ldl /usr/lib64/libexpat.so /usr/local/apache2/lib/libapr-1.so /usr/local/apache2/lib/libaprutil-1.so libapache_test.a  -Wl,--rpath -Wl,/usr/local/apache2/lib -Wl,--rpath -Wl,/usr/lib64
creating parsers
echo "#!perl" > parsers.t
echo "exec './parsers'" >> parsers.t
gcc -DHAVE_CONFIG_H -I. -I../../include  -I/usr/local/apache2/include  -DLINUX -D_REENTRANT -D_GNU_SOURCE  -g -O2 -MT error.o -MD -MP -MF .deps/error.Tpo -c -o error.o error.c
mv -f .deps/error.Tpo .deps/error.Po
/bin/sh ../../libtool --tag=CC   --mode=link gcc  -g -O2 `/home/rik/.cpan/build/libapreq2-2.13-Xn4SYr/apreq2-config --link-libtool --libs`  /usr/local/apache2/lib/libapr-1.la /usr/local/apache2/lib/libaprutil-1.la  -o error error.o libapache_test.a 
gcc -g -O2 -o .libs/error error.o  /home/rik/.cpan/build/libapreq2-2.13-Xn4SYr/library/.libs/libapreq2.so /usr/lib64/libuuid.so -lrt -lcrypt -lpthread -ldl /usr/lib64/libexpat.so /usr/local/apache2/lib/libapr-1.so /usr/local/apache2/lib/libaprutil-1.so libapache_test.a  -Wl,--rpath -Wl,/usr/local/apache2/lib -Wl,--rpath -Wl,/usr/lib64
creating error
echo "#!perl" > error.t
echo "exec './error'" >> error.t
gcc -DHAVE_CONFIG_H -I. -I../../include  -I/usr/local/apache2/include  -DLINUX -D_REENTRANT -D_GNU_SOURCE  -g -O2 -MT util.o -MD -MP -MF .deps/util.Tpo -c -o util.o util.c
mv -f .deps/util.Tpo .deps/util.Po
/bin/sh ../../libtool --tag=CC   --mode=link gcc  -g -O2 `/home/rik/.cpan/build/libapreq2-2.13-Xn4SYr/apreq2-config --link-libtool --libs`  /usr/local/apache2/lib/libapr-1.la /usr/local/apache2/lib/libaprutil-1.la  -o util util.o libapache_test.a 
gcc -g -O2 -o .libs/util util.o  /home/rik/.cpan/build/libapreq2-2.13-Xn4SYr/library/.libs/libapreq2.so /usr/lib64/libuuid.so -lrt -lcrypt -lpthread -ldl /usr/lib64/libexpat.so /usr/local/apache2/lib/libapr-1.so /usr/local/apache2/lib/libaprutil-1.so libapache_test.a  -Wl,--rpath -Wl,/usr/local/apache2/lib -Wl,--rpath -Wl,/usr/lib64
creating util
echo "#!perl" > util.t
echo "exec './util'" >> util.t
/usr/bin/perl -MTest::Harness -e 'runtests(@ARGV)' version.t cookie.t params.t parsers.t error.t util.t
version.t .. ok
cookie.t ... ok
params.t ... ok
parsers.t .. ok
error.t .... ok
util.t ..... ok
All tests successful.
Files=6, Tests=757,  3 wallclock secs ( 0.17 usr  0.01 sys +  2.79 cusr  0.07 csys =  3.04 CPU)
Result: PASS
make[2]: Leaving directory `/home/rik/.cpan/build/libapreq2-2.13-Xn4SYr/library/t'
make[1]: Leaving directory `/home/rik/.cpan/build/libapreq2-2.13-Xn4SYr/library'
cd module; /usr/bin/make test
make[1]: Entering directory `/home/rik/.cpan/build/libapreq2-2.13-Xn4SYr/module'
Making all in apache2
make[2]: Entering directory `/home/rik/.cpan/build/libapreq2-2.13-Xn4SYr/module/apache2'
make[2]: Nothing to be done for `all'.
make[2]: Leaving directory `/home/rik/.cpan/build/libapreq2-2.13-Xn4SYr/module/apache2'
make[2]: Entering directory `/home/rik/.cpan/build/libapreq2-2.13-Xn4SYr/module'
make[2]: Nothing to be done for `all-am'.
make[2]: Leaving directory `/home/rik/.cpan/build/libapreq2-2.13-Xn4SYr/module'
Making check in apache2
make[2]: Entering directory `/home/rik/.cpan/build/libapreq2-2.13-Xn4SYr/module/apache2'
make[2]: Nothing to be done for `check'.
make[2]: Leaving directory `/home/rik/.cpan/build/libapreq2-2.13-Xn4SYr/module/apache2'
make[2]: Entering directory `/home/rik/.cpan/build/libapreq2-2.13-Xn4SYr/module'
make[2]: Nothing to be done for `check-am'.
make[2]: Leaving directory `/home/rik/.cpan/build/libapreq2-2.13-Xn4SYr/module'
/usr/bin/perl -MApache::TestMM -e 'package Apache::TestMM; filter_args(); generate_script("t/TEST")' -- -apxs /usr/local/apache2/bin/apxs
[   info] generating script t/TEST
if [ ! -d t/cgi-bin ]; then mkdir t/cgi-bin; fi
cp -f test_cgi t/cgi-bin
cp -Rp .libs t/cgi-bin
MAKE=/usr/bin/make /usr/bin/perl t/TEST
[warning] setting ulimit to allow core files
ulimit -c unlimited; /usr/bin/perl /home/rik/.cpan/build/libapreq2-2.13-Xn4SYr/module/t/TEST 
[  debug] configuring httpd
[  debug] Using httpd: /usr/local/apache2/bin/httpd
[  debug] isolated httpd_info VERSION = Apache/2.2.30-dev (Unix)
[  debug] isolated httpd_info BUILT = Sep 18 2014 21:14:49
[  debug] isolated httpd_info MODULE_MAGIC_NUMBER = 20051115:36
[  debug] isolated httpd_info SERVER_MPM = Prefork
[  debug] isolated httpd_defines APACHE_MPM_DIR = server/mpm/prefork
[  debug] isolated httpd_defines APR_HAS_SENDFILE = 1
[  debug] isolated httpd_defines APR_HAS_MMAP = 1
[  debug] isolated httpd_defines APR_HAVE_IPV6 (IPv4-mapped addresses enabled) = 1
[  debug] isolated httpd_defines APR_USE_SYSVSEM_SERIALIZE = 1
[  debug] isolated httpd_defines APR_USE_PTHREAD_SERIALIZE = 1
[  debug] isolated httpd_defines SINGLE_LISTEN_UNSERIALIZED_ACCEPT = 1
[  debug] isolated httpd_defines APR_HAS_OTHER_CHILD = 1
[  debug] isolated httpd_defines AP_HAVE_RELIABLE_PIPED_LOGS = 1
[  debug] isolated httpd_defines DYNAMIC_MODULE_LIMIT = 128
[  debug] isolated httpd_defines HTTPD_ROOT = /usr/local/apache2
[  debug] isolated httpd_defines SUEXEC_BIN = /usr/local/apache2/bin/suexec
[  debug] isolated httpd_defines DEFAULT_PIDLOG = logs/httpd.pid
[  debug] isolated httpd_defines DEFAULT_SCOREBOARD = logs/apache_runtime_status
[  debug] isolated httpd_defines DEFAULT_LOCKFILE = logs/accept.lock
[  debug] isolated httpd_defines DEFAULT_ERRORLOG = logs/error_log
[  debug] isolated httpd_defines AP_TYPES_CONFIG_FILE = conf/mime.types
[  debug] isolated httpd_defines SERVER_CONFIG_FILE = conf/httpd.conf
[  debug] inheriting config file: /usr/local/apache2/conf/httpd.conf
[  debug] using httpd.conf inherited ServerRoot to resolve conf/extra/httpd-mpm.conf
[  debug] conf/extra/httpd-mpm.conf successfully resolved to existing file /usr/local/apache2/conf/extra/httpd-mpm.conf
[  debug] inheriting config file: /usr/local/apache2/conf/extra/httpd-mpm.conf
[  debug] using httpd.conf inherited ServerRoot to resolve conf/extra/httpd-autoindex.conf
[  debug] conf/extra/httpd-autoindex.conf successfully resolved to existing file /usr/local/apache2/conf/extra/httpd-autoindex.conf
[  debug] inheriting config file: /usr/local/apache2/conf/extra/httpd-autoindex.conf
[  debug] using httpd.conf inherited ServerRoot to resolve conf/extra/httpd-userdir.conf
[  debug] conf/extra/httpd-userdir.conf successfully resolved to existing file /usr/local/apache2/conf/extra/httpd-userdir.conf
[  debug] inheriting config file: /usr/local/apache2/conf/extra/httpd-userdir.conf
[  debug] using httpd.conf inherited ServerRoot to resolve conf/extra/httpd-vhosts.conf
[  debug] conf/extra/httpd-vhosts.conf successfully resolved to existing file /usr/local/apache2/conf/extra/httpd-vhosts.conf
[  debug] inheriting config file: /usr/local/apache2/conf/extra/httpd-vhosts.conf
[  debug] using httpd.conf inherited ServerRoot to resolve conf/extra/vhosts/mt4now.conf
[  debug] conf/extra/vhosts/mt4now.conf successfully resolved to existing file /usr/local/apache2/conf/extra/vhosts/mt4now.conf
[  debug] inheriting config file: /usr/local/apache2/conf/extra/vhosts/mt4now.conf
[  debug] using httpd.conf inherited ServerRoot to resolve conf/extra/vhosts/jrmyers.conf
[  debug] conf/extra/vhosts/jrmyers.conf successfully resolved to existing file /usr/local/apache2/conf/extra/vhosts/jrmyers.conf
[  debug] inheriting config file: /usr/local/apache2/conf/extra/vhosts/jrmyers.conf
[  debug] using httpd.conf inherited ServerRoot to resolve conf/extra/vhosts/hardmanrings.conf
[  debug] conf/extra/vhosts/hardmanrings.conf successfully resolved to existing file /usr/local/apache2/conf/extra/vhosts/hardmanrings.conf
[  debug] inheriting config file: /usr/local/apache2/conf/extra/vhosts/hardmanrings.conf
[  debug] using httpd.conf inherited ServerRoot to resolve conf/extra/vhosts/perlcreek.conf
[  debug] conf/extra/vhosts/perlcreek.conf successfully resolved to existing file /usr/local/apache2/conf/extra/vhosts/perlcreek.conf
[  debug] inheriting config file: /usr/local/apache2/conf/extra/vhosts/perlcreek.conf
[  debug] using httpd.conf inherited ServerRoot to resolve conf/mime.types
[  debug] conf/mime.types successfully resolved to existing file /usr/local/apache2/conf/mime.types
[  debug] using httpd.conf inherited ServerRoot to resolve modules/mod_perl.so
[  debug] modules/mod_perl.so successfully resolved to existing file /usr/local/apache2/modules/mod_perl.so
[  debug] Found: perl_module => mod_perl.c
[  debug] LoadModule perl_module mod_perl.c
[  debug] using httpd.conf inherited ServerRoot to resolve modules/mod_apreq2.so
[  debug] modules/mod_apreq2.so successfully resolved to existing file /usr/local/apache2/modules/mod_apreq2.so
[  debug] Found: apreq_module => mod_apreq2.c
[  debug] Skipping LoadModule of mod_apreq2.c
[  debug] using httpd.conf inherited ServerRoot to resolve modules/mod_authn_file.so
[  debug] modules/mod_authn_file.so successfully resolved to existing file /usr/local/apache2/modules/mod_authn_file.so
[  debug] Found: authn_file_module => mod_authn_file.c
[  debug] LoadModule authn_file_module mod_authn_file.c
[  debug] using httpd.conf inherited ServerRoot to resolve modules/mod_authn_dbm.so
[  debug] modules/mod_authn_dbm.so successfully resolved to existing file /usr/local/apache2/modules/mod_authn_dbm.so
[  debug] Found: authn_dbm_module => mod_authn_dbm.c
[  debug] LoadModule authn_dbm_module mod_authn_dbm.c
[  debug] using httpd.conf inherited ServerRoot to resolve modules/mod_authn_anon.so
[  debug] modules/mod_authn_anon.so successfully resolved to existing file /usr/local/apache2/modules/mod_authn_anon.so
[  debug] Found: authn_anon_module => mod_authn_anon.c
[  debug] LoadModule authn_anon_module mod_authn_anon.c
[  debug] using httpd.conf inherited ServerRoot to resolve modules/mod_authn_dbd.so
[  debug] modules/mod_authn_dbd.so successfully resolved to existing file /usr/local/apache2/modules/mod_authn_dbd.so
[  debug] Found: authn_dbd_module => mod_authn_dbd.c
[  debug] LoadModule authn_dbd_module mod_authn_dbd.c
[  debug] using httpd.conf inherited ServerRoot to resolve modules/mod_authn_default.so
[  debug] modules/mod_authn_default.so successfully resolved to existing file /usr/local/apache2/modules/mod_authn_default.so
[  debug] Found: authn_default_module => mod_authn_default.c
[  debug] LoadModule authn_default_module mod_authn_default.c
[  debug] using httpd.conf inherited ServerRoot to resolve modules/mod_authz_host.so
[  debug] modules/mod_authz_host.so successfully resolved to existing file /usr/local/apache2/modules/mod_authz_host.so
[  debug] Found: authz_host_module => mod_authz_host.c
[  debug] LoadModule authz_host_module mod_authz_host.c
[  debug] using httpd.conf inherited ServerRoot to resolve modules/mod_authz_groupfile.so
[  debug] modules/mod_authz_groupfile.so successfully resolved to existing file /usr/local/apache2/modules/mod_authz_groupfile.so
[  debug] Found: authz_groupfile_module => mod_authz_groupfile.c
[  debug] LoadModule authz_groupfile_module mod_authz_groupfile.c
[  debug] using httpd.conf inherited ServerRoot to resolve modules/mod_authz_user.so
[  debug] modules/mod_authz_user.so successfully resolved to existing file /usr/local/apache2/modules/mod_authz_user.so
[  debug] Found: authz_user_module => mod_authz_user.c
[  debug] LoadModule authz_user_module mod_authz_user.c
[  debug] using httpd.conf inherited ServerRoot to resolve modules/mod_authz_dbm.so
[  debug] modules/mod_authz_dbm.so successfully resolved to existing file /usr/local/apache2/modules/mod_authz_dbm.so
[  debug] Found: authz_dbm_module => mod_authz_dbm.c
[  debug] LoadModule authz_dbm_module mod_authz_dbm.c
[  debug] using httpd.conf inherited ServerRoot to resolve modules/mod_authz_owner.so
[  debug] modules/mod_authz_owner.so successfully resolved to existing file /usr/local/apache2/modules/mod_authz_owner.so
[  debug] Found: authz_owner_module => mod_authz_owner.c
[  debug] LoadModule authz_owner_module mod_authz_owner.c
[  debug] using httpd.conf inherited ServerRoot to resolve modules/mod_authz_default.so
[  debug] modules/mod_authz_default.so successfully resolved to existing file /usr/local/apache2/modules/mod_authz_default.so
[  debug] Found: authz_default_module => mod_authz_default.c
[  debug] LoadModule authz_default_module mod_authz_default.c
[  debug] using httpd.conf inherited ServerRoot to resolve modules/mod_auth_basic.so
[  debug] modules/mod_auth_basic.so successfully resolved to existing file /usr/local/apache2/modules/mod_auth_basic.so
[  debug] Found: auth_basic_module => mod_auth_basic.c
[  debug] LoadModule auth_basic_module mod_auth_basic.c
[  debug] using httpd.conf inherited ServerRoot to resolve modules/mod_auth_digest.so
[  debug] modules/mod_auth_digest.so successfully resolved to existing file /usr/local/apache2/modules/mod_auth_digest.so
[  debug] Found: auth_digest_module => mod_auth_digest.c
[  debug] LoadModule auth_digest_module mod_auth_digest.c
[  debug] using httpd.conf inherited ServerRoot to resolve modules/mod_dbd.so
[  debug] modules/mod_dbd.so successfully resolved to existing file /usr/local/apache2/modules/mod_dbd.so
[  debug] Found: dbd_module => mod_dbd.c
[  debug] LoadModule dbd_module mod_dbd.c
[  debug] using httpd.conf inherited ServerRoot to resolve modules/mod_dumpio.so
[  debug] modules/mod_dumpio.so successfully resolved to existing file /usr/local/apache2/modules/mod_dumpio.so
[  debug] Found: dumpio_module => mod_dumpio.c
[  debug] LoadModule dumpio_module mod_dumpio.c
[  debug] using httpd.conf inherited ServerRoot to resolve modules/mod_reqtimeout.so
[  debug] modules/mod_reqtimeout.so successfully resolved to existing file /usr/local/apache2/modules/mod_reqtimeout.so
[  debug] Found: reqtimeout_module => mod_reqtimeout.c
[  debug] LoadModule reqtimeout_module mod_reqtimeout.c
[  debug] using httpd.conf inherited ServerRoot to resolve modules/mod_ext_filter.so
[  debug] modules/mod_ext_filter.so successfully resolved to existing file /usr/local/apache2/modules/mod_ext_filter.so
[  debug] Found: ext_filter_module => mod_ext_filter.c
[  debug] LoadModule ext_filter_module mod_ext_filter.c
[  debug] using httpd.conf inherited ServerRoot to resolve modules/mod_include.so
[  debug] modules/mod_include.so successfully resolved to existing file /usr/local/apache2/modules/mod_include.so
[  debug] Found: include_module => mod_include.c
[  debug] LoadModule include_module mod_include.c
[  debug] using httpd.conf inherited ServerRoot to resolve modules/mod_filter.so
[  debug] modules/mod_filter.so successfully resolved to existing file /usr/local/apache2/modules/mod_filter.so
[  debug] Found: filter_module => mod_filter.c
[  debug] LoadModule filter_module mod_filter.c
[  debug] using httpd.conf inherited ServerRoot to resolve modules/mod_substitute.so
[  debug] modules/mod_substitute.so successfully resolved to existing file /usr/local/apache2/modules/mod_substitute.so
[  debug] Found: substitute_module => mod_substitute.c
[  debug] LoadModule substitute_module mod_substitute.c
[  debug] using httpd.conf inherited ServerRoot to resolve modules/mod_deflate.so
[  debug] modules/mod_deflate.so successfully resolved to existing file /usr/local/apache2/modules/mod_deflate.so
[  debug] Found: deflate_module => mod_deflate.c
[  debug] LoadModule deflate_module mod_deflate.c
[  debug] using httpd.conf inherited ServerRoot to resolve modules/mod_log_config.so
[  debug] modules/mod_log_config.so successfully resolved to existing file /usr/local/apache2/modules/mod_log_config.so
[  debug] Found: log_config_module => mod_log_config.c
[  debug] LoadModule log_config_module mod_log_config.c
[  debug] using httpd.conf inherited ServerRoot to resolve modules/mod_logio.so
[  debug] modules/mod_logio.so successfully resolved to existing file /usr/local/apache2/modules/mod_logio.so
[  debug] Found: logio_module => mod_logio.c
[  debug] LoadModule logio_module mod_logio.c
[  debug] using httpd.conf inherited ServerRoot to resolve modules/mod_env.so
[  debug] modules/mod_env.so successfully resolved to existing file /usr/local/apache2/modules/mod_env.so
[  debug] Found: env_module => mod_env.c
[  debug] LoadModule env_module mod_env.c
[  debug] using httpd.conf inherited ServerRoot to resolve modules/mod_expires.so
[  debug] modules/mod_expires.so successfully resolved to existing file /usr/local/apache2/modules/mod_expires.so
[  debug] Found: expires_module => mod_expires.c
[  debug] LoadModule expires_module mod_expires.c
[  debug] using httpd.conf inherited ServerRoot to resolve modules/mod_headers.so
[  debug] modules/mod_headers.so successfully resolved to existing file /usr/local/apache2/modules/mod_headers.so
[  debug] Found: headers_module => mod_headers.c
[  debug] LoadModule headers_module mod_headers.c
[  debug] using httpd.conf inherited ServerRoot to resolve modules/mod_ident.so
[  debug] modules/mod_ident.so successfully resolved to existing file /usr/local/apache2/modules/mod_ident.so
[  debug] Found: ident_module => mod_ident.c
[  debug] LoadModule ident_module mod_ident.c
[  debug] using httpd.conf inherited ServerRoot to resolve modules/mod_setenvif.so
[  debug] modules/mod_setenvif.so successfully resolved to existing file /usr/local/apache2/modules/mod_setenvif.so
[  debug] Found: setenvif_module => mod_setenvif.c
[  debug] LoadModule setenvif_module mod_setenvif.c
[  debug] using httpd.conf inherited ServerRoot to resolve modules/mod_version.so
[  debug] modules/mod_version.so successfully resolved to existing file /usr/local/apache2/modules/mod_version.so
[  debug] Found: version_module => mod_version.c
[  debug] LoadModule version_module mod_version.c
[  debug] using httpd.conf inherited ServerRoot to resolve modules/mod_mime.so
[  debug] modules/mod_mime.so successfully resolved to existing file /usr/local/apache2/modules/mod_mime.so
[  debug] Found: mime_module => mod_mime.c
[  debug] LoadModule mime_module mod_mime.c
[  debug] using httpd.conf inherited ServerRoot to resolve modules/mod_dav.so
[  debug] modules/mod_dav.so successfully resolved to existing file /usr/local/apache2/modules/mod_dav.so
[  debug] Found: dav_module => mod_dav.c
[  debug] LoadModule dav_module mod_dav.c
[  debug] using httpd.conf inherited ServerRoot to resolve modules/mod_status.so
[  debug] modules/mod_status.so successfully resolved to existing file /usr/local/apache2/modules/mod_status.so
[  debug] Found: status_module => mod_status.c
[  debug] LoadModule status_module mod_status.c
[  debug] using httpd.conf inherited ServerRoot to resolve modules/mod_autoindex.so
[  debug] modules/mod_autoindex.so successfully resolved to existing file /usr/local/apache2/modules/mod_autoindex.so
[  debug] Found: autoindex_module => mod_autoindex.c
[  debug] LoadModule autoindex_module mod_autoindex.c
[  debug] using httpd.conf inherited ServerRoot to resolve modules/mod_asis.so
[  debug] modules/mod_asis.so successfully resolved to existing file /usr/local/apache2/modules/mod_asis.so
[  debug] Found: asis_module => mod_asis.c
[  debug] LoadModule asis_module mod_asis.c
[  debug] using httpd.conf inherited ServerRoot to resolve modules/mod_info.so
[  debug] modules/mod_info.so successfully resolved to existing file /usr/local/apache2/modules/mod_info.so
[  debug] Found: info_module => mod_info.c
[  debug] LoadModule info_module mod_info.c
[  debug] using httpd.conf inherited ServerRoot to resolve modules/mod_cgi.so
[  debug] modules/mod_cgi.so successfully resolved to existing file /usr/local/apache2/modules/mod_cgi.so
[  debug] Found: cgi_module => mod_cgi.c
[  debug] LoadModule cgi_module mod_cgi.c
[  debug] using httpd.conf inherited ServerRoot to resolve modules/mod_dav_fs.so
[  debug] modules/mod_dav_fs.so successfully resolved to existing file /usr/local/apache2/modules/mod_dav_fs.so
[  debug] Found: dav_fs_module => mod_dav_fs.c
[  debug] LoadModule dav_fs_module mod_dav_fs.c
[  debug] using httpd.conf inherited ServerRoot to resolve modules/mod_vhost_alias.so
[  debug] modules/mod_vhost_alias.so successfully resolved to existing file /usr/local/apache2/modules/mod_vhost_alias.so
[  debug] Found: vhost_alias_module => mod_vhost_alias.c
[  debug] LoadModule vhost_alias_module mod_vhost_alias.c
[  debug] using httpd.conf inherited ServerRoot to resolve modules/mod_negotiation.so
[  debug] modules/mod_negotiation.so successfully resolved to existing file /usr/local/apache2/modules/mod_negotiation.so
[  debug] Found: negotiation_module => mod_negotiation.c
[  debug] LoadModule negotiation_module mod_negotiation.c
[  debug] using httpd.conf inherited ServerRoot to resolve modules/mod_dir.so
[  debug] modules/mod_dir.so successfully resolved to existing file /usr/local/apache2/modules/mod_dir.so
[  debug] Found: dir_module => mod_dir.c
[  debug] LoadModule dir_module mod_dir.c
[  debug] using httpd.conf inherited ServerRoot to resolve modules/mod_imagemap.so
[  debug] modules/mod_imagemap.so successfully resolved to existing file /usr/local/apache2/modules/mod_imagemap.so
[  debug] Found: imagemap_module => mod_imagemap.c
[  debug] LoadModule imagemap_module mod_imagemap.c
[  debug] using httpd.conf inherited ServerRoot to resolve modules/mod_actions.so
[  debug] modules/mod_actions.so successfully resolved to existing file /usr/local/apache2/modules/mod_actions.so
[  debug] Found: actions_module => mod_actions.c
[  debug] LoadModule actions_module mod_actions.c
[  debug] using httpd.conf inherited ServerRoot to resolve modules/mod_speling.so
[  debug] modules/mod_speling.so successfully resolved to existing file /usr/local/apache2/modules/mod_speling.so
[  debug] Found: speling_module => mod_speling.c
[  debug] LoadModule speling_module mod_speling.c
[  debug] using httpd.conf inherited ServerRoot to resolve modules/mod_userdir.so
[  debug] modules/mod_userdir.so successfully resolved to existing file /usr/local/apache2/modules/mod_userdir.so
[  debug] Found: userdir_module => mod_userdir.c
[  debug] LoadModule userdir_module mod_userdir.c
[  debug] using httpd.conf inherited ServerRoot to resolve modules/mod_alias.so
[  debug] modules/mod_alias.so successfully resolved to existing file /usr/local/apache2/modules/mod_alias.so
[  debug] Found: alias_module => mod_alias.c
[  debug] LoadModule alias_module mod_alias.c
[  debug] using httpd.conf inherited ServerRoot to resolve modules/mod_rewrite.so
[  debug] modules/mod_rewrite.so successfully resolved to existing file /usr/local/apache2/modules/mod_rewrite.so
[  debug] Found: rewrite_module => mod_rewrite.c
[  debug] LoadModule rewrite_module mod_rewrite.c
[  debug] using httpd.conf inherited ServerRoot to resolve modules/mod_proxy.so
[  debug] modules/mod_proxy.so successfully resolved to existing file /usr/local/apache2/modules/mod_proxy.so
[  debug] Found: proxy_module => mod_proxy.c
[  debug] LoadModule proxy_module mod_proxy.c
[  debug] using httpd.conf inherited ServerRoot to resolve modules/mod_proxy_connect.so
[  debug] modules/mod_proxy_connect.so successfully resolved to existing file /usr/local/apache2/modules/mod_proxy_connect.so
[  debug] Found: proxy_connect_module => mod_proxy_connect.c
[  debug] LoadModule proxy_connect_module mod_proxy_connect.c
[  debug] Matched Apache revision Apache/2.2.30-dev 2
[  debug] generating c-modules/apache_httpd_test.h
[  debug] WRITING /home/rik/.cpan/build/libapreq2-2.13-Xn4SYr/module/t/c-modules/apreq_cookie_test/Makefile for mod_apreq_cookie_test
[  debug] WRITING /home/rik/.cpan/build/libapreq2-2.13-Xn4SYr/module/t/c-modules/apreq_request_test/Makefile for mod_apreq_request_test
[  debug] WRITING /home/rik/.cpan/build/libapreq2-2.13-Xn4SYr/module/t/c-modules/apreq_redirect_test/Makefile for mod_apreq_redirect_test
[  debug] WRITING /home/rik/.cpan/build/libapreq2-2.13-Xn4SYr/module/t/c-modules/apreq_upload_test/Makefile for mod_apreq_upload_test
[  debug] WRITING /home/rik/.cpan/build/libapreq2-2.13-Xn4SYr/module/t/c-modules/apreq_big_request_test/Makefile for mod_apreq_big_request_test
[  debug] WRITING /home/rik/.cpan/build/libapreq2-2.13-Xn4SYr/module/t/c-modules/apreq_access_test/Makefile for mod_apreq_access_test
[  debug] WRITING /home/rik/.cpan/build/libapreq2-2.13-Xn4SYr/module/t/c-modules/apreq_output_filter_test/Makefile for mod_apreq_output_filter_test
[  debug] generating c-modules/Makefile
[  debug] cd /home/rik/.cpan/build/libapreq2-2.13-Xn4SYr/module/t/c-modules && /usr/bin/make all
make[2]: Entering directory `/home/rik/.cpan/build/libapreq2-2.13-Xn4SYr/module/t/c-modules'
cd apreq_cookie_test && /usr/bin/make .libs/mod_apreq_cookie_test.so
make[3]: Entering directory `/home/rik/.cpan/build/libapreq2-2.13-Xn4SYr/module/t/c-modules/apreq_cookie_test'
/usr/local/apache2/bin/apxs -L../../../../library -I../../../apache2 -I../../../../include -lapreq2 -D APACHE2 -I/home/rik/.cpan/build/libapreq2-2.13-Xn4SYr/module/t/c-modules -c mod_apreq_cookie_test.c
/usr/local/apache2/build/libtool --silent --mode=compile gcc -prefer-pic -g -O2  -DLINUX -D_REENTRANT -D_GNU_SOURCE -pthread -I/usr/local/apache2/include  -I/usr/local/apache2/include   -I/usr/local/apache2/include  -I../../../apache2 -I../../../../include -I/home/rik/.cpan/build/libapreq2-2.13-Xn4SYr/module/t/c-modules -DAPACHE2  -c -o mod_apreq_cookie_test.lo mod_apreq_cookie_test.c && touch mod_apreq_cookie_test.slo
/usr/local/apache2/build/libtool --silent --mode=link gcc -o mod_apreq_cookie_test.la  -L../../../../library -lapreq2 -rpath /usr/local/apache2/modules -module -avoid-version    mod_apreq_cookie_test.lo
make[3]: Leaving directory `/home/rik/.cpan/build/libapreq2-2.13-Xn4SYr/module/t/c-modules/apreq_cookie_test'
cd apreq_request_test && /usr/bin/make .libs/mod_apreq_request_test.so
make[3]: Entering directory `/home/rik/.cpan/build/libapreq2-2.13-Xn4SYr/module/t/c-modules/apreq_request_test'
/usr/local/apache2/bin/apxs -L../../../../library -I../../../apache2 -I../../../../include -lapreq2 -D APACHE2 -I/home/rik/.cpan/build/libapreq2-2.13-Xn4SYr/module/t/c-modules -c mod_apreq_request_test.c
/usr/local/apache2/build/libtool --silent --mode=compile gcc -prefer-pic -g -O2  -DLINUX -D_REENTRANT -D_GNU_SOURCE -pthread -I/usr/local/apache2/include  -I/usr/local/apache2/include   -I/usr/local/apache2/include  -I../../../apache2 -I../../../../include -I/home/rik/.cpan/build/libapreq2-2.13-Xn4SYr/module/t/c-modules -DAPACHE2  -c -o mod_apreq_request_test.lo mod_apreq_request_test.c && touch mod_apreq_request_test.slo
/usr/local/apache2/build/libtool --silent --mode=link gcc -o mod_apreq_request_test.la  -L../../../../library -lapreq2 -rpath /usr/local/apache2/modules -module -avoid-version    mod_apreq_request_test.lo
make[3]: Leaving directory `/home/rik/.cpan/build/libapreq2-2.13-Xn4SYr/module/t/c-modules/apreq_request_test'
cd apreq_redirect_test && /usr/bin/make .libs/mod_apreq_redirect_test.so
make[3]: Entering directory `/home/rik/.cpan/build/libapreq2-2.13-Xn4SYr/module/t/c-modules/apreq_redirect_test'
/usr/local/apache2/bin/apxs -L../../../../library -I../../../apache2 -I../../../../include -lapreq2 -D APACHE2 -I/home/rik/.cpan/build/libapreq2-2.13-Xn4SYr/module/t/c-modules -c mod_apreq_redirect_test.c
/usr/local/apache2/build/libtool --silent --mode=compile gcc -prefer-pic -g -O2  -DLINUX -D_REENTRANT -D_GNU_SOURCE -pthread -I/usr/local/apache2/include  -I/usr/local/apache2/include   -I/usr/local/apache2/include  -I../../../apache2 -I../../../../include -I/home/rik/.cpan/build/libapreq2-2.13-Xn4SYr/module/t/c-modules -DAPACHE2  -c -o mod_apreq_redirect_test.lo mod_apreq_redirect_test.c && touch mod_apreq_redirect_test.slo
/usr/local/apache2/build/libtool --silent --mode=link gcc -o mod_apreq_redirect_test.la  -L../../../../library -lapreq2 -rpath /usr/local/apache2/modules -module -avoid-version    mod_apreq_redirect_test.lo
make[3]: Leaving directory `/home/rik/.cpan/build/libapreq2-2.13-Xn4SYr/module/t/c-modules/apreq_redirect_test'
cd apreq_upload_test && /usr/bin/make .libs/mod_apreq_upload_test.so
make[3]: Entering directory `/home/rik/.cpan/build/libapreq2-2.13-Xn4SYr/module/t/c-modules/apreq_upload_test'
/usr/local/apache2/bin/apxs -L../../../../library -I../../../apache2 -I../../../../include -lapreq2 -D APACHE2 -I/home/rik/.cpan/build/libapreq2-2.13-Xn4SYr/module/t/c-modules -c mod_apreq_upload_test.c
/usr/local/apache2/build/libtool --silent --mode=compile gcc -prefer-pic -g -O2  -DLINUX -D_REENTRANT -D_GNU_SOURCE -pthread -I/usr/local/apache2/include  -I/usr/local/apache2/include   -I/usr/local/apache2/include  -I../../../apache2 -I../../../../include -I/home/rik/.cpan/build/libapreq2-2.13-Xn4SYr/module/t/c-modules -DAPACHE2  -c -o mod_apreq_upload_test.lo mod_apreq_upload_test.c && touch mod_apreq_upload_test.slo
/usr/local/apache2/build/libtool --silent --mode=link gcc -o mod_apreq_upload_test.la  -L../../../../library -lapreq2 -rpath /usr/local/apache2/modules -module -avoid-version    mod_apreq_upload_test.lo
make[3]: Leaving directory `/home/rik/.cpan/build/libapreq2-2.13-Xn4SYr/module/t/c-modules/apreq_upload_test'
cd apreq_big_request_test && /usr/bin/make .libs/mod_apreq_big_request_test.so
make[3]: Entering directory `/home/rik/.cpan/build/libapreq2-2.13-Xn4SYr/module/t/c-modules/apreq_big_request_test'
/usr/local/apache2/bin/apxs -L../../../../library -I../../../apache2 -I../../../../include -lapreq2 -D APACHE2 -I/home/rik/.cpan/build/libapreq2-2.13-Xn4SYr/module/t/c-modules -c mod_apreq_big_request_test.c
/usr/local/apache2/build/libtool --silent --mode=compile gcc -prefer-pic -g -O2  -DLINUX -D_REENTRANT -D_GNU_SOURCE -pthread -I/usr/local/apache2/include  -I/usr/local/apache2/include   -I/usr/local/apache2/include  -I../../../apache2 -I../../../../include -I/home/rik/.cpan/build/libapreq2-2.13-Xn4SYr/module/t/c-modules -DAPACHE2  -c -o mod_apreq_big_request_test.lo mod_apreq_big_request_test.c && touch mod_apreq_big_request_test.slo
/usr/local/apache2/build/libtool --silent --mode=link gcc -o mod_apreq_big_request_test.la  -L../../../../library -lapreq2 -rpath /usr/local/apache2/modules -module -avoid-version    mod_apreq_big_request_test.lo
make[3]: Leaving directory `/home/rik/.cpan/build/libapreq2-2.13-Xn4SYr/module/t/c-modules/apreq_big_request_test'
cd apreq_access_test && /usr/bin/make .libs/mod_apreq_access_test.so
make[3]: Entering directory `/home/rik/.cpan/build/libapreq2-2.13-Xn4SYr/module/t/c-modules/apreq_access_test'
/usr/local/apache2/bin/apxs -L../../../../library -I../../../apache2 -I../../../../include -lapreq2 -D APACHE2 -I/home/rik/.cpan/build/libapreq2-2.13-Xn4SYr/module/t/c-modules -c mod_apreq_access_test.c
/usr/local/apache2/build/libtool --silent --mode=compile gcc -prefer-pic -g -O2  -DLINUX -D_REENTRANT -D_GNU_SOURCE -pthread -I/usr/local/apache2/include  -I/usr/local/apache2/include   -I/usr/local/apache2/include  -I../../../apache2 -I../../../../include -I/home/rik/.cpan/build/libapreq2-2.13-Xn4SYr/module/t/c-modules -DAPACHE2  -c -o mod_apreq_access_test.lo mod_apreq_access_test.c && touch mod_apreq_access_test.slo
/usr/local/apache2/build/libtool --silent --mode=link gcc -o mod_apreq_access_test.la  -L../../../../library -lapreq2 -rpath /usr/local/apache2/modules -module -avoid-version    mod_apreq_access_test.lo
make[3]: Leaving directory `/home/rik/.cpan/build/libapreq2-2.13-Xn4SYr/module/t/c-modules/apreq_access_test'
cd apreq_output_filter_test && /usr/bin/make .libs/mod_apreq_output_filter_test.so
make[3]: Entering directory `/home/rik/.cpan/build/libapreq2-2.13-Xn4SYr/module/t/c-modules/apreq_output_filter_test'
/usr/local/apache2/bin/apxs -L../../../../library -I../../../apache2 -I../../../../include -lapreq2 -D APACHE2 -I/home/rik/.cpan/build/libapreq2-2.13-Xn4SYr/module/t/c-modules -c mod_apreq_output_filter_test.c
/usr/local/apache2/build/libtool --silent --mode=compile gcc -prefer-pic -g -O2  -DLINUX -D_REENTRANT -D_GNU_SOURCE -pthread -I/usr/local/apache2/include  -I/usr/local/apache2/include   -I/usr/local/apache2/include  -I../../../apache2 -I../../../../include -I/home/rik/.cpan/build/libapreq2-2.13-Xn4SYr/module/t/c-modules -DAPACHE2  -c -o mod_apreq_output_filter_test.lo mod_apreq_output_filter_test.c && touch mod_apreq_output_filter_test.slo
/usr/local/apache2/build/libtool --silent --mode=link gcc -o mod_apreq_output_filter_test.la  -L../../../../library -lapreq2 -rpath /usr/local/apache2/modules -module -avoid-version    mod_apreq_output_filter_test.lo
make[3]: Leaving directory `/home/rik/.cpan/build/libapreq2-2.13-Xn4SYr/module/t/c-modules/apreq_output_filter_test'
make[2]: Leaving directory `/home/rik/.cpan/build/libapreq2-2.13-Xn4SYr/module/t/c-modules'
[  debug] WRITING httpd.conf with mod_apreq_cookie_test, mod_apreq_request_test, mod_apreq_redirect_test, mod_apreq_upload_test, mod_apreq_big_request_test, mod_apreq_access_test, mod_apreq_output_filter_test
[  debug] found mod_mime.so => /usr/local/apache2/modules/mod_mime.so
[  debug] generating htdocs/index.html
[  debug] Will 'Include' /home/rik/.cpan/build/libapreq2-2.13-Xn4SYr/module/t/conf/ssl/ssl.conf config file
[  debug] Will 'Include' /home/rik/.cpan/build/libapreq2-2.13-Xn4SYr/module/t/conf/extra.conf config file
[  debug] Will 'Include' /home/rik/.cpan/build/libapreq2-2.13-Xn4SYr/module/t/conf/ssl/proxyssl.conf config file
[  debug] generating conf/ssl/ssl.conf from /home/rik/.cpan/build/libapreq2-2.13-Xn4SYr/module/t/conf/ssl/ssl.conf.in
[  debug] generating conf/extra.conf from /home/rik/.cpan/build/libapreq2-2.13-Xn4SYr/module/t/conf/extra.conf.in
[  debug] generating conf/ssl/proxyssl.conf from /home/rik/.cpan/build/libapreq2-2.13-Xn4SYr/module/t/conf/ssl/proxyssl.conf.in
[  debug] generating conf/httpd.conf
[  debug] found mod_alias.so => /usr/local/apache2/modules/mod_alias.so
[  debug] generating conf/apache_test_config.pm
[  debug] saving config data to apache_test_config.pm
/usr/local/apache2/bin/httpd  -d /home/rik/.cpan/build/libapreq2-2.13-Xn4SYr/module/t -f /home/rik/.cpan/build/libapreq2-2.13-Xn4SYr/module/t/conf/httpd.conf -D APACHE2 -D PERL_USEITHREADS
using Apache/2.2.30-dev (prefork MPM)

waiting 60 seconds for server to start: ..
waiting 60 seconds for server to start: ok (waited 0 secs)
server localhost:8529 started
server localhost:8530 listening (proxy_http_https)
server localhost:8531 listening (proxy_https_https)
server localhost:8532 listening (proxy_https_http)
[  debug] configuring httpd
[  debug] Using httpd: /usr/local/apache2/bin/httpd
[  debug] isolated httpd_info VERSION = Apache/2.2.30-dev (Unix)
[  debug] isolated httpd_info BUILT = Sep 18 2014 21:14:49
[  debug] isolated httpd_info MODULE_MAGIC_NUMBER = 20051115:36
[  debug] isolated httpd_info SERVER_MPM = Prefork
[  debug] isolated httpd_defines APACHE_MPM_DIR = server/mpm/prefork
[  debug] isolated httpd_defines APR_HAS_SENDFILE = 1
[  debug] isolated httpd_defines APR_HAS_MMAP = 1
[  debug] isolated httpd_defines APR_HAVE_IPV6 (IPv4-mapped addresses enabled) = 1
[  debug] isolated httpd_defines APR_USE_SYSVSEM_SERIALIZE = 1
[  debug] isolated httpd_defines APR_USE_PTHREAD_SERIALIZE = 1
[  debug] isolated httpd_defines SINGLE_LISTEN_UNSERIALIZED_ACCEPT = 1
[  debug] isolated httpd_defines APR_HAS_OTHER_CHILD = 1
[  debug] isolated httpd_defines AP_HAVE_RELIABLE_PIPED_LOGS = 1
[  debug] isolated httpd_defines DYNAMIC_MODULE_LIMIT = 128
[  debug] isolated httpd_defines HTTPD_ROOT = /usr/local/apache2
[  debug] isolated httpd_defines SUEXEC_BIN = /usr/local/apache2/bin/suexec
[  debug] isolated httpd_defines DEFAULT_PIDLOG = logs/httpd.pid
[  debug] isolated httpd_defines DEFAULT_SCOREBOARD = logs/apache_runtime_status
[  debug] isolated httpd_defines DEFAULT_LOCKFILE = logs/accept.lock
[  debug] isolated httpd_defines DEFAULT_ERRORLOG = logs/error_log
[  debug] isolated httpd_defines AP_TYPES_CONFIG_FILE = conf/mime.types
[  debug] isolated httpd_defines SERVER_CONFIG_FILE = conf/httpd.conf
[  debug] inheriting config file: /usr/local/apache2/conf/httpd.conf
[  debug] using httpd.conf inherited ServerRoot to resolve conf/extra/httpd-mpm.conf
[  debug] conf/extra/httpd-mpm.conf successfully resolved to existing file /usr/local/apache2/conf/extra/httpd-mpm.conf
[  debug] inheriting config file: /usr/local/apache2/conf/extra/httpd-mpm.conf
[  debug] using httpd.conf inherited ServerRoot to resolve conf/extra/httpd-autoindex.conf
[  debug] conf/extra/httpd-autoindex.conf successfully resolved to existing file /usr/local/apache2/conf/extra/httpd-autoindex.conf
[  debug] inheriting config file: /usr/local/apache2/conf/extra/httpd-autoindex.conf
[  debug] using httpd.conf inherited ServerRoot to resolve conf/extra/httpd-userdir.conf
[  debug] conf/extra/httpd-userdir.conf successfully resolved to existing file /usr/local/apache2/conf/extra/httpd-userdir.conf
[  debug] inheriting config file: /usr/local/apache2/conf/extra/httpd-userdir.conf
[  debug] using httpd.conf inherited ServerRoot to resolve conf/extra/httpd-vhosts.conf
[  debug] conf/extra/httpd-vhosts.conf successfully resolved to existing file /usr/local/apache2/conf/extra/httpd-vhosts.conf
[  debug] inheriting config file: /usr/local/apache2/conf/extra/httpd-vhosts.conf
[  debug] using httpd.conf inherited ServerRoot to resolve conf/extra/vhosts/mt4now.conf
[  debug] conf/extra/vhosts/mt4now.conf successfully resolved to existing file /usr/local/apache2/conf/extra/vhosts/mt4now.conf
[  debug] inheriting config file: /usr/local/apache2/conf/extra/vhosts/mt4now.conf
[  debug] using httpd.conf inherited ServerRoot to resolve conf/extra/vhosts/jrmyers.conf
[  debug] conf/extra/vhosts/jrmyers.conf successfully resolved to existing file /usr/local/apache2/conf/extra/vhosts/jrmyers.conf
[  debug] inheriting config file: /usr/local/apache2/conf/extra/vhosts/jrmyers.conf
[  debug] using httpd.conf inherited ServerRoot to resolve conf/extra/vhosts/hardmanrings.conf
[  debug] conf/extra/vhosts/hardmanrings.conf successfully resolved to existing file /usr/local/apache2/conf/extra/vhosts/hardmanrings.conf
[  debug] inheriting config file: /usr/local/apache2/conf/extra/vhosts/hardmanrings.conf
[  debug] using httpd.conf inherited ServerRoot to resolve conf/extra/vhosts/perlcreek.conf
[  debug] conf/extra/vhosts/perlcreek.conf successfully resolved to existing file /usr/local/apache2/conf/extra/vhosts/perlcreek.conf
[  debug] inheriting config file: /usr/local/apache2/conf/extra/vhosts/perlcreek.conf
[  debug] using httpd.conf inherited ServerRoot to resolve conf/mime.types
[  debug] conf/mime.types successfully resolved to existing file /usr/local/apache2/conf/mime.types
[  debug] using httpd.conf inherited ServerRoot to resolve modules/mod_perl.so
[  debug] modules/mod_perl.so successfully resolved to existing file /usr/local/apache2/modules/mod_perl.so
[  debug] Found: perl_module => mod_perl.c
[  debug] LoadModule perl_module mod_perl.c
[  debug] using httpd.conf inherited ServerRoot to resolve modules/mod_apreq2.so
[  debug] modules/mod_apreq2.so successfully resolved to existing file /usr/local/apache2/modules/mod_apreq2.so
[  debug] Found: apreq_module => mod_apreq2.c
[  debug] Skipping LoadModule of mod_apreq2.c
[  debug] using httpd.conf inherited ServerRoot to resolve modules/mod_authn_file.so
[  debug] modules/mod_authn_file.so successfully resolved to existing file /usr/local/apache2/modules/mod_authn_file.so
[  debug] Found: authn_file_module => mod_authn_file.c
[  debug] LoadModule authn_file_module mod_authn_file.c
[  debug] using httpd.conf inherited ServerRoot to resolve modules/mod_authn_dbm.so
[  debug] modules/mod_authn_dbm.so successfully resolved to existing file /usr/local/apache2/modules/mod_authn_dbm.so
[  debug] Found: authn_dbm_module => mod_authn_dbm.c
[  debug] LoadModule authn_dbm_module mod_authn_dbm.c
[  debug] using httpd.conf inherited ServerRoot to resolve modules/mod_authn_anon.so
[  debug] modules/mod_authn_anon.so successfully resolved to existing file /usr/local/apache2/modules/mod_authn_anon.so
[  debug] Found: authn_anon_module => mod_authn_anon.c
[  debug] LoadModule authn_anon_module mod_authn_anon.c
[  debug] using httpd.conf inherited ServerRoot to resolve modules/mod_authn_dbd.so
[  debug] modules/mod_authn_dbd.so successfully resolved to existing file /usr/local/apache2/modules/mod_authn_dbd.so
[  debug] Found: authn_dbd_module => mod_authn_dbd.c
[  debug] LoadModule authn_dbd_module mod_authn_dbd.c
[  debug] using httpd.conf inherited ServerRoot to resolve modules/mod_authn_default.so
[  debug] modules/mod_authn_default.so successfully resolved to existing file /usr/local/apache2/modules/mod_authn_default.so
[  debug] Found: authn_default_module => mod_authn_default.c
[  debug] LoadModule authn_default_module mod_authn_default.c
[  debug] using httpd.conf inherited ServerRoot to resolve modules/mod_authz_host.so
[  debug] modules/mod_authz_host.so successfully resolved to existing file /usr/local/apache2/modules/mod_authz_host.so
[  debug] Found: authz_host_module => mod_authz_host.c
[  debug] LoadModule authz_host_module mod_authz_host.c
[  debug] using httpd.conf inherited ServerRoot to resolve modules/mod_authz_groupfile.so
[  debug] modules/mod_authz_groupfile.so successfully resolved to existing file /usr/local/apache2/modules/mod_authz_groupfile.so
[  debug] Found: authz_groupfile_module => mod_authz_groupfile.c
[  debug] LoadModule authz_groupfile_module mod_authz_groupfile.c
[  debug] using httpd.conf inherited ServerRoot to resolve modules/mod_authz_user.so
[  debug] modules/mod_authz_user.so successfully resolved to existing file /usr/local/apache2/modules/mod_authz_user.so
[  debug] Found: authz_user_module => mod_authz_user.c
[  debug] LoadModule authz_user_module mod_authz_user.c
[  debug] using httpd.conf inherited ServerRoot to resolve modules/mod_authz_dbm.so
[  debug] modules/mod_authz_dbm.so successfully resolved to existing file /usr/local/apache2/modules/mod_authz_dbm.so
[  debug] Found: authz_dbm_module => mod_authz_dbm.c
[  debug] LoadModule authz_dbm_module mod_authz_dbm.c
[  debug] using httpd.conf inherited ServerRoot to resolve modules/mod_authz_owner.so
[  debug] modules/mod_authz_owner.so successfully resolved to existing file /usr/local/apache2/modules/mod_authz_owner.so
[  debug] Found: authz_owner_module => mod_authz_owner.c
[  debug] LoadModule authz_owner_module mod_authz_owner.c
[  debug] using httpd.conf inherited ServerRoot to resolve modules/mod_authz_default.so
[  debug] modules/mod_authz_default.so successfully resolved to existing file /usr/local/apache2/modules/mod_authz_default.so
[  debug] Found: authz_default_module => mod_authz_default.c
[  debug] LoadModule authz_default_module mod_authz_default.c
[  debug] using httpd.conf inherited ServerRoot to resolve modules/mod_auth_basic.so
[  debug] modules/mod_auth_basic.so successfully resolved to existing file /usr/local/apache2/modules/mod_auth_basic.so
[  debug] Found: auth_basic_module => mod_auth_basic.c
[  debug] LoadModule auth_basic_module mod_auth_basic.c
[  debug] using httpd.conf inherited ServerRoot to resolve modules/mod_auth_digest.so
[  debug] modules/mod_auth_digest.so successfully resolved to existing file /usr/local/apache2/modules/mod_auth_digest.so
[  debug] Found: auth_digest_module => mod_auth_digest.c
[  debug] LoadModule auth_digest_module mod_auth_digest.c
[  debug] using httpd.conf inherited ServerRoot to resolve modules/mod_dbd.so
[  debug] modules/mod_dbd.so successfully resolved to existing file /usr/local/apache2/modules/mod_dbd.so
[  debug] Found: dbd_module => mod_dbd.c
[  debug] LoadModule dbd_module mod_dbd.c
[  debug] using httpd.conf inherited ServerRoot to resolve modules/mod_dumpio.so
[  debug] modules/mod_dumpio.so successfully resolved to existing file /usr/local/apache2/modules/mod_dumpio.so
[  debug] Found: dumpio_module => mod_dumpio.c
[  debug] LoadModule dumpio_module mod_dumpio.c
[  debug] using httpd.conf inherited ServerRoot to resolve modules/mod_reqtimeout.so
[  debug] modules/mod_reqtimeout.so successfully resolved to existing file /usr/local/apache2/modules/mod_reqtimeout.so
[  debug] Found: reqtimeout_module => mod_reqtimeout.c
[  debug] LoadModule reqtimeout_module mod_reqtimeout.c
[  debug] using httpd.conf inherited ServerRoot to resolve modules/mod_ext_filter.so
[  debug] modules/mod_ext_filter.so successfully resolved to existing file /usr/local/apache2/modules/mod_ext_filter.so
[  debug] Found: ext_filter_module => mod_ext_filter.c
[  debug] LoadModule ext_filter_module mod_ext_filter.c
[  debug] using httpd.conf inherited ServerRoot to resolve modules/mod_include.so
[  debug] modules/mod_include.so successfully resolved to existing file /usr/local/apache2/modules/mod_include.so
[  debug] Found: include_module => mod_include.c
[  debug] LoadModule include_module mod_include.c
[  debug] using httpd.conf inherited ServerRoot to resolve modules/mod_filter.so
[  debug] modules/mod_filter.so successfully resolved to existing file /usr/local/apache2/modules/mod_filter.so
[  debug] Found: filter_module => mod_filter.c
[  debug] LoadModule filter_module mod_filter.c
[  debug] using httpd.conf inherited ServerRoot to resolve modules/mod_substitute.so
[  debug] modules/mod_substitute.so successfully resolved to existing file /usr/local/apache2/modules/mod_substitute.so
[  debug] Found: substitute_module => mod_substitute.c
[  debug] LoadModule substitute_module mod_substitute.c
[  debug] using httpd.conf inherited ServerRoot to resolve modules/mod_deflate.so
[  debug] modules/mod_deflate.so successfully resolved to existing file /usr/local/apache2/modules/mod_deflate.so
[  debug] Found: deflate_module => mod_deflate.c
[  debug] LoadModule deflate_module mod_deflate.c
[  debug] using httpd.conf inherited ServerRoot to resolve modules/mod_log_config.so
[  debug] modules/mod_log_config.so successfully resolved to existing file /usr/local/apache2/modules/mod_log_config.so
[  debug] Found: log_config_module => mod_log_config.c
[  debug] LoadModule log_config_module mod_log_config.c
[  debug] using httpd.conf inherited ServerRoot to resolve modules/mod_logio.so
[  debug] modules/mod_logio.so successfully resolved to existing file /usr/local/apache2/modules/mod_logio.so
[  debug] Found: logio_module => mod_logio.c
[  debug] LoadModule logio_module mod_logio.c
[  debug] using httpd.conf inherited ServerRoot to resolve modules/mod_env.so
[  debug] modules/mod_env.so successfully resolved to existing file /usr/local/apache2/modules/mod_env.so
[  debug] Found: env_module => mod_env.c
[  debug] LoadModule env_module mod_env.c
[  debug] using httpd.conf inherited ServerRoot to resolve modules/mod_expires.so
[  debug] modules/mod_expires.so successfully resolved to existing file /usr/local/apache2/modules/mod_expires.so
[  debug] Found: expires_module => mod_expires.c
[  debug] LoadModule expires_module mod_expires.c
[  debug] using httpd.conf inherited ServerRoot to resolve modules/mod_headers.so
[  debug] modules/mod_headers.so successfully resolved to existing file /usr/local/apache2/modules/mod_headers.so
[  debug] Found: headers_module => mod_headers.c
[  debug] LoadModule headers_module mod_headers.c
[  debug] using httpd.conf inherited ServerRoot to resolve modules/mod_ident.so
[  debug] modules/mod_ident.so successfully resolved to existing file /usr/local/apache2/modules/mod_ident.so
[  debug] Found: ident_module => mod_ident.c
[  debug] LoadModule ident_module mod_ident.c
[  debug] using httpd.conf inherited ServerRoot to resolve modules/mod_setenvif.so
[  debug] modules/mod_setenvif.so successfully resolved to existing file /usr/local/apache2/modules/mod_setenvif.so
[  debug] Found: setenvif_module => mod_setenvif.c
[  debug] LoadModule setenvif_module mod_setenvif.c
[  debug] using httpd.conf inherited ServerRoot to resolve modules/mod_version.so
[  debug] modules/mod_version.so successfully resolved to existing file /usr/local/apache2/modules/mod_version.so
[  debug] Found: version_module => mod_version.c
[  debug] LoadModule version_module mod_version.c
[  debug] using httpd.conf inherited ServerRoot to resolve modules/mod_mime.so
[  debug] modules/mod_mime.so successfully resolved to existing file /usr/local/apache2/modules/mod_mime.so
[  debug] Found: mime_module => mod_mime.c
[  debug] LoadModule mime_module mod_mime.c
[  debug] using httpd.conf inherited ServerRoot to resolve modules/mod_dav.so
[  debug] modules/mod_dav.so successfully resolved to existing file /usr/local/apache2/modules/mod_dav.so
[  debug] Found: dav_module => mod_dav.c
[  debug] LoadModule dav_module mod_dav.c
[  debug] using httpd.conf inherited ServerRoot to resolve modules/mod_status.so
[  debug] modules/mod_status.so successfully resolved to existing file /usr/local/apache2/modules/mod_status.so
[  debug] Found: status_module => mod_status.c
[  debug] LoadModule status_module mod_status.c
[  debug] using httpd.conf inherited ServerRoot to resolve modules/mod_autoindex.so
[  debug] modules/mod_autoindex.so successfully resolved to existing file /usr/local/apache2/modules/mod_autoindex.so
[  debug] Found: autoindex_module => mod_autoindex.c
[  debug] LoadModule autoindex_module mod_autoindex.c
[  debug] using httpd.conf inherited ServerRoot to resolve modules/mod_asis.so
[  debug] modules/mod_asis.so successfully resolved to existing file /usr/local/apache2/modules/mod_asis.so
[  debug] Found: asis_module => mod_asis.c
[  debug] LoadModule asis_module mod_asis.c
[  debug] using httpd.conf inherited ServerRoot to resolve modules/mod_info.so
[  debug] modules/mod_info.so successfully resolved to existing file /usr/local/apache2/modules/mod_info.so
[  debug] Found: info_module => mod_info.c
[  debug] LoadModule info_module mod_info.c
[  debug] using httpd.conf inherited ServerRoot to resolve modules/mod_cgi.so
[  debug] modules/mod_cgi.so successfully resolved to existing file /usr/local/apache2/modules/mod_cgi.so
[  debug] Found: cgi_module => mod_cgi.c
[  debug] LoadModule cgi_module mod_cgi.c
[  debug] using httpd.conf inherited ServerRoot to resolve modules/mod_dav_fs.so
[  debug] modules/mod_dav_fs.so successfully resolved to existing file /usr/local/apache2/modules/mod_dav_fs.so
[  debug] Found: dav_fs_module => mod_dav_fs.c
[  debug] LoadModule dav_fs_module mod_dav_fs.c
[  debug] using httpd.conf inherited ServerRoot to resolve modules/mod_vhost_alias.so
[  debug] modules/mod_vhost_alias.so successfully resolved to existing file /usr/local/apache2/modules/mod_vhost_alias.so
[  debug] Found: vhost_alias_module => mod_vhost_alias.c
[  debug] LoadModule vhost_alias_module mod_vhost_alias.c
[  debug] using httpd.conf inherited ServerRoot to resolve modules/mod_negotiation.so
[  debug] modules/mod_negotiation.so successfully resolved to existing file /usr/local/apache2/modules/mod_negotiation.so
[  debug] Found: negotiation_module => mod_negotiation.c
[  debug] LoadModule negotiation_module mod_negotiation.c
[  debug] using httpd.conf inherited ServerRoot to resolve modules/mod_dir.so
[  debug] modules/mod_dir.so successfully resolved to existing file /usr/local/apache2/modules/mod_dir.so
[  debug] Found: dir_module => mod_dir.c
[  debug] LoadModule dir_module mod_dir.c
[  debug] using httpd.conf inherited ServerRoot to resolve modules/mod_imagemap.so
[  debug] modules/mod_imagemap.so successfully resolved to existing file /usr/local/apache2/modules/mod_imagemap.so
[  debug] Found: imagemap_module => mod_imagemap.c
[  debug] LoadModule imagemap_module mod_imagemap.c
[  debug] using httpd.conf inherited ServerRoot to resolve modules/mod_actions.so
[  debug] modules/mod_actions.so successfully resolved to existing file /usr/local/apache2/modules/mod_actions.so
[  debug] Found: actions_module => mod_actions.c
[  debug] LoadModule actions_module mod_actions.c
[  debug] using httpd.conf inherited ServerRoot to resolve modules/mod_speling.so
[  debug] modules/mod_speling.so successfully resolved to existing file /usr/local/apache2/modules/mod_speling.so
[  debug] Found: speling_module => mod_speling.c
[  debug] LoadModule speling_module mod_speling.c
[  debug] using httpd.conf inherited ServerRoot to resolve modules/mod_userdir.so
[  debug] modules/mod_userdir.so successfully resolved to existing file /usr/local/apache2/modules/mod_userdir.so
[  debug] Found: userdir_module => mod_userdir.c
[  debug] LoadModule userdir_module mod_userdir.c
[  debug] using httpd.conf inherited ServerRoot to resolve modules/mod_alias.so
[  debug] modules/mod_alias.so successfully resolved to existing file /usr/local/apache2/modules/mod_alias.so
[  debug] Found: alias_module => mod_alias.c
[  debug] LoadModule alias_module mod_alias.c
[  debug] using httpd.conf inherited ServerRoot to resolve modules/mod_rewrite.so
[  debug] modules/mod_rewrite.so successfully resolved to existing file /usr/local/apache2/modules/mod_rewrite.so
[  debug] Found: rewrite_module => mod_rewrite.c
[  debug] LoadModule rewrite_module mod_rewrite.c
[  debug] using httpd.conf inherited ServerRoot to resolve modules/mod_proxy.so
[  debug] modules/mod_proxy.so successfully resolved to existing file /usr/local/apache2/modules/mod_proxy.so
[  debug] Found: proxy_module => mod_proxy.c
[  debug] LoadModule proxy_module mod_proxy.c
[  debug] using httpd.conf inherited ServerRoot to resolve modules/mod_proxy_connect.so
[  debug] modules/mod_proxy_connect.so successfully resolved to existing file /usr/local/apache2/modules/mod_proxy_connect.so
[  debug] Found: proxy_connect_module => mod_proxy_connect.c
[  debug] LoadModule proxy_connect_module mod_proxy_connect.c
[  debug] Matched Apache revision Apache/2.2.30-dev 2
t/big_request.t .. ok
t/cgi.t .......... ok
t/cookie.t ....... ok
t/request.t ...... ok
t/upload.t ....... ok
All tests successful.
Files=5, Tests=83,  3 wallclock secs ( 0.12 usr  0.02 sys +  1.83 cusr  0.19 csys =  2.16 CPU)
Result: PASS
[warning] server localhost:8529 shutdown
make[1]: Leaving directory `/home/rik/.cpan/build/libapreq2-2.13-Xn4SYr/module'
cd glue/perl; /usr/bin/make test
make[1]: Entering directory `/home/rik/.cpan/build/libapreq2-2.13-Xn4SYr/glue/perl'
make[2]: Entering directory `/home/rik/.cpan/build/libapreq2-2.13-Xn4SYr/glue/perl/xs'
make[3]: Entering directory `/home/rik/.cpan/build/libapreq2-2.13-Xn4SYr/glue/perl/xs/APR'
make[4]: Entering directory `/home/rik/.cpan/build/libapreq2-2.13-Xn4SYr/glue/perl/xs/APR/Request'
make[5]: Entering directory `/home/rik/.cpan/build/libapreq2-2.13-Xn4SYr/glue/perl/xs/APR/Request/Apache2'
make[5]: Leaving directory `/home/rik/.cpan/build/libapreq2-2.13-Xn4SYr/glue/perl/xs/APR/Request/Apache2'
make[5]: Entering directory `/home/rik/.cpan/build/libapreq2-2.13-Xn4SYr/glue/perl/xs/APR/Request/CGI'
make[5]: Leaving directory `/home/rik/.cpan/build/libapreq2-2.13-Xn4SYr/glue/perl/xs/APR/Request/CGI'
make[5]: Entering directory `/home/rik/.cpan/build/libapreq2-2.13-Xn4SYr/glue/perl/xs/APR/Request/Cookie'
make[5]: Leaving directory `/home/rik/.cpan/build/libapreq2-2.13-Xn4SYr/glue/perl/xs/APR/Request/Cookie'
make[5]: Entering directory `/home/rik/.cpan/build/libapreq2-2.13-Xn4SYr/glue/perl/xs/APR/Request/Error'
make[5]: Leaving directory `/home/rik/.cpan/build/libapreq2-2.13-Xn4SYr/glue/perl/xs/APR/Request/Error'
make[5]: Entering directory `/home/rik/.cpan/build/libapreq2-2.13-Xn4SYr/glue/perl/xs/APR/Request/Hook'
make[5]: Leaving directory `/home/rik/.cpan/build/libapreq2-2.13-Xn4SYr/glue/perl/xs/APR/Request/Hook'
make[5]: Entering directory `/home/rik/.cpan/build/libapreq2-2.13-Xn4SYr/glue/perl/xs/APR/Request/Param'
make[5]: Leaving directory `/home/rik/.cpan/build/libapreq2-2.13-Xn4SYr/glue/perl/xs/APR/Request/Param'
make[5]: Entering directory `/home/rik/.cpan/build/libapreq2-2.13-Xn4SYr/glue/perl/xs/APR/Request/Parser'
make[5]: Leaving directory `/home/rik/.cpan/build/libapreq2-2.13-Xn4SYr/glue/perl/xs/APR/Request/Parser'
make[4]: Leaving directory `/home/rik/.cpan/build/libapreq2-2.13-Xn4SYr/glue/perl/xs/APR/Request'
make[3]: Leaving directory `/home/rik/.cpan/build/libapreq2-2.13-Xn4SYr/glue/perl/xs/APR'
make[2]: Leaving directory `/home/rik/.cpan/build/libapreq2-2.13-Xn4SYr/glue/perl/xs'
/usr/bin/perl -Iblib/arch -Iblib/lib \
t/TEST  -clean
[warning] setting ulimit to allow core files
ulimit -c unlimited; /usr/bin/perl /home/rik/.cpan/build/libapreq2-2.13-Xn4SYr/glue/perl/t/TEST -clean
APACHE_TEST_GROUP= APACHE_TEST_HTTPD= APACHE_TEST_APXS= APACHE_TEST_PORT= APACHE_TEST_USER= \
/usr/bin/perl -Iblib/arch -Iblib/lib \
t/TEST  -bugreport -verbose=0 
[warning] setting ulimit to allow core files
ulimit -c unlimited; /usr/bin/perl /home/rik/.cpan/build/libapreq2-2.13-Xn4SYr/glue/perl/t/TEST -bugreport -verbose=0
/usr/local/apache2/bin/httpd  -d /home/rik/.cpan/build/libapreq2-2.13-Xn4SYr/glue/perl/t -f /home/rik/.cpan/build/libapreq2-2.13-Xn4SYr/glue/perl/t/conf/httpd.conf -D APACHE2 -D PERL_USEITHREADS
using Apache/2.2.30-dev (prefork MPM)

waiting 60 seconds for server to start: .[Fri Sep 19 00:07:16 2014] [warn] module apreq_module is already loaded, skipping

waiting 60 seconds for server to start: ok (waited 0 secs)
server localhost:8529 started
t/api/cookie.t ....... ok
t/api/error.t ........ ok
t/api/module.t ....... ok
t/api/param.t ........ ok
t/apreq/big_input.t .. ok
t/apreq/cgi.t ........ ok
t/apreq/cookie.t ..... ok
t/apreq/cookie2.t .... ok
t/apreq/inherit.t .... ok
t/apreq/request.t .... ok
t/apreq/upload.t ..... ok
All tests successful.
Files=11, Tests=288,  6 wallclock secs ( 0.58 usr  0.02 sys +  4.12 cusr  0.32 csys =  5.04 CPU)
Result: PASS
[warning] server localhost:8529 shutdown
pod2test was not found, skipping inlined tests
make[1]: Leaving directory `/home/rik/.cpan/build/libapreq2-2.13-Xn4SYr/glue/perl'

------------------------------
PREREQUISITES
------------------------------

Prerequisite modules loaded:

requires:

    Module              Need     Have    
    ------------------- -------- --------
    Apache::Test        1.04     1.38    
    ExtUtils::MakeMaker 6.15     6.98    
    ExtUtils::XSBuilder 0.23     0.28    
    mod_perl2           1.999022 2.000009
    Test::More          0.47     1.001002


------------------------------
ENVIRONMENT AND OTHER CONTEXT
------------------------------

Environment variables:

    LANG = en_US
    LC_COLLATE = C
    PATH = /home/rik/bin:/usr/local/bin:/usr/bin:/bin:/usr/games:/usr/local/texlive/bin:/usr/local/pgsql/bin:/usr/lib64/java/bin:/usr/lib64/kde4/libexec:/usr/lib64/qt/bin
    PERL5LIB = 
    PERL5OPT = 
    PERL5_CPANPLUS_IS_RUNNING = 30104
    PERL5_CPAN_IS_RUNNING = 30104
    SHELL = /bin/bash
    TERM = linux

Perl special variables (and OS-specific diagnostics, for MSWin32):

    $^X = /usr/bin/perl
    $UID/$EUID = 1000 / 1000
    $GID = 1000 11 17 18 19 93 1000
    $EGID = 1000 11 17 18 19 93 1000

Perl module toolchain versions installed:

    Module              Have    
    ------------------- --------
    CPAN                2.05    
    CPAN::Meta          2.142060
    Cwd                 3.48    
    ExtUtils::CBuilder  0.280217
    ExtUtils::Command   1.18    
    ExtUtils::Install   1.67    
    ExtUtils::MakeMaker 6.98    
    ExtUtils::Manifest  1.63    
    ExtUtils::ParseXS   3.24    
    File::Spec          3.48    
    JSON                2.90    
    JSON::PP            2.27203 
    Module::Build       0.4210  
    Module::Signature   0.73    
    Parse::CPAN::Meta   1.4414  
    Test::Harness       3.30    
    Test::More          1.001002
    YAML                1.11    
    YAML::Syck          n/a     
    version             0.9909  


--

Summary of my perl5 (revision 5 version 20 subversion 1) configuration:
   
  Platform:
    osname=linux, osvers=3.10.46, archname=linux-thread-multi
    uname='linux maxx 3.10.46 #1 smp fri jul 4 17:05:44 edt 2014 x86_64 amd athlon(tm) ii x2 260 processor authenticamd gnulinux '
    config_args='-de -Dprefix=/usr -Uman1dir -Uman3dir -Uinstallusrbinperl -Duseshrplib -Darchname=linux -Doptimize=-O2 -Dusethreads'
    hint=recommended, useposix=true, d_sigaction=define
    useithreads=define, usemultiplicity=define
    use64bitint=define, use64bitall=define, uselongdouble=undef
    usemymalloc=n, bincompat5005=undef
  Compiler:
    cc='cc', ccflags ='-D_REENTRANT -D_GNU_SOURCE -fwrapv -fno-strict-aliasing -pipe -fstack-protector -I/usr/local/include -D_LARGEFILE_SOURCE -D_FILE_OFFSET_BITS=64',
    optimize='-O2',
    cppflags='-D_REENTRANT -D_GNU_SOURCE -fwrapv -fno-strict-aliasing -pipe -fstack-protector -I/usr/local/include'
    ccversion='', gccversion='4.5.2', gccosandvers=''
    intsize=4, longsize=8, ptrsize=8, doublesize=8, byteorder=12345678
    d_longlong=define, longlongsize=8, d_longdbl=define, longdblsize=16
    ivtype='long', ivsize=8, nvtype='double', nvsize=8, Off_t='off_t', lseeksize=8
    alignbytes=8, prototype=define
  Linker and Libraries:
    ld='cc', ldflags =' -fstack-protector -L/usr/local/lib'
    libpth=/usr/local/lib /usr/lib64/gcc/x86_64-slackware-linux/4.5.2/include-fixed /usr/lib /lib/../lib64 /usr/lib/../lib64 /lib /lib64 /usr/lib64 /usr/local/lib64
    libs=-lnsl -lgdbm -ldb -ldl -lm -lcrypt -lutil -lpthread -lc
    perllibs=-lnsl -ldl -lm -lcrypt -lutil -lpthread -lc
    libc=libc-2.13.so, so=so, useshrplib=true, libperl=libperl.so
    gnulibc_version='2.13'
  Dynamic Linking:
    dlsrc=dl_dlopen.xs, dlext=so, d_dlsymun=undef, ccdlflags='-Wl,-E -Wl,-rpath,/usr/lib/perl5/5.20.1/linux-thread-multi/CORE'
    cccdlflags='-fPIC', lddlflags='-shared -O2 -L/usr/local/lib -fstack-protector'


Characteristics of this binary (from libperl): 
  Compile-time options: HAS_TIMES MULTIPLICITY PERLIO_LAYERS
                        PERL_DONT_CREATE_GVSV
                        PERL_HASH_FUNC_ONE_AT_A_TIME_HARD
                        PERL_IMPLICIT_CONTEXT PERL_MALLOC_WRAP
                        PERL_NEW_COPY_ON_WRITE PERL_PRESERVE_IVUV
                        USE_64_BIT_ALL USE_64_BIT_INT USE_ITHREADS
                        USE_LARGE_FILES USE_LOCALE USE_LOCALE_COLLATE
                        USE_LOCALE_CTYPE USE_LOCALE_NUMERIC USE_PERLIO
                        USE_PERL_ATOF USE_REENTRANT_API
  Built under linux
  Compiled at Sep 18 2014 15:28:04
  %ENV:
    PERL5LIB=""
    PERL5OPT=""
    PERL5_CPANPLUS_IS_RUNNING="30104"
    PERL5_CPAN_IS_RUNNING="30104"
  @INC:
    /usr/lib/perl5/site_perl/5.20.1/linux-thread-multi
    /usr/lib/perl5/site_perl/5.20.1
    /usr/lib/perl5/5.20.1/linux-thread-multi
    /usr/lib/perl5/5.20.1
    /usr/lib/perl5/site_perl/5.16.3
    /usr/lib/perl5/site_perl/5.16.0
    /usr/lib/perl5/site_perl
    .