Beekeeper v0.07 Perl 5 v5.12.5 x86_64-linux

Status
Pass
From
Slaven Rezić
Dist
Beekeeper v0.07
Platform
Perl 5 v5.12.5 x86_64-linux
Date
2021-07-02 17:46:41
ID
755b79e4-db5d-11eb-9564-37111f24ea8f
This distribution has been tested as part of the CPAN Testers
project, supporting the Perl programming language.  See
http://wiki.cpantesters.org/ for more information or email
questions to cpan-testers-discuss@perl.org


--
Dear Jose Mico,

This is a computer-generated report for Beekeeper-0.07
on perl 5.12.5, created by CPAN-Reporter-1.2018.

Thank you for uploading your work to CPAN.  Congratulations!
All tests were successful.

Sections of this report:

    * Tester comments
    * Program output
    * Prerequisites
    * Environment and other context

------------------------------
TESTER COMMENTS
------------------------------

Additional comments from tester:

none provided

------------------------------
PROGRAM OUTPUT
------------------------------

Output from '/usr/bin/make test':

Skip blib/lib/auto/share/dist/Beekeeper/chat/js/chat.js (unchanged)
Skip blib/lib/auto/share/dist/Beekeeper/chat/config/toybroker.config.json (unchanged)
Skip blib/lib/auto/share/dist/Beekeeper/chat/lib/MyApp/Service/Base.pm (unchanged)
Skip blib/lib/auto/share/dist/Beekeeper/chat/config/client.config.json (unchanged)
Skip blib/lib/auto/share/dist/Beekeeper/basic/setup.sh (unchanged)
Skip blib/lib/auto/share/dist/Beekeeper/basic/run.sh (unchanged)
Skip blib/lib/auto/share/dist/Beekeeper/chat/lib/MyApp/Client.pm (unchanged)
Skip blib/lib/auto/share/dist/Beekeeper/chat/js/beekeeper.js (unchanged)
Skip blib/lib/auto/share/dist/Beekeeper/basic/config/pool.config.json (unchanged)
Skip blib/lib/auto/share/dist/Beekeeper/chat/js/config.js (unchanged)
Skip blib/lib/auto/share/dist/Beekeeper/chat/lib/MyApp/Service/Chat.pm (unchanged)
Skip blib/lib/auto/share/dist/Beekeeper/chat/lib/MyApp/Service/Auth/Worker.pm (unchanged)
Skip blib/lib/auto/share/dist/Beekeeper/basic/README.md (unchanged)
Skip blib/lib/auto/share/dist/Beekeeper/chat/chat.pl (unchanged)
Skip blib/lib/auto/share/dist/Beekeeper/chat/config/bus.config.json (unchanged)
Skip blib/lib/auto/share/dist/Beekeeper/chat/config/pool.config.json (unchanged)
Skip blib/lib/auto/share/dist/Beekeeper/basic/client.pl (unchanged)
Skip blib/lib/auto/share/dist/Beekeeper/chat/chat.html (unchanged)
Skip blib/lib/auto/share/dist/Beekeeper/basic/lib/MyClient.pm (unchanged)
Skip blib/lib/auto/share/dist/Beekeeper/basic/config/toybroker.config.json (unchanged)
Skip blib/lib/auto/share/dist/Beekeeper/chat/lib/MyApp/Bot.pm (unchanged)
Skip blib/lib/auto/share/dist/Beekeeper/chat/lib/MyApp/Service/Auth.pm (unchanged)
Skip blib/lib/auto/share/dist/Beekeeper/basic/lib/MyWorker.pm (unchanged)
Skip blib/lib/auto/share/dist/Beekeeper/basic/config/bus.config.json (unchanged)
Skip blib/lib/auto/share/dist/Beekeeper/chat/README.md (unchanged)
Skip blib/lib/auto/share/dist/Beekeeper/chat/flood.pl (unchanged)
Skip blib/lib/auto/share/dist/Beekeeper/flood/run.sh (unchanged)
Skip blib/lib/auto/share/dist/Beekeeper/flood/flood.pl (unchanged)
Skip blib/lib/auto/share/dist/Beekeeper/flood/README.md (unchanged)
Skip blib/lib/auto/share/dist/Beekeeper/scraper/lib/MyApp/Service/Scraper/Worker.pm (unchanged)
Skip blib/lib/auto/share/dist/Beekeeper/scraper/config/bus.config.json (unchanged)
Skip blib/lib/auto/share/dist/Beekeeper/scraper/run.sh (unchanged)
Skip blib/lib/auto/share/dist/Beekeeper/scraper/lib/MyApp/Service/Scraper.pm (unchanged)
Skip blib/lib/auto/share/dist/Beekeeper/chat/run.sh (unchanged)
Skip blib/lib/auto/share/dist/Beekeeper/websocket/config/bus.config.json (unchanged)
Skip blib/lib/auto/share/dist/Beekeeper/scraper/client.pl (unchanged)
Skip blib/lib/auto/share/dist/Beekeeper/flood/config/pool.config.json (unchanged)
Skip blib/lib/auto/share/dist/Beekeeper/flood/lib/MyApp/Service/Flood.pm (unchanged)
Skip blib/lib/auto/share/dist/Beekeeper/flood/lib/MyApp/Service/Flood/Worker.pm (unchanged)
Skip blib/lib/auto/share/dist/Beekeeper/flood/config/toybroker.config.json (unchanged)
Skip blib/lib/auto/share/dist/Beekeeper/chat/setup.sh (unchanged)
Skip blib/lib/auto/share/dist/Beekeeper/scraper/README.md (unchanged)
Skip blib/lib/auto/share/dist/Beekeeper/scraper/config/pool.config.json (unchanged)
Skip blib/lib/auto/share/dist/Beekeeper/websocket/client.html (unchanged)
Skip blib/lib/auto/share/dist/Beekeeper/websocket/README.md (unchanged)
Skip blib/lib/auto/share/dist/Beekeeper/websocket/client.pl (unchanged)
Skip blib/lib/auto/share/dist/Beekeeper/flood/setup.sh (unchanged)
Skip blib/lib/auto/share/dist/Beekeeper/flood/config/bus.config.json (unchanged)
Skip blib/lib/auto/share/dist/Beekeeper/scraper/config/toybroker.config.json (unchanged)
Skip blib/lib/auto/share/dist/Beekeeper/chat/lib/MyApp/Service/Chat/Worker.pm (unchanged)
Skip blib/lib/auto/share/dist/Beekeeper/scraper/setup.sh (unchanged)
Skip blib/lib/auto/share/dist/Beekeeper/websocket/setup.sh (unchanged)
Skip blib/lib/auto/share/dist/Beekeeper/websocket/js/config.js (unchanged)
Skip blib/lib/auto/share/dist/Beekeeper/websocket/run.sh (unchanged)
Skip blib/lib/auto/share/dist/Beekeeper/websocket/config/client.config.json (unchanged)
Skip blib/lib/auto/share/dist/Beekeeper/websocket/js/beekeeper.js (unchanged)
Skip blib/lib/auto/share/dist/Beekeeper/websocket/config/toybroker.config.json (unchanged)
Skip blib/lib/auto/share/dist/Beekeeper/websocket/lib/MyApp/Service/Calculator.pm (unchanged)
Skip blib/lib/auto/share/dist/Beekeeper/websocket/config/pool.config.json (unchanged)
Skip blib/lib/auto/share/dist/Beekeeper/websocket/js/calculator.js (unchanged)
Skip blib/lib/auto/share/dist/Beekeeper/websocket/lib/MyApp/Calculator.pm (unchanged)
PERL_DL_NONLAZY=1 "/opt/perl-5.12.5/bin/perl" "-MExtUtils::Command::MM" "-MTest::Harness" "-e" "undef *Test::Harness::Switches; test_harness(0, 'blib/lib', 'blib/arch')" t/*.t
# Testing Beekeeper 0.07, Perl 5.012005
t/00-compile.t ....... ok
t/01-test_base.t ..... ok
t/02-basic.t ......... ok
t/03-supervisor.t .... ok
t/04-log_tail.t ...... ok
t/05-recursion.t ..... ok
t/06-shared_cache.t .. ok
t/07-load_balance.t .. ok
t/08-term_signal.t ... ok
t/09-int_signal.t .... ok
t/10-mqtt.t .......... ok
t/11-examples.t ...... ok
All tests successful.
Files=12, Tests=308, 227 wallclock secs ( 0.05 usr  0.08 sys +  1.09 cusr  0.98 csys =  2.20 CPU)
Result: PASS

------------------------------
PREREQUISITES
------------------------------

Prerequisite modules loaded:

requires:

    Module                  Need     Have    
    ----------------------- -------- --------
    AnyEvent                0        7.17    
    JSON::XS                0        4.02    
    perl                    5.008009 5.012005
    Term::ReadKey           0        2.38    

build_requires:

    Module                  Need     Have    
    ----------------------- -------- --------
    ExtUtils::MakeMaker     0        7.62    
    Test::Class             0        0.50    
    Test::More              0        1.302185

configure_requires:

    Module                  Need     Have    
    ----------------------- -------- --------
    ExtUtils::MakeMaker     0        7.62    
    File::ShareDir::Install 0.06     0.13    


------------------------------
ENVIRONMENT AND OTHER CONTEXT
------------------------------

Environment variables:

    LANG = en_US.UTF-8
    PATH = /usr/local/bin:/usr/bin:/bin:/usr/local/sbin:/usr/sbin:/sbin:/home/cpansand/bin/linux-gnu:/home/cpansand/bin/sh:/home/cpansand/bin:/usr/games:/home/cpansand/devel:/home/eserte/src/srezic-misc/scripts
    PERL5LIB = 
    PERL5OPT = 
    PERL5_CPANPLUS_IS_RUNNING = 2281
    PERL5_CPAN_IS_RUNNING = 2281
    PERL5_CPAN_IS_RUNNING_IN_RECURSION = 2191,2281
    PERLDOC = -MPod::Perldoc::ToTextOverstrike
    PERL_BATCH = yes
    PERL_CANARY_STABILITY_NOPROMPT = 1
    PERL_CPAN_REPORTER_CONFIG = /var/tmp/cpansmoker-1023/2021070217/cpanreporter_000_config.ini
    PERL_EXTUTILS_AUTOINSTALL = --defaultdeps
    PERL_USE_UNSAFE_INC = 1
    SHELL = /usr/bin/zsh
    TERM = screen
    TMPDIR = /var/tmp/cpansmoker-1023/2021070217

Perl special variables (and OS-specific diagnostics, for MSWin32):

    $^X = /opt/perl-5.12.5/bin/perl
    $UID/$EUID = 1023 / 1023
    $GID = 1023 1023
    $EGID = 1023 1023

Perl module toolchain versions installed:

    Module              Have    
    ------------------- --------
    CPAN                2.28    
    CPAN::Meta          2.150010
    Cwd                 3.75    
    ExtUtils::CBuilder  0.280235
    ExtUtils::Command   7.62    
    ExtUtils::Install   2.20    
    ExtUtils::MakeMaker 7.62    
    ExtUtils::Manifest  1.70    
    ExtUtils::ParseXS   3.35    
    File::Spec          3.75    
    JSON                4.03    
    JSON::PP            4.06    
    Module::Build       0.4231  
    Module::Signature   0.87    
    Parse::CPAN::Meta   2.150010
    Test::Harness       3.42    
    Test::More          1.302185
    YAML                1.30    
    YAML::Syck          1.34    
    version             0.9924  


--

Summary of my perl5 (revision 5 version 12 subversion 5) configuration:
   
  Platform:
    osname=linux, osvers=4.4.0-176-generic, archname=x86_64-linux
    uname='linux ubuntu16 4.4.0-176-generic #206-ubuntu smp fri feb 28 05:02:04 utc 2020 x86_64 x86_64 x86_64 gnulinux '
    config_args='-ds -e -Dprefix=/opt/perl-5.12.5 -Dcf_email=srezic@cpan.org'
    hint=recommended, useposix=true, d_sigaction=define
    useithreads=undef, usemultiplicity=undef
    useperlio=define, d_sfio=undef, uselargefiles=define, usesocks=undef
    use64bitint=define, use64bitall=define, uselongdouble=undef
    usemymalloc=n, bincompat5005=undef
  Compiler:
    cc='cc', ccflags ='-fwrapv -fno-strict-aliasing -pipe -fstack-protector -I/usr/local/include -D_LARGEFILE_SOURCE -D_FILE_OFFSET_BITS=64',
    optimize='-O2',
    cppflags='-fwrapv -fno-strict-aliasing -pipe -fstack-protector -I/usr/local/include'
    ccversion='', gccversion='5.4.0 20160609', gccosandvers=''
    intsize=4, longsize=8, ptrsize=8, doublesize=8, byteorder=12345678
    d_longlong=define, longlongsize=8, d_longdbl=define, longdblsize=16
    ivtype='long', ivsize=8, nvtype='double', nvsize=8, Off_t='off_t', lseeksize=8
    alignbytes=8, prototype=define
  Linker and Libraries:
    ld='cc', ldflags =' -fstack-protector -L/usr/local/lib'
    libpth=/usr/local/lib /lib/x86_64-linux-gnu /lib/../lib /usr/lib/x86_64-linux-gnu /usr/lib/../lib /lib /usr/lib
    libs=-lnsl -lgdbm -ldb -ldl -lm -lcrypt -lutil -lc -lgdbm_compat
    perllibs=-lnsl -ldl -lm -lcrypt -lutil -lc
    libc=libc-2.23.so, so=so, useshrplib=false, libperl=libperl.a
    gnulibc_version='2.23'
  Dynamic Linking:
    dlsrc=dl_dlopen.xs, dlext=so, d_dlsymun=undef, ccdlflags='-Wl,-E'
    cccdlflags='-fPIC', lddlflags='-shared -O2 -L/usr/local/lib -fstack-protector'


Characteristics of this binary (from libperl): 
  Compile-time options: PERL_DONT_CREATE_GVSV PERL_MALLOC_WRAP USE_64_BIT_ALL
                        USE_64_BIT_INT USE_LARGE_FILES USE_PERLIO
                        USE_PERL_ATOF
  Locally applied patches:
	Devel::PatchPerl 1.90
  Built under linux
  Compiled at Mar 31 2020 18:40:19
  %ENV:
    PERL5LIB=""
    PERL5OPT=""
    PERL5_CPANPLUS_IS_RUNNING="2281"
    PERL5_CPAN_IS_RUNNING="2281"
    PERL5_CPAN_IS_RUNNING_IN_RECURSION="2191,2281"
    PERLDOC="-MPod::Perldoc::ToTextOverstrike"
    PERL_BATCH="yes"
    PERL_CANARY_STABILITY_NOPROMPT="1"
    PERL_CPAN_REPORTER_CONFIG="/var/tmp/cpansmoker-1023/2021070217/cpanreporter_000_config.ini"
    PERL_EXTUTILS_AUTOINSTALL="--defaultdeps"
    PERL_USE_UNSAFE_INC="1"
  @INC:
    /opt/perl-5.12.5/lib/site_perl/5.12.5/x86_64-linux
    /opt/perl-5.12.5/lib/site_perl/5.12.5
    /opt/perl-5.12.5/lib/5.12.5/x86_64-linux
    /opt/perl-5.12.5/lib/5.12.5
    .