Back
From: metabase:user:cebff128-6d3c-1014-8ca5-4b43afe32da0
Subject: PASS Rose-DB-Object-0.813 v5.20.1
Date: 2014-11-07T16:33:49Z
This distribution has been tested as part of the CPAN Testers
project, supporting the Perl programming language. See
http://wiki.cpantesters.org/ for more information or email
questions to cpan-testers-discuss@perl.org
--
Dear John Siracusa,
This is a computer-generated report for Rose-DB-Object-0.813
on perl 5.20.1, created by CPAN-Reporter-1.2011.
Thank you for uploading your work to CPAN. Congratulations!
All tests were successful.
Sections of this report:
* Tester comments
* Program output
* Prerequisites
* Environment and other context
------------------------------
TESTER COMMENTS
------------------------------
Additional comments from tester:
this report is from an automated smoke testing program
and was not reviewed by a human for accuracy
------------------------------
PROGRAM OUTPUT
------------------------------
Output from 'C:\Smoker\5201x86\c\bin\dmake.exe test':
"C:\Smoker\5201x86\perl\bin\perl.exe" "-MExtUtils::Command::MM" "-MTest::Harness" "-e" "undef *Test::Harness::Switches; test_harness(0, 'blib\lib', 'blib\arch')" t/*.t
##
## DBI 1.632
## DBD::Pg 3.4.2
## DBD::mysql 4.028
## DBD::SQLite 1.45_04
## DBD::Oracle 1.74
## JSON 2.90
##
## WARNING: Almost all the tests in this module distribution need to connect
## to a database in order to run. The tests need full privileges on this
## database: the ability to create and drop tables, insert, update, and delete
## rows, create schemas, sequences, functions, triggers, the works.
##
## By default, the tests will try to connect to the database named "test"
## running on "localhost" using the default superuser username for each
## database type and an empty password.
##
## If you have setup your database in a secure manner, these connection
## attempts will fail, and the tests will be skipped. If you want to override
## these values, set the following environment variables before running tests.
## (The current values are shown in parentheses.)
##
## PostgreSQL:
##
## RDBO_PG_DSN (dbi:Pg:dbname=test;host=localhost)
## RDBO_PG_USER (postgres)
## RDBO_PG_PASS (<none>)
##
## MySQL:
##
## RDBO_MYSQL_DSN (dbi:mysql:database=test;host=localhost)
## RDBO_MYSQL_USER (root)
## RDBO_MYSQL_PASS (<none>)
##
## Oracle:
##
## RDBO_ORACLE_DSN (dbi:Oracle:dbname=test)
## RDBO_ORACLE_USER (<none>)
## RDBO_ORACLE_PASS (<none>)
##
## Informix:
##
## RDBO_INFORMIX_DSN (dbi:Informix:test@test)
## RDBO_INFORMIX_USER (<none>)
## RDBO_INFORMIX_PASS (<none>)
##
## SQLite: To disable the SQLite tests, set this environment varible
##
## RDBO_NO_SQLITE (<undef>)
##
## Press return to continue (or wait 60 seconds)
t/00-warning.t ..................... ok
t/as-tree.t ........................ ok
t/auto-setup.t ..................... ok
t/bind-param.t ..................... ok
t/column-triggers.t ................ ok
t/column-values.t .................. ok
t/db-migration.t ................... ok
t/db-object-auto.t ................. ok
t/db-object-cached.t ............... ok
t/db-object-changes-only-1.t ....... ok
t/db-object-changes-only-2.t ....... ok
t/db-object-convention.t ........... ok
t/db-object-foreign-key-auto.t ..... ok
t/db-object-foreign-key.t .......... ok
t/db-object-helpers.t .............. ok
t/db-object-loader-2.t ............. ok
t/db-object-loader-3.t ............. ok
t/db-object-loader-4.t ............. ok
t/db-object-loader-5.t ............. ok
t/db-object-loader-6.t ............. ok
t/db-object-loader-7.t ............. ok
t/db-object-loader-8.t ............. ok
t/db-object-loader-9.t ............. ok
t/db-object-loader.t ............... ok
t/db-object-manager-bulk-ops.t ..... ok
t/db-object-manager.t .............. ok
t/db-object-mapper.t ............... ok
t/db-object-metadata.t ............. ok
t/db-object-relationship-auto-2.t .. ok
t/db-object-relationship-auto.t .... ok
t/db-object-relationship.t ......... ok
t/db-object-std-cached.t ........... ok
t/db-object-std.t .................. ok
t/db-object.t ...................... ok
t/deep-joins.t ..................... ok
t/inheritance.t .................... ok
t/lazy-columns.t ................... ok
t/leaks.t .......................... ok
t/make-modules.t ................... ok
t/makemethods-db.t ................. ok
t/makemethods.t .................... ok
t/multi-many-the-hard-way.t ........ ok
t/multi-pk-sequences.t ............. ok
t/nested-joins.t ................... ok
t/one-to-many-reset.t .............. ok
t/pk-fk-columns.t .................. ok
t/pod.t ............................ ok
t/query-builder.t .................. ok
t/rt-cpan-45836.t .................. ok
t/save-cascade.t ................... ok
t/schema-override.t ................ ok
t/spot-check-01.t .................. ok
t/spot-check-02.t .................. ok
t/spot-check-03.t .................. ok
t/spot-check-04.t .................. ok
t/spot-check-05.t .................. ok
t/spot-check-06.t .................. ok
t/spot-check-07.t .................. ok
t/spot-check-08.t .................. ok
t/spot-check-09.t .................. ok
t/spot-check-10.t .................. ok
t/spot-check-11.t .................. ok
t/spot-check-12.t .................. ok
t/spot-check-13.t .................. ok
t/spot-check-14.t .................. ok
t/undef-overrides-default.t ........ ok
t/unique-key-prefs.t ............... ok
All tests successful.
Files=67, Tests=15335, 311 wallclock secs ( 2.73 usr + 0.27 sys = 3.00 CPU)
Result: PASS
------------------------------
PREREQUISITES
------------------------------
Prerequisite modules loaded:
requires:
Module Need Have
-------------------- -------- --------
Bit::Vector 0 7.3
Clone 0.29 0.37
Cwd 0 3.48
Data::Dumper 2.121 2.154
DateTime 0 1.12
DBI 1.40 1.632
File::Path 0 2.09
File::Spec 0 3.48
List::MoreUtils 0 0.33
Math::BigInt 1.77 1.9993
perl 5.006000 5.020001
Rose::DateTime::Util 0.532 0.540
Rose::DB 0.763 0.775
Rose::Object 0.854 0.860
Scalar::Util 0 1.41
Test::More 0 1.001009
Time::Clock 1.00 1.03
build_requires:
Module Need Have
-------------------- -------- --------
ExtUtils::MakeMaker 0 7.01_09
configure_requires:
Module Need Have
-------------------- -------- --------
ExtUtils::MakeMaker 0 7.01_09
------------------------------
ENVIRONMENT AND OTHER CONTEXT
------------------------------
Environment variables:
AUTOMATED_TESTING = 1
COMSPEC = C:\Windows\system32\cmd.exe
NUMBER_OF_PROCESSORS = 4
PATH = C:\Windows\system32;C:\Windows;C:\Windows\System32\Wbem;C:\Smoker\5201x86\perl\site\bin;C:\Smoker\5201x86\perl\bin;C:\Smoker\5201x86\c\bin;c:\orainstant32
PERL5LIB =
PERL5OPT =
PERL5_CPANPLUS_IS_RUNNING = 3360
PERL5_CPAN_IS_RUNNING = 3360
PERL5_CPAN_IS_RUNNING_IN_RECURSION = 708,3360
PERL_CR_SMOKER_CURRENT = Rose-DB-Object-0.813
PERL_EXTUTILS_AUTOINSTALL = --defaultdeps
PERL_MM_USE_DEFAULT = 1
PROCESSOR_IDENTIFIER = Intel64 Family 6 Model 13 Stepping 3, GenuineIntel
TEMP = C:\Users\smoker\AppData\Local\Temp\2
Perl special variables (and OS-specific diagnostics, for MSWin32):
$^X = C:\Smoker\5201x86\perl\bin\perl.exe
$UID/$EUID = 0 / 0
$GID = 0
$EGID = 0
Win32::GetOSName = Win2012
Win32::GetOSVersion = , 6, 2, 9200, 2, 0, 0, 400, 3
Win32::FsType = NTFS
Win32::IsAdminUser = 0
Perl module toolchain versions installed:
Module Have
------------------- --------
CPAN 2.05
CPAN::Meta 2.142690
Cwd 3.48
ExtUtils::CBuilder 0.280220
ExtUtils::Command 1.18
ExtUtils::Install 2.04
ExtUtils::MakeMaker 7.01_09
ExtUtils::Manifest 1.68
ExtUtils::ParseXS 3.24
File::Spec 3.48
JSON 2.90
JSON::PP 2.27203
Module::Build 0.4210
Module::Signature 0.73
Parse::CPAN::Meta 1.4414
Test::Harness 3.34
Test::More 1.001009
YAML 1.11
YAML::Syck 1.27
version 0.9909
--
Summary of my perl5 (revision 5 version 20 subversion 1) configuration:
Platform:
osname=MSWin32, osvers=6.3, archname=MSWin32-x86-multi-thread-64int
uname='Win32 strawberry-perl 5.20.1.1 #1 Mon Sep 15 18:25:23 2014 i386'
config_args='undef'
hint=recommended, useposix=true, d_sigaction=undef
useithreads=define, usemultiplicity=define
use64bitint=define, use64bitall=undef, uselongdouble=undef
usemymalloc=n, bincompat5005=undef
Compiler:
cc='gcc', ccflags =' -s -O2 -DWIN32 -DPERL_TEXTMODE_SCRIPTS -DPERL_IMPLICIT_CONTEXT -DPERL_IMPLICIT_SYS -DUSE_PERLIO -fwrapv -fno-strict-aliasing -mms-bitfields',
optimize='-s -O2',
cppflags='-DWIN32'
ccversion='', gccversion='4.8.3', gccosandvers=''
intsize=4, longsize=4, ptrsize=4, doublesize=8, byteorder=12345678
d_longlong=define, longlongsize=8, d_longdbl=define, longdblsize=12
ivtype='long long', ivsize=8, nvtype='double', nvsize=8, Off_t='long long', lseeksize=8
alignbytes=8, prototype=define
Linker and Libraries:
ld='g++.exe', ldflags ='-s -L"C:\Smoker\5201x86\perl\lib\CORE" -L"C:\Smoker\5201x86\c\lib"'
libpth=C:\Smoker\5201x86\c\lib C:\Smoker\5201x86\c\i686-w64-mingw32\lib C:\Smoker\5201x86\c\lib\gcc\i686-w64-mingw32\4.8.3
libs=-lmoldname -lkernel32 -luser32 -lgdi32 -lwinspool -lcomdlg32 -ladvapi32 -lshell32 -lole32 -loleaut32 -lnetapi32 -luuid -lws2_32 -lmpr -lwinmm -lversion -lodbc32 -lodbccp32 -lcomctl32
perllibs=-lmoldname -lkernel32 -luser32 -lgdi32 -lwinspool -lcomdlg32 -ladvapi32 -lshell32 -lole32 -loleaut32 -lnetapi32 -luuid -lws2_32 -lmpr -lwinmm -lversion -lodbc32 -lodbccp32 -lcomctl32
libc=, so=dll, useshrplib=true, libperl=libperl520.a
gnulibc_version=''
Dynamic Linking:
dlsrc=dl_win32.xs, dlext=xs.dll, d_dlsymun=undef, ccdlflags=' '
cccdlflags=' ', lddlflags='-mdll -s -L"C:\Smoker\5201x86\perl\lib\CORE" -L"C:\Smoker\5201x86\c\lib"'
Characteristics of this binary (from libperl):
Compile-time options: HAS_TIMES HAVE_INTERP_INTERN MULTIPLICITY
PERLIO_LAYERS PERL_DONT_CREATE_GVSV
PERL_HASH_FUNC_ONE_AT_A_TIME_HARD
PERL_IMPLICIT_CONTEXT PERL_IMPLICIT_SYS
PERL_MALLOC_WRAP PERL_NEW_COPY_ON_WRITE
PERL_PRESERVE_IVUV USE_64_BIT_INT USE_ITHREADS
USE_LARGE_FILES USE_LOCALE USE_LOCALE_COLLATE
USE_LOCALE_CTYPE USE_LOCALE_NUMERIC USE_PERLIO
USE_PERL_ATOF
Built under MSWin32
Compiled at Sep 15 2014 18:29:20
%ENV:
PERL5_CPANPLUS_IS_RUNNING="3360"
PERL5_CPAN_IS_RUNNING="3360"
PERL5_CPAN_IS_RUNNING_IN_RECURSION="708,3360"
PERL_CR_SMOKER_CURRENT="Rose-DB-Object-0.813"
PERL_EXTUTILS_AUTOINSTALL="--defaultdeps"
PERL_MM_USE_DEFAULT="1"
@INC:
C:/Smoker/5201x86/perl/site/lib/MSWin32-x86-multi-thread-64int
C:/Smoker/5201x86/perl/site/lib
C:/Smoker/5201x86/perl/vendor/lib
C:/Smoker/5201x86/perl/lib
.