Test-Class-Moose v0.92 Perl 5 v5.12.2 MSWin32-x86-multi-thread
- Status
- Pass
- From
- Alexandr Ciornii (CHORNY)
- Dist
-
Test-Class-Moose v0.92
- Platform
- Perl 5 v5.12.2 MSWin32-x86-multi-thread
- Date
- 2017-12-24 10:16:47
- ID
- 73b67e53-6bf8-1014-ad22-8ebf55256dd5
This distribution has been tested as part of the CPAN Testers
project, supporting the Perl programming language. See
http://wiki.cpantesters.org/ for more information or email
questions to cpan-testers-discuss@perl.org
--
Dear Dave Rolsky,
This is a computer-generated report for Test-Class-Moose-0.92
on perl 5.12.2, created by CPAN-Reporter-1.2014.
Thank you for uploading your work to CPAN. Congratulations!
All tests were successful.
Sections of this report:
* Tester comments
* Program output
* Prerequisites
* Environment and other context
------------------------------
TESTER COMMENTS
------------------------------
Additional comments from tester:
this report is from an automated smoke testing program
and was not reviewed by a human for accuracy
------------------------------
PROGRAM OUTPUT
------------------------------
Output from 'C:\strawberry\c\bin\dmake.EXE test':
C:\strawberry\perl\bin\perl.exe "-MExtUtils::Command::MM" "-MTest::Harness" "-e" "undef *Test::Harness::Switches; test_harness(0, 'blib\lib', 'blib\arch')" t/*.t
#
# Versions for all modules listed in MYMETA.json (including optional ones):
#
# === Configure Requires ===
#
# Module Want Have
# ------------------- ---- ----
# ExtUtils::MakeMaker any 6.98
#
# === Build Requires ===
#
# Module Want Have
# ------------------- ---- ----
# ExtUtils::MakeMaker any 6.98
#
# === Test Requires ===
#
# Module Want Have
# --------------------- -------- --------
# ExtUtils::MakeMaker any 6.98
# File::Spec any 3.47
# File::Temp any 0.2304
# Test2::Tools::Basic any 0.000097
# Test2::Tools::Class any 0.000097
# Test2::Tools::Compare any 0.000097
# Test2::Tools::Subtest any 0.000097
# Test2::V0 any 0.000097
# Test::Builder any 1.302120
# Test::More 1.302015 1.302120
# Test::Requires any 0.07
# Test::Warnings any 0.016
# lib any 0.62
#
# === Test Recommends ===
#
# Module Want Have
# ------------ -------- --------
# CPAN::Meta 2.120900 2.141520
# Test::Output 0.0005 1.03
#
# === Runtime Requires ===
#
# Module Want Have
# ---------------------------- --------- --------
# Benchmark any 1.11
# Carp any 1.3301
# Class::MOP any 2.1210
# Exporter any 5.70
# File::Find any 1.15
# File::Spec any 3.47
# Import::Into any 1.002004
# JSON any 2.90
# List::SomeUtils any 0.56
# List::Util any 1.39
# Module::Runtime any 0.014
# Module::Util any 1.09
# Moose 2.0000 2.1210
# Moose::Role 2.0000 2.1210
# Moose::Util any 2.1210
# Moose::Util::TypeConstraints any 2.1210
# MooseX::Getopt 0.71 0.71
# MooseX::Getopt::Dashes any 0.71
# Package::DeprecationManager 0.16 0.17
# Parallel::ForkManager any 1.06
# Scalar::Util any 1.39
# Sub::Attribute any 0.05
# TAP::Formatter::Color 3.29 3.32
# Test2 1.1302118 1.302120
# Test2::API any 1.302120
# Test2::AsyncSubtest 0.000018 0.000097
# Test2::IPC any 1.302120
# Test2::Tools::AsyncSubtest any 0.000097
# Test::Most any 0.34
# Try::Tiny any 0.22
# namespace::autoclean any 0.19
# strict any 1.04
# warnings any 1.09
#
# === Runtime Recommends ===
#
# Module Want Have
# --------------------- ------ ----
# Parallel::ForkManager v0.7.6 1.06
#
t/00-report-prereqs.t .......... ok
t/autouse.t .................... ok
t/bare.t ....................... ok
t/basic.t ...................... ok
t/cli.t ........................ ok
t/environment.t ................ ok
t/executor_roles.t ............. ok
t/include_classes.t ............ ok
t/include_exclude.t ............ ok
t/load.t ....................... ok
t/no_tests_run.t ............... ok
t/non_randomize_classes.t ...... ok
t/parallel.t ................... skipped: These tests currently fail on Windows for reasons we do not understand. Patches welcome.
t/parameterized.t .............. ok
t/plans.t ...................... ok
t/process_name.t ............... ok
t/reportpassed.t ............... ok
t/skip.t ....................... ok
t/tags.t ....................... ok
t/test_class_is_not_loaded.t ... ok
t/test_control_methods.t ....... ok
t/test_control_methods_skip.t .. ok
t/timing.t ..................... ok
t/todo.t ....................... ok
All tests successful.
Files=24, Tests=181, 52 wallclock secs ( 0.34 usr + 0.80 sys = 1.14 CPU)
Result: PASS
------------------------------
PREREQUISITES
------------------------------
Prerequisite modules loaded:
requires:
Module Need Have
---------------------------- --------- --------
Benchmark 0 1.11
Carp 0 1.3301
Class::MOP 0 2.1210
Exporter 0 5.70
File::Find 0 1.15
File::Spec 0 3.47
Import::Into 0 1.002004
JSON 0 2.90
List::SomeUtils 0 0.56
List::Util 0 1.39
Module::Runtime 0 0.014
Module::Util 0 1.09
Moose 2.0000 2.1210
Moose::Role 2.0000 2.1210
Moose::Util 0 2.1210
Moose::Util::TypeConstraints 0 2.1210
MooseX::Getopt 0.71 0.71
MooseX::Getopt::Dashes 0 0.71
namespace::autoclean 0 0.19
Package::DeprecationManager 0.16 0.17
Parallel::ForkManager 0 1.06
perl 5.010000 5.012002
Scalar::Util 0 1.39
strict 0 1.04
Sub::Attribute 0 0.05
TAP::Formatter::Color 3.29 3.32
Test2 1.1302118 1.302120
Test2::API 0 1.302120
Test2::AsyncSubtest 0.000018 0.000097
Test2::IPC 0 1.302120
Test2::Tools::AsyncSubtest 0 0.000097
Test::Most 0 0.34
Try::Tiny 0 0.22
warnings 0 1.09
build_requires:
Module Need Have
---------------------------- --------- --------
ExtUtils::MakeMaker 0 6.98
File::Spec 0 3.47
File::Temp 0 0.2304
lib 0 0.62
Test2::Tools::Basic 0 0.000097
Test2::Tools::Class 0 0.000097
Test2::Tools::Compare 0 0.000097
Test2::Tools::Subtest 0 0.000097
Test2::V0 0 0.000097
Test::Builder 0 1.302120
Test::More 1.302015 1.302120
Test::Requires 0 0.07
Test::Warnings 0 0.016
configure_requires:
Module Need Have
---------------------------- --------- --------
ExtUtils::MakeMaker 0 6.98
------------------------------
ENVIRONMENT AND OTHER CONTEXT
------------------------------
Environment variables:
AUTOMATED_TESTING = 1
COMSPEC = C:\WINDOWS\system32\cmd.exe
NUMBER_OF_PROCESSORS = 1
PATH = c:\Windows\system32;c:\Windows\System32\Wbem;C:\Git\cmd;C:\strawberry\c\bin;C:\strawberry\perl\site\bin;C:\strawberry\perl\bin
PERL5LIB = C:\strawberry\cpan\build\List-SomeUtils-0.56-FUsci3/blib/arch;C:\strawberry\cpan\build\List-SomeUtils-0.56-FUsci3/blib/lib;C:\strawberry\cpan\build\List-SomeUtils-XS-0.56-ipoiPX/blib/arch;C:\strawberry\cpan\build\List-SomeUtils-XS-0.56-ipoiPX/blib/lib;C:\strawberry\cpan\build\MooseX-Getopt-0.71-QN4CV0/blib/arch;C:\strawberry\cpan\build\MooseX-Getopt-0.71-QN4CV0/blib/lib;C:\strawberry\cpan\build\Package-DeprecationManager-0.17-Y9ELc7/blib/arch;C:\strawberry\cpan\build\Package-DeprecationManager-0.17-Y9ELc7/blib/lib;C:\strawberry\cpan\build\Test2-Suite-0.000097-oZriHg/blib/arch;C:\strawberry\cpan\build\Test2-Suite-0.000097-oZriHg/blib/lib;C:\strawberry\cpan\build\Term-Table-0.012-KhDWLp/blib/arch;C:\strawberry\cpan\build\Term-Table-0.012-KhDWLp/blib/lib;C:\strawberry\cpan\build\Sub-Info-0.002-FuaztK/blib/arch;C:\strawberry\cpan\build\Sub-Info-0.002-FuaztK/blib/lib;C:\strawberry\cpan\build\Importer-0.024-KJMdmc/blib/arch;C:\strawberry\cpan\build\Importer-0.024-KJMdmc/blib/lib;C:\strawberry\cpan\build\Test-Simple-1.302120-vjTE1T/blib/arch;C:\strawberry\cpan\build\Test-Simple-1.302120-vjTE1T/blib/lib
PERL5OPT =
PERL5_CPANPLUS_IS_RUNNING = 1184
PERL5_CPAN_IS_RUNNING = 1184
PERL5_CPAN_IS_RUNNING_IN_RECURSION = 1112,1184
PERL_CR_SMOKER_CURRENT = Test-Class-Moose-0.92
PERL_CR_SMOKER_RUNONCE = 1
PERL_EXTUTILS_AUTOINSTALL = --defaultdeps
PERL_MM_USE_DEFAULT = 1
PROCESSOR_IDENTIFIER = x86 Family 16 Model 5 Stepping 3, AuthenticAMD
TEMP = C:\DOCUME~1\c\LOCALS~1\Temp
TERM = dumb
Perl special variables (and OS-specific diagnostics, for MSWin32):
$^X = C:\strawberry\perl\bin\perl.exe
$UID/$EUID = 0 / 0
$GID = 0
$EGID = 0
Win32::GetOSName = WinXP/.Net
Win32::GetOSVersion = Service Pack 3, 5, 1, 2600, 2, 3, 0, 256, 1
Win32::FsType = NTFS
Win32::IsAdminUser = 1
Perl module toolchain versions installed:
Module Have
------------------- --------
CPAN 2.00
CPAN::Meta 2.141520
Cwd 3.47
ExtUtils::CBuilder 0.280216
ExtUtils::Command 1.16
ExtUtils::Install 1.55
ExtUtils::MakeMaker 6.98
ExtUtils::Manifest 1.60
ExtUtils::ParseXS 3.24
File::Spec 3.47
JSON 2.90
JSON::PP 2.27203
Module::Build 0.4206
Module::Signature 0.66
Parse::CPAN::Meta 1.4414
Test::Harness 3.32
Test::More 1.302120
YAML 0.98
YAML::Syck 1.27
version 0.9908
--
Summary of my perl5 (revision 5 version 12 subversion 2) configuration:
Platform:
osname=MSWin32, osvers=5.1, archname=MSWin32-x86-multi-thread
uname='Win32 strawberryperl 5.12.2.0 #1 Fri Nov 5 05:17:27 2010 i386'
config_args='undef'
hint=recommended, useposix=true, d_sigaction=undef
useithreads=define, usemultiplicity=define
useperlio=define, d_sfio=undef, uselargefiles=define, usesocks=undef
use64bitint=undef, use64bitall=undef, uselongdouble=undef
usemymalloc=n, bincompat5005=undef
Compiler:
cc='gcc', ccflags =' -s -O2 -DWIN32 -DHAVE_DES_FCRYPT -DUSE_SITECUSTOMIZE -DPERL_IMPLICIT_CONTEXT -DPERL_IMPLICIT_SYS -fno-strict-aliasing -mms-bitfields -DPERL_MSVCRT_READFIX',
optimize='-s -O2',
cppflags='-DWIN32'
ccversion='', gccversion='4.4.3', gccosandvers=''
intsize=4, longsize=4, ptrsize=4, doublesize=8, byteorder=1234
d_longlong=undef, longlongsize=8, d_longdbl=define, longdblsize=12
ivtype='long', ivsize=4, nvtype='double', nvsize=8, Off_t='long long', lseeksize=8
alignbytes=8, prototype=define
Linker and Libraries:
ld='g++', ldflags ='-s -L"C:\strawberry\perl\lib\CORE" -L"C:\strawberry\c\lib"'
libpth=C:\strawberry\c\lib C:\strawberry\c\i686-w64-mingw32\lib
libs=-lmoldname -lkernel32 -luser32 -lgdi32 -lwinspool -lcomdlg32 -ladvapi32 -lshell32 -lole32 -loleaut32 -lnetapi32 -luuid -lws2_32 -lmpr -lwinmm -lversion -lodbc32 -lodbccp32 -lcomctl32
perllibs=-lmoldname -lkernel32 -luser32 -lgdi32 -lwinspool -lcomdlg32 -ladvapi32 -lshell32 -lole32 -loleaut32 -lnetapi32 -luuid -lws2_32 -lmpr -lwinmm -lversion -lodbc32 -lodbccp32 -lcomctl32
libc=, so=dll, useshrplib=true, libperl=libperl512.a
gnulibc_version=''
Dynamic Linking:
dlsrc=dl_win32.xs, dlext=dll, d_dlsymun=undef, ccdlflags=' '
cccdlflags=' ', lddlflags='-mdll -s -L"C:\strawberry\perl\lib\CORE" -L"C:\strawberry\c\lib"'
Characteristics of this binary (from libperl):
Compile-time options: MULTIPLICITY PERL_DONT_CREATE_GVSV
PERL_IMPLICIT_CONTEXT PERL_IMPLICIT_SYS
PERL_MALLOC_WRAP PL_OP_SLAB_ALLOC USE_ITHREADS
USE_LARGE_FILES USE_PERLIO USE_PERL_ATOF
USE_SITECUSTOMIZE
Built under MSWin32
Compiled at Nov 5 2010 08:39:08
%ENV:
PERL5LIB="C:\strawberry\cpan\build\List-SomeUtils-0.56-FUsci3/blib/arch;C:\strawberry\cpan\build\List-SomeUtils-0.56-FUsci3/blib/lib;C:\strawberry\cpan\build\List-SomeUtils-XS-0.56-ipoiPX/blib/arch;C:\strawberry\cpan\build\List-SomeUtils-XS-0.56-ipoiPX/blib/lib;C:\strawberry\cpan\build\MooseX-Getopt-0.71-QN4CV0/blib/arch;C:\strawberry\cpan\build\MooseX-Getopt-0.71-QN4CV0/blib/lib;C:\strawberry\cpan\build\Package-DeprecationManager-0.17-Y9ELc7/blib/arch;C:\strawberry\cpan\build\Package-DeprecationManager-0.17-Y9ELc7/blib/lib;C:\strawberry\cpan\build\Test2-Suite-0.000097-oZriHg/blib/arch;C:\strawberry\cpan\build\Test2-Suite-0.000097-oZriHg/blib/lib;C:\strawberry\cpan\build\Term-Table-0.012-KhDWLp/blib/arch;C:\strawberry\cpan\build\Term-Table-0.012-KhDWLp/blib/lib;C:\strawberry\cpan\build\Sub-Info-0.002-FuaztK/blib/arch;C:\strawberry\cpan\build\Sub-Info-0.002-FuaztK/blib/lib;C:\strawberry\cpan\build\Importer-0.024-KJMdmc/blib/arch;C:\strawberry\cpan\build\Importer-0.024-KJMdmc/blib/lib;C:\strawberry\cpan\build\Test-Simple-1.302120-vjTE1T/blib/arch;C:\strawberry\cpan\build\Test-Simple-1.302120-vjTE1T/blib/lib"
PERL5_CPANPLUS_IS_RUNNING="1184"
PERL5_CPAN_IS_RUNNING="1184"
PERL5_CPAN_IS_RUNNING_IN_RECURSION="1112,1184"
PERL_CR_SMOKER_CURRENT="Test-Class-Moose-0.92"
PERL_CR_SMOKER_RUNONCE="1"
PERL_EXTUTILS_AUTOINSTALL="--defaultdeps"
PERL_MM_USE_DEFAULT="1"
@INC:
C:\strawberry\cpan\build\List-SomeUtils-0.56-FUsci3/blib/arch
C:\strawberry\cpan\build\List-SomeUtils-0.56-FUsci3/blib/lib
C:\strawberry\cpan\build\List-SomeUtils-XS-0.56-ipoiPX/blib/arch
C:\strawberry\cpan\build\List-SomeUtils-XS-0.56-ipoiPX/blib/lib
C:\strawberry\cpan\build\MooseX-Getopt-0.71-QN4CV0/blib/arch
C:\strawberry\cpan\build\MooseX-Getopt-0.71-QN4CV0/blib/lib
C:\strawberry\cpan\build\Package-DeprecationManager-0.17-Y9ELc7/blib/arch
C:\strawberry\cpan\build\Package-DeprecationManager-0.17-Y9ELc7/blib/lib
C:\strawberry\cpan\build\Test2-Suite-0.000097-oZriHg/blib/arch
C:\strawberry\cpan\build\Test2-Suite-0.000097-oZriHg/blib/lib
C:\strawberry\cpan\build\Term-Table-0.012-KhDWLp/blib/arch
C:\strawberry\cpan\build\Term-Table-0.012-KhDWLp/blib/lib
C:\strawberry\cpan\build\Sub-Info-0.002-FuaztK/blib/arch
C:\strawberry\cpan\build\Sub-Info-0.002-FuaztK/blib/lib
C:\strawberry\cpan\build\Importer-0.024-KJMdmc/blib/arch
C:\strawberry\cpan\build\Importer-0.024-KJMdmc/blib/lib
C:\strawberry\cpan\build\Test-Simple-1.302120-vjTE1T/blib/arch
C:\strawberry\cpan\build\Test-Simple-1.302120-vjTE1T/blib/lib
C:/strawberry/perl/site/lib
C:/strawberry/perl/vendor/lib
C:/strawberry/perl/lib
.