Report for Rex-Repositorio-1.1.0

Back
From: metabase:user:30f4dfbe-2aae-11df-837a-5e0a49663a4f
Subject: PASS Rex-Repositorio-1.1.0 v5.10.0 GNU/Linux
Date: 2015-05-10T03:20:04Z

This distribution has been tested as part of the CPAN Testers
project, supporting the Perl programming language.  See
http://wiki.cpantesters.org/ for more information or email
questions to cpan-testers-discuss@perl.org


--
Dear Jan Gehring,

This is a computer-generated report for Rex-Repositorio-1.1.0
on perl 5.10.0, created by CPAN-Reporter-1.2014.

Thank you for uploading your work to CPAN.  Congratulations!
All tests were successful.

Sections of this report:

    * Tester comments
    * Program output
    * Prerequisites
    * Environment and other context

------------------------------
TESTER COMMENTS
------------------------------

Additional comments from tester:

this report is from an automated smoke testing program
and was not reviewed by a human for accuracy

------------------------------
PROGRAM OUTPUT
------------------------------

Output from '/usr/bin/make test':

PERL_DL_NONLAZY=1 "/home/njh/perl5/perlbrew/perls/perl-5.10.0/bin/perl" "-MExtUtils::Command::MM" "-MTest::Harness" "-e" "undef *Test::Harness::Switches; test_harness(0, 'blib/lib', 'blib/arch')" t/*.t
t/author-critic.t ....... skipped: these tests are for testing by the author
t/base.t ................ ok
t/release-pod-syntax.t .. skipped: these tests are for release candidate testing
All tests successful.
Files=3, Tests=6,  1 wallclock secs ( 0.02 usr  0.00 sys +  0.32 cusr  0.02 csys =  0.36 CPU)
Result: PASS

------------------------------
PREREQUISITES
------------------------------

Prerequisite modules loaded:

requires:

    Module                Need Have  
    --------------------- ---- ------
    base                  0    2.18  
    Carp                  0    1.32  
    common::sense         0    3.72  
    Compress::Zlib        0    2.062 
    Config::General       0    2.56  
    Data::Dumper          0    2.145 
    Digest::MD5           0    2.53  
    Digest::SHA           0    5.85  
    Encode                0    2.55  
    English               0    1.04  
    File::Basename        0    2.76  
    File::Copy            0    2.11  
    File::Path            0    2.09  
    File::Spec            0    3.40  
    File::Spec::Functions 0    3.40  
    FindBin               0    1.49  
    Getopt::Long          0    2.41  
    IO::All               0    0.46  
    JSON::XS              0    2.34  
    lib                   0    0.63  
    List::MoreUtils       0    0.33  
    Log::Log4perl         0    1.42  
    LWP::UserAgent        0    6.05  
    MIME::Base64          0    3.14  
  ! Mojo::Base            0    n/a   
  ! Mojo::DOM             0    n/a   
  ! Mojo::UserAgent       0    n/a   
  ! Mojo::Util            0    n/a   
  ! Mojolicious::Commands 0    n/a   
  ! Mojolicious::Plugin   0    n/a   
    Moose                 0    2.1005
    Params::Validate      0    1.08  
    strict                0    1.04  
    Term::ANSIColor       0    4.02  
    Term::ProgressBar     0    2.17  
    Term::ReadKey         0    2.30  
    Try::Tiny             0    0.18  
    warnings              0    1.06  
    XML::LibXML           0    2.0106
    XML::Simple           0    2.20  

build_requires:

    Module                Need Have  
    --------------------- ---- ------
    ExtUtils::MakeMaker   0    7.04  
    Test::More            0    0.98  

configure_requires:

    Module                Need Have  
    --------------------- ---- ------
    ExtUtils::MakeMaker   0    7.04  


------------------------------
ENVIRONMENT AND OTHER CONTEXT
------------------------------

Environment variables:

    AUTOMATED_TESTING = 1
    LANG = en_GB.UTF-8
    LANGUAGE = en_GB:en
    LD_LIBRARY_PATH = /usr/local/lib::
    PATH = /home/njh/perl5/perlbrew/bin:/home/njh/perl5/perlbrew/perls/perl-5.10.0/bin:/home/njh/perl5/perlbrew/bin:/usr/local/bin:/usr/bin:/bin:/usr/local/games:/usr/games:/home/njh/bin:/sbin
    PERL5LIB = /home/njh/.cpan/build/Term-ProgressBar-2.17-VPPG72/blib/arch:/home/njh/.cpan/build/Term-ProgressBar-2.17-VPPG72/blib/lib:/home/njh/.cpan/build/Class-MethodMaker-2.24-8OZbmu/blib/arch:/home/njh/.cpan/build/Class-MethodMaker-2.24-8OZbmu/blib/lib:/home/njh/.cpan/build/XML-Simple-2.20-j7xOdl/blib/arch:/home/njh/.cpan/build/XML-Simple-2.20-j7xOdl/blib/lib:/home/njh/.cpan/build/XML-SAX-Expat-0.51-ZOHZkQ/blib/arch:/home/njh/.cpan/build/XML-SAX-Expat-0.51-ZOHZkQ/blib/lib:/home/njh/.cpan/build/Config-General-2.56-T9p7FC/blib/arch:/home/njh/.cpan/build/Config-General-2.56-T9p7FC/blib/lib
    PERL5OPT = 
    PERL5_CPANPLUS_IS_RUNNING = 23670
    PERL5_CPAN_IS_RUNNING = 23670
    PERL5_MINISMOKEBOX = 0.58
    PERLBREW_BASHRC_VERSION = 0.73
    PERLBREW_HOME = /home/njh/.perlbrew
    PERLBREW_LIB = 
    PERLBREW_MANPATH = /home/njh/perl5/perlbrew/perls/perl-5.10.0/man
    PERLBREW_PATH = /home/njh/perl5/perlbrew/bin:/home/njh/perl5/perlbrew/perls/perl-5.10.0/bin
    PERLBREW_PERL = perl-5.10.0
    PERLBREW_ROOT = /home/njh/perl5/perlbrew
    PERLBREW_VERSION = 0.73
    PERL_EXTUTILS_AUTOINSTALL = --defaultdeps
    PERL_LOCAL_LIB_ROOT = 
    PERL_MM_USE_DEFAULT = 1
    SHELL = /bin/bash
    TMPDIR = /home/njh/tmp

Perl special variables (and OS-specific diagnostics, for MSWin32):

    $^X = /home/njh/perl5/perlbrew/perls/perl-5.10.0/bin/perl
    $UID/$EUID = 1000 / 1000
    $GID = 1000 4 24 25 29 30 44 46 108 112 1000
    $EGID = 1000 4 24 25 29 30 44 46 108 112 1000

Perl module toolchain versions installed:

    Module              Have    
    ------------------- --------
    CPAN                1.9800  
    CPAN::Meta          2.132830
    Cwd                 3.40    
    ExtUtils::CBuilder  0.280216
    ExtUtils::Command   1.18    
    ExtUtils::Install   1.54    
    ExtUtils::MakeMaker 7.04    
    ExtUtils::Manifest  1.65    
    ExtUtils::ParseXS   3.22    
    File::Spec          3.40    
    JSON                2.59    
    JSON::PP            2.27203 
    Module::Build       0.32    
    Module::Signature   0.73    
    Parse::CPAN::Meta   1.4409  
    Test::Harness       3.29    
    Test::More          0.98    
    YAML                0.84    
    YAML::Syck          1.29    
    version             0.9904  


--

Summary of my perl5 (revision 5 version 10 subversion 0) configuration:
  Platform:
    osname=linux, osvers=3.2.0-4-amd64, archname=x86_64-linux-thread-multi
    uname='linux nigelhorne.force9.co.uk 3.2.0-4-amd64 #1 smp debian 3.2.32-1 x86_64 gnulinux '
    config_args='-de -Dprefix=/home/njh/perl5/perlbrew/perls/perl-5.10.0 -Duseithreads -Dusemultiplicity -Accflags=-O2 -W -Wformat=2 -Wswitch -Wshadow -Wwrite-strings -Wuninitialized -Wall -pipe -mtune=native -march=native -fomit-frame-pointer -mfpmath=sse -pedantic -D_FORTIFY_SOURCE=2 -Wpointer-arith -Wstrict-prototypes -fstack-protector -Wstack-protector -Wextra -Wbad-function-cast -Wcast-align -Wcast-qual -Wdisabled-optimization -Wendif-labels -Wfloat-equal -Wformat-nonliteral -Winline -Wmissing-declarations -Wmissing-prototypes -Wnested-externs -Wpointer-arith -Wundef -Wformat-security -Aeval:scriptdir=/home/njh/perl5/perlbrew/perls/perl-5.10.0/bin'
    hint=recommended, useposix=true, d_sigaction=define
    useithreads=define, usemultiplicity=define
    useperlio=define, d_sfio=undef, uselargefiles=define, usesocks=undef
    use64bitint=define, use64bitall=define, uselongdouble=undef
    usemymalloc=n, bincompat5005=undef
  Compiler:
    cc='cc', ccflags ='-D_REENTRANT -D_GNU_SOURCE -O2 -W -Wformat=2 -Wswitch -Wshadow -Wwrite-strings -Wuninitialized -Wall -pipe -mtune=native -march=native -fomit-frame-pointer -mfpmath=sse -pedantic -D_FORTIFY_SOURCE=2 -Wpointer-arith -Wstrict-prototypes -fstack-protector -Wstack-protector -Wextra -Wbad-function-cast -Wcast-align -Wcast-qual -Wdisabled-optimization -Wendif-labels -Wfloat-equal -Wformat-nonliteral -Winline -Wmissing-declarations -Wmissing-prototypes -Wnested-externs -Wpointer-arith -Wundef -Wformat-security -fno-strict-aliasing -I/usr/local/include -D_LARGEFILE_SOURCE -D_FILE_OFFSET_BITS=64',
    optimize='-O2',
    cppflags='-D_REENTRANT -D_GNU_SOURCE -O2 -W -Wformat=2 -Wswitch -Wshadow -Wwrite-strings -Wuninitialized -Wall -pipe -mtune=native -march=native -fomit-frame-pointer -mfpmath=sse -pedantic -D_FORTIFY_SOURCE=2 -Wpointer-arith -Wstrict-prototypes -fstack-protector -Wstack-protector -Wextra -Wbad-function-cast -Wcast-align -Wcast-qual -Wdisabled-optimization -Wendif-labels -Wfloat-equal -Wformat-nonliteral -Winline -Wmissing-declarations -Wmissing-prototypes -Wnested-externs -Wpointer-arith -Wundef -Wformat-security -fno-strict-aliasing -I/usr/local/include'
    ccversion='', gccversion='4.7.2', gccosandvers=''
    intsize=4, longsize=8, ptrsize=8, doublesize=8, byteorder=12345678
    d_longlong=define, longlongsize=8, d_longdbl=define, longdblsize=16
    ivtype='long', ivsize=8, nvtype='double', nvsize=8, Off_t='off_t', lseeksize=8
    alignbytes=8, prototype=define
  Linker and Libraries:
    ld='cc', ldflags =' -L/usr/local/lib'
    libpth=/usr/local/lib /lib/x86_64-linux-gnu /lib/../lib /usr/lib/x86_64-linux-gnu /usr/lib/../lib /lib /usr/lib
    libs=-lnsl -lgdbm -ldb -ldl -lm -lcrypt -lutil -lpthread -lc -lgdbm_compat
    perllibs=-lnsl -ldl -lm -lcrypt -lutil -lpthread -lc -lgdbm_compat
    libc=, so=so, useshrplib=false, libperl=libperl.a
    gnulibc_version='2.13'
  Dynamic Linking:
    dlsrc=dl_dlopen.xs, dlext=so, d_dlsymun=undef, ccdlflags='-Wl,-E'
    cccdlflags='-fPIC', lddlflags='-shared -O2 -L/usr/local/lib'


Characteristics of this binary (from libperl): 
  Compile-time options: MULTIPLICITY PERL_DONT_CREATE_GVSV
                        PERL_IMPLICIT_CONTEXT PERL_MALLOC_WRAP USE_64_BIT_ALL
                        USE_64_BIT_INT USE_ITHREADS USE_LARGE_FILES
                        USE_PERLIO USE_REENTRANT_API
  Built under linux
  Compiled at Mar  4 2013 20:42:58
  %ENV:
    PERL5LIB="/home/njh/.cpan/build/Term-ProgressBar-2.17-VPPG72/blib/arch:/home/njh/.cpan/build/Term-ProgressBar-2.17-VPPG72/blib/lib:/home/njh/.cpan/build/Class-MethodMaker-2.24-8OZbmu/blib/arch:/home/njh/.cpan/build/Class-MethodMaker-2.24-8OZbmu/blib/lib:/home/njh/.cpan/build/XML-Simple-2.20-j7xOdl/blib/arch:/home/njh/.cpan/build/XML-Simple-2.20-j7xOdl/blib/lib:/home/njh/.cpan/build/XML-SAX-Expat-0.51-ZOHZkQ/blib/arch:/home/njh/.cpan/build/XML-SAX-Expat-0.51-ZOHZkQ/blib/lib:/home/njh/.cpan/build/Config-General-2.56-T9p7FC/blib/arch:/home/njh/.cpan/build/Config-General-2.56-T9p7FC/blib/lib"
    PERL5OPT=""
    PERL5_CPANPLUS_IS_RUNNING="23670"
    PERL5_CPAN_IS_RUNNING="23670"
    PERL5_MINISMOKEBOX="0.58"
    PERLBREW_BASHRC_VERSION="0.73"
    PERLBREW_HOME="/home/njh/.perlbrew"
    PERLBREW_LIB=""
    PERLBREW_MANPATH="/home/njh/perl5/perlbrew/perls/perl-5.10.0/man"
    PERLBREW_PATH="/home/njh/perl5/perlbrew/bin:/home/njh/perl5/perlbrew/perls/perl-5.10.0/bin"
    PERLBREW_PERL="perl-5.10.0"
    PERLBREW_ROOT="/home/njh/perl5/perlbrew"
    PERLBREW_VERSION="0.73"
    PERL_EXTUTILS_AUTOINSTALL="--defaultdeps"
    PERL_LOCAL_LIB_ROOT=""
    PERL_MM_USE_DEFAULT="1"
  @INC:
    /home/njh/.cpan/build/Term-ProgressBar-2.17-VPPG72/blib/arch
    /home/njh/.cpan/build/Term-ProgressBar-2.17-VPPG72/blib/lib
    /home/njh/.cpan/build/Class-MethodMaker-2.24-8OZbmu/blib/arch
    /home/njh/.cpan/build/Class-MethodMaker-2.24-8OZbmu/blib/lib
    /home/njh/.cpan/build/XML-Simple-2.20-j7xOdl/blib/arch
    /home/njh/.cpan/build/XML-Simple-2.20-j7xOdl/blib/lib
    /home/njh/.cpan/build/XML-SAX-Expat-0.51-ZOHZkQ/blib/arch
    /home/njh/.cpan/build/XML-SAX-Expat-0.51-ZOHZkQ/blib/lib
    /home/njh/.cpan/build/Config-General-2.56-T9p7FC/blib/arch
    /home/njh/.cpan/build/Config-General-2.56-T9p7FC/blib/lib
    /home/njh/perl5/perlbrew/perls/perl-5.10.0/lib/5.10.0/x86_64-linux-thread-multi
    /home/njh/perl5/perlbrew/perls/perl-5.10.0/lib/5.10.0
    /home/njh/perl5/perlbrew/perls/perl-5.10.0/lib/site_perl/5.10.0/x86_64-linux-thread-multi
    /home/njh/perl5/perlbrew/perls/perl-5.10.0/lib/site_perl/5.10.0
    .