Text-Xslate vv3.5.9 Perl 5 v5.40.3 darwin-thread-multi-2level
- Status
- Pass
- From
- aero
- Dist
-
Text-Xslate vv3.5.9
- Platform
- Perl 5 v5.40.3 darwin-thread-multi-2level
- Date
- 2025-09-02 06:45:44
- ID
- 734e5d80-87c8-11f0-91e8-fb4de8c0f129
This distribution has been tested as part of the CPAN Testers
project, supporting the Perl programming language. See
http://wiki.cpantesters.org/ for more information or email
questions to cpan-testers-discuss@perl.org
--
Dear Shoichi Kaji,
This is a computer-generated report for Text-Xslate-v3.5.9
on perl 5.40.3, created by CPAN-Reporter-1.2020.
Thank you for uploading your work to CPAN. Congratulations!
All tests were successful.
Sections of this report:
* Tester comments
* Program output
* Prerequisites
* Environment and other context
------------------------------
TESTER COMMENTS
------------------------------
Additional comments from tester:
none provided
------------------------------
PROGRAM OUTPUT
------------------------------
Output from './Build test':
xs tests
# Testing Text::Xslate/v3.5.9
# Backend: XS
# $ENV{XSLATE}=xs
t/000_load.t .................................... ok
t/010_internals/001_parse.t ..................... ok
t/010_internals/002_compile.t ................... ok
t/010_internals/003_assemble.t .................. ok
t/010_internals/004_magic.t ..................... ok
t/010_internals/005_load_file.t ................. ok
t/010_internals/006_errhandler.t ................ ok
t/010_internals/007_compile_errs.t .............. ok
t/010_internals/008_files.t ..................... ok
t/010_internals/009_goto_address.t .............. ok
t/010_internals/010_line_number.t ............... ok
t/010_internals/011_missuse.t ................... ok
t/010_internals/012_multilines.t ................ ok
t/010_internals/013_deps_str.t .................. ok
t/010_internals/014_deps_file.t ................. ok
t/010_internals/015_deps_file2.t ................ ok
t/010_internals/016_cached.t .................... ok
t/010_internals/017_render.t .................... ok
t/010_internals/018_opinfo.t .................... ok
t/010_internals/019_runtime_error.t ............. ok
t/010_internals/020_optimize.t .................. ok
t/010_internals/021_edge_cases.t ................ ok
t/010_internals/022_signal.t .................... ok
t/010_internals/023_cachepath.t ................. ok
t/010_internals/024_die_in_macros.t ............. ok
t/010_internals/025_reset_hooks.t ............... ok
t/010_internals/026_issue16_deep_recursion.t .... ok
t/010_internals/027_infinite_warn.t ............. ok
t/010_internals/028_taint.t ..................... ok
t/010_internals/029_large_file.t ................ ok
t/010_internals/030_die_in_funcs.t .............. ok
t/010_internals/031_save_src.t .................. ok
t/010_internals/032_encoding_error.t ............ skipped: TODO: the behaviours of PP and XS does not match
t/010_internals/033_vpath_cache.t ............... ok
t/010_internals/034_is_code_ref.t ............... ok
t/010_internals/036_merge_hash.t ................ ok
t/010_internals/037_find_file.t ................. ok
t/010_internals/038_suffix.t .................... ok
t/010_internals/039_taint_issue84.t ............. ok
t/010_internals/100_threads.t ................... ok
t/010_internals/200_leaktrace.t ................. ok
t/010_internals/300_explicit_pp.t ............... ok
t/020_interface/001_parser_option.t ............. ok
t/020_interface/002_myparser.t .................. ok
t/020_interface/003_encoding.t .................. ok
t/020_interface/004_no_vars.t ................... ok
t/020_interface/005_util.t ...................... ok
t/020_interface/006_psgi.t ...................... ok
t/020_interface/007_data_section.t .............. ok
t/020_interface/008_type.t ...................... ok
t/020_interface/009_hash_with_default.t ......... ok
t/020_interface/010_err_encoding.t .............. ok
t/020_interface/011_hwd_w_include_vars.t ........ ok
t/020_interface/012_default_functions.t ......... ok
t/020_interface/013_slurp_template.t ............ ok
t/020_interface/014_customize_option.t .......... ok
t/020_interface/015_render_recursion.t .......... ok
t/020_interface/016_pre_process_handler.t ....... ok
t/020_interface/017_validate.t .................. ok
t/030_kolon/001_interpolate.t ................... ok
t/030_kolon/002_field.t ......................... ok
t/030_kolon/003_for.t ........................... ok
t/030_kolon/004_if.t ............................ ok
t/030_kolon/005_rel_ops.t ....................... ok
t/030_kolon/006_arith_ops.t ..................... ok
t/030_kolon/007_log_ops.t ....................... ok
t/030_kolon/008_literal.t ....................... ok
t/030_kolon/009_include.t ....................... ok
t/030_kolon/010_escaped_str.t ................... ok
t/030_kolon/011_macro.t ......................... ok
t/030_kolon/012_cascade.t ....................... ok
t/030_kolon/013_more_field.t .................... ok
t/030_kolon/014_while.t ......................... ok
t/030_kolon/015_methods.t ....................... ok
t/030_kolon/016_funcs.t ......................... ok
t/030_kolon/017_more_macro.t .................... ok
t/030_kolon/018_dynamic_filters.t ............... ok
t/030_kolon/019_explicit_interpolate.t .......... ok
t/030_kolon/020_chomp.t ......................... ok
t/030_kolon/021_overlay.t ....................... ok
t/030_kolon/022_given.t ......................... ok
t/030_kolon/023_bitwise.t ....................... ok
t/030_kolon/024_localize_vars.t ................. ok
t/030_kolon/025_objectliteral.t ................. ok
t/030_kolon/026_constant.t ...................... ok
t/030_kolon/027_lambda.t ........................ ok
t/030_kolon/028_smartmatch.t .................... ok
t/030_kolon/029_blockfilter.t ................... ok
t/030_kolon/030_xfuncs.t ........................ ok
t/030_kolon/031_post_if.t ....................... ok
t/030_kolon/032_include_bareword.t .............. ok
t/030_kolon/033_ov_forloop.t .................... ok
t/030_kolon/034_print.t ......................... ok
t/030_kolon/035_include_w_vars.t ................ ok
t/030_kolon/036_foreach_else.t .................. ok
t/030_kolon/037_loop_ctl.t ...................... ok
t/030_kolon/038_custom_esc.t .................... ok
t/030_kolon/039_root_vars.t ..................... ok
t/030_kolon/040_external_macro.t ................ skipped: external macros are not yet implemented
t/040_tterse/001_parse.t ........................ ok
t/040_tterse/002_interpolate.t .................. ok
t/040_tterse/003_field.t ........................ ok
t/040_tterse/004_for.t .......................... ok
t/040_tterse/005_if.t ........................... ok
t/040_tterse/006_include.t ...................... ok
t/040_tterse/007_funcs.t ........................ ok
t/040_tterse/008_methods.t ...................... ok
t/040_tterse/009_comments.t ..................... ok
t/040_tterse/010_expr.t ......................... ok
t/040_tterse/011_objectliterals.t ............... ok
t/040_tterse/012_macro.t ........................ ok
t/040_tterse/013_wrapper.t ...................... ok
t/040_tterse/014_set.t .......................... ok
t/040_tterse/015_while.t ........................ ok
t/040_tterse/016_call.t ......................... ok
t/040_tterse/017_filter.t ....................... ok
t/040_tterse/018_process.t ...................... ok
t/040_tterse/019_switch.t ....................... ok
t/040_tterse/020_chomp.t ........................ ok
t/040_tterse/021_fake_use.t ..................... ok
t/040_tterse/022_post_if.t ...................... ok
t/040_tterse/023_loop_ctl.t ..................... ok
t/040_tterse/024_for_else.t ..................... ok
t/040_tterse/025_macro.t ........................ ok
t/040_tterse/100_not_supported.t ................ ok
t/050_builtins/001_builtin_funcs.t .............. ok
t/050_builtins/002_autobox.t .................... ok
t/050_builtins/003_autobox_w_cb.t ............... ok
t/050_builtins/004_copied.t ..................... ok
t/100_plugin/001_import_from.t .................. ok
t/100_plugin/002_import.t ....................... ok
t/100_plugin/003_bridge.t ....................... ok
t/100_plugin/004_star.t ......................... ok
t/100_plugin/005_html_builder_module.t .......... ok
t/100_plugin/100_error.t ........................ ok
t/200_app/001_hello.t ........................... ok
t/200_app/002_tree.t ............................ ok
t/200_app/003_runner.t .......................... ok
t/200_app/004_encoding.t ........................ ok
t/300_examples/001_basic.t ...................... ok
t/300_examples/002_cascade.t .................... ok
t/300_examples/003_metakolon.t .................. ok
t/300_examples/004_tterse.t ..................... ok
t/900_bugs/001_super.t .......................... ok
t/900_bugs/002_addfunc.t ........................ ok
t/900_bugs/003_frame_access.t ................... ok
t/900_bugs/004_errorhandling.t .................. ok
t/900_bugs/005_rec_include.t .................... ok
t/900_bugs/006_complex_lex.t .................... ok
t/900_bugs/007_uuv.t ............................ ok
t/900_bugs/008_include_var.t .................... ok
t/900_bugs/009_quote_in_comments.t .............. ok
t/900_bugs/010_widechar_for_md5.t ............... ok
t/900_bugs/011_reserved_words.t ................. ok
t/900_bugs/012_ltgt_in_comments.t ............... ok
t/900_bugs/013_comments_lineno.t ................ ok
t/900_bugs/014_too_large_int.t .................. ok
t/900_bugs/015_my_scope.t ....................... ok
t/900_bugs/016_x_in_tterse.t .................... ok
t/900_bugs/017_unallocated.t .................... skipped: not yet
t/900_bugs/019_nested_mm.t ...................... ok
t/900_bugs/020_switch_foo.t ..................... ok
t/900_bugs/021_cached_enc.t ..................... ok
t/900_bugs/022_empty_if_block.t ................. ok
t/900_bugs/023_deploy_problem.t ................. ok
t/900_bugs/024_use_cache.t ...................... ok
t/900_bugs/025_clobber-macro-args.t ............. ok
t/900_bugs/026_issue61.t ........................ ok
t/900_bugs/027_issue65.t ........................ ok
t/900_bugs/028_issue68.t ........................ ok
t/900_bugs/029_fork_and_cache.t ................. skipped: deal with memorycache-filecache-original model more effectively
t/900_bugs/030_issue71.t ........................ ok
t/900_bugs/031_yappo.t .......................... ok
t/900_bugs/032_issue79.t ........................ ok
t/900_bugs/033_ex_safe_render.t ................. ok
t/900_bugs/034_hash_key_utf8.t .................. ok
t/900_bugs/035_issue81_tiedhash.t ............... ok
t/900_bugs/036_vpath_utf8.t ..................... ok
t/900_bugs/037_text_str_key.t ................... ok
t/900_bugs/038_conbine_flaged_utf8_and_other.t .. ok
t/900_bugs/039_issue96.t ........................ ok
t/900_bugs/040_issue95.t ........................ ok
t/900_bugs/041_cachedir_other_process.t ......... ok
t/900_bugs/042_perl59_issue.t ................... ok
t/900_bugs/043_issue107.t ....................... ok
t/900_bugs/044_empty_result.t ................... ok
t/900_bugs/045_issue130.t ....................... ok
t/900_bugs/046_issue156.t ....................... ok
t/900_bugs/046_issue88.t ........................ ok
t/900_bugs/047_undef_concat.t ................... ok
t/900_bugs/048_issue172.t ....................... ok
All tests successful.
Files=191, Tests=2747, 14 wallclock secs ( 0.14 usr 0.20 sys + 6.97 cusr 1.69 csys = 9.00 CPU)
Result: PASS
pureperl tests
# Testing Text::Xslate/v3.5.9
# Backend: PP
# $ENV{XSLATE}=[pp]
t/000_load.t .................................... ok
t/010_internals/001_parse.t ..................... ok
t/010_internals/002_compile.t ................... ok
t/010_internals/003_assemble.t .................. ok
t/010_internals/004_magic.t ..................... ok
t/010_internals/005_load_file.t ................. ok
t/010_internals/006_errhandler.t ................ ok
t/010_internals/007_compile_errs.t .............. ok
t/010_internals/008_files.t ..................... ok
t/010_internals/009_goto_address.t .............. ok
t/010_internals/010_line_number.t ............... ok
t/010_internals/011_missuse.t ................... ok
t/010_internals/012_multilines.t ................ ok
t/010_internals/013_deps_str.t .................. ok
t/010_internals/014_deps_file.t ................. ok
t/010_internals/015_deps_file2.t ................ ok
t/010_internals/016_cached.t .................... ok
t/010_internals/017_render.t .................... ok
t/010_internals/018_opinfo.t .................... ok
t/010_internals/019_runtime_error.t ............. ok
t/010_internals/020_optimize.t .................. ok
t/010_internals/021_edge_cases.t ................ ok
t/010_internals/022_signal.t .................... ok
t/010_internals/023_cachepath.t ................. ok
t/010_internals/024_die_in_macros.t ............. ok
t/010_internals/025_reset_hooks.t ............... ok
t/010_internals/026_issue16_deep_recursion.t .... ok
t/010_internals/027_infinite_warn.t ............. ok
t/010_internals/028_taint.t ..................... ok
t/010_internals/029_large_file.t ................ ok
t/010_internals/030_die_in_funcs.t .............. ok
t/010_internals/031_save_src.t .................. ok
t/010_internals/032_encoding_error.t ............ skipped: TODO: the behaviours of PP and XS does not match
t/010_internals/033_vpath_cache.t ............... ok
t/010_internals/034_is_code_ref.t ............... ok
t/010_internals/036_merge_hash.t ................ ok
t/010_internals/037_find_file.t ................. ok
t/010_internals/038_suffix.t .................... ok
t/010_internals/039_taint_issue84.t ............. ok
t/010_internals/100_threads.t ................... ok
t/010_internals/200_leaktrace.t ................. ok
t/010_internals/300_explicit_pp.t ............... ok
t/020_interface/001_parser_option.t ............. ok
t/020_interface/002_myparser.t .................. ok
t/020_interface/003_encoding.t .................. ok
t/020_interface/004_no_vars.t ................... ok
t/020_interface/005_util.t ...................... ok
t/020_interface/006_psgi.t ...................... ok
t/020_interface/007_data_section.t .............. ok
t/020_interface/008_type.t ...................... ok
t/020_interface/009_hash_with_default.t ......... ok
t/020_interface/010_err_encoding.t .............. ok
t/020_interface/011_hwd_w_include_vars.t ........ ok
t/020_interface/012_default_functions.t ......... ok
t/020_interface/013_slurp_template.t ............ ok
t/020_interface/014_customize_option.t .......... ok
t/020_interface/015_render_recursion.t .......... ok
t/020_interface/016_pre_process_handler.t ....... ok
t/020_interface/017_validate.t .................. ok
t/030_kolon/001_interpolate.t ................... ok
t/030_kolon/002_field.t ......................... ok
t/030_kolon/003_for.t ........................... ok
t/030_kolon/004_if.t ............................ ok
t/030_kolon/005_rel_ops.t ....................... ok
t/030_kolon/006_arith_ops.t ..................... ok
t/030_kolon/007_log_ops.t ....................... ok
t/030_kolon/008_literal.t ....................... ok
t/030_kolon/009_include.t ....................... ok
t/030_kolon/010_escaped_str.t ................... ok
t/030_kolon/011_macro.t ......................... ok
t/030_kolon/012_cascade.t ....................... ok
t/030_kolon/013_more_field.t .................... ok
t/030_kolon/014_while.t ......................... ok
t/030_kolon/015_methods.t ....................... ok
t/030_kolon/016_funcs.t ......................... ok
t/030_kolon/017_more_macro.t .................... ok
t/030_kolon/018_dynamic_filters.t ............... ok
t/030_kolon/019_explicit_interpolate.t .......... ok
t/030_kolon/020_chomp.t ......................... ok
t/030_kolon/021_overlay.t ....................... ok
t/030_kolon/022_given.t ......................... ok
t/030_kolon/023_bitwise.t ....................... ok
t/030_kolon/024_localize_vars.t ................. ok
t/030_kolon/025_objectliteral.t ................. ok
t/030_kolon/026_constant.t ...................... ok
t/030_kolon/027_lambda.t ........................ ok
t/030_kolon/028_smartmatch.t .................... ok
t/030_kolon/029_blockfilter.t ................... ok
t/030_kolon/030_xfuncs.t ........................ ok
t/030_kolon/031_post_if.t ....................... ok
t/030_kolon/032_include_bareword.t .............. ok
t/030_kolon/033_ov_forloop.t .................... ok
t/030_kolon/034_print.t ......................... ok
t/030_kolon/035_include_w_vars.t ................ ok
t/030_kolon/036_foreach_else.t .................. ok
t/030_kolon/037_loop_ctl.t ...................... ok
t/030_kolon/038_custom_esc.t .................... ok
t/030_kolon/039_root_vars.t ..................... ok
t/030_kolon/040_external_macro.t ................ skipped: external macros are not yet implemented
t/040_tterse/001_parse.t ........................ ok
t/040_tterse/002_interpolate.t .................. ok
t/040_tterse/003_field.t ........................ ok
t/040_tterse/004_for.t .......................... ok
t/040_tterse/005_if.t ........................... ok
t/040_tterse/006_include.t ...................... ok
t/040_tterse/007_funcs.t ........................ ok
t/040_tterse/008_methods.t ...................... ok
t/040_tterse/009_comments.t ..................... ok
t/040_tterse/010_expr.t ......................... ok
t/040_tterse/011_objectliterals.t ............... ok
t/040_tterse/012_macro.t ........................ ok
t/040_tterse/013_wrapper.t ...................... ok
t/040_tterse/014_set.t .......................... ok
t/040_tterse/015_while.t ........................ ok
t/040_tterse/016_call.t ......................... ok
t/040_tterse/017_filter.t ....................... ok
t/040_tterse/018_process.t ...................... ok
t/040_tterse/019_switch.t ....................... ok
t/040_tterse/020_chomp.t ........................ ok
t/040_tterse/021_fake_use.t ..................... ok
t/040_tterse/022_post_if.t ...................... ok
t/040_tterse/023_loop_ctl.t ..................... ok
t/040_tterse/024_for_else.t ..................... ok
t/040_tterse/025_macro.t ........................ ok
t/040_tterse/100_not_supported.t ................ ok
t/050_builtins/001_builtin_funcs.t .............. ok
t/050_builtins/002_autobox.t .................... ok
t/050_builtins/003_autobox_w_cb.t ............... ok
t/050_builtins/004_copied.t ..................... ok
t/100_plugin/001_import_from.t .................. ok
t/100_plugin/002_import.t ....................... ok
t/100_plugin/003_bridge.t ....................... ok
t/100_plugin/004_star.t ......................... ok
t/100_plugin/005_html_builder_module.t .......... ok
t/100_plugin/100_error.t ........................ ok
t/200_app/001_hello.t ........................... ok
t/200_app/002_tree.t ............................ ok
t/200_app/003_runner.t .......................... ok
t/200_app/004_encoding.t ........................ ok
t/300_examples/001_basic.t ...................... ok
t/300_examples/002_cascade.t .................... ok
t/300_examples/003_metakolon.t .................. ok
t/300_examples/004_tterse.t ..................... ok
t/900_bugs/001_super.t .......................... ok
t/900_bugs/002_addfunc.t ........................ ok
t/900_bugs/003_frame_access.t ................... ok
t/900_bugs/004_errorhandling.t .................. ok
t/900_bugs/005_rec_include.t .................... ok
t/900_bugs/006_complex_lex.t .................... ok
t/900_bugs/007_uuv.t ............................ skipped: NYI in PP
t/900_bugs/008_include_var.t .................... ok
t/900_bugs/009_quote_in_comments.t .............. ok
t/900_bugs/010_widechar_for_md5.t ............... ok
t/900_bugs/011_reserved_words.t ................. ok
t/900_bugs/012_ltgt_in_comments.t ............... ok
t/900_bugs/013_comments_lineno.t ................ ok
t/900_bugs/014_too_large_int.t .................. ok
t/900_bugs/015_my_scope.t ....................... ok
t/900_bugs/016_x_in_tterse.t .................... ok
t/900_bugs/017_unallocated.t .................... skipped: not yet
t/900_bugs/019_nested_mm.t ...................... ok
t/900_bugs/020_switch_foo.t ..................... ok
t/900_bugs/021_cached_enc.t ..................... ok
t/900_bugs/022_empty_if_block.t ................. ok
t/900_bugs/023_deploy_problem.t ................. ok
t/900_bugs/024_use_cache.t ...................... ok
t/900_bugs/025_clobber-macro-args.t ............. ok
t/900_bugs/026_issue61.t ........................ ok
t/900_bugs/027_issue65.t ........................ ok
t/900_bugs/028_issue68.t ........................ ok
t/900_bugs/029_fork_and_cache.t ................. skipped: deal with memorycache-filecache-original model more effectively
t/900_bugs/030_issue71.t ........................ ok
t/900_bugs/031_yappo.t .......................... ok
t/900_bugs/032_issue79.t ........................ ok
t/900_bugs/033_ex_safe_render.t ................. ok
t/900_bugs/034_hash_key_utf8.t .................. ok
t/900_bugs/035_issue81_tiedhash.t ............... ok
t/900_bugs/036_vpath_utf8.t ..................... ok
t/900_bugs/037_text_str_key.t ................... ok
t/900_bugs/038_conbine_flaged_utf8_and_other.t .. ok
t/900_bugs/039_issue96.t ........................ ok
t/900_bugs/040_issue95.t ........................ ok
t/900_bugs/041_cachedir_other_process.t ......... ok
t/900_bugs/042_perl59_issue.t ................... ok
t/900_bugs/043_issue107.t ....................... ok
t/900_bugs/044_empty_result.t ................... ok
t/900_bugs/045_issue130.t ....................... ok
t/900_bugs/046_issue156.t ....................... ok
t/900_bugs/046_issue88.t ........................ ok
t/900_bugs/047_undef_concat.t ................... ok
t/900_bugs/048_issue172.t ....................... ok
All tests successful.
Files=191, Tests=2744, 16 wallclock secs ( 0.14 usr 0.21 sys + 8.97 cusr 1.77 csys = 11.09 CPU)
Result: PASS
------------------------------
PREREQUISITES
------------------------------
Prerequisite modules loaded:
requires:
Module Need Have
--------------------- -------- --------
Data::MessagePack 0.38 1.02
Encode 2.26 3.21
Mouse v2.5.0 v2.5.11
parent 0.221 0.241
perl 5.008001 5.040003
Scalar::Util 1.14 1.70
Storable 2.15 3.32
build_requires:
Module Need Have
--------------------- -------- --------
ExtUtils::CBuilder 0 0.280240
File::Copy::Recursive 0 0.45
File::Path 2.07 2.18
Test::More 0.98 1.302214
Test::Requires 0 0.11
configure_requires:
Module Need Have
--------------------- -------- --------
Devel::PPPort 3.33 3.72
Module::Build 0.4005 0.4234
Module::Build::XSUtil 0 0.19
version 0.9913 0.9930
------------------------------
ENVIRONMENT AND OTHER CONTEXT
------------------------------
Environment variables:
LANG = en_US.UTF-8
LC_TERMINAL = iTerm2
LC_TERMINAL_VERSION = 3.5.14
NONINTERACTIVE_TESTING = 1
PATH = /Users/chadwick/perl5/perlbrew/bin:/Users/chadwick/perl5/perlbrew/perls/perl-5.40/bin:/Users/chadwick/.anyenv/envs/pyenv/shims:/Users/chadwick/.anyenv/envs/pyenv/bin:/Users/chadwick/.anyenv/envs/nodenv/shims:/Users/chadwick/CASE_SENSITIVE_APFS/.anyenv/envs/nodenv/bin:/Users/chadwick/.anyenv/envs/nodenv/bin:/Users/chadwick/.anyenv/envs/jenv/shims:/Users/chadwick/.anyenv/envs/jenv/bin:/Users/chadwick/.anyenv/envs/goenv/bin:/Users/chadwick/.anyenv/bin:/Users/chadwick/CASE_SENSITIVE_APFS/.rakubrew/versions/moar-2025.06.1/bin:/Users/chadwick/CASE_SENSITIVE_APFS/.rakubrew/versions/moar-2025.06.1/share/perl6/site/bin:/Users/chadwick/bin:/opt/homebrew/bin:/opt/homebrew/sbin:/usr/local/bin:/System/Cryptexes/App/usr/bin:/usr/bin:/bin:/usr/sbin:/sbin:/var/run/com.apple.security.cryptexd/codex.system/bootstrap/usr/local/bin:/var/run/com.apple.security.cryptexd/codex.system/bootstrap/usr/bin:/var/run/com.apple.security.cryptexd/codex.system/bootstrap/usr/appleinternal/bin:/opt/X11/bin:/Library/Apple/usr/bin:/Applications/Wireshark.app/Contents/MacOS:/Applications/iTerm.app/Contents/Resources/utilities:/Users/chadwick/.anyenv/envs/goenv/shims
PERL5LIB =
PERL5OPT =
PERL5_CPANPLUS_IS_RUNNING = 60680
PERL5_CPAN_IS_RUNNING = 60680
PERLBREW_HOME = /Users/chadwick/.perlbrew
PERLBREW_MANPATH = /Users/chadwick/perl5/perlbrew/perls/perl-5.40/man
PERLBREW_PATH = /Users/chadwick/perl5/perlbrew/bin:/Users/chadwick/perl5/perlbrew/perls/perl-5.40/bin
PERLBREW_PERL = perl-5.40
PERLBREW_ROOT = /Users/chadwick/perl5/perlbrew
PERLBREW_SHELLRC_VERSION = 1.02
PERLBREW_VERSION = 1.02
PERL_MM_USE_DEFAULT = 1
PERL_USE_UNSAFE_INC = 1
SHELL = /opt/homebrew/bin/bash
TERM = xterm-256color
TMPDIR = /var/folders/0b/s0v2fyn90xj6d39hmpp7hmzc0000gn/T/
Perl special variables (and OS-specific diagnostics, for MSWin32):
$^X = /Users/chadwick/CASE_SENSITIVE_APFS/perl5/perlbrew/perls/perl-5.40/bin/perl
$UID/$EUID = 501 / 501
$GID = 20 20 101 12 61 79 80 81 98 399 701 33 100 204 250 395 398
$EGID = 20 20 101 12 61 79 80 81 98 399 701 33 100 204 250 395 398
Perl module toolchain versions installed:
Module Have
------------------- --------
CPAN 2.38
CPAN::Meta 2.150010
Cwd 3.91
ExtUtils::CBuilder 0.280240
ExtUtils::Command 7.76
ExtUtils::Install 2.22
ExtUtils::MakeMaker 7.76
ExtUtils::Manifest 1.75
ExtUtils::ParseXS 3.58
File::Spec 3.91
JSON 4.10
JSON::PP 4.16
Module::Build 0.4234
Module::Signature n/a
Parse::CPAN::Meta 2.150010
Test2 1.302214
Test::Harness 3.52
Test::More 1.302214
YAML 1.31
YAML::Syck n/a
version 0.9930
--
Summary of my perl5 (revision 5 version 40 subversion 3) configuration:
Platform:
osname=darwin
osvers=24.6.0
archname=darwin-thread-multi-2level
uname='darwin chadwick-m4 24.6.0 darwin kernel version 24.6.0: mon jul 14 11:30:40 pdt 2025; root:xnu-11417.140.69~1release_arm64_t6041 arm64 '
config_args='-de -Dprefix=/Users/chadwick/perl5/perlbrew/perls/perl-5.40 -Dman1dir=none -Dman3dir=none -Dusethreads -Aeval:scriptdir=/Users/chadwick/perl5/perlbrew/perls/perl-5.40/bin'
hint=recommended
useposix=true
d_sigaction=define
useithreads=define
usemultiplicity=define
use64bitint=define
use64bitall=define
uselongdouble=undef
usemymalloc=n
default_inc_excludes_dot=define
Compiler:
cc='cc'
ccflags ='-fno-common -DPERL_DARWIN -mmacosx-version-min=15.6 -DNO_THREAD_SAFE_QUERYLOCALE -DNO_POSIX_2008_LOCALE -fno-strict-aliasing -pipe -fstack-protector-strong'
optimize='-O3'
cppflags='-fno-common -DPERL_DARWIN -mmacosx-version-min=15.6 -DNO_THREAD_SAFE_QUERYLOCALE -DNO_POSIX_2008_LOCALE -fno-strict-aliasing -pipe -fstack-protector-strong'
ccversion=''
gccversion='Apple LLVM 17.0.0 (clang-1700.0.13.5)'
gccosandvers=''
intsize=4
longsize=8
ptrsize=8
doublesize=8
byteorder=12345678
doublekind=3
d_longlong=define
longlongsize=8
d_longdbl=define
longdblsize=8
longdblkind=0
ivtype='long'
ivsize=8
nvtype='double'
nvsize=8
Off_t='off_t'
lseeksize=8
alignbytes=8
prototype=define
Linker and Libraries:
ld='cc'
ldflags =' -mmacosx-version-min=15.6 -fstack-protector-strong -L/usr/local/lib'
libpth=/Applications/Xcode.app/Contents/Developer/Toolchains/XcodeDefault.xctoolchain/usr/lib/clang/17/lib /Applications/Xcode.app/Contents/Developer/Platforms/MacOSX.platform/Developer/SDKs/MacOSX.sdk/usr/lib /Applications/Xcode.app/Contents/Developer/Toolchains/XcodeDefault.xctoolchain/usr/lib /usr/local/lib /usr/lib
libs=
perllibs=
libc=
so=dylib
useshrplib=false
libperl=libperl.a
gnulibc_version=''
Dynamic Linking:
dlsrc=dl_dlopen.xs
dlext=bundle
d_dlsymun=undef
ccdlflags=' '
cccdlflags=' '
lddlflags=' -mmacosx-version-min=15.6 -bundle -undefined dynamic_lookup -L/usr/local/lib -fstack-protector-strong'
Characteristics of this binary (from libperl):
Compile-time options:
HAS_LONG_DOUBLE
HAS_STRTOLD
HAS_TIMES
MULTIPLICITY
PERLIO_LAYERS
PERL_COPY_ON_WRITE
PERL_DONT_CREATE_GVSV
PERL_HASH_FUNC_SIPHASH13
PERL_HASH_USE_SBOX32
PERL_MALLOC_WRAP
PERL_OP_PARENT
PERL_PRESERVE_IVUV
PERL_USE_SAFE_PUTENV
USE_64_BIT_ALL
USE_64_BIT_INT
USE_ITHREADS
USE_LARGE_FILES
USE_LOCALE
USE_LOCALE_COLLATE
USE_LOCALE_CTYPE
USE_LOCALE_NUMERIC
USE_LOCALE_TIME
USE_PERLIO
USE_PERL_ATOF
USE_REENTRANT_API
Built under darwin
Compiled at Sep 2 2025 09:18:29
%ENV:
PERL5LIB=""
PERL5OPT=""
PERL5_CPANPLUS_IS_RUNNING="60680"
PERL5_CPAN_IS_RUNNING="60680"
PERLBREW_HOME="/Users/chadwick/.perlbrew"
PERLBREW_MANPATH="/Users/chadwick/perl5/perlbrew/perls/perl-5.40/man"
PERLBREW_PATH="/Users/chadwick/perl5/perlbrew/bin:/Users/chadwick/perl5/perlbrew/perls/perl-5.40/bin"
PERLBREW_PERL="perl-5.40"
PERLBREW_ROOT="/Users/chadwick/perl5/perlbrew"
PERLBREW_SHELLRC_VERSION="1.02"
PERLBREW_VERSION="1.02"
PERL_MM_USE_DEFAULT="1"
PERL_USE_UNSAFE_INC="1"
@INC:
/Users/chadwick/perl5/perlbrew/perls/perl-5.40/lib/site_perl/5.40.3/darwin-thread-multi-2level
/Users/chadwick/perl5/perlbrew/perls/perl-5.40/lib/site_perl/5.40.3
/Users/chadwick/perl5/perlbrew/perls/perl-5.40/lib/5.40.3/darwin-thread-multi-2level
/Users/chadwick/perl5/perlbrew/perls/perl-5.40/lib/5.40.3
.