Back
From: metabase:user:cd035d39-6d5b-1014-ab3a-39c0c09612a1
Subject: PASS Number-Object-0.03 v5.18.2
Date: 2014-04-01T16:24:17Z
This distribution has been tested as part of the CPAN Testers
project, supporting the Perl programming language. See
http://wiki.cpantesters.org/ for more information or email
questions to cpan-testers-discuss@perl.org
--
Dear Kazuhiro Osawa,
This is a computer-generated report for Number-Object-0.03
on perl 5.18.2, created by CPAN-Reporter-1.2011.
Thank you for uploading your work to CPAN. Congratulations!
All tests were successful.
Sections of this report:
* Tester comments
* Program output
* Prerequisites
* Environment and other context
------------------------------
TESTER COMMENTS
------------------------------
Additional comments from tester:
this report is from an automated smoke testing program
and was not reviewed by a human for accuracy
------------------------------
PROGRAM OUTPUT
------------------------------
Output from 'C:\strawberry\perl\bin\perl.exe ./Build test':
t/000_compile.t ......... ok
t/001_with_assign.t ..... ok
t/002_assign.t .......... ok
t/003_comparisons.t ..... ok
t/004_binary.t .......... ok
t/005_unary.t ........... ok
t/006_mutators.t ........ skipped: it has no good idea of test
t/007_func.t ............ ok
t/00_compile.t .......... ok
t/101_plugin_taxjp.t .... ok
t/102_plugin_tax.t ...... ok
t/201_filter_comma.t .... ok
t/basic.t ............... ok
t/release-pod-syntax.t .. skipped: these tests are for release candidate testing
All tests successful.
Files=14, Tests=203, 7 wallclock secs ( 0.20 usr + 0.14 sys = 0.34 CPU)
Result: PASS
------------------------------
PREREQUISITES
------------------------------
Prerequisite modules loaded:
requires:
Module Need Have
------------------- -------- --------
Carp::Clan 0 6.04
Class::Component 0 0.17
Class::Inspector 0 1.28
perl 5.008005 5.018002
String::CamelCase 0 0.02
UNIVERSAL::require 0 0.16
build_requires:
Module Need Have
------------------- -------- --------
Test::Base 0 0.62
Test::More 0.88 1.001003
configure_requires:
Module Need Have
------------------- -------- --------
Module::Build::Tiny 0.027 0.035
------------------------------
ENVIRONMENT AND OTHER CONTEXT
------------------------------
Environment variables:
AUTOMATED_TESTING = 1
COMSPEC = C:\WINDOWS.0\system32\cmd.exe
NUMBER_OF_PROCESSORS = 1
PATH = C:\WINDOWS.0\system32;C:\strawberry\c\bin;C:\strawberry\perl\site\bin;C:\strawberry\perl\bin
PERL5LIB = C:\cpan\build\Class-Component-0.17-0BnxUR/blib/arch;C:\cpan\build\Class-Component-0.17-0BnxUR/blib/lib;C:\cpan\build\String-CamelCase-0.02-2wI_uP/blib/arch;C:\cpan\build\String-CamelCase-0.02-2wI_uP/blib/lib;C:\cpan\build\UNIVERSAL-require-0.16-O9xffF/blib/arch;C:\cpan\build\UNIVERSAL-require-0.16-O9xffF/blib/lib;C:\cpan\build\Test-Base-0.62-pPAi0o/blib/arch;C:\cpan\build\Test-Base-0.62-pPAi0o/blib/lib;C:\cpan\build\Spiffy-0.31-hKvgLU/blib/arch;C:\cpan\build\Spiffy-0.31-hKvgLU/blib/lib;C:\cpan\build\Class-Data-Inheritable-0.08-k8Nz5M/blib/arch;C:\cpan\build\Class-Data-Inheritable-0.08-k8Nz5M/blib/lib
PERL5OPT =
PERL5_CPANPLUS_IS_RUNNING = 816
PERL5_CPAN_IS_RUNNING = 816
PERL5_CPAN_IS_RUNNING_IN_RECURSION = 3888,816
PERL_CR_SMOKER_CURRENT = Number-Object-0.03
PERL_EXTUTILS_AUTOINSTALL = --defaultdeps
PERL_MM_USE_DEFAULT = 1
PROCESSOR_IDENTIFIER = x86 Family 6 Model 14 Stepping 8, GenuineIntel
TEMP = C:\DOKUME~1\smoker\LOKALE~1\Temp
TERM = dumb
Perl special variables (and OS-specific diagnostics, for MSWin32):
$^X = C:\strawberry\perl\bin\perl.exe
$UID/$EUID = 0 / 0
$GID = 0
$EGID = 0
Win32::GetOSName = WinXP/.Net
Win32::GetOSVersion = Service Pack 3, 5, 1, 2600, 2, 3, 0, 256, 1
Win32::FsType = NTFS
Win32::IsAdminUser = 1
Perl module toolchain versions installed:
Module Have
------------------- --------
CPAN 2.00
CPAN::Meta 2.140640
Cwd 3.40
ExtUtils::CBuilder 0.280216
ExtUtils::Command 1.18
ExtUtils::Install 1.64
ExtUtils::MakeMaker 6.94
ExtUtils::Manifest 1.63
ExtUtils::ParseXS 3.24
File::Spec 3.40
JSON 2.90
JSON::PP 2.27203
Module::Build 0.4205
Module::Signature n/a
Parse::CPAN::Meta 1.4414
Test::Harness 3.30
Test::More 1.001003
YAML 0.90
YAML::Syck n/a
version 0.9908
--
Summary of my perl5 (revision 5 version 18 subversion 2) configuration:
Platform:
osname=MSWin32, osvers=6.2, archname=MSWin32-x86-multi-thread-64int
uname='Win32 strawberry-perl 5.18.2.1 #1 Tue Jan 7 16:30:36 2014 i386'
config_args='undef'
hint=recommended, useposix=true, d_sigaction=undef
useithreads=define, usemultiplicity=define
useperlio=define, d_sfio=undef, uselargefiles=define, usesocks=undef
use64bitint=define, use64bitall=undef, uselongdouble=undef
usemymalloc=n, bincompat5005=undef
Compiler:
cc='gcc', ccflags =' -s -O2 -DWIN32 -DPERL_TEXTMODE_SCRIPTS -DPERL_IMPLICIT_CONTEXT -DPERL_IMPLICIT_SYS -DUSE_PERLIO -fno-strict-aliasing -mms-bitfields',
optimize='-s -O2',
cppflags='-DWIN32'
ccversion='', gccversion='4.7.3', gccosandvers=''
intsize=4, longsize=4, ptrsize=4, doublesize=8, byteorder=12345678
d_longlong=define, longlongsize=8, d_longdbl=define, longdblsize=12
ivtype='long long', ivsize=8, nvtype='double', nvsize=8, Off_t='long long', lseeksize=8
alignbytes=8, prototype=define
Linker and Libraries:
ld='g++', ldflags ='-s -L"C:\strawberry\perl\lib\CORE" -L"C:\strawberry\c\lib"'
libpth=C:\strawberry\c\lib C:\strawberry\c\i686-w64-mingw32\lib C:\strawberry\c\lib\gcc\i686-w64-mingw32\4.7.3
libs=-lmoldname -lkernel32 -luser32 -lgdi32 -lwinspool -lcomdlg32 -ladvapi32 -lshell32 -lole32 -loleaut32 -lnetapi32 -luuid -lws2_32 -lmpr -lwinmm -lversion -lodbc32 -lodbccp32 -lcomctl32
perllibs=-lmoldname -lkernel32 -luser32 -lgdi32 -lwinspool -lcomdlg32 -ladvapi32 -lshell32 -lole32 -loleaut32 -lnetapi32 -luuid -lws2_32 -lmpr -lwinmm -lversion -lodbc32 -lodbccp32 -lcomctl32
libc=, so=dll, useshrplib=true, libperl=libperl518.a
gnulibc_version=''
Dynamic Linking:
dlsrc=dl_win32.xs, dlext=dll, d_dlsymun=undef, ccdlflags=' '
cccdlflags=' ', lddlflags='-mdll -s -L"C:\strawberry\perl\lib\CORE" -L"C:\strawberry\c\lib"'
Characteristics of this binary (from libperl):
Compile-time options: HAS_TIMES HAVE_INTERP_INTERN MULTIPLICITY
PERLIO_LAYERS PERL_DONT_CREATE_GVSV
PERL_HASH_FUNC_ONE_AT_A_TIME_HARD
PERL_IMPLICIT_CONTEXT PERL_IMPLICIT_SYS
PERL_MALLOC_WRAP PERL_PRESERVE_IVUV PERL_SAWAMPERSAND
USE_64_BIT_INT USE_ITHREADS USE_LARGE_FILES
USE_LOCALE USE_LOCALE_COLLATE USE_LOCALE_CTYPE
USE_LOCALE_NUMERIC USE_PERLIO USE_PERL_ATOF
Built under MSWin32
Compiled at Jan 7 2014 16:39:31
%ENV:
PERL5LIB="C:\cpan\build\Class-Component-0.17-0BnxUR/blib/arch;C:\cpan\build\Class-Component-0.17-0BnxUR/blib/lib;C:\cpan\build\String-CamelCase-0.02-2wI_uP/blib/arch;C:\cpan\build\String-CamelCase-0.02-2wI_uP/blib/lib;C:\cpan\build\UNIVERSAL-require-0.16-O9xffF/blib/arch;C:\cpan\build\UNIVERSAL-require-0.16-O9xffF/blib/lib;C:\cpan\build\Test-Base-0.62-pPAi0o/blib/arch;C:\cpan\build\Test-Base-0.62-pPAi0o/blib/lib;C:\cpan\build\Spiffy-0.31-hKvgLU/blib/arch;C:\cpan\build\Spiffy-0.31-hKvgLU/blib/lib;C:\cpan\build\Class-Data-Inheritable-0.08-k8Nz5M/blib/arch;C:\cpan\build\Class-Data-Inheritable-0.08-k8Nz5M/blib/lib"
PERL5_CPANPLUS_IS_RUNNING="816"
PERL5_CPAN_IS_RUNNING="816"
PERL5_CPAN_IS_RUNNING_IN_RECURSION="3888,816"
PERL_CR_SMOKER_CURRENT="Number-Object-0.03"
PERL_EXTUTILS_AUTOINSTALL="--defaultdeps"
PERL_MM_USE_DEFAULT="1"
@INC:
C:\cpan\build\Class-Component-0.17-0BnxUR/blib/arch
C:\cpan\build\Class-Component-0.17-0BnxUR/blib/lib
C:\cpan\build\String-CamelCase-0.02-2wI_uP/blib/arch
C:\cpan\build\String-CamelCase-0.02-2wI_uP/blib/lib
C:\cpan\build\UNIVERSAL-require-0.16-O9xffF/blib/arch
C:\cpan\build\UNIVERSAL-require-0.16-O9xffF/blib/lib
C:\cpan\build\Test-Base-0.62-pPAi0o/blib/arch
C:\cpan\build\Test-Base-0.62-pPAi0o/blib/lib
C:\cpan\build\Spiffy-0.31-hKvgLU/blib/arch
C:\cpan\build\Spiffy-0.31-hKvgLU/blib/lib
C:\cpan\build\Class-Data-Inheritable-0.08-k8Nz5M/blib/arch
C:\cpan\build\Class-Data-Inheritable-0.08-k8Nz5M/blib/lib
C:/strawberry/perl/site/lib
C:/strawberry/perl/vendor/lib
C:/strawberry/perl/lib
.