Test-LWP-Recorder v0.1.1 Perl 5 v5.22.3 x86_64-linux-thread-multi

Status
Pass
From
Slaven Rezić (SREZIC)
Dist
Test-LWP-Recorder v0.1.1
Platform
Perl 5 v5.22.3 x86_64-linux-thread-multi
Date
2018-12-21 20:46:07
ID
7100e30e-0561-11e9-ada0-ae575d20c68b
This distribution has been tested as part of the CPAN Testers
project, supporting the Perl programming language.  See
http://wiki.cpantesters.org/ for more information or email
questions to cpan-testers-discuss@perl.org


--
Dear Edward J. Allen III,

This is a computer-generated report for Test-LWP-Recorder-0.1.1
on perl 5.22.3, created by CPAN-Reporter-1.2018.

Thank you for uploading your work to CPAN.  Congratulations!
All tests were successful.

Sections of this report:

    * Tester comments
    * Program output
    * Prerequisites
    * Environment and other context

------------------------------
TESTER COMMENTS
------------------------------

Additional comments from tester:

none provided

------------------------------
PROGRAM OUTPUT
------------------------------

Output from './Build test':

t/00-compile.t ................ ok
# 
# 
# perl: v5.22.3 (wanted 5.006) on linux from /bbbike/perl-5.22.3t/bin/perl
# 
# Carp                                          => 1.38       (want any version)
# Digest::MD5                                   => 2.54       (want any version)
# File::Find                                    => 1.29       (want any version)
# File::Slurp                                   => 9999.19    (want any version)
# File::Spec                                    => 3.62       (want any version)
# File::Temp                                    => 0.2304     (want any version)
# HTTP::Response                                => 6.11       (want any version)
# HTTP::Status                                  => 6.11       (want any version)
# LWP::UserAgent                                => 6.15       (want any version)
# LWPx::Record::DataSection                     => 0.01       (want any version)
# List::Util                                    => 1.47       (want any version)
# Module::Build                                 => 0.422      (want 0.3601) 
# Pod::Coverage::TrustPod                       => 0.100003   (want any version)
# Test::More                                    => 1.302075   (want 0.88)   
# Test::Pod                                     => 1.51       (want 1.41)   
# Test::Pod::Coverage                           => 1.10       (want 1.08)   
# base                                          => 2.23       (want any version)
# lib                                           => 0.63       (want any version)
# strict                                        => 1.09       (want any version)
# warnings                                      => 1.34       (want any version)
# 
# Thanks for using my code.  I hope it works for you.
# If not, please try and include this output in the bug report.
# That will help me reproduce the issue and solve you problem.
# 
t/000-report-versions-tiny.t .. ok
t/author-critic.t ............. skipped: these tests are for testing by the author
t/author-pod-spell.t .......... skipped: these tests are for testing by the author
t/lwpxtest.t .................. ok
t/lwpxtest_02.t ............... ok
t/release-pod-coverage.t ...... skipped: these tests are for release candidate testing
t/release-pod-linkcheck.t ..... skipped: these tests are for release candidate testing
t/release-pod-syntax.t ........ skipped: these tests are for release candidate testing
All tests successful.
Files=9, Tests=14,  3 wallclock secs ( 0.02 usr  0.07 sys +  0.57 cusr  0.24 csys =  0.90 CPU)
Result: PASS

------------------------------
PREREQUISITES
------------------------------

Prerequisite modules loaded:

requires:

    Module                    Need   Have    
    ------------------------- ------ --------
    base                      0      2.23    
    Carp                      0      1.38    
    Digest::MD5               0      2.54    
    File::Slurp               0      9999.19 
    File::Spec                0      3.62    
    HTTP::Response            0      6.11    
    HTTP::Status              0      6.11    
    List::Util                0      1.47    
    LWP::UserAgent            0      6.15    
    perl                      5.006  5.022003
    strict                    0      1.09    
    warnings                  0      1.34    

build_requires:

    Module                    Need   Have    
    ------------------------- ------ --------
    File::Find                0      1.29    
    File::Temp                0      0.2304  
    lib                       0      0.63    
    LWPx::Record::DataSection 0      0.01    
    Module::Build             0.3601 0.4220  
    Test::More                0.88   1.302075

configure_requires:

    Module                    Need   Have    
    ------------------------- ------ --------
    Module::Build             0.3601 0.4220  


------------------------------
ENVIRONMENT AND OTHER CONTEXT
------------------------------

Environment variables:

    LANG = C
    PATH = /usr/local/bin:/usr/bin:/bin:/usr/local/sbin:/usr/sbin:/sbin:/home/cpansand/bin/linux-gnu:/home/cpansand/bin/sh:/home/cpansand/bin:/usr/games:/home/cpansand/devel:/home/eserte/src/srezic-misc/scripts
    PERL5LIB = /home/cpansand/.cpan/build/2018122120/LWPx-Record-DataSection-0.01-lllyeg/blib/arch:/home/cpansand/.cpan/build/2018122120/LWPx-Record-DataSection-0.01-lllyeg/blib/lib:/home/cpansand/.cpan/build/2018122120/Data-Section-Simple-0.07-__kCUi/blib/arch:/home/cpansand/.cpan/build/2018122120/Data-Section-Simple-0.07-__kCUi/blib/lib:/home/cpansand/.cpan/build/2018122120/Text-Hogan-1.07-hgs8Nx/blib/arch:/home/cpansand/.cpan/build/2018122120/Text-Hogan-1.07-hgs8Nx/blib/lib:/home/cpansand/.cpan/build/2018122120/Text-Trim-1.02-kM941H/blib/arch:/home/cpansand/.cpan/build/2018122120/Text-Trim-1.02-kM941H/blib/lib
    PERL5OPT = 
    PERL5_CPANPLUS_IS_RUNNING = 6988
    PERL5_CPAN_IS_RUNNING = 6988
    PERL5_CPAN_IS_RUNNING_IN_RECURSION = 30875,6988
    PERLDOC = -MPod::Perldoc::ToTextOverstrike
    PERL_BATCH = yes
    PERL_CANARY_STABILITY_NOPROMPT = 1
    PERL_CPAN_REPORTER_CONFIG = /var/tmp/cpansmoker-1023/2018122118/cpanreporter_000_config.ini
    PERL_EXTUTILS_AUTOINSTALL = --defaultdeps
    SHELL = /bin/zsh
    TERM = screen
    TMPDIR = /var/tmp/cpansmoker-1023/2018122118

Perl special variables (and OS-specific diagnostics, for MSWin32):

    $^X = /bbbike/perl-5.22.3t/bin/perl
    $UID/$EUID = 1023 / 1023
    $GID = 1023 1023
    $EGID = 1023 1023

Perl module toolchain versions installed:

    Module              Have    
    ------------------- --------
    CPAN                2.11_01 
    CPAN::Meta          2.150010
    Cwd                 3.62    
    ExtUtils::CBuilder  0.280224
    ExtUtils::Command   7.24    
    ExtUtils::Install   2.04    
    ExtUtils::MakeMaker 7.24    
    ExtUtils::Manifest  1.70    
    ExtUtils::ParseXS   3.30    
    File::Spec          3.62    
    JSON                2.90    
    JSON::PP            2.27400 
    Module::Build       0.4220  
    Module::Signature   n/a     
    Parse::CPAN::Meta   2.150010
    Test::Harness       3.36    
    Test::More          1.302075
    YAML                1.21    
    YAML::Syck          1.29    
    version             0.9917  


--

Summary of my perl5 (revision 5 version 22 subversion 3) configuration:
   
  Platform:
    osname=linux, osvers=3.16.0-4-amd64, archname=x86_64-linux-thread-multi
    uname='linux eserte 3.16.0-4-amd64 #1 smp debian 3.16.39-1 (2016-12-30) x86_64 gnulinux '
    config_args='-ds -e -Dprefix=/opt/perl-5.22.3t -Dusethreads -Dcf_email=srezic@cpan.org'
    hint=recommended, useposix=true, d_sigaction=define
    useithreads=define, usemultiplicity=define
    use64bitint=define, use64bitall=define, uselongdouble=undef
    usemymalloc=n, bincompat5005=undef
  Compiler:
    cc='cc', ccflags ='-D_REENTRANT -D_GNU_SOURCE -fwrapv -fno-strict-aliasing -pipe -fstack-protector-strong -I/usr/local/include -D_LARGEFILE_SOURCE -D_FILE_OFFSET_BITS=64 -D_FORTIFY_SOURCE=2',
    optimize='-O2',
    cppflags='-D_REENTRANT -D_GNU_SOURCE -fwrapv -fno-strict-aliasing -pipe -fstack-protector-strong -I/usr/local/include'
    ccversion='', gccversion='4.9.2', gccosandvers=''
    intsize=4, longsize=8, ptrsize=8, doublesize=8, byteorder=12345678, doublekind=3
    d_longlong=define, longlongsize=8, d_longdbl=define, longdblsize=16, longdblkind=3
    ivtype='long', ivsize=8, nvtype='double', nvsize=8, Off_t='off_t', lseeksize=8
    alignbytes=8, prototype=define
  Linker and Libraries:
    ld='cc', ldflags =' -fstack-protector-strong -L/usr/local/lib'
    libpth=/usr/local/lib /usr/lib/gcc/x86_64-linux-gnu/4.9/include-fixed /usr/include/x86_64-linux-gnu /usr/lib /lib/x86_64-linux-gnu /lib/../lib /usr/lib/x86_64-linux-gnu /usr/lib/../lib /lib
    libs=-lpthread -lnsl -lgdbm -ldb -ldl -lm -lcrypt -lutil -lc -lgdbm_compat
    perllibs=-lpthread -lnsl -ldl -lm -lcrypt -lutil -lc
    libc=libc-2.19.so, so=so, useshrplib=false, libperl=libperl.a
    gnulibc_version='2.19'
  Dynamic Linking:
    dlsrc=dl_dlopen.xs, dlext=so, d_dlsymun=undef, ccdlflags='-Wl,-E'
    cccdlflags='-fPIC', lddlflags='-shared -O2 -L/usr/local/lib -fstack-protector-strong'


Characteristics of this binary (from libperl): 
  Compile-time options: HAS_TIMES MULTIPLICITY PERLIO_LAYERS
                        PERL_DONT_CREATE_GVSV
                        PERL_HASH_FUNC_ONE_AT_A_TIME_HARD
                        PERL_IMPLICIT_CONTEXT PERL_MALLOC_WRAP
                        PERL_NEW_COPY_ON_WRITE PERL_PRESERVE_IVUV
                        USE_64_BIT_ALL USE_64_BIT_INT USE_ITHREADS
                        USE_LARGE_FILES USE_LOCALE USE_LOCALE_COLLATE
                        USE_LOCALE_CTYPE USE_LOCALE_NUMERIC USE_LOCALE_TIME
                        USE_PERLIO USE_PERL_ATOF USE_REENTRANT_API
  Built under linux
  Compiled at Jan 17 2017 19:09:56
  %ENV:
    PERL5LIB="/home/cpansand/.cpan/build/2018122120/LWPx-Record-DataSection-0.01-lllyeg/blib/arch:/home/cpansand/.cpan/build/2018122120/LWPx-Record-DataSection-0.01-lllyeg/blib/lib:/home/cpansand/.cpan/build/2018122120/Data-Section-Simple-0.07-__kCUi/blib/arch:/home/cpansand/.cpan/build/2018122120/Data-Section-Simple-0.07-__kCUi/blib/lib:/home/cpansand/.cpan/build/2018122120/Text-Hogan-1.07-hgs8Nx/blib/arch:/home/cpansand/.cpan/build/2018122120/Text-Hogan-1.07-hgs8Nx/blib/lib:/home/cpansand/.cpan/build/2018122120/Text-Trim-1.02-kM941H/blib/arch:/home/cpansand/.cpan/build/2018122120/Text-Trim-1.02-kM941H/blib/lib"
    PERL5OPT=""
    PERL5_CPANPLUS_IS_RUNNING="6988"
    PERL5_CPAN_IS_RUNNING="6988"
    PERL5_CPAN_IS_RUNNING_IN_RECURSION="30875,6988"
    PERLDOC="-MPod::Perldoc::ToTextOverstrike"
    PERL_BATCH="yes"
    PERL_CANARY_STABILITY_NOPROMPT="1"
    PERL_CPAN_REPORTER_CONFIG="/var/tmp/cpansmoker-1023/2018122118/cpanreporter_000_config.ini"
    PERL_EXTUTILS_AUTOINSTALL="--defaultdeps"
  @INC:
    /home/cpansand/.cpan/build/2018122120/LWPx-Record-DataSection-0.01-lllyeg/blib/arch
    /home/cpansand/.cpan/build/2018122120/LWPx-Record-DataSection-0.01-lllyeg/blib/lib
    /home/cpansand/.cpan/build/2018122120/Data-Section-Simple-0.07-__kCUi/blib/arch
    /home/cpansand/.cpan/build/2018122120/Data-Section-Simple-0.07-__kCUi/blib/lib
    /home/cpansand/.cpan/build/2018122120/Text-Hogan-1.07-hgs8Nx/blib/arch
    /home/cpansand/.cpan/build/2018122120/Text-Hogan-1.07-hgs8Nx/blib/lib
    /home/cpansand/.cpan/build/2018122120/Text-Trim-1.02-kM941H/blib/arch
    /home/cpansand/.cpan/build/2018122120/Text-Trim-1.02-kM941H/blib/lib
    /opt/perl-5.22.3t/lib/site_perl/5.22.3/x86_64-linux-thread-multi
    /opt/perl-5.22.3t/lib/site_perl/5.22.3
    /opt/perl-5.22.3t/lib/5.22.3/x86_64-linux-thread-multi
    /opt/perl-5.22.3t/lib/5.22.3
    .