Report for Handel-1.00014

Back
From: metabase:user:3215efbe-2aae-11df-837a-5e0a49663a4f
Subject: PASS Handel-1.00014 v5.16.2 GNU/Linux
Date: 2012-12-21T10:23:19Z

This distribution has been tested as part of the CPAN Testers
project, supporting the Perl programming language.  See
http://wiki.cpantesters.org/ for more information or email
questions to cpan-testers-discuss@perl.org


--
Dear Christopher H. Laco,

This is a computer-generated report for Handel-1.00014
on perl 5.16.2, created by CPAN-Reporter-1.2009.

Thank you for uploading your work to CPAN.  Congratulations!
All tests were successful.

Sections of this report:

    * Tester comments
    * Program output
    * Prerequisites
    * Environment and other context

------------------------------
TESTER COMMENTS
------------------------------

Additional comments from tester:

this report is from an automated smoke testing program
and was not reviewed by a human for accuracy

------------------------------
PROGRAM OUTPUT
------------------------------

Output from '/usr/bin/make test':

PERL_DL_NONLAZY=1 /opt/perl/nothreads/5.16.2/bin/perl "-MExtUtils::Command::MM" "-e" "test_harness(0, 'inc', 'blib/lib', 'blib/arch')" t/*.t
Useless use of a variable in void context at /opt/perl/nothreads/5.16.2/lib/site_perl/5.16.2/x86_64-linux/List/MoreUtils.pm line 362.
Name "Package::DeprecationManager::a" used only once: possible typo at /opt/perl/nothreads/5.16.2/lib/site_perl/5.16.2/x86_64-linux/List/MoreUtils.pm line 362.
Name "Package::DeprecationManager::b" used only once: possible typo at /opt/perl/nothreads/5.16.2/lib/site_perl/5.16.2/x86_64-linux/List/MoreUtils.pm line 362.
t/base_cart_class.t ....................... ok
Useless use of a variable in void context at /opt/perl/nothreads/5.16.2/lib/site_perl/5.16.2/x86_64-linux/List/MoreUtils.pm line 362.
Name "Package::DeprecationManager::a" used only once: possible typo at /opt/perl/nothreads/5.16.2/lib/site_perl/5.16.2/x86_64-linux/List/MoreUtils.pm line 362.
Name "Package::DeprecationManager::b" used only once: possible typo at /opt/perl/nothreads/5.16.2/lib/site_perl/5.16.2/x86_64-linux/List/MoreUtils.pm line 362.
t/base_create_accessors.t ................. ok
Useless use of a variable in void context at /opt/perl/nothreads/5.16.2/lib/site_perl/5.16.2/x86_64-linux/List/MoreUtils.pm line 362.
Name "Package::DeprecationManager::a" used only once: possible typo at /opt/perl/nothreads/5.16.2/lib/site_perl/5.16.2/x86_64-linux/List/MoreUtils.pm line 362.
Name "Package::DeprecationManager::b" used only once: possible typo at /opt/perl/nothreads/5.16.2/lib/site_perl/5.16.2/x86_64-linux/List/MoreUtils.pm line 362.
t/base_create_instance.t .................. ok
Useless use of a variable in void context at /opt/perl/nothreads/5.16.2/lib/site_perl/5.16.2/x86_64-linux/List/MoreUtils.pm line 362.
Name "Package::DeprecationManager::a" used only once: possible typo at /opt/perl/nothreads/5.16.2/lib/site_perl/5.16.2/x86_64-linux/List/MoreUtils.pm line 362.
Name "Package::DeprecationManager::b" used only once: possible typo at /opt/perl/nothreads/5.16.2/lib/site_perl/5.16.2/x86_64-linux/List/MoreUtils.pm line 362.
t/base_get_column.t ....................... ok
Useless use of a variable in void context at /opt/perl/nothreads/5.16.2/lib/site_perl/5.16.2/x86_64-linux/List/MoreUtils.pm line 362.
Name "Package::DeprecationManager::a" used only once: possible typo at /opt/perl/nothreads/5.16.2/lib/site_perl/5.16.2/x86_64-linux/List/MoreUtils.pm line 362.
Name "Package::DeprecationManager::b" used only once: possible typo at /opt/perl/nothreads/5.16.2/lib/site_perl/5.16.2/x86_64-linux/List/MoreUtils.pm line 362.
t/base_item_class.t ....................... ok
Useless use of a variable in void context at /opt/perl/nothreads/5.16.2/lib/site_perl/5.16.2/x86_64-linux/List/MoreUtils.pm line 362.
Name "Package::DeprecationManager::a" used only once: possible typo at /opt/perl/nothreads/5.16.2/lib/site_perl/5.16.2/x86_64-linux/List/MoreUtils.pm line 362.
Name "Package::DeprecationManager::b" used only once: possible typo at /opt/perl/nothreads/5.16.2/lib/site_perl/5.16.2/x86_64-linux/List/MoreUtils.pm line 362.
t/base_set_column.t ....................... ok
t/base_storage.t .......................... ok
Useless use of a variable in void context at /opt/perl/nothreads/5.16.2/lib/site_perl/5.16.2/x86_64-linux/List/MoreUtils.pm line 362.
Name "Package::DeprecationManager::a" used only once: possible typo at /opt/perl/nothreads/5.16.2/lib/site_perl/5.16.2/x86_64-linux/List/MoreUtils.pm line 362.
Name "Package::DeprecationManager::b" used only once: possible typo at /opt/perl/nothreads/5.16.2/lib/site_perl/5.16.2/x86_64-linux/List/MoreUtils.pm line 362.
t/base_storage_class.t .................... ok
Useless use of a variable in void context at /opt/perl/nothreads/5.16.2/lib/site_perl/5.16.2/x86_64-linux/List/MoreUtils.pm line 362.
Name "Package::DeprecationManager::a" used only once: possible typo at /opt/perl/nothreads/5.16.2/lib/site_perl/5.16.2/x86_64-linux/List/MoreUtils.pm line 362.
Name "Package::DeprecationManager::b" used only once: possible typo at /opt/perl/nothreads/5.16.2/lib/site_perl/5.16.2/x86_64-linux/List/MoreUtils.pm line 362.
t/base_update.t ........................... ok
Useless use of a variable in void context at /opt/perl/nothreads/5.16.2/lib/site_perl/5.16.2/x86_64-linux/List/MoreUtils.pm line 362.
Name "Package::DeprecationManager::a" used only once: possible typo at /opt/perl/nothreads/5.16.2/lib/site_perl/5.16.2/x86_64-linux/List/MoreUtils.pm line 362.
Name "Package::DeprecationManager::b" used only once: possible typo at /opt/perl/nothreads/5.16.2/lib/site_perl/5.16.2/x86_64-linux/List/MoreUtils.pm line 362.
t/basic.t ................................. ok
Useless use of a variable in void context at /opt/perl/nothreads/5.16.2/lib/site_perl/5.16.2/x86_64-linux/List/MoreUtils.pm line 362.
Name "Package::DeprecationManager::a" used only once: possible typo at /opt/perl/nothreads/5.16.2/lib/site_perl/5.16.2/x86_64-linux/List/MoreUtils.pm line 362.
Name "Package::DeprecationManager::b" used only once: possible typo at /opt/perl/nothreads/5.16.2/lib/site_perl/5.16.2/x86_64-linux/List/MoreUtils.pm line 362.
t/cart_add.t .............................. ok
Useless use of a variable in void context at /opt/perl/nothreads/5.16.2/lib/site_perl/5.16.2/x86_64-linux/List/MoreUtils.pm line 362.
Name "Package::DeprecationManager::a" used only once: possible typo at /opt/perl/nothreads/5.16.2/lib/site_perl/5.16.2/x86_64-linux/List/MoreUtils.pm line 362.
Name "Package::DeprecationManager::b" used only once: possible typo at /opt/perl/nothreads/5.16.2/lib/site_perl/5.16.2/x86_64-linux/List/MoreUtils.pm line 362.
t/cart_clear.t ............................ ok
Useless use of a variable in void context at /opt/perl/nothreads/5.16.2/lib/site_perl/5.16.2/x86_64-linux/List/MoreUtils.pm line 362.
Name "Package::DeprecationManager::a" used only once: possible typo at /opt/perl/nothreads/5.16.2/lib/site_perl/5.16.2/x86_64-linux/List/MoreUtils.pm line 362.
Name "Package::DeprecationManager::b" used only once: possible typo at /opt/perl/nothreads/5.16.2/lib/site_perl/5.16.2/x86_64-linux/List/MoreUtils.pm line 362.
t/cart_create.t ........................... ok
Useless use of a variable in void context at /opt/perl/nothreads/5.16.2/lib/site_perl/5.16.2/x86_64-linux/List/MoreUtils.pm line 362.
Name "Package::DeprecationManager::a" used only once: possible typo at /opt/perl/nothreads/5.16.2/lib/site_perl/5.16.2/x86_64-linux/List/MoreUtils.pm line 362.
Name "Package::DeprecationManager::b" used only once: possible typo at /opt/perl/nothreads/5.16.2/lib/site_perl/5.16.2/x86_64-linux/List/MoreUtils.pm line 362.
t/cart_delete.t ........................... ok
Useless use of a variable in void context at /opt/perl/nothreads/5.16.2/lib/site_perl/5.16.2/x86_64-linux/List/MoreUtils.pm line 362.
Name "Package::DeprecationManager::a" used only once: possible typo at /opt/perl/nothreads/5.16.2/lib/site_perl/5.16.2/x86_64-linux/List/MoreUtils.pm line 362.
Name "Package::DeprecationManager::b" used only once: possible typo at /opt/perl/nothreads/5.16.2/lib/site_perl/5.16.2/x86_64-linux/List/MoreUtils.pm line 362.
t/cart_destroy.t .......................... ok
Useless use of a variable in void context at /opt/perl/nothreads/5.16.2/lib/site_perl/5.16.2/x86_64-linux/List/MoreUtils.pm line 362.
Name "Package::DeprecationManager::a" used only once: possible typo at /opt/perl/nothreads/5.16.2/lib/site_perl/5.16.2/x86_64-linux/List/MoreUtils.pm line 362.
Name "Package::DeprecationManager::b" used only once: possible typo at /opt/perl/nothreads/5.16.2/lib/site_perl/5.16.2/x86_64-linux/List/MoreUtils.pm line 362.
t/cart_item_create.t ...................... ok
Useless use of a variable in void context at /opt/perl/nothreads/5.16.2/lib/site_perl/5.16.2/x86_64-linux/List/MoreUtils.pm line 362.
Name "Package::DeprecationManager::a" used only once: possible typo at /opt/perl/nothreads/5.16.2/lib/site_perl/5.16.2/x86_64-linux/List/MoreUtils.pm line 362.
Name "Package::DeprecationManager::b" used only once: possible typo at /opt/perl/nothreads/5.16.2/lib/site_perl/5.16.2/x86_64-linux/List/MoreUtils.pm line 362.
t/cart_items.t ............................ ok
Useless use of a variable in void context at /opt/perl/nothreads/5.16.2/lib/site_perl/5.16.2/x86_64-linux/List/MoreUtils.pm line 362.
Name "Package::DeprecationManager::a" used only once: possible typo at /opt/perl/nothreads/5.16.2/lib/site_perl/5.16.2/x86_64-linux/List/MoreUtils.pm line 362.
Name "Package::DeprecationManager::b" used only once: possible typo at /opt/perl/nothreads/5.16.2/lib/site_perl/5.16.2/x86_64-linux/List/MoreUtils.pm line 362.
t/cart_iterator.t ......................... ok
Useless use of a variable in void context at /opt/perl/nothreads/5.16.2/lib/site_perl/5.16.2/x86_64-linux/List/MoreUtils.pm line 362.
Name "Package::DeprecationManager::a" used only once: possible typo at /opt/perl/nothreads/5.16.2/lib/site_perl/5.16.2/x86_64-linux/List/MoreUtils.pm line 362.
Name "Package::DeprecationManager::b" used only once: possible typo at /opt/perl/nothreads/5.16.2/lib/site_perl/5.16.2/x86_64-linux/List/MoreUtils.pm line 362.
t/cart_restore.t .......................... ok
Useless use of a variable in void context at /opt/perl/nothreads/5.16.2/lib/site_perl/5.16.2/x86_64-linux/List/MoreUtils.pm line 362.
Name "Package::DeprecationManager::a" used only once: possible typo at /opt/perl/nothreads/5.16.2/lib/site_perl/5.16.2/x86_64-linux/List/MoreUtils.pm line 362.
Name "Package::DeprecationManager::b" used only once: possible typo at /opt/perl/nothreads/5.16.2/lib/site_perl/5.16.2/x86_64-linux/List/MoreUtils.pm line 362.
t/cart_restore_append.t ................... ok
Useless use of a variable in void context at /opt/perl/nothreads/5.16.2/lib/site_perl/5.16.2/x86_64-linux/List/MoreUtils.pm line 362.
Name "Package::DeprecationManager::a" used only once: possible typo at /opt/perl/nothreads/5.16.2/lib/site_perl/5.16.2/x86_64-linux/List/MoreUtils.pm line 362.
Name "Package::DeprecationManager::b" used only once: possible typo at /opt/perl/nothreads/5.16.2/lib/site_perl/5.16.2/x86_64-linux/List/MoreUtils.pm line 362.
t/cart_restore_append_filter.t ............ ok
Useless use of a variable in void context at /opt/perl/nothreads/5.16.2/lib/site_perl/5.16.2/x86_64-linux/List/MoreUtils.pm line 362.
Name "Package::DeprecationManager::a" used only once: possible typo at /opt/perl/nothreads/5.16.2/lib/site_perl/5.16.2/x86_64-linux/List/MoreUtils.pm line 362.
Name "Package::DeprecationManager::b" used only once: possible typo at /opt/perl/nothreads/5.16.2/lib/site_perl/5.16.2/x86_64-linux/List/MoreUtils.pm line 362.
t/cart_restore_merge.t .................... ok
Useless use of a variable in void context at /opt/perl/nothreads/5.16.2/lib/site_perl/5.16.2/x86_64-linux/List/MoreUtils.pm line 362.
Name "Package::DeprecationManager::a" used only once: possible typo at /opt/perl/nothreads/5.16.2/lib/site_perl/5.16.2/x86_64-linux/List/MoreUtils.pm line 362.
Name "Package::DeprecationManager::b" used only once: possible typo at /opt/perl/nothreads/5.16.2/lib/site_perl/5.16.2/x86_64-linux/List/MoreUtils.pm line 362.
t/cart_restore_merge_filter.t ............. ok
Useless use of a variable in void context at /opt/perl/nothreads/5.16.2/lib/site_perl/5.16.2/x86_64-linux/List/MoreUtils.pm line 362.
Name "Package::DeprecationManager::a" used only once: possible typo at /opt/perl/nothreads/5.16.2/lib/site_perl/5.16.2/x86_64-linux/List/MoreUtils.pm line 362.
Name "Package::DeprecationManager::b" used only once: possible typo at /opt/perl/nothreads/5.16.2/lib/site_perl/5.16.2/x86_64-linux/List/MoreUtils.pm line 362.
t/cart_restore_replace.t .................. ok
Useless use of a variable in void context at /opt/perl/nothreads/5.16.2/lib/site_perl/5.16.2/x86_64-linux/List/MoreUtils.pm line 362.
Name "Package::DeprecationManager::a" used only once: possible typo at /opt/perl/nothreads/5.16.2/lib/site_perl/5.16.2/x86_64-linux/List/MoreUtils.pm line 362.
Name "Package::DeprecationManager::b" used only once: possible typo at /opt/perl/nothreads/5.16.2/lib/site_perl/5.16.2/x86_64-linux/List/MoreUtils.pm line 362.
t/cart_restore_replace_filter.t ........... ok
Useless use of a variable in void context at /opt/perl/nothreads/5.16.2/lib/site_perl/5.16.2/x86_64-linux/List/MoreUtils.pm line 362.
Name "Package::DeprecationManager::a" used only once: possible typo at /opt/perl/nothreads/5.16.2/lib/site_perl/5.16.2/x86_64-linux/List/MoreUtils.pm line 362.
Name "Package::DeprecationManager::b" used only once: possible typo at /opt/perl/nothreads/5.16.2/lib/site_perl/5.16.2/x86_64-linux/List/MoreUtils.pm line 362.
t/cart_save.t ............................. ok
Useless use of a variable in void context at /opt/perl/nothreads/5.16.2/lib/site_perl/5.16.2/x86_64-linux/List/MoreUtils.pm line 362.
Name "Package::DeprecationManager::a" used only once: possible typo at /opt/perl/nothreads/5.16.2/lib/site_perl/5.16.2/x86_64-linux/List/MoreUtils.pm line 362.
Name "Package::DeprecationManager::b" used only once: possible typo at /opt/perl/nothreads/5.16.2/lib/site_perl/5.16.2/x86_64-linux/List/MoreUtils.pm line 362.
t/cart_search.t ........................... ok
Useless use of a variable in void context at /opt/perl/nothreads/5.16.2/lib/site_perl/5.16.2/x86_64-linux/List/MoreUtils.pm line 362.
Name "Package::DeprecationManager::a" used only once: possible typo at /opt/perl/nothreads/5.16.2/lib/site_perl/5.16.2/x86_64-linux/List/MoreUtils.pm line 362.
Name "Package::DeprecationManager::b" used only once: possible typo at /opt/perl/nothreads/5.16.2/lib/site_perl/5.16.2/x86_64-linux/List/MoreUtils.pm line 362.
t/catalyst_helpers_controller_cart.t ...... ok
Useless use of a variable in void context at /opt/perl/nothreads/5.16.2/lib/site_perl/5.16.2/x86_64-linux/List/MoreUtils.pm line 362.
Name "Package::DeprecationManager::a" used only once: possible typo at /opt/perl/nothreads/5.16.2/lib/site_perl/5.16.2/x86_64-linux/List/MoreUtils.pm line 362.
Name "Package::DeprecationManager::b" used only once: possible typo at /opt/perl/nothreads/5.16.2/lib/site_perl/5.16.2/x86_64-linux/List/MoreUtils.pm line 362.
t/catalyst_helpers_controller_checkout.t .. ok
Useless use of a variable in void context at /opt/perl/nothreads/5.16.2/lib/site_perl/5.16.2/x86_64-linux/List/MoreUtils.pm line 362.
Name "Package::DeprecationManager::a" used only once: possible typo at /opt/perl/nothreads/5.16.2/lib/site_perl/5.16.2/x86_64-linux/List/MoreUtils.pm line 362.
Name "Package::DeprecationManager::b" used only once: possible typo at /opt/perl/nothreads/5.16.2/lib/site_perl/5.16.2/x86_64-linux/List/MoreUtils.pm line 362.
t/catalyst_helpers_controller_order.t ..... ok
Useless use of a variable in void context at /opt/perl/nothreads/5.16.2/lib/site_perl/5.16.2/x86_64-linux/List/MoreUtils.pm line 362.
Name "Package::DeprecationManager::a" used only once: possible typo at /opt/perl/nothreads/5.16.2/lib/site_perl/5.16.2/x86_64-linux/List/MoreUtils.pm line 362.
Name "Package::DeprecationManager::b" used only once: possible typo at /opt/perl/nothreads/5.16.2/lib/site_perl/5.16.2/x86_64-linux/List/MoreUtils.pm line 362.

Don't forget to add Session, Session::Store::File and Session::State::Cookie to TestApp.pm!
t/catalyst_helpers_handel.t ............... ok
Useless use of a variable in void context at /opt/perl/nothreads/5.16.2/lib/site_perl/5.16.2/x86_64-linux/List/MoreUtils.pm line 362.
Name "Package::DeprecationManager::a" used only once: possible typo at /opt/perl/nothreads/5.16.2/lib/site_perl/5.16.2/x86_64-linux/List/MoreUtils.pm line 362.
Name "Package::DeprecationManager::b" used only once: possible typo at /opt/perl/nothreads/5.16.2/lib/site_perl/5.16.2/x86_64-linux/List/MoreUtils.pm line 362.
t/catalyst_helpers_model_cart.t ........... ok
Useless use of a variable in void context at /opt/perl/nothreads/5.16.2/lib/site_perl/5.16.2/x86_64-linux/List/MoreUtils.pm line 362.
Name "Package::DeprecationManager::a" used only once: possible typo at /opt/perl/nothreads/5.16.2/lib/site_perl/5.16.2/x86_64-linux/List/MoreUtils.pm line 362.
Name "Package::DeprecationManager::b" used only once: possible typo at /opt/perl/nothreads/5.16.2/lib/site_perl/5.16.2/x86_64-linux/List/MoreUtils.pm line 362.
t/catalyst_helpers_model_order.t .......... ok
Useless use of a variable in void context at /opt/perl/nothreads/5.16.2/lib/site_perl/5.16.2/x86_64-linux/List/MoreUtils.pm line 362.
Name "Package::DeprecationManager::a" used only once: possible typo at /opt/perl/nothreads/5.16.2/lib/site_perl/5.16.2/x86_64-linux/List/MoreUtils.pm line 362.
Name "Package::DeprecationManager::b" used only once: possible typo at /opt/perl/nothreads/5.16.2/lib/site_perl/5.16.2/x86_64-linux/List/MoreUtils.pm line 362.
t/catalyst_helpers_scaffold.t ............. ok
Useless use of a variable in void context at /opt/perl/nothreads/5.16.2/lib/site_perl/5.16.2/x86_64-linux/List/MoreUtils.pm line 362.
Name "Package::DeprecationManager::a" used only once: possible typo at /opt/perl/nothreads/5.16.2/lib/site_perl/5.16.2/x86_64-linux/List/MoreUtils.pm line 362.
Name "Package::DeprecationManager::b" used only once: possible typo at /opt/perl/nothreads/5.16.2/lib/site_perl/5.16.2/x86_64-linux/List/MoreUtils.pm line 362.
t/catalyst_model_cart.t ................... ok
Useless use of a variable in void context at /opt/perl/nothreads/5.16.2/lib/site_perl/5.16.2/x86_64-linux/List/MoreUtils.pm line 362.
Name "Package::DeprecationManager::a" used only once: possible typo at /opt/perl/nothreads/5.16.2/lib/site_perl/5.16.2/x86_64-linux/List/MoreUtils.pm line 362.
Name "Package::DeprecationManager::b" used only once: possible typo at /opt/perl/nothreads/5.16.2/lib/site_perl/5.16.2/x86_64-linux/List/MoreUtils.pm line 362.
t/catalyst_model_order.t .................. ok
Useless use of a variable in void context at /opt/perl/nothreads/5.16.2/lib/site_perl/5.16.2/x86_64-linux/List/MoreUtils.pm line 362.
Name "Package::DeprecationManager::a" used only once: possible typo at /opt/perl/nothreads/5.16.2/lib/site_perl/5.16.2/x86_64-linux/List/MoreUtils.pm line 362.
Name "Package::DeprecationManager::b" used only once: possible typo at /opt/perl/nothreads/5.16.2/lib/site_perl/5.16.2/x86_64-linux/List/MoreUtils.pm line 362.
t/checkout_cart.t ......................... ok
Useless use of a variable in void context at /opt/perl/nothreads/5.16.2/lib/site_perl/5.16.2/x86_64-linux/List/MoreUtils.pm line 362.
Name "Package::DeprecationManager::a" used only once: possible typo at /opt/perl/nothreads/5.16.2/lib/site_perl/5.16.2/x86_64-linux/List/MoreUtils.pm line 362.
Name "Package::DeprecationManager::b" used only once: possible typo at /opt/perl/nothreads/5.16.2/lib/site_perl/5.16.2/x86_64-linux/List/MoreUtils.pm line 362.
t/checkout_messages.t ..................... ok
Useless use of a variable in void context at /opt/perl/nothreads/5.16.2/lib/site_perl/5.16.2/x86_64-linux/List/MoreUtils.pm line 362.
Name "Package::DeprecationManager::a" used only once: possible typo at /opt/perl/nothreads/5.16.2/lib/site_perl/5.16.2/x86_64-linux/List/MoreUtils.pm line 362.
Name "Package::DeprecationManager::b" used only once: possible typo at /opt/perl/nothreads/5.16.2/lib/site_perl/5.16.2/x86_64-linux/List/MoreUtils.pm line 362.
t/checkout_order.t ........................ ok
Useless use of a variable in void context at /opt/perl/nothreads/5.16.2/lib/site_perl/5.16.2/x86_64-linux/List/MoreUtils.pm line 362.
Name "Package::DeprecationManager::a" used only once: possible typo at /opt/perl/nothreads/5.16.2/lib/site_perl/5.16.2/x86_64-linux/List/MoreUtils.pm line 362.
Name "Package::DeprecationManager::b" used only once: possible typo at /opt/perl/nothreads/5.16.2/lib/site_perl/5.16.2/x86_64-linux/List/MoreUtils.pm line 362.
add_phase is deprecated and will be removed in a future release at t/checkout_phases.t line 21.
add_phase is deprecated and will be removed in a future release at t/checkout_phases.t line 77.
add_phase is deprecated and will be removed in a future release at t/checkout_phases.t line 93.
add_phase is deprecated and will be removed in a future release at t/checkout_phases.t line 110.
add_phase is deprecated and will be removed in a future release at t/checkout_phases.t line 77.
add_phase is deprecated and will be removed in a future release at t/checkout_phases.t line 93.
add_phase is deprecated and will be removed in a future release at t/checkout_phases.t line 110.
add_phase is deprecated and will be removed in a future release at t/checkout_phases.t line 77.
add_phase is deprecated and will be removed in a future release at t/checkout_phases.t line 93.
add_phase is deprecated and will be removed in a future release at t/checkout_phases.t line 110.
t/checkout_phases.t ....................... ok
Useless use of a variable in void context at /opt/perl/nothreads/5.16.2/lib/site_perl/5.16.2/x86_64-linux/List/MoreUtils.pm line 362.
Name "Package::DeprecationManager::a" used only once: possible typo at /opt/perl/nothreads/5.16.2/lib/site_perl/5.16.2/x86_64-linux/List/MoreUtils.pm line 362.
Name "Package::DeprecationManager::b" used only once: possible typo at /opt/perl/nothreads/5.16.2/lib/site_perl/5.16.2/x86_64-linux/List/MoreUtils.pm line 362.
add_phase is deprecated and will be removed in a future release at t/checkout_plugins.t line 124.
add_phase is deprecated and will be removed in a future release at t/checkout_plugins.t line 124.
add_phase is deprecated and will be removed in a future release at t/checkout_plugins.t line 124.
t/checkout_plugins.t ...................... ok
Useless use of a variable in void context at /opt/perl/nothreads/5.16.2/lib/site_perl/5.16.2/x86_64-linux/List/MoreUtils.pm line 362.
Name "Package::DeprecationManager::a" used only once: possible typo at /opt/perl/nothreads/5.16.2/lib/site_perl/5.16.2/x86_64-linux/List/MoreUtils.pm line 362.
Name "Package::DeprecationManager::b" used only once: possible typo at /opt/perl/nothreads/5.16.2/lib/site_perl/5.16.2/x86_64-linux/List/MoreUtils.pm line 362.
Use of uninitialized value in null operation during global destruction.
t/checkout_process.t ...................... ok
Useless use of a variable in void context at /opt/perl/nothreads/5.16.2/lib/site_perl/5.16.2/x86_64-linux/List/MoreUtils.pm line 362.
Name "Package::DeprecationManager::a" used only once: possible typo at /opt/perl/nothreads/5.16.2/lib/site_perl/5.16.2/x86_64-linux/List/MoreUtils.pm line 362.
Name "Package::DeprecationManager::b" used only once: possible typo at /opt/perl/nothreads/5.16.2/lib/site_perl/5.16.2/x86_64-linux/List/MoreUtils.pm line 362.
t/checkout_stash.t ........................ ok
Name "Package::DeprecationManager::a" used only once: possible typo at /opt/perl/nothreads/5.16.2/lib/site_perl/5.16.2/x86_64-linux/List/MoreUtils.pm line 362.
Name "Package::DeprecationManager::b" used only once: possible typo at /opt/perl/nothreads/5.16.2/lib/site_perl/5.16.2/x86_64-linux/List/MoreUtils.pm line 362.
t/compat.t ................................ ok
Useless use of a variable in void context at /opt/perl/nothreads/5.16.2/lib/site_perl/5.16.2/x86_64-linux/List/MoreUtils.pm line 362.
Name "Package::DeprecationManager::a" used only once: possible typo at /opt/perl/nothreads/5.16.2/lib/site_perl/5.16.2/x86_64-linux/List/MoreUtils.pm line 362.
Name "Package::DeprecationManager::b" used only once: possible typo at /opt/perl/nothreads/5.16.2/lib/site_perl/5.16.2/x86_64-linux/List/MoreUtils.pm line 362.
t/compat_cart_item_new.t .................. ok
Useless use of a variable in void context at /opt/perl/nothreads/5.16.2/lib/site_perl/5.16.2/x86_64-linux/List/MoreUtils.pm line 362.
Name "Package::DeprecationManager::a" used only once: possible typo at /opt/perl/nothreads/5.16.2/lib/site_perl/5.16.2/x86_64-linux/List/MoreUtils.pm line 362.
Name "Package::DeprecationManager::b" used only once: possible typo at /opt/perl/nothreads/5.16.2/lib/site_perl/5.16.2/x86_64-linux/List/MoreUtils.pm line 362.
t/compat_cart_items.t ..................... ok
Useless use of a variable in void context at /opt/perl/nothreads/5.16.2/lib/site_perl/5.16.2/x86_64-linux/List/MoreUtils.pm line 362.
Name "Package::DeprecationManager::a" used only once: possible typo at /opt/perl/nothreads/5.16.2/lib/site_perl/5.16.2/x86_64-linux/List/MoreUtils.pm line 362.
Name "Package::DeprecationManager::b" used only once: possible typo at /opt/perl/nothreads/5.16.2/lib/site_perl/5.16.2/x86_64-linux/List/MoreUtils.pm line 362.
t/compat_cart_load.t ...................... ok
Useless use of a variable in void context at /opt/perl/nothreads/5.16.2/lib/site_perl/5.16.2/x86_64-linux/List/MoreUtils.pm line 362.
Name "Package::DeprecationManager::a" used only once: possible typo at /opt/perl/nothreads/5.16.2/lib/site_perl/5.16.2/x86_64-linux/List/MoreUtils.pm line 362.
Name "Package::DeprecationManager::b" used only once: possible typo at /opt/perl/nothreads/5.16.2/lib/site_perl/5.16.2/x86_64-linux/List/MoreUtils.pm line 362.
t/compat_cart_new.t ....................... ok
t/compat_currency.t ....................... ok
Useless use of a variable in void context at /opt/perl/nothreads/5.16.2/lib/site_perl/5.16.2/x86_64-linux/List/MoreUtils.pm line 362.
Name "Package::DeprecationManager::a" used only once: possible typo at /opt/perl/nothreads/5.16.2/lib/site_perl/5.16.2/x86_64-linux/List/MoreUtils.pm line 362.
Name "Package::DeprecationManager::b" used only once: possible typo at /opt/perl/nothreads/5.16.2/lib/site_perl/5.16.2/x86_64-linux/List/MoreUtils.pm line 362.
t/compat_order_item_new.t ................. ok
Useless use of a variable in void context at /opt/perl/nothreads/5.16.2/lib/site_perl/5.16.2/x86_64-linux/List/MoreUtils.pm line 362.
Name "Package::DeprecationManager::a" used only once: possible typo at /opt/perl/nothreads/5.16.2/lib/site_perl/5.16.2/x86_64-linux/List/MoreUtils.pm line 362.
Name "Package::DeprecationManager::b" used only once: possible typo at /opt/perl/nothreads/5.16.2/lib/site_perl/5.16.2/x86_64-linux/List/MoreUtils.pm line 362.
t/compat_order_items.t .................... ok
Useless use of a variable in void context at /opt/perl/nothreads/5.16.2/lib/site_perl/5.16.2/x86_64-linux/List/MoreUtils.pm line 362.
Name "Package::DeprecationManager::a" used only once: possible typo at /opt/perl/nothreads/5.16.2/lib/site_perl/5.16.2/x86_64-linux/List/MoreUtils.pm line 362.
Name "Package::DeprecationManager::b" used only once: possible typo at /opt/perl/nothreads/5.16.2/lib/site_perl/5.16.2/x86_64-linux/List/MoreUtils.pm line 362.
t/compat_order_load.t ..................... ok
Useless use of a variable in void context at /opt/perl/nothreads/5.16.2/lib/site_perl/5.16.2/x86_64-linux/List/MoreUtils.pm line 362.
Name "Package::DeprecationManager::a" used only once: possible typo at /opt/perl/nothreads/5.16.2/lib/site_perl/5.16.2/x86_64-linux/List/MoreUtils.pm line 362.
Name "Package::DeprecationManager::b" used only once: possible typo at /opt/perl/nothreads/5.16.2/lib/site_perl/5.16.2/x86_64-linux/List/MoreUtils.pm line 362.
t/compat_order_new.t ...................... ok
t/config.t ................................ ok
t/config_modperl1.t ....................... ok
t/config_modperl2.t ....................... ok
t/constants.t ............................. ok
t/constraints_cart_name.t ................. ok
t/constraints_cart_type.t ................. ok
Useless use of a variable in void context at /opt/perl/nothreads/5.16.2/lib/site_perl/5.16.2/x86_64-linux/List/MoreUtils.pm line 362.
Name "Package::DeprecationManager::a" used only once: possible typo at /opt/perl/nothreads/5.16.2/lib/site_perl/5.16.2/x86_64-linux/List/MoreUtils.pm line 362.
Name "Package::DeprecationManager::b" used only once: possible typo at /opt/perl/nothreads/5.16.2/lib/site_perl/5.16.2/x86_64-linux/List/MoreUtils.pm line 362.
add_phase is deprecated and will be removed in a future release at t/constraints_checkout_phase.t line 29.
t/constraints_checkout_phase.t ............ ok
t/constraints_currency_code.t ............. ok
t/constraints_order_type.t ................ ok
t/constraints_price.t ..................... ok
t/constraints_quantity.t .................. ok
t/constraints_uuid.t ...................... ok
Useless use of a variable in void context at /opt/perl/nothreads/5.16.2/lib/site_perl/5.16.2/x86_64-linux/List/MoreUtils.pm line 362.
t/currency.t .............................. ok
t/exceptions.t ............................ ok
t/exceptions_axkit.t ...................... ok
t/iterator.t .............................. ok
Useless use of a variable in void context at /opt/perl/nothreads/5.16.2/lib/site_perl/5.16.2/x86_64-linux/List/MoreUtils.pm line 362.
t/iterator_dbic.t ......................... ok
t/iterator_list.t ......................... ok
t/iterator_results.t ...................... ok
Useless use of a variable in void context at /opt/perl/nothreads/5.16.2/lib/site_perl/5.16.2/x86_64-linux/List/MoreUtils.pm line 362.
t/l10n.t .................................. ok
t/l10n_lexicon_synced.t ................... ok
t/manifest.t .............................. skipped: set TEST_AUTHOR to enable this test
Added to MANIFEST: Changes
Added to MANIFEST: ignore.txt
Added to MANIFEST: lib/MyProject.pm
Added to MANIFEST: lib/MyProject/Cart.pm
Added to MANIFEST: lib/MyProject/Cart/Item.pm
Added to MANIFEST: lib/MyProject/Checkout.pm
Added to MANIFEST: lib/MyProject/Order.pm
Added to MANIFEST: lib/MyProject/Order/Item.pm
Added to MANIFEST: lib/MyProject/Storage/Cart.pm
Added to MANIFEST: lib/MyProject/Storage/Cart/Item.pm
Added to MANIFEST: lib/MyProject/Storage/Order.pm
Added to MANIFEST: lib/MyProject/Storage/Order/Item.pm
Added to MANIFEST: Makefile.PL
Added to MANIFEST: MANIFEST
Added to MANIFEST: README
Added to MANIFEST: t/basic.t
Added to MANIFEST: t/pod_coverage.t
Added to MANIFEST: t/pod_spelling.t
Added to MANIFEST: t/pod_syntax.t
Added to MANIFEST: Changes
Added to MANIFEST: ignore.txt
Added to MANIFEST: lib/TestApp.pm
Added to MANIFEST: lib/TestApp/Cart.pm
Added to MANIFEST: lib/TestApp/Cart/Item.pm
Added to MANIFEST: lib/TestApp/Checkout.pm
Added to MANIFEST: lib/TestApp/Order.pm
Added to MANIFEST: lib/TestApp/Order/Item.pm
Added to MANIFEST: lib/TestApp/Storage/Cart.pm
Added to MANIFEST: lib/TestApp/Storage/Cart/Item.pm
Added to MANIFEST: lib/TestApp/Storage/Order.pm
Added to MANIFEST: lib/TestApp/Storage/Order/Item.pm
Added to MANIFEST: Makefile.PL
Added to MANIFEST: MANIFEST
Added to MANIFEST: README
Added to MANIFEST: t/basic.t
Added to MANIFEST: t/pod_coverage.t
Added to MANIFEST: t/pod_spelling.t
Added to MANIFEST: t/pod_syntax.t
Added to MANIFEST: Changes
Added to MANIFEST: ignore.txt
Added to MANIFEST: lib/DistApp.pm
Added to MANIFEST: lib/DistApp/Cart.pm
Added to MANIFEST: lib/DistApp/Cart/Item.pm
Added to MANIFEST: lib/DistApp/Checkout.pm
Added to MANIFEST: lib/DistApp/Order.pm
Added to MANIFEST: lib/DistApp/Order/Item.pm
Added to MANIFEST: lib/DistApp/Storage/Cart.pm
Added to MANIFEST: lib/DistApp/Storage/Cart/Item.pm
Added to MANIFEST: lib/DistApp/Storage/Order.pm
Added to MANIFEST: lib/DistApp/Storage/Order/Item.pm
Added to MANIFEST: Makefile.PL
Added to MANIFEST: MANIFEST
Added to MANIFEST: README
Added to MANIFEST: t/basic.t
Added to MANIFEST: t/pod_coverage.t
Added to MANIFEST: t/pod_spelling.t
Added to MANIFEST: t/pod_syntax.t
Added to MANIFEST: Changes
Added to MANIFEST: ignore.txt
Added to MANIFEST: lib/MyApp.pm
Added to MANIFEST: lib/MyApp/Cart.pm
Added to MANIFEST: lib/MyApp/Cart/Item.pm
Added to MANIFEST: lib/MyApp/Checkout.pm
Added to MANIFEST: lib/MyApp/Order.pm
Added to MANIFEST: lib/MyApp/Order/Item.pm
Added to MANIFEST: lib/MyApp/Storage/Cart.pm
Added to MANIFEST: lib/MyApp/Storage/Cart/Item.pm
Added to MANIFEST: lib/MyApp/Storage/Order.pm
Added to MANIFEST: lib/MyApp/Storage/Order/Item.pm
Added to MANIFEST: Makefile.PL
Added to MANIFEST: MANIFEST
Added to MANIFEST: README
Added to MANIFEST: t/basic.t
Added to MANIFEST: t/pod_coverage.t
Added to MANIFEST: t/pod_spelling.t
Added to MANIFEST: t/pod_syntax.t
t/module_starter.t ........................ ok
Useless use of a variable in void context at /opt/perl/nothreads/5.16.2/lib/site_perl/5.16.2/x86_64-linux/List/MoreUtils.pm line 362.
Name "Package::DeprecationManager::a" used only once: possible typo at /opt/perl/nothreads/5.16.2/lib/site_perl/5.16.2/x86_64-linux/List/MoreUtils.pm line 362.
Name "Package::DeprecationManager::b" used only once: possible typo at /opt/perl/nothreads/5.16.2/lib/site_perl/5.16.2/x86_64-linux/List/MoreUtils.pm line 362.
t/order_add.t ............................. ok
Useless use of a variable in void context at /opt/perl/nothreads/5.16.2/lib/site_perl/5.16.2/x86_64-linux/List/MoreUtils.pm line 362.
Name "Package::DeprecationManager::a" used only once: possible typo at /opt/perl/nothreads/5.16.2/lib/site_perl/5.16.2/x86_64-linux/List/MoreUtils.pm line 362.
Name "Package::DeprecationManager::b" used only once: possible typo at /opt/perl/nothreads/5.16.2/lib/site_perl/5.16.2/x86_64-linux/List/MoreUtils.pm line 362.
t/order_clear.t ........................... ok
Useless use of a variable in void context at /opt/perl/nothreads/5.16.2/lib/site_perl/5.16.2/x86_64-linux/List/MoreUtils.pm line 362.
Name "Package::DeprecationManager::a" used only once: possible typo at /opt/perl/nothreads/5.16.2/lib/site_perl/5.16.2/x86_64-linux/List/MoreUtils.pm line 362.
Name "Package::DeprecationManager::b" used only once: possible typo at /opt/perl/nothreads/5.16.2/lib/site_perl/5.16.2/x86_64-linux/List/MoreUtils.pm line 362.
t/order_create.t .......................... ok
Useless use of a variable in void context at /opt/perl/nothreads/5.16.2/lib/site_perl/5.16.2/x86_64-linux/List/MoreUtils.pm line 362.
Name "Package::DeprecationManager::a" used only once: possible typo at /opt/perl/nothreads/5.16.2/lib/site_perl/5.16.2/x86_64-linux/List/MoreUtils.pm line 362.
Name "Package::DeprecationManager::b" used only once: possible typo at /opt/perl/nothreads/5.16.2/lib/site_perl/5.16.2/x86_64-linux/List/MoreUtils.pm line 362.
t/order_delete.t .......................... ok
Useless use of a variable in void context at /opt/perl/nothreads/5.16.2/lib/site_perl/5.16.2/x86_64-linux/List/MoreUtils.pm line 362.
Name "Package::DeprecationManager::a" used only once: possible typo at /opt/perl/nothreads/5.16.2/lib/site_perl/5.16.2/x86_64-linux/List/MoreUtils.pm line 362.
Name "Package::DeprecationManager::b" used only once: possible typo at /opt/perl/nothreads/5.16.2/lib/site_perl/5.16.2/x86_64-linux/List/MoreUtils.pm line 362.
t/order_destroy.t ......................... ok
Useless use of a variable in void context at /opt/perl/nothreads/5.16.2/lib/site_perl/5.16.2/x86_64-linux/List/MoreUtils.pm line 362.
Name "Package::DeprecationManager::a" used only once: possible typo at /opt/perl/nothreads/5.16.2/lib/site_perl/5.16.2/x86_64-linux/List/MoreUtils.pm line 362.
Name "Package::DeprecationManager::b" used only once: possible typo at /opt/perl/nothreads/5.16.2/lib/site_perl/5.16.2/x86_64-linux/List/MoreUtils.pm line 362.
t/order_item_create.t ..................... ok
Useless use of a variable in void context at /opt/perl/nothreads/5.16.2/lib/site_perl/5.16.2/x86_64-linux/List/MoreUtils.pm line 362.
Name "Package::DeprecationManager::a" used only once: possible typo at /opt/perl/nothreads/5.16.2/lib/site_perl/5.16.2/x86_64-linux/List/MoreUtils.pm line 362.
Name "Package::DeprecationManager::b" used only once: possible typo at /opt/perl/nothreads/5.16.2/lib/site_perl/5.16.2/x86_64-linux/List/MoreUtils.pm line 362.
t/order_items.t ........................... ok
Useless use of a variable in void context at /opt/perl/nothreads/5.16.2/lib/site_perl/5.16.2/x86_64-linux/List/MoreUtils.pm line 362.
Name "Package::DeprecationManager::a" used only once: possible typo at /opt/perl/nothreads/5.16.2/lib/site_perl/5.16.2/x86_64-linux/List/MoreUtils.pm line 362.
Name "Package::DeprecationManager::b" used only once: possible typo at /opt/perl/nothreads/5.16.2/lib/site_perl/5.16.2/x86_64-linux/List/MoreUtils.pm line 362.
t/order_reconcile.t ....................... ok
Useless use of a variable in void context at /opt/perl/nothreads/5.16.2/lib/site_perl/5.16.2/x86_64-linux/List/MoreUtils.pm line 362.
Name "Package::DeprecationManager::a" used only once: possible typo at /opt/perl/nothreads/5.16.2/lib/site_perl/5.16.2/x86_64-linux/List/MoreUtils.pm line 362.
Name "Package::DeprecationManager::b" used only once: possible typo at /opt/perl/nothreads/5.16.2/lib/site_perl/5.16.2/x86_64-linux/List/MoreUtils.pm line 362.
t/order_save.t ............................ ok
Useless use of a variable in void context at /opt/perl/nothreads/5.16.2/lib/site_perl/5.16.2/x86_64-linux/List/MoreUtils.pm line 362.
Name "Package::DeprecationManager::a" used only once: possible typo at /opt/perl/nothreads/5.16.2/lib/site_perl/5.16.2/x86_64-linux/List/MoreUtils.pm line 362.
Name "Package::DeprecationManager::b" used only once: possible typo at /opt/perl/nothreads/5.16.2/lib/site_perl/5.16.2/x86_64-linux/List/MoreUtils.pm line 362.
t/order_search.t .......................... ok
t/pod_coverage.t .......................... skipped: set TEST_AUTHOR to enable this test
t/pod_spelling.t .......................... skipped: set TEST_AUTHOR to enable this test
t/pod_syntax.t ............................ skipped: set TEST_AUTHOR to enable this test
Useless use of a variable in void context at /opt/perl/nothreads/5.16.2/lib/site_perl/5.16.2/x86_64-linux/List/MoreUtils.pm line 362.
Name "Package::DeprecationManager::a" used only once: possible typo at /opt/perl/nothreads/5.16.2/lib/site_perl/5.16.2/x86_64-linux/List/MoreUtils.pm line 362.
Name "Package::DeprecationManager::b" used only once: possible typo at /opt/perl/nothreads/5.16.2/lib/site_perl/5.16.2/x86_64-linux/List/MoreUtils.pm line 362.
t/schema.t ................................ ok
Useless use of a variable in void context at /opt/perl/nothreads/5.16.2/lib/site_perl/5.16.2/x86_64-linux/List/MoreUtils.pm line 362.
Name "Package::DeprecationManager::a" used only once: possible typo at /opt/perl/nothreads/5.16.2/lib/site_perl/5.16.2/x86_64-linux/List/MoreUtils.pm line 362.
Name "Package::DeprecationManager::b" used only once: possible typo at /opt/perl/nothreads/5.16.2/lib/site_perl/5.16.2/x86_64-linux/List/MoreUtils.pm line 362.
t/storage_add_columns.t ................... ok
Useless use of a variable in void context at /opt/perl/nothreads/5.16.2/lib/site_perl/5.16.2/x86_64-linux/List/MoreUtils.pm line 362.
Name "Package::DeprecationManager::a" used only once: possible typo at /opt/perl/nothreads/5.16.2/lib/site_perl/5.16.2/x86_64-linux/List/MoreUtils.pm line 362.
Name "Package::DeprecationManager::b" used only once: possible typo at /opt/perl/nothreads/5.16.2/lib/site_perl/5.16.2/x86_64-linux/List/MoreUtils.pm line 362.
t/storage_add_constraint.t ................ ok
Useless use of a variable in void context at /opt/perl/nothreads/5.16.2/lib/site_perl/5.16.2/x86_64-linux/List/MoreUtils.pm line 362.
Name "Package::DeprecationManager::a" used only once: possible typo at /opt/perl/nothreads/5.16.2/lib/site_perl/5.16.2/x86_64-linux/List/MoreUtils.pm line 362.
Name "Package::DeprecationManager::b" used only once: possible typo at /opt/perl/nothreads/5.16.2/lib/site_perl/5.16.2/x86_64-linux/List/MoreUtils.pm line 362.
t/storage_check_constraints.t ............. ok
Useless use of a variable in void context at /opt/perl/nothreads/5.16.2/lib/site_perl/5.16.2/x86_64-linux/List/MoreUtils.pm line 362.
Name "Package::DeprecationManager::a" used only once: possible typo at /opt/perl/nothreads/5.16.2/lib/site_perl/5.16.2/x86_64-linux/List/MoreUtils.pm line 362.
Name "Package::DeprecationManager::b" used only once: possible typo at /opt/perl/nothreads/5.16.2/lib/site_perl/5.16.2/x86_64-linux/List/MoreUtils.pm line 362.
t/storage_clone.t ......................... ok
Useless use of a variable in void context at /opt/perl/nothreads/5.16.2/lib/site_perl/5.16.2/x86_64-linux/List/MoreUtils.pm line 362.
Name "Package::DeprecationManager::a" used only once: possible typo at /opt/perl/nothreads/5.16.2/lib/site_perl/5.16.2/x86_64-linux/List/MoreUtils.pm line 362.
Name "Package::DeprecationManager::b" used only once: possible typo at /opt/perl/nothreads/5.16.2/lib/site_perl/5.16.2/x86_64-linux/List/MoreUtils.pm line 362.
t/storage_column_accessors.t .............. ok
Useless use of a variable in void context at /opt/perl/nothreads/5.16.2/lib/site_perl/5.16.2/x86_64-linux/List/MoreUtils.pm line 362.
Name "Package::DeprecationManager::a" used only once: possible typo at /opt/perl/nothreads/5.16.2/lib/site_perl/5.16.2/x86_64-linux/List/MoreUtils.pm line 362.
Name "Package::DeprecationManager::b" used only once: possible typo at /opt/perl/nothreads/5.16.2/lib/site_perl/5.16.2/x86_64-linux/List/MoreUtils.pm line 362.
t/storage_columns.t ....................... ok
Useless use of a variable in void context at /opt/perl/nothreads/5.16.2/lib/site_perl/5.16.2/x86_64-linux/List/MoreUtils.pm line 362.
Name "Package::DeprecationManager::a" used only once: possible typo at /opt/perl/nothreads/5.16.2/lib/site_perl/5.16.2/x86_64-linux/List/MoreUtils.pm line 362.
Name "Package::DeprecationManager::b" used only once: possible typo at /opt/perl/nothreads/5.16.2/lib/site_perl/5.16.2/x86_64-linux/List/MoreUtils.pm line 362.
t/storage_constraints.t ................... ok
Useless use of a variable in void context at /opt/perl/nothreads/5.16.2/lib/site_perl/5.16.2/x86_64-linux/List/MoreUtils.pm line 362.
Name "Package::DeprecationManager::a" used only once: possible typo at /opt/perl/nothreads/5.16.2/lib/site_perl/5.16.2/x86_64-linux/List/MoreUtils.pm line 362.
Name "Package::DeprecationManager::b" used only once: possible typo at /opt/perl/nothreads/5.16.2/lib/site_perl/5.16.2/x86_64-linux/List/MoreUtils.pm line 362.
t/storage_copyable_item_columns.t ......... ok
Useless use of a variable in void context at /opt/perl/nothreads/5.16.2/lib/site_perl/5.16.2/x86_64-linux/List/MoreUtils.pm line 362.
Name "Package::DeprecationManager::a" used only once: possible typo at /opt/perl/nothreads/5.16.2/lib/site_perl/5.16.2/x86_64-linux/List/MoreUtils.pm line 362.
Name "Package::DeprecationManager::b" used only once: possible typo at /opt/perl/nothreads/5.16.2/lib/site_perl/5.16.2/x86_64-linux/List/MoreUtils.pm line 362.
t/storage_currency_class.t ................ ok
Useless use of a variable in void context at /opt/perl/nothreads/5.16.2/lib/site_perl/5.16.2/x86_64-linux/List/MoreUtils.pm line 362.
Name "Package::DeprecationManager::a" used only once: possible typo at /opt/perl/nothreads/5.16.2/lib/site_perl/5.16.2/x86_64-linux/List/MoreUtils.pm line 362.
Name "Package::DeprecationManager::b" used only once: possible typo at /opt/perl/nothreads/5.16.2/lib/site_perl/5.16.2/x86_64-linux/List/MoreUtils.pm line 362.
t/storage_currency_columns.t .............. ok
Useless use of a variable in void context at /opt/perl/nothreads/5.16.2/lib/site_perl/5.16.2/x86_64-linux/List/MoreUtils.pm line 362.
Name "Package::DeprecationManager::a" used only once: possible typo at /opt/perl/nothreads/5.16.2/lib/site_perl/5.16.2/x86_64-linux/List/MoreUtils.pm line 362.
Name "Package::DeprecationManager::b" used only once: possible typo at /opt/perl/nothreads/5.16.2/lib/site_perl/5.16.2/x86_64-linux/List/MoreUtils.pm line 362.
t/storage_dbic_add_columns.t .............. ok
Useless use of a variable in void context at /opt/perl/nothreads/5.16.2/lib/site_perl/5.16.2/x86_64-linux/List/MoreUtils.pm line 362.
Name "Package::DeprecationManager::a" used only once: possible typo at /opt/perl/nothreads/5.16.2/lib/site_perl/5.16.2/x86_64-linux/List/MoreUtils.pm line 362.
Name "Package::DeprecationManager::b" used only once: possible typo at /opt/perl/nothreads/5.16.2/lib/site_perl/5.16.2/x86_64-linux/List/MoreUtils.pm line 362.
t/storage_dbic_add_constraint.t ........... ok
Useless use of a variable in void context at /opt/perl/nothreads/5.16.2/lib/site_perl/5.16.2/x86_64-linux/List/MoreUtils.pm line 362.
Name "Package::DeprecationManager::a" used only once: possible typo at /opt/perl/nothreads/5.16.2/lib/site_perl/5.16.2/x86_64-linux/List/MoreUtils.pm line 362.
Name "Package::DeprecationManager::b" used only once: possible typo at /opt/perl/nothreads/5.16.2/lib/site_perl/5.16.2/x86_64-linux/List/MoreUtils.pm line 362.
t/storage_dbic_add_item.t ................. ok
Useless use of a variable in void context at /opt/perl/nothreads/5.16.2/lib/site_perl/5.16.2/x86_64-linux/List/MoreUtils.pm line 362.
Name "Package::DeprecationManager::a" used only once: possible typo at /opt/perl/nothreads/5.16.2/lib/site_perl/5.16.2/x86_64-linux/List/MoreUtils.pm line 362.
Name "Package::DeprecationManager::b" used only once: possible typo at /opt/perl/nothreads/5.16.2/lib/site_perl/5.16.2/x86_64-linux/List/MoreUtils.pm line 362.
t/storage_dbic_clone.t .................... ok
Useless use of a variable in void context at /opt/perl/nothreads/5.16.2/lib/site_perl/5.16.2/x86_64-linux/List/MoreUtils.pm line 362.
Name "Package::DeprecationManager::a" used only once: possible typo at /opt/perl/nothreads/5.16.2/lib/site_perl/5.16.2/x86_64-linux/List/MoreUtils.pm line 362.
Name "Package::DeprecationManager::b" used only once: possible typo at /opt/perl/nothreads/5.16.2/lib/site_perl/5.16.2/x86_64-linux/List/MoreUtils.pm line 362.
t/storage_dbic_column_accessors.t ......... ok
Useless use of a variable in void context at /opt/perl/nothreads/5.16.2/lib/site_perl/5.16.2/x86_64-linux/List/MoreUtils.pm line 362.
Name "Package::DeprecationManager::a" used only once: possible typo at /opt/perl/nothreads/5.16.2/lib/site_perl/5.16.2/x86_64-linux/List/MoreUtils.pm line 362.
Name "Package::DeprecationManager::b" used only once: possible typo at /opt/perl/nothreads/5.16.2/lib/site_perl/5.16.2/x86_64-linux/List/MoreUtils.pm line 362.
t/storage_dbic_columns.t .................. ok
Useless use of a variable in void context at /opt/perl/nothreads/5.16.2/lib/site_perl/5.16.2/x86_64-linux/List/MoreUtils.pm line 362.
Name "Package::DeprecationManager::a" used only once: possible typo at /opt/perl/nothreads/5.16.2/lib/site_perl/5.16.2/x86_64-linux/List/MoreUtils.pm line 362.
Name "Package::DeprecationManager::b" used only once: possible typo at /opt/perl/nothreads/5.16.2/lib/site_perl/5.16.2/x86_64-linux/List/MoreUtils.pm line 362.
t/storage_dbic_connection_info.t .......... ok
Useless use of a variable in void context at /opt/perl/nothreads/5.16.2/lib/site_perl/5.16.2/x86_64-linux/List/MoreUtils.pm line 362.
Name "Package::DeprecationManager::a" used only once: possible typo at /opt/perl/nothreads/5.16.2/lib/site_perl/5.16.2/x86_64-linux/List/MoreUtils.pm line 362.
Name "Package::DeprecationManager::b" used only once: possible typo at /opt/perl/nothreads/5.16.2/lib/site_perl/5.16.2/x86_64-linux/List/MoreUtils.pm line 362.
t/storage_dbic_constraints.t .............. ok
Useless use of a variable in void context at /opt/perl/nothreads/5.16.2/lib/site_perl/5.16.2/x86_64-linux/List/MoreUtils.pm line 362.
Name "Package::DeprecationManager::a" used only once: possible typo at /opt/perl/nothreads/5.16.2/lib/site_perl/5.16.2/x86_64-linux/List/MoreUtils.pm line 362.
Name "Package::DeprecationManager::b" used only once: possible typo at /opt/perl/nothreads/5.16.2/lib/site_perl/5.16.2/x86_64-linux/List/MoreUtils.pm line 362.
t/storage_dbic_copyable_item_columns.t .... ok
Useless use of a variable in void context at /opt/perl/nothreads/5.16.2/lib/site_perl/5.16.2/x86_64-linux/List/MoreUtils.pm line 362.
Name "Package::DeprecationManager::a" used only once: possible typo at /opt/perl/nothreads/5.16.2/lib/site_perl/5.16.2/x86_64-linux/List/MoreUtils.pm line 362.
Name "Package::DeprecationManager::b" used only once: possible typo at /opt/perl/nothreads/5.16.2/lib/site_perl/5.16.2/x86_64-linux/List/MoreUtils.pm line 362.
t/storage_dbic_count_items.t .............. ok
Useless use of a variable in void context at /opt/perl/nothreads/5.16.2/lib/site_perl/5.16.2/x86_64-linux/List/MoreUtils.pm line 362.
Name "Package::DeprecationManager::a" used only once: possible typo at /opt/perl/nothreads/5.16.2/lib/site_perl/5.16.2/x86_64-linux/List/MoreUtils.pm line 362.
Name "Package::DeprecationManager::b" used only once: possible typo at /opt/perl/nothreads/5.16.2/lib/site_perl/5.16.2/x86_64-linux/List/MoreUtils.pm line 362.
t/storage_dbic_create.t ................... ok
Useless use of a variable in void context at /opt/perl/nothreads/5.16.2/lib/site_perl/5.16.2/x86_64-linux/List/MoreUtils.pm line 362.
Name "Package::DeprecationManager::a" used only once: possible typo at /opt/perl/nothreads/5.16.2/lib/site_perl/5.16.2/x86_64-linux/List/MoreUtils.pm line 362.
Name "Package::DeprecationManager::b" used only once: possible typo at /opt/perl/nothreads/5.16.2/lib/site_perl/5.16.2/x86_64-linux/List/MoreUtils.pm line 362.
t/storage_dbic_currency_code.t ............ ok
Useless use of a variable in void context at /opt/perl/nothreads/5.16.2/lib/site_perl/5.16.2/x86_64-linux/List/MoreUtils.pm line 362.
Name "Package::DeprecationManager::a" used only once: possible typo at /opt/perl/nothreads/5.16.2/lib/site_perl/5.16.2/x86_64-linux/List/MoreUtils.pm line 362.
Name "Package::DeprecationManager::b" used only once: possible typo at /opt/perl/nothreads/5.16.2/lib/site_perl/5.16.2/x86_64-linux/List/MoreUtils.pm line 362.
t/storage_dbic_currency_columns.t ......... ok
Useless use of a variable in void context at /opt/perl/nothreads/5.16.2/lib/site_perl/5.16.2/x86_64-linux/List/MoreUtils.pm line 362.
Name "Package::DeprecationManager::a" used only once: possible typo at /opt/perl/nothreads/5.16.2/lib/site_perl/5.16.2/x86_64-linux/List/MoreUtils.pm line 362.
Name "Package::DeprecationManager::b" used only once: possible typo at /opt/perl/nothreads/5.16.2/lib/site_perl/5.16.2/x86_64-linux/List/MoreUtils.pm line 362.
t/storage_dbic_currency_format.t .......... ok
Useless use of a variable in void context at /opt/perl/nothreads/5.16.2/lib/site_perl/5.16.2/x86_64-linux/List/MoreUtils.pm line 362.
Name "Package::DeprecationManager::a" used only once: possible typo at /opt/perl/nothreads/5.16.2/lib/site_perl/5.16.2/x86_64-linux/List/MoreUtils.pm line 362.
Name "Package::DeprecationManager::b" used only once: possible typo at /opt/perl/nothreads/5.16.2/lib/site_perl/5.16.2/x86_64-linux/List/MoreUtils.pm line 362.
t/storage_dbic_default_values.t ........... ok
Useless use of a variable in void context at /opt/perl/nothreads/5.16.2/lib/site_perl/5.16.2/x86_64-linux/List/MoreUtils.pm line 362.
Name "Package::DeprecationManager::a" used only once: possible typo at /opt/perl/nothreads/5.16.2/lib/site_perl/5.16.2/x86_64-linux/List/MoreUtils.pm line 362.
Name "Package::DeprecationManager::b" used only once: possible typo at /opt/perl/nothreads/5.16.2/lib/site_perl/5.16.2/x86_64-linux/List/MoreUtils.pm line 362.
t/storage_dbic_delete.t ................... ok
Useless use of a variable in void context at /opt/perl/nothreads/5.16.2/lib/site_perl/5.16.2/x86_64-linux/List/MoreUtils.pm line 362.
Name "Package::DeprecationManager::a" used only once: possible typo at /opt/perl/nothreads/5.16.2/lib/site_perl/5.16.2/x86_64-linux/List/MoreUtils.pm line 362.
Name "Package::DeprecationManager::b" used only once: possible typo at /opt/perl/nothreads/5.16.2/lib/site_perl/5.16.2/x86_64-linux/List/MoreUtils.pm line 362.
t/storage_dbic_delete_items.t ............. ok
Useless use of a variable in void context at /opt/perl/nothreads/5.16.2/lib/site_perl/5.16.2/x86_64-linux/List/MoreUtils.pm line 362.
Name "Package::DeprecationManager::a" used only once: possible typo at /opt/perl/nothreads/5.16.2/lib/site_perl/5.16.2/x86_64-linux/List/MoreUtils.pm line 362.
Name "Package::DeprecationManager::b" used only once: possible typo at /opt/perl/nothreads/5.16.2/lib/site_perl/5.16.2/x86_64-linux/List/MoreUtils.pm line 362.
t/storage_dbic_has_column.t ............... ok
Useless use of a variable in void context at /opt/perl/nothreads/5.16.2/lib/site_perl/5.16.2/x86_64-linux/List/MoreUtils.pm line 362.
Name "Package::DeprecationManager::a" used only once: possible typo at /opt/perl/nothreads/5.16.2/lib/site_perl/5.16.2/x86_64-linux/List/MoreUtils.pm line 362.
Name "Package::DeprecationManager::b" used only once: possible typo at /opt/perl/nothreads/5.16.2/lib/site_perl/5.16.2/x86_64-linux/List/MoreUtils.pm line 362.
t/storage_dbic_primary_columns.t .......... ok
Useless use of a variable in void context at /opt/perl/nothreads/5.16.2/lib/site_perl/5.16.2/x86_64-linux/List/MoreUtils.pm line 362.
Name "Package::DeprecationManager::a" used only once: possible typo at /opt/perl/nothreads/5.16.2/lib/site_perl/5.16.2/x86_64-linux/List/MoreUtils.pm line 362.
Name "Package::DeprecationManager::b" used only once: possible typo at /opt/perl/nothreads/5.16.2/lib/site_perl/5.16.2/x86_64-linux/List/MoreUtils.pm line 362.
t/storage_dbic_process_error.t ............ ok
Useless use of a variable in void context at /opt/perl/nothreads/5.16.2/lib/site_perl/5.16.2/x86_64-linux/List/MoreUtils.pm line 362.
Name "Package::DeprecationManager::a" used only once: possible typo at /opt/perl/nothreads/5.16.2/lib/site_perl/5.16.2/x86_64-linux/List/MoreUtils.pm line 362.
Name "Package::DeprecationManager::b" used only once: possible typo at /opt/perl/nothreads/5.16.2/lib/site_perl/5.16.2/x86_64-linux/List/MoreUtils.pm line 362.
t/storage_dbic_remove_columns.t ........... ok
Useless use of a variable in void context at /opt/perl/nothreads/5.16.2/lib/site_perl/5.16.2/x86_64-linux/List/MoreUtils.pm line 362.
Name "Package::DeprecationManager::a" used only once: possible typo at /opt/perl/nothreads/5.16.2/lib/site_perl/5.16.2/x86_64-linux/List/MoreUtils.pm line 362.
Name "Package::DeprecationManager::b" used only once: possible typo at /opt/perl/nothreads/5.16.2/lib/site_perl/5.16.2/x86_64-linux/List/MoreUtils.pm line 362.
t/storage_dbic_remove_constraint.t ........ ok
Useless use of a variable in void context at /opt/perl/nothreads/5.16.2/lib/site_perl/5.16.2/x86_64-linux/List/MoreUtils.pm line 362.
Name "Package::DeprecationManager::a" used only once: possible typo at /opt/perl/nothreads/5.16.2/lib/site_perl/5.16.2/x86_64-linux/List/MoreUtils.pm line 362.
Name "Package::DeprecationManager::b" used only once: possible typo at /opt/perl/nothreads/5.16.2/lib/site_perl/5.16.2/x86_64-linux/List/MoreUtils.pm line 362.
t/storage_dbic_remove_constraints.t ....... ok
Useless use of a variable in void context at /opt/perl/nothreads/5.16.2/lib/site_perl/5.16.2/x86_64-linux/List/MoreUtils.pm line 362.
Name "Package::DeprecationManager::a" used only once: possible typo at /opt/perl/nothreads/5.16.2/lib/site_perl/5.16.2/x86_64-linux/List/MoreUtils.pm line 362.
Name "Package::DeprecationManager::b" used only once: possible typo at /opt/perl/nothreads/5.16.2/lib/site_perl/5.16.2/x86_64-linux/List/MoreUtils.pm line 362.
t/storage_dbic_schema_class.t ............. ok
Useless use of a variable in void context at /opt/perl/nothreads/5.16.2/lib/site_perl/5.16.2/x86_64-linux/List/MoreUtils.pm line 362.
Name "Package::DeprecationManager::a" used only once: possible typo at /opt/perl/nothreads/5.16.2/lib/site_perl/5.16.2/x86_64-linux/List/MoreUtils.pm line 362.
Name "Package::DeprecationManager::b" used only once: possible typo at /opt/perl/nothreads/5.16.2/lib/site_perl/5.16.2/x86_64-linux/List/MoreUtils.pm line 362.
t/storage_dbic_schema_instance.t .......... ok
Useless use of a variable in void context at /opt/perl/nothreads/5.16.2/lib/site_perl/5.16.2/x86_64-linux/List/MoreUtils.pm line 362.
Name "Package::DeprecationManager::a" used only once: possible typo at /opt/perl/nothreads/5.16.2/lib/site_perl/5.16.2/x86_64-linux/List/MoreUtils.pm line 362.
Name "Package::DeprecationManager::b" used only once: possible typo at /opt/perl/nothreads/5.16.2/lib/site_perl/5.16.2/x86_64-linux/List/MoreUtils.pm line 362.
t/storage_dbic_search.t ................... ok
Useless use of a variable in void context at /opt/perl/nothreads/5.16.2/lib/site_perl/5.16.2/x86_64-linux/List/MoreUtils.pm line 362.
Name "Package::DeprecationManager::a" used only once: possible typo at /opt/perl/nothreads/5.16.2/lib/site_perl/5.16.2/x86_64-linux/List/MoreUtils.pm line 362.
Name "Package::DeprecationManager::b" used only once: possible typo at /opt/perl/nothreads/5.16.2/lib/site_perl/5.16.2/x86_64-linux/List/MoreUtils.pm line 362.
t/storage_dbic_search_items.t ............. ok
Useless use of a variable in void context at /opt/perl/nothreads/5.16.2/lib/site_perl/5.16.2/x86_64-linux/List/MoreUtils.pm line 362.
Name "Package::DeprecationManager::a" used only once: possible typo at /opt/perl/nothreads/5.16.2/lib/site_perl/5.16.2/x86_64-linux/List/MoreUtils.pm line 362.
Name "Package::DeprecationManager::b" used only once: possible typo at /opt/perl/nothreads/5.16.2/lib/site_perl/5.16.2/x86_64-linux/List/MoreUtils.pm line 362.
t/storage_dbic_setup.t .................... ok
Useless use of a variable in void context at /opt/perl/nothreads/5.16.2/lib/site_perl/5.16.2/x86_64-linux/List/MoreUtils.pm line 362.
Name "FormValidator::Simple::Results::a" used only once: possible typo at /opt/perl/nothreads/5.16.2/lib/site_perl/5.16.2/x86_64-linux/List/MoreUtils.pm line 362.
Name "FormValidator::Simple::Results::b" used only once: possible typo at /opt/perl/nothreads/5.16.2/lib/site_perl/5.16.2/x86_64-linux/List/MoreUtils.pm line 362.
t/storage_dbic_validation.t ............... ok
Useless use of a variable in void context at /opt/perl/nothreads/5.16.2/lib/site_perl/5.16.2/x86_64-linux/List/MoreUtils.pm line 362.
Name "Package::DeprecationManager::a" used only once: possible typo at /opt/perl/nothreads/5.16.2/lib/site_perl/5.16.2/x86_64-linux/List/MoreUtils.pm line 362.
Name "Package::DeprecationManager::b" used only once: possible typo at /opt/perl/nothreads/5.16.2/lib/site_perl/5.16.2/x86_64-linux/List/MoreUtils.pm line 362.
t/storage_default_values.t ................ ok
Useless use of a variable in void context at /opt/perl/nothreads/5.16.2/lib/site_perl/5.16.2/x86_64-linux/List/MoreUtils.pm line 362.
Name "Package::DeprecationManager::a" used only once: possible typo at /opt/perl/nothreads/5.16.2/lib/site_perl/5.16.2/x86_64-linux/List/MoreUtils.pm line 362.
Name "Package::DeprecationManager::b" used only once: possible typo at /opt/perl/nothreads/5.16.2/lib/site_perl/5.16.2/x86_64-linux/List/MoreUtils.pm line 362.
t/storage_has_column.t .................... ok
Useless use of a variable in void context at /opt/perl/nothreads/5.16.2/lib/site_perl/5.16.2/x86_64-linux/List/MoreUtils.pm line 362.
Name "Package::DeprecationManager::a" used only once: possible typo at /opt/perl/nothreads/5.16.2/lib/site_perl/5.16.2/x86_64-linux/List/MoreUtils.pm line 362.
Name "Package::DeprecationManager::b" used only once: possible typo at /opt/perl/nothreads/5.16.2/lib/site_perl/5.16.2/x86_64-linux/List/MoreUtils.pm line 362.
t/storage_iterator_class.t ................ ok
Useless use of a variable in void context at /opt/perl/nothreads/5.16.2/lib/site_perl/5.16.2/x86_64-linux/List/MoreUtils.pm line 362.
Name "Package::DeprecationManager::a" used only once: possible typo at /opt/perl/nothreads/5.16.2/lib/site_perl/5.16.2/x86_64-linux/List/MoreUtils.pm line 362.
Name "Package::DeprecationManager::b" used only once: possible typo at /opt/perl/nothreads/5.16.2/lib/site_perl/5.16.2/x86_64-linux/List/MoreUtils.pm line 362.
t/storage_new.t ........................... ok
Useless use of a variable in void context at /opt/perl/nothreads/5.16.2/lib/site_perl/5.16.2/x86_64-linux/List/MoreUtils.pm line 362.
Name "Package::DeprecationManager::a" used only once: possible typo at /opt/perl/nothreads/5.16.2/lib/site_perl/5.16.2/x86_64-linux/List/MoreUtils.pm line 362.
Name "Package::DeprecationManager::b" used only once: possible typo at /opt/perl/nothreads/5.16.2/lib/site_perl/5.16.2/x86_64-linux/List/MoreUtils.pm line 362.
t/storage_primary_columns.t ............... ok
Useless use of a variable in void context at /opt/perl/nothreads/5.16.2/lib/site_perl/5.16.2/x86_64-linux/List/MoreUtils.pm line 362.
Name "Package::DeprecationManager::a" used only once: possible typo at /opt/perl/nothreads/5.16.2/lib/site_perl/5.16.2/x86_64-linux/List/MoreUtils.pm line 362.
Name "Package::DeprecationManager::b" used only once: possible typo at /opt/perl/nothreads/5.16.2/lib/site_perl/5.16.2/x86_64-linux/List/MoreUtils.pm line 362.
t/storage_remove_columns.t ................ ok
Useless use of a variable in void context at /opt/perl/nothreads/5.16.2/lib/site_perl/5.16.2/x86_64-linux/List/MoreUtils.pm line 362.
Name "Package::DeprecationManager::a" used only once: possible typo at /opt/perl/nothreads/5.16.2/lib/site_perl/5.16.2/x86_64-linux/List/MoreUtils.pm line 362.
Name "Package::DeprecationManager::b" used only once: possible typo at /opt/perl/nothreads/5.16.2/lib/site_perl/5.16.2/x86_64-linux/List/MoreUtils.pm line 362.
t/storage_remove_constraint.t ............. ok
Useless use of a variable in void context at /opt/perl/nothreads/5.16.2/lib/site_perl/5.16.2/x86_64-linux/List/MoreUtils.pm line 362.
Name "Package::DeprecationManager::a" used only once: possible typo at /opt/perl/nothreads/5.16.2/lib/site_perl/5.16.2/x86_64-linux/List/MoreUtils.pm line 362.
Name "Package::DeprecationManager::b" used only once: possible typo at /opt/perl/nothreads/5.16.2/lib/site_perl/5.16.2/x86_64-linux/List/MoreUtils.pm line 362.
t/storage_remove_constraints.t ............ ok
Useless use of a variable in void context at /opt/perl/nothreads/5.16.2/lib/site_perl/5.16.2/x86_64-linux/List/MoreUtils.pm line 362.
Name "Package::DeprecationManager::a" used only once: possible typo at /opt/perl/nothreads/5.16.2/lib/site_perl/5.16.2/x86_64-linux/List/MoreUtils.pm line 362.
Name "Package::DeprecationManager::b" used only once: possible typo at /opt/perl/nothreads/5.16.2/lib/site_perl/5.16.2/x86_64-linux/List/MoreUtils.pm line 362.
t/storage_set_default_values.t ............ ok
Useless use of a variable in void context at /opt/perl/nothreads/5.16.2/lib/site_perl/5.16.2/x86_64-linux/List/MoreUtils.pm line 362.
Name "Package::DeprecationManager::a" used only once: possible typo at /opt/perl/nothreads/5.16.2/lib/site_perl/5.16.2/x86_64-linux/List/MoreUtils.pm line 362.
Name "Package::DeprecationManager::b" used only once: possible typo at /opt/perl/nothreads/5.16.2/lib/site_perl/5.16.2/x86_64-linux/List/MoreUtils.pm line 362.
t/storage_setup.t ......................... ok
Useless use of a variable in void context at /opt/perl/nothreads/5.16.2/lib/site_perl/5.16.2/x86_64-linux/List/MoreUtils.pm line 362.
Name "Package::DeprecationManager::a" used only once: possible typo at /opt/perl/nothreads/5.16.2/lib/site_perl/5.16.2/x86_64-linux/List/MoreUtils.pm line 362.
Name "Package::DeprecationManager::b" used only once: possible typo at /opt/perl/nothreads/5.16.2/lib/site_perl/5.16.2/x86_64-linux/List/MoreUtils.pm line 362.
t/storage_validate_data.t ................. ok
Useless use of a variable in void context at /opt/perl/nothreads/5.16.2/lib/site_perl/5.16.2/x86_64-linux/List/MoreUtils.pm line 362.
Name "Package::DeprecationManager::a" used only once: possible typo at /opt/perl/nothreads/5.16.2/lib/site_perl/5.16.2/x86_64-linux/List/MoreUtils.pm line 362.
Name "Package::DeprecationManager::b" used only once: possible typo at /opt/perl/nothreads/5.16.2/lib/site_perl/5.16.2/x86_64-linux/List/MoreUtils.pm line 362.
t/storage_validation.t .................... ok
t/strict.t ................................ ok
t/style_critic_core.t ..................... skipped: set TEST_AUTHOR to enable this test
t/style_no_tabs.t ......................... skipped: set TEST_AUTHOR to enable this test
Useless use of a variable in void context at /opt/perl/nothreads/5.16.2/lib/site_perl/5.16.2/x86_64-linux/List/MoreUtils.pm line 362.
Name "Package::DeprecationManager::a" used only once: possible typo at /opt/perl/nothreads/5.16.2/lib/site_perl/5.16.2/x86_64-linux/List/MoreUtils.pm line 362.
Name "Package::DeprecationManager::b" used only once: possible typo at /opt/perl/nothreads/5.16.2/lib/site_perl/5.16.2/x86_64-linux/List/MoreUtils.pm line 362.
t/subclassing.t ........................... ok
Useless use of a variable in void context at /opt/perl/nothreads/5.16.2/lib/site_perl/5.16.2/x86_64-linux/List/MoreUtils.pm line 362.
t/tt2_cart.t .............................. ok
Useless use of a variable in void context at /opt/perl/nothreads/5.16.2/lib/site_perl/5.16.2/x86_64-linux/List/MoreUtils.pm line 362.
t/tt2_checkout.t .......................... ok
t/tt2_constants.t ......................... ok
Useless use of a variable in void context at /opt/perl/nothreads/5.16.2/lib/site_perl/5.16.2/x86_64-linux/List/MoreUtils.pm line 362.
t/tt2_order.t ............................. ok
t/warnings.t .............................. ok
t/xsp_cart.t .............................. skipped: set TEST_HTTP to enable this test
t/xsp_checkout.t .......................... skipped: set TEST_HTTP to enable this test
t/xsp_order.t ............................. skipped: set TEST_HTTP to enable this test
All tests successful.
Files=153, Tests=13660, 247 wallclock secs ( 2.06 usr  0.30 sys + 79.01 cusr  6.39 csys = 87.76 CPU)
Result: PASS

------------------------------
PREREQUISITES
------------------------------

Prerequisite modules loaded:

requires:

    Module                                   Need     Have      
    ---------------------------------------- -------- ----------
    Carp                                     0        1.26      
    Catalyst::Devel                          1.28     1.37      
    Catalyst::Plugin::Session                0.3      0.36      
    Catalyst::Plugin::Session::State::Cookie 0.17     0.17      
    Catalyst::Plugin::Session::Store::File   0.18     0.18      
    Catalyst::Runtime                        5.80025  5.90019   
    Catalyst::View::TT                       0.34     0.39      
    Class::Accessor::Grouped                 0.10006  0.10009   
    Class::Inspector                         1.24     1.28      
    Class::ISA                               0.36     0.36      
    Clone                                    0.31     0.34      
    Data::Currency                           0.04002  0.04002   
    DateTime                                 0.61     0.78      
    DateTime::Format::MySQL                  0.04     0.04      
    DBD::SQLite                              1.29     1.38_01   
    DBIx::Class                              0.08123  0.08204_02
    DBIx::Class::UUIDColumns                 0.02005  0.02006   
    DBIx::Class::Validation                  0.02005  0.02005   
    Error                                    0.17016  0.17019   
    File::Path                               2.08     2.08_01   
    File::Spec::Functions                    3.3      3.33      
    FileHandle                               2.01     2.02      
    Finance::Currency::Convert::WebserviceX  0.07001  0.07001   
    FormValidator::Simple                    0.28     0.29      
    Getopt::Long                             2.38     2.38      
    HTML::FillInForm                         2.00     2.1       
    Locale::Currency                         2.07     3.24      
    Locale::Currency::Format                 1.28     1.30      
    Locale::Maketext                         1.13     1.23      
    Module::Pluggable                        3.9      4.5       
    Module::Starter                          1.54     1.60      
    NEXT                                     0.64     0.65      
    perl                                     5.008001 5.016002  
    Pod::Usage                               1.36     1.51      
    Scalar::Util                             1.22     1.26      
    SQL::Translator                          0.11006  0.11016   
    Test::More                               0.94     0.98_03   
    Tie::Hash                                1.03     1.04      
    YAML                                     0.71     0.81      

build_requires:

    Module                                   Need     Have      
    ---------------------------------------- -------- ----------
    ExtUtils::MakeMaker                      6.64     6.64      
    Test::More                               0.94     0.98_03   

configure_requires:

    Module                                   Need     Have      
    ---------------------------------------- -------- ----------
    ExtUtils::MakeMaker                      6.62     6.64      


------------------------------
ENVIRONMENT AND OTHER CONTEXT
------------------------------

Environment variables:

    AUTOMATED_TESTING = 1
    LANG = C
    PATH = /opt/perl/nothreads/5.16.2/bin:/usr/local/sbin:/usr/local/bin:/usr/sbin:/usr/bin:/sbin:/bin:/usr/games
    PERL5LIB = 
    PERL5OPT = 
    PERL5_CPANPLUS_IS_RUNNING = 17431
    PERL5_CPAN_IS_RUNNING = 17431
    PERL5_CPAN_IS_RUNNING_IN_RECURSION = 2536,17431
    PERL_CR_SMOKER_CURRENT = Handel-1.00014
    PERL_EXTUTILS_AUTOINSTALL = --defaultdeps
    PERL_MM_USE_DEFAULT = 1
    SHELL = /bin/bash
    TERM = screen

Perl special variables (and OS-specific diagnostics, for MSWin32):

    $^X = /opt/perl/nothreads/5.16.2/bin/perl
    $UID/$EUID = 1000 / 1000
    $GID = 1000 4 24 27 30 46 112 113 1000
    $EGID = 1000 4 24 27 30 46 112 113 1000

Perl module toolchain versions installed:

    Module              Have    
    ------------------- --------
    CPAN                1.99_51 
    CPAN::Meta          2.120351
    Cwd                 3.33    
    ExtUtils::CBuilder  0.280205
    ExtUtils::Command   1.17    
    ExtUtils::Install   1.58    
    ExtUtils::MakeMaker 6.64    
    ExtUtils::Manifest  1.61    
    ExtUtils::ParseXS   3.18    
    File::Spec          3.33    
    JSON                2.53    
    JSON::PP            2.27200 
    Module::Build       0.4003  
    Module::Signature   0.70    
    Parse::CPAN::Meta   1.4404  
    Test::Harness       3.25    
    Test::More          0.98_03 
    YAML                0.81    
    YAML::Syck          1.22    
    version             0.9901  


--

Summary of my perl5 (revision 5 version 16 subversion 2) configuration:
   
  Platform:
    osname=linux, osvers=3.2.0-34-virtual, archname=x86_64-linux
    uname='linux cpansmoker 3.2.0-34-virtual #53-ubuntu smp thu nov 15 11:08:40 utc 2012 x86_64 x86_64 x86_64 gnulinux '
    config_args='-des -Dprefix=/opt/perl/nothreads/5.16.2'
    hint=recommended, useposix=true, d_sigaction=define
    useithreads=undef, usemultiplicity=undef
    useperlio=define, d_sfio=undef, uselargefiles=define, usesocks=undef
    use64bitint=define, use64bitall=define, uselongdouble=undef
    usemymalloc=n, bincompat5005=undef
  Compiler:
    cc='cc', ccflags ='-fno-strict-aliasing -pipe -fstack-protector -I/usr/local/include -D_LARGEFILE_SOURCE -D_FILE_OFFSET_BITS=64',
    optimize='-O2',
    cppflags='-fno-strict-aliasing -pipe -fstack-protector -I/usr/local/include'
    ccversion='', gccversion='4.6.3', gccosandvers=''
    intsize=4, longsize=8, ptrsize=8, doublesize=8, byteorder=12345678
    d_longlong=define, longlongsize=8, d_longdbl=define, longdblsize=16
    ivtype='long', ivsize=8, nvtype='double', nvsize=8, Off_t='off_t', lseeksize=8
    alignbytes=8, prototype=define
  Linker and Libraries:
    ld='cc', ldflags =' -fstack-protector -L/usr/local/lib'
    libpth=/usr/local/lib /lib/x86_64-linux-gnu /lib/../lib /usr/lib/x86_64-linux-gnu /usr/lib/../lib /lib /usr/lib
    libs=-lnsl -lgdbm -ldb -ldl -lm -lcrypt -lutil -lc -lgdbm_compat
    perllibs=-lnsl -ldl -lm -lcrypt -lutil -lc
    libc=, so=so, useshrplib=false, libperl=libperl.a
    gnulibc_version='2.15'
  Dynamic Linking:
    dlsrc=dl_dlopen.xs, dlext=so, d_dlsymun=undef, ccdlflags='-Wl,-E'
    cccdlflags='-fPIC', lddlflags='-shared -O2 -L/usr/local/lib -fstack-protector'


Characteristics of this binary (from libperl): 
  Compile-time options: HAS_TIMES PERLIO_LAYERS PERL_DONT_CREATE_GVSV
                        PERL_MALLOC_WRAP PERL_PRESERVE_IVUV USE_64_BIT_ALL
                        USE_64_BIT_INT USE_LARGE_FILES USE_LOCALE
                        USE_LOCALE_COLLATE USE_LOCALE_CTYPE
                        USE_LOCALE_NUMERIC USE_PERLIO USE_PERL_ATOF
  Built under linux
  Compiled at Dec  8 2012 10:32:31
  %ENV:
    PERL5LIB=""
    PERL5OPT=""
    PERL5_CPANPLUS_IS_RUNNING="17431"
    PERL5_CPAN_IS_RUNNING="17431"
    PERL5_CPAN_IS_RUNNING_IN_RECURSION="2536,17431"
    PERL_CR_SMOKER_CURRENT="Handel-1.00014"
    PERL_EXTUTILS_AUTOINSTALL="--defaultdeps"
    PERL_MM_USE_DEFAULT="1"
  @INC:
    /opt/perl/nothreads/5.16.2/lib/site_perl/5.16.2/x86_64-linux
    /opt/perl/nothreads/5.16.2/lib/site_perl/5.16.2
    /opt/perl/nothreads/5.16.2/lib/5.16.2/x86_64-linux
    /opt/perl/nothreads/5.16.2/lib/5.16.2
    .