Report for Net-Braintree-0.27.0

Back
From: metabase:user:31d414ea-2aae-11df-837a-5e0a49663a4f
Subject: PASS Net-Braintree-0.27.0 v5.18.0 GNU/Linux
Date: 2015-03-05T12:09:14Z

This distribution has been tested as part of the CPAN Testers
project, supporting the Perl programming language.  See
http://wiki.cpantesters.org/ for more information or email
questions to cpan-testers-discuss@perl.org


--
Dear Braintree Devs,

This is a computer-generated report for Net-Braintree-0.27.0
on perl 5.18.0, created by CPAN-Reporter-1.2010.

Thank you for uploading your work to CPAN.  Congratulations!
All tests were successful.

Sections of this report:

    * Tester comments
    * Program output
    * Prerequisites
    * Environment and other context

------------------------------
TESTER COMMENTS
------------------------------

Additional comments from tester:

this report is from an automated smoke testing program
and was not reviewed by a human for accuracy

------------------------------
PROGRAM OUTPUT
------------------------------

Output from '/usr/bin/make test':

PERL_DL_NONLAZY=1 /home/david/cpantesting/perl-5.18.0/bin/perl "-MExtUtils::Command::MM" "-e" "test_harness(0, 'inc', 'blib/lib', 'blib/arch'); " t/*t
length() used on @left_bytes (did you mean "scalar(@left_bytes)"?) at /home/david/cpantesting/perl-5.18.0/.cpan/build/Net-Braintree-0.27.0-7Eq6CH/blib/lib/Net/Braintree/Digest.pm line 65.
length() used on @right_bytes (did you mean "scalar(@right_bytes)"?) at /home/david/cpantesting/perl-5.18.0/.cpan/build/Net-Braintree-0.27.0-7Eq6CH/blib/lib/Net/Braintree/Digest.pm line 65.
length() used on @left_bytes (did you mean "scalar(@left_bytes)"?) at /home/david/cpantesting/perl-5.18.0/.cpan/build/Net-Braintree-0.27.0-7Eq6CH/blib/lib/Net/Braintree/Digest.pm line 70.
# Testing Net::Braintree 0.27.0, Perl 5.018000, /home/david/cpantesting/perl-5.18.0/bin/perl
t/00-load.t ............................ ok
length() used on @left_bytes (did you mean "scalar(@left_bytes)"?) at lib/Net/Braintree/Digest.pm line 65.
length() used on @right_bytes (did you mean "scalar(@right_bytes)"?) at lib/Net/Braintree/Digest.pm line 65.
length() used on @left_bytes (did you mean "scalar(@left_bytes)"?) at lib/Net/Braintree/Digest.pm line 70.
t/address.t ............................ ok
length() used on @left_bytes (did you mean "scalar(@left_bytes)"?) at lib/Net/Braintree/Digest.pm line 65.
length() used on @right_bytes (did you mean "scalar(@right_bytes)"?) at lib/Net/Braintree/Digest.pm line 65.
length() used on @left_bytes (did you mean "scalar(@left_bytes)"?) at lib/Net/Braintree/Digest.pm line 70.
Useless use of numeric ge (>=) in void context at t/advanced_search.t line 83.
Useless use of numeric le (<=) in void context at t/advanced_search.t line 89.
t/advanced_search.t .................... ok
t/boilerplate.t ........................ ok
length() used on @left_bytes (did you mean "scalar(@left_bytes)"?) at lib/Net/Braintree/Digest.pm line 65.
length() used on @right_bytes (did you mean "scalar(@right_bytes)"?) at lib/Net/Braintree/Digest.pm line 65.
length() used on @left_bytes (did you mean "scalar(@left_bytes)"?) at lib/Net/Braintree/Digest.pm line 70.
t/client_token.t ....................... ok
length() used on @left_bytes (did you mean "scalar(@left_bytes)"?) at lib/Net/Braintree/Digest.pm line 65.
length() used on @right_bytes (did you mean "scalar(@right_bytes)"?) at lib/Net/Braintree/Digest.pm line 65.
length() used on @left_bytes (did you mean "scalar(@left_bytes)"?) at lib/Net/Braintree/Digest.pm line 70.
"my" variable @examples masks earlier declaration in same scope at t/configuration.t line 35.
t/configuration.t ...................... ok
length() used on @left_bytes (did you mean "scalar(@left_bytes)"?) at lib/Net/Braintree/Digest.pm line 65.
length() used on @right_bytes (did you mean "scalar(@right_bytes)"?) at lib/Net/Braintree/Digest.pm line 65.
length() used on @left_bytes (did you mean "scalar(@left_bytes)"?) at lib/Net/Braintree/Digest.pm line 70.
t/credit_card.t ........................ ok
length() used on @left_bytes (did you mean "scalar(@left_bytes)"?) at lib/Net/Braintree/Digest.pm line 65.
length() used on @right_bytes (did you mean "scalar(@right_bytes)"?) at lib/Net/Braintree/Digest.pm line 65.
length() used on @left_bytes (did you mean "scalar(@left_bytes)"?) at lib/Net/Braintree/Digest.pm line 70.
t/customer.t ........................... ok
length() used on @left_bytes (did you mean "scalar(@left_bytes)"?) at lib/Net/Braintree/Digest.pm line 65.
length() used on @right_bytes (did you mean "scalar(@right_bytes)"?) at lib/Net/Braintree/Digest.pm line 65.
length() used on @left_bytes (did you mean "scalar(@left_bytes)"?) at lib/Net/Braintree/Digest.pm line 70.
t/digest.t ............................. ok
length() used on @left_bytes (did you mean "scalar(@left_bytes)"?) at lib/Net/Braintree/Digest.pm line 65.
length() used on @right_bytes (did you mean "scalar(@right_bytes)"?) at lib/Net/Braintree/Digest.pm line 65.
length() used on @left_bytes (did you mean "scalar(@left_bytes)"?) at lib/Net/Braintree/Digest.pm line 70.
t/inflate_xml.t ........................ ok
t/manifest.t ........................... skipped: Author tests not required for installation
length() used on @left_bytes (did you mean "scalar(@left_bytes)"?) at lib/Net/Braintree/Digest.pm line 65.
length() used on @right_bytes (did you mean "scalar(@right_bytes)"?) at lib/Net/Braintree/Digest.pm line 65.
length() used on @left_bytes (did you mean "scalar(@left_bytes)"?) at lib/Net/Braintree/Digest.pm line 70.
t/merchant_account.t ................... ok
t/pod.t ................................ ok
length() used on @left_bytes (did you mean "scalar(@left_bytes)"?) at lib/Net/Braintree/Digest.pm line 65.
length() used on @right_bytes (did you mean "scalar(@right_bytes)"?) at lib/Net/Braintree/Digest.pm line 65.
length() used on @left_bytes (did you mean "scalar(@left_bytes)"?) at lib/Net/Braintree/Digest.pm line 70.
t/resource_collection.t ................ ok
length() used on @left_bytes (did you mean "scalar(@left_bytes)"?) at lib/Net/Braintree/Digest.pm line 65.
length() used on @right_bytes (did you mean "scalar(@right_bytes)"?) at lib/Net/Braintree/Digest.pm line 65.
length() used on @left_bytes (did you mean "scalar(@left_bytes)"?) at lib/Net/Braintree/Digest.pm line 70.
t/result.t ............................. ok
length() used on @left_bytes (did you mean "scalar(@left_bytes)"?) at lib/Net/Braintree/Digest.pm line 65.
length() used on @right_bytes (did you mean "scalar(@right_bytes)"?) at lib/Net/Braintree/Digest.pm line 65.
length() used on @left_bytes (did you mean "scalar(@left_bytes)"?) at lib/Net/Braintree/Digest.pm line 70.
t/subscription.t ....................... ok
length() used on @left_bytes (did you mean "scalar(@left_bytes)"?) at lib/Net/Braintree/Digest.pm line 65.
length() used on @right_bytes (did you mean "scalar(@right_bytes)"?) at lib/Net/Braintree/Digest.pm line 65.
length() used on @left_bytes (did you mean "scalar(@left_bytes)"?) at lib/Net/Braintree/Digest.pm line 70.
t/transaction.t ........................ ok
length() used on @left_bytes (did you mean "scalar(@left_bytes)"?) at lib/Net/Braintree/Digest.pm line 65.
length() used on @right_bytes (did you mean "scalar(@right_bytes)"?) at lib/Net/Braintree/Digest.pm line 65.
length() used on @left_bytes (did you mean "scalar(@left_bytes)"?) at lib/Net/Braintree/Digest.pm line 70.
t/transparent_redirect.t ............... ok
length() used on @left_bytes (did you mean "scalar(@left_bytes)"?) at lib/Net/Braintree/Digest.pm line 65.
length() used on @right_bytes (did you mean "scalar(@right_bytes)"?) at lib/Net/Braintree/Digest.pm line 65.
length() used on @left_bytes (did you mean "scalar(@left_bytes)"?) at lib/Net/Braintree/Digest.pm line 70.
t/transparent_redirect_query_string.t .. ok
length() used on @left_bytes (did you mean "scalar(@left_bytes)"?) at lib/Net/Braintree/Digest.pm line 65.
length() used on @right_bytes (did you mean "scalar(@right_bytes)"?) at lib/Net/Braintree/Digest.pm line 65.
length() used on @left_bytes (did you mean "scalar(@left_bytes)"?) at lib/Net/Braintree/Digest.pm line 70.
t/util.t ............................... ok
length() used on @left_bytes (did you mean "scalar(@left_bytes)"?) at lib/Net/Braintree/Digest.pm line 65.
length() used on @right_bytes (did you mean "scalar(@right_bytes)"?) at lib/Net/Braintree/Digest.pm line 65.
length() used on @left_bytes (did you mean "scalar(@left_bytes)"?) at lib/Net/Braintree/Digest.pm line 70.
t/validation_error.t ................... ok
length() used on @left_bytes (did you mean "scalar(@left_bytes)"?) at lib/Net/Braintree/Digest.pm line 65.
length() used on @right_bytes (did you mean "scalar(@right_bytes)"?) at lib/Net/Braintree/Digest.pm line 65.
length() used on @left_bytes (did you mean "scalar(@left_bytes)"?) at lib/Net/Braintree/Digest.pm line 70.
t/validation_error_collection.t ........ ok
length() used on @left_bytes (did you mean "scalar(@left_bytes)"?) at lib/Net/Braintree/Digest.pm line 65.
length() used on @right_bytes (did you mean "scalar(@right_bytes)"?) at lib/Net/Braintree/Digest.pm line 65.
length() used on @left_bytes (did you mean "scalar(@left_bytes)"?) at lib/Net/Braintree/Digest.pm line 70.
t/validations_test.t ................... ok
length() used on @left_bytes (did you mean "scalar(@left_bytes)"?) at lib/Net/Braintree/Digest.pm line 65.
length() used on @right_bytes (did you mean "scalar(@right_bytes)"?) at lib/Net/Braintree/Digest.pm line 65.
length() used on @left_bytes (did you mean "scalar(@left_bytes)"?) at lib/Net/Braintree/Digest.pm line 70.
t/webhook_notification.t ............... ok
length() used on @left_bytes (did you mean "scalar(@left_bytes)"?) at lib/Net/Braintree/Digest.pm line 65.
length() used on @right_bytes (did you mean "scalar(@right_bytes)"?) at lib/Net/Braintree/Digest.pm line 65.
length() used on @left_bytes (did you mean "scalar(@left_bytes)"?) at lib/Net/Braintree/Digest.pm line 70.
t/xml.t ................................ ok
length() used on @left_bytes (did you mean "scalar(@left_bytes)"?) at lib/Net/Braintree/Digest.pm line 65.
length() used on @right_bytes (did you mean "scalar(@right_bytes)"?) at lib/Net/Braintree/Digest.pm line 65.
length() used on @left_bytes (did you mean "scalar(@left_bytes)"?) at lib/Net/Braintree/Digest.pm line 70.
t/xml_builder.t ........................ ok
All tests successful.

Test Summary Report
-------------------
t/boilerplate.t                      (Wstat: 0 Tests: 3 Failed: 0)
  TODO passed:   2-3
Files=26, Tests=212, 31 wallclock secs ( 0.10 usr  0.09 sys +  9.63 cusr  0.77 csys = 10.59 CPU)
Result: PASS

------------------------------
PREREQUISITES
------------------------------

Prerequisite modules loaded:

requires:

    Module                      Need  Have    
    --------------------------- ----- --------
    Data::GUID                  0     0.046   
    DateTime                    0     1.18    
    DateTime::Format::Atom      0     v1.0.2  
    DateTime::Format::Strptime  0     1.56    
    Digest                      0     1.17    
    Digest::HMAC_SHA1           0     1.03    
    Digest::SHA1                0     2.13    
    Digest::SHA256              0     0.01    
    File::Spec                  0.80  3.40    
    Hash::Inflator              0     1.100820
    JSON                        0     2.57    
    local::lib                  0     2.000015
    LWP                         6.02  6.05    
    LWP::Protocol::https        0     6.04    
    MIME::Base64                0     3.13    
    Module::Install::TestTarget 0     0.19    
    Moose                       0     2.1403  
    Mozilla::CA                 0     20130114
    perl                        5.006 5.018000
    Test::More                  0     1.001014
    Test::Pod                   0     1.48    
    Test::Warn                  0     0.30    
    Try::Tiny                   0     0.22    
    URI::Query                  0     0.10    
    XML::LibXML                 0     2.0118  
    XML::Simple                 0     2.20    

build_requires:

    Module                      Need  Have    
    --------------------------- ----- --------
    ExtUtils::MakeMaker         6.42  7.04    
    Test::More                  0     1.001014
    Test::Pod                   0     1.48    
    Test::Warn                  0     0.30    
    Try::Tiny                   0     0.22    


------------------------------
ENVIRONMENT AND OTHER CONTEXT
------------------------------

Environment variables:

    AUTOMATED_TESTING = 1
    PATH = /usr/local/bin:/usr/bin:/bin:/usr/games
    PERL = 5.18.0
    PERL5LIB = 
    PERL5OPT = 
    PERL5_CPANPLUS_IS_RUNNING = 5673
    PERL5_CPAN_IS_RUNNING = 5673
    PERLVER = 5.18.0
    PERL_INLINE_DIRECTORY = /home/david/.Inline-5.18.0
    PERL_MM_USE_DEFAULT = 1
    SHELL = /bin/bash
    TERM = screen

Perl special variables (and OS-specific diagnostics, for MSWin32):

    $^X = /home/david/cpantesting/perl-5.18.0/bin/perl
    $UID/$EUID = 1000 / 1000
    $GID = 1000 1000
    $EGID = 1000 1000

Perl module toolchain versions installed:

    Module              Have    
    ------------------- --------
    CPAN                2.00    
    CPAN::Meta          2.143240
    Cwd                 3.40    
    ExtUtils::CBuilder  0.280210
    ExtUtils::Command   1.17    
    ExtUtils::Install   1.59    
    ExtUtils::MakeMaker 7.04    
    ExtUtils::Manifest  1.65    
    ExtUtils::ParseXS   3.18    
    File::Spec          3.40    
    JSON                2.57    
    JSON::PP            2.27203 
    Module::Build       0.4211  
    Module::Signature   n/a     
    Parse::CPAN::Meta   1.4414  
    Test::Harness       3.35    
    Test::More          1.001014
    YAML                n/a     
    YAML::Syck          n/a     
    version             0.9902  


--

Summary of my perl5 (revision 5 version 18 subversion 0) configuration:
   
  Platform:
    osname=linux, osvers=3.2.0-4-amd64, archname=x86_64-linux-thread-multi
    uname='linux pigsty.barnyard.co.uk 3.2.0-4-amd64 #1 smp debian 3.2.35-2 x86_64 gnulinux '
    config_args='-de -Dprefix=/home/david/cpantesting/perl-5.18.0 -Dusethreads -Duse64bitall'
    hint=recommended, useposix=true, d_sigaction=define
    useithreads=define, usemultiplicity=define
    useperlio=define, d_sfio=undef, uselargefiles=define, usesocks=undef
    use64bitint=define, use64bitall=define, uselongdouble=undef
    usemymalloc=n, bincompat5005=undef
  Compiler:
    cc='cc', ccflags ='-D_REENTRANT -D_GNU_SOURCE -fno-strict-aliasing -pipe -fstack-protector -I/usr/local/include -D_LARGEFILE_SOURCE -D_FILE_OFFSET_BITS=64',
    optimize='-O2',
    cppflags='-D_REENTRANT -D_GNU_SOURCE -fno-strict-aliasing -pipe -fstack-protector -I/usr/local/include'
    ccversion='', gccversion='4.1.2 20061115 (prerelease) (Debian 4.1.1-21)', gccosandvers=''
    intsize=4, longsize=8, ptrsize=8, doublesize=8, byteorder=12345678
    d_longlong=define, longlongsize=8, d_longdbl=define, longdblsize=16
    ivtype='long', ivsize=8, nvtype='double', nvsize=8, Off_t='off_t', lseeksize=8
    alignbytes=8, prototype=define
  Linker and Libraries:
    ld='cc', ldflags =' -fstack-protector -L/usr/local/lib'
    libpth=/usr/local/lib /lib /usr/lib /lib64 /usr/lib64
    libs=-lnsl -lgdbm -ldb -ldl -lm -lcrypt -lutil -lpthread -lc -lgdbm_compat
    perllibs=-lnsl -ldl -lm -lcrypt -lutil -lpthread -lc
    libc=/lib/libc-2.3.6.so, so=so, useshrplib=false, libperl=libperl.a
    gnulibc_version='2.3.6'
  Dynamic Linking:
    dlsrc=dl_dlopen.xs, dlext=so, d_dlsymun=undef, ccdlflags='-Wl,-E'
    cccdlflags='-fPIC', lddlflags='-shared -O2 -L/usr/local/lib -fstack-protector'


Characteristics of this binary (from libperl): 
  Compile-time options: HAS_TIMES MULTIPLICITY PERLIO_LAYERS
                        PERL_DONT_CREATE_GVSV
                        PERL_HASH_FUNC_ONE_AT_A_TIME_HARD
                        PERL_IMPLICIT_CONTEXT PERL_MALLOC_WRAP
                        PERL_PRESERVE_IVUV PERL_SAWAMPERSAND USE_64_BIT_ALL
                        USE_64_BIT_INT USE_ITHREADS USE_LARGE_FILES
                        USE_LOCALE USE_LOCALE_COLLATE USE_LOCALE_CTYPE
                        USE_LOCALE_NUMERIC USE_PERLIO USE_PERL_ATOF
                        USE_REENTRANT_API
  Built under linux
  Compiled at May 20 2013 18:28:55
  %ENV:
    PERL="5.18.0"
    PERL5LIB=""
    PERL5OPT=""
    PERL5_CPANPLUS_IS_RUNNING="5673"
    PERL5_CPAN_IS_RUNNING="5673"
    PERLVER="5.18.0"
    PERL_INLINE_DIRECTORY="/home/david/.Inline-5.18.0"
    PERL_MM_USE_DEFAULT="1"
  @INC:
    /home/david/cpantesting/perl-5.18.0/lib/site_perl/5.18.0/x86_64-linux-thread-multi
    /home/david/cpantesting/perl-5.18.0/lib/site_perl/5.18.0
    /home/david/cpantesting/perl-5.18.0/lib/5.18.0/x86_64-linux-thread-multi
    /home/david/cpantesting/perl-5.18.0/lib/5.18.0
    .