Report for Test-LectroTest-0.5001

Back
From: metabase:user:1eed3a18-483e-11e2-a87b-a3931c712682
Subject: PASS Test-LectroTest-0.5001 v5.18.2 RC4 Mac OS X
Date: 2013-12-22T10:25:54Z

This distribution has been tested as part of the CPAN Testers
project, supporting the Perl programming language.  See
http://wiki.cpantesters.org/ for more information or email
questions to cpan-testers-discuss@perl.org


--
Dear Tom Moertel,

This is a computer-generated report for Test-LectroTest-0.5001
on perl 5.18.2, created by CPAN-Reporter-1.2010.

Thank you for uploading your work to CPAN.  Congratulations!
All tests were successful.

Sections of this report:

    * Tester comments
    * Program output
    * Prerequisites
    * Environment and other context

------------------------------
TESTER COMMENTS
------------------------------

Additional comments from tester:

none provided

------------------------------
PROGRAM OUTPUT
------------------------------

Output from '/usr/bin/make test':

PERL_DL_NONLAZY=1 /Users/stas/perl5/perlbrew/perls/perl-5.18.2-RC4/bin/perl "-MExtUtils::Command::MM" "-e" "test_harness(0, 'blib/lib', 'blib/arch')" t/*.t
t/compat.t ................ ok
t/docs-eg.t ............... ok
t/gens.t .................. ok
t/harness.t ............... ok
t/pod-coverage.t .......... ok
t/pod.t ................... ok
t/props.t ................. ok
t/props2.t ................ ok
t/recorder.t .............. ok
t/release-pod-coverage.t .. skipped: these tests are for release candidate testing
t/release-pod-syntax.t .... skipped: these tests are for release candidate testing
t/runner.t ................ ok
All tests successful.
Files=12, Tests=343, 21 wallclock secs ( 0.13 usr  0.03 sys + 17.30 cusr  0.32 csys = 17.78 CPU)
Result: PASS

------------------------------
PREREQUISITES
------------------------------

Prerequisite modules loaded:

requires:

    Module              Need Have    
    ------------------- ---- --------
    Carp                0    1.32    
    Class::Struct       0    0.64    
    constant            0    1.27    
    Data::Dumper        0    2.145   
    Exporter            0    5.68    
    Filter::Util::Call  0    1.45    
    POSIX               0    1.32    
    Scalar::Util        0    1.35    
    strict              0    1.07    
    Test::Builder       0    1.001002
    warnings            0    1.18    

build_requires:

    Module              Need Have    
    ------------------- ---- --------
    File::Temp          0    0.2304  
    Test::More          0    1.001002

configure_requires:

    Module              Need Have    
    ------------------- ---- --------
    ExtUtils::MakeMaker 6.30 6.66    


------------------------------
ENVIRONMENT AND OTHER CONTEXT
------------------------------

Environment variables:

    LANG = en_US.UTF-8
    LC_ALL = en_US.UTF-8
    LC_CTYPE = en_US.UTF-8
    PATH = /Users/stas/perl5/perlbrew/bin:/Users/stas/perl5/perlbrew/perls/perl-5.18.2-RC4/bin:/Users/stas/perl5/perlbrew/bin:/Users/stas/perl5/perlbrew/perls/perl-5.18.1/bin:/Users/stas/.vim/bin:/Users/stas/bin:/Users/stas/node_modules/.bin:/opt/local/Library/Frameworks/Python.framework/Versions/2.7/bin:/opt/local/lib/postgresql92/bin:/opt/local/bin:/opt/local/sbin:/usr/bin:/bin:/usr/sbin:/sbin:/usr/local/bin:/opt/X11/bin:/Users/stas/.vim/bin:/Users/stas/bin:/Users/stas/node_modules/.bin:/opt/local/Library/Frameworks/Python.framework/Versions/2.7/bin:/opt/local/lib/postgresql92/bin:/opt/local/bin:/opt/local/sbin
    PERL5LIB = 
    PERL5OPT = 
    PERL5_CPANPLUS_IS_RUNNING = 15232
    PERL5_CPAN_IS_RUNNING = 15232
    PERLBREW_BASHRC_VERSION = 0.65
    PERLBREW_HOME = /Users/stas/.perlbrew
    PERLBREW_MANPATH = /Users/stas/perl5/perlbrew/perls/perl-5.18.2-RC4/man
    PERLBREW_PATH = /Users/stas/perl5/perlbrew/bin:/Users/stas/perl5/perlbrew/perls/perl-5.18.2-RC4/bin
    PERLBREW_PERL = perl-5.18.2-RC4
    PERLBREW_ROOT = /Users/stas/perl5/perlbrew
    PERLBREW_VERSION = 0.65
    PERL_MM_USE_DEFAULT = 1
    SHELL = /opt/local/bin/zsh
    TERM = screen
    TMPDIR = /var/folders/k7/cj2hxbn162362g2150r7t9480000gn/T/

Perl special variables (and OS-specific diagnostics, for MSWin32):

    $^X = /Users/stas/perl5/perlbrew/perls/perl-5.18.2-RC4/bin/perl
    $UID/$EUID = 501 / 501
    $GID = 20 20 508 12 61 79 80 81 98 398 399 33 100 204
    $EGID = 20 20 508 12 61 79 80 81 98 398 399 33 100 204

Perl module toolchain versions installed:

    Module              Have    
    ------------------- --------
    CPAN                2.00    
    CPAN::Meta          2.133380
    Cwd                 3.40    
    ExtUtils::CBuilder  0.280210
    ExtUtils::Command   1.17    
    ExtUtils::Install   1.59    
    ExtUtils::MakeMaker 6.66    
    ExtUtils::Manifest  1.63    
    ExtUtils::ParseXS   3.18    
    File::Spec          3.40    
    JSON                2.90    
    JSON::PP            2.27202 
    Module::Build       0.4203  
    Module::Signature   0.73    
    Parse::CPAN::Meta   1.4404  
    Test::Harness       3.30    
    Test::More          1.001002
    YAML                0.88    
    YAML::Syck          n/a     
    version             0.9902  


--

Summary of my perl5 (revision 5 version 18 subversion 2) configuration:
   
  Platform:
    osname=darwin, osvers=13.0.0, archname=darwin-2level
    uname='darwin stas-macbook 13.0.0 darwin kernel version 13.0.0: thu sep 19 22:22:27 pdt 2013; root:xnu-2422.1.72~6release_x86_64 x86_64 '
    config_args='-de -Dprefix=/Users/stas/perl5/perlbrew/perls/perl-5.18.2-RC4 -Aeval:scriptdir=/Users/stas/perl5/perlbrew/perls/perl-5.18.2-RC4/bin'
    hint=recommended, useposix=true, d_sigaction=define
    useithreads=undef, usemultiplicity=undef
    useperlio=define, d_sfio=undef, uselargefiles=define, usesocks=undef
    use64bitint=define, use64bitall=define, uselongdouble=undef
    usemymalloc=n, bincompat5005=undef
  Compiler:
    cc='cc', ccflags ='-fno-common -DPERL_DARWIN -fno-strict-aliasing -pipe -fstack-protector -I/opt/local/include',
    optimize='-O3',
    cppflags='-fno-common -DPERL_DARWIN -fno-strict-aliasing -pipe -fstack-protector -I/opt/local/include'
    ccversion='', gccversion='4.2.1 Compatible Apple LLVM 5.0 (clang-500.2.79)', gccosandvers=''
    intsize=4, longsize=8, ptrsize=8, doublesize=8, byteorder=12345678
    d_longlong=define, longlongsize=8, d_longdbl=define, longdblsize=16
    ivtype='long', ivsize=8, nvtype='double', nvsize=8, Off_t='off_t', lseeksize=8
    alignbytes=8, prototype=define
  Linker and Libraries:
    ld='env MACOSX_DEPLOYMENT_TARGET=10.3 cc', ldflags =' -fstack-protector -L/usr/local/lib -L/opt/local/lib'
    libpth=/usr/local/lib /opt/local/lib /usr/lib
    libs=-lgdbm -ldbm -ldl -lm -lutil -lc
    perllibs=-ldl -lm -lutil -lc
    libc=, so=dylib, useshrplib=false, libperl=libperl.a
    gnulibc_version=''
  Dynamic Linking:
    dlsrc=dl_dlopen.xs, dlext=bundle, d_dlsymun=undef, ccdlflags=' '
    cccdlflags=' ', lddlflags=' -bundle -undefined dynamic_lookup -L/usr/local/lib -L/opt/local/lib -fstack-protector'


Characteristics of this binary (from libperl): 
  Compile-time options: HAS_TIMES PERLIO_LAYERS PERL_DONT_CREATE_GVSV
                        PERL_HASH_FUNC_ONE_AT_A_TIME_HARD PERL_MALLOC_WRAP
                        PERL_PRESERVE_IVUV PERL_SAWAMPERSAND USE_64_BIT_ALL
                        USE_64_BIT_INT USE_LARGE_FILES USE_LOCALE
                        USE_LOCALE_COLLATE USE_LOCALE_CTYPE
                        USE_LOCALE_NUMERIC USE_PERLIO USE_PERL_ATOF
  Locally applied patches:
	RC4
  Built under darwin
  Compiled at Dec 22 2013 09:19:34
  %ENV:
    PERL5LIB=""
    PERL5OPT=""
    PERL5_CPANPLUS_IS_RUNNING="15232"
    PERL5_CPAN_IS_RUNNING="15232"
    PERLBREW_BASHRC_VERSION="0.65"
    PERLBREW_HOME="/Users/stas/.perlbrew"
    PERLBREW_MANPATH="/Users/stas/perl5/perlbrew/perls/perl-5.18.2-RC4/man"
    PERLBREW_PATH="/Users/stas/perl5/perlbrew/bin:/Users/stas/perl5/perlbrew/perls/perl-5.18.2-RC4/bin"
    PERLBREW_PERL="perl-5.18.2-RC4"
    PERLBREW_ROOT="/Users/stas/perl5/perlbrew"
    PERLBREW_VERSION="0.65"
    PERL_MM_USE_DEFAULT="1"
  @INC:
    /Users/stas/perl5/perlbrew/perls/perl-5.18.2-RC4/lib/site_perl/5.18.2/darwin-2level
    /Users/stas/perl5/perlbrew/perls/perl-5.18.2-RC4/lib/site_perl/5.18.2
    /Users/stas/perl5/perlbrew/perls/perl-5.18.2-RC4/lib/5.18.2/darwin-2level
    /Users/stas/perl5/perlbrew/perls/perl-5.18.2-RC4/lib/5.18.2
    .