Net-Async-WebSocket v0.13 Perl 5 v5.28.0 x86_64-linux
- Status
- Pass
- From
- Paul Evans
- Dist
-
Net-Async-WebSocket v0.13
- Platform
- Perl 5 v5.28.0 x86_64-linux
- Date
- 2018-10-12 09:44:39
- ID
- 7031495e-ce03-11e8-848c-6a291a8a4a58
This distribution has been tested as part of the CPAN Testers
project, supporting the Perl programming language. See
http://wiki.cpantesters.org/ for more information or email
questions to cpan-testers-discuss@perl.org
--
Dear Paul Evans,
This is a computer-generated report for Net-Async-WebSocket-0.13
on perl 5.28.0, created by CPAN-Reporter-1.2018.
Thank you for uploading your work to CPAN. Congratulations!
All tests were successful.
Sections of this report:
* Tester comments
* Program output
* Prerequisites
* Environment and other context
------------------------------
TESTER COMMENTS
------------------------------
Additional comments from tester:
none provided
------------------------------
PROGRAM OUTPUT
------------------------------
Output from './Build test':
t/00use.t ..... ok
t/01client.t .. ok
t/02server.t .. ok
t/03cross.t ... ok
t/99pod.t ..... skipped: Test::Pod 1.00 required for testing POD
All tests successful.
Files=5, Tests=25, 1 wallclock secs ( 0.03 usr 0.00 sys + 0.55 cusr 0.04 csys = 0.62 CPU)
Result: PASS
------------------------------
PREREQUISITES
------------------------------
Prerequisite modules loaded:
requires:
Module Need Have
-------------------------------------- ------ --------
IO::Async::Listener 0.61 0.72
IO::Async::Notifier 0.63 0.72
IO::Async::Stream 0.34 0.72
perl 5.010 5.028000
Protocol::WebSocket 0.22 0.24
Protocol::WebSocket::Frame 0 0
Protocol::WebSocket::Handshake::Client 0 0
Protocol::WebSocket::Handshake::Server 0 0
Sub::Util 1.40 1.50
URI 0 1.74
build_requires:
Module Need Have
-------------------------------------- ------ --------
IO::Async::OS 0 0.72
Test::More 0.88 1.302133
configure_requires:
Module Need Have
-------------------------------------- ------ --------
Module::Build 0.4004 0.4224
------------------------------
ENVIRONMENT AND OTHER CONTEXT
------------------------------
Environment variables:
LANG = en_GB.UTF-8
LANGUAGE = en_GB:en
LD_LIBRARY_PATH = /home/leo/lib
PATH = /home/leo/bin:/home/leo/bin:/usr/local/bin:/usr/bin:/bin:/usr/local/games:/usr/games
PERL5LIB = /home/leo/.cpan/build/Protocol-WebSocket-0.24-0/blib/arch:/home/leo/.cpan/build/Protocol-WebSocket-0.24-0/blib/lib
PERL5OPT =
PERL5_CPANPLUS_IS_RUNNING = 20104
PERL5_CPAN_IS_RUNNING = 20104
PERL_USE_UNSAFE_INC = 1
SHELL = /bin/bash
TERM = xterm
Perl special variables (and OS-specific diagnostics, for MSWin32):
$^X = /home/leo/perl5/perlbrew/perls/perl-5.28.0/bin/perl5.28.0
$UID/$EUID = 1000 / 1000
$GID = 1000 20 24 25 29 30 44 46 116 123 1000 1003 1016 2000
$EGID = 1000 20 24 25 29 30 44 46 116 123 1000 1003 1016 2000
Perl module toolchain versions installed:
Module Have
------------------- --------
CPAN 2.20
CPAN::Meta 2.150010
Cwd 3.74
ExtUtils::CBuilder 0.280230
ExtUtils::Command 7.34
ExtUtils::Install 2.14
ExtUtils::MakeMaker 7.34
ExtUtils::Manifest 1.70
ExtUtils::ParseXS 3.39
File::Spec 3.74
JSON n/a
JSON::PP 2.97001
Module::Build 0.4224
Module::Signature n/a
Parse::CPAN::Meta 2.150010
Test::Harness 3.42
Test::More 1.302133
YAML n/a
YAML::Syck n/a
version 0.9923
--
Summary of my perl5 (revision 5 version 28 subversion 0) configuration:
Platform:
osname=linux
osvers=4.15.0-2-amd64
archname=x86_64-linux
uname='linux cel 4.15.0-2-amd64 #1 smp debian 4.15.11-1 (2018-03-20) x86_64 gnulinux '
config_args='-de -Dprefix=/home/leo/perl5/perlbrew/perls/perl-5.28.0 -Aeval:scriptdir=/home/leo/perl5/perlbrew/perls/perl-5.28.0/bin'
hint=recommended
useposix=true
d_sigaction=define
useithreads=undef
usemultiplicity=undef
use64bitint=define
use64bitall=define
uselongdouble=undef
usemymalloc=n
default_inc_excludes_dot=define
bincompat5005=undef
Compiler:
cc='cc'
ccflags ='-fwrapv -fno-strict-aliasing -pipe -fstack-protector-strong -I/usr/local/include -D_LARGEFILE_SOURCE -D_FILE_OFFSET_BITS=64 -D_FORTIFY_SOURCE=2'
optimize='-O2'
cppflags='-fwrapv -fno-strict-aliasing -pipe -fstack-protector-strong -I/usr/local/include'
ccversion=''
gccversion='7.3.0'
gccosandvers=''
intsize=4
longsize=8
ptrsize=8
doublesize=8
byteorder=12345678
doublekind=3
d_longlong=define
longlongsize=8
d_longdbl=define
longdblsize=16
longdblkind=3
ivtype='long'
ivsize=8
nvtype='double'
nvsize=8
Off_t='off_t'
lseeksize=8
alignbytes=8
prototype=define
Linker and Libraries:
ld='cc'
ldflags =' -fstack-protector-strong -L/usr/local/lib'
libpth=/usr/local/lib /usr/lib/gcc/x86_64-linux-gnu/7/include-fixed /usr/include/x86_64-linux-gnu /usr/lib /lib/x86_64-linux-gnu /lib/../lib /usr/lib/x86_64-linux-gnu /usr/lib/../lib /lib
libs=-lpthread -lnsl -ldl -lm -lcrypt -lutil -lc
perllibs=-lpthread -lnsl -ldl -lm -lcrypt -lutil -lc
libc=
so=so
useshrplib=false
libperl=libperl.a
gnulibc_version='2.27'
Dynamic Linking:
dlsrc=dl_dlopen.xs
dlext=so
d_dlsymun=undef
ccdlflags='-Wl,-E'
cccdlflags='-fPIC'
lddlflags='-shared -O2 -L/usr/local/lib -fstack-protector-strong'
Characteristics of this binary (from libperl):
Compile-time options:
HAS_TIMES
PERLIO_LAYERS
PERL_COPY_ON_WRITE
PERL_DONT_CREATE_GVSV
PERL_MALLOC_WRAP
PERL_OP_PARENT
PERL_PRESERVE_IVUV
USE_64_BIT_ALL
USE_64_BIT_INT
USE_LARGE_FILES
USE_LOCALE
USE_LOCALE_COLLATE
USE_LOCALE_CTYPE
USE_LOCALE_NUMERIC
USE_LOCALE_TIME
USE_PERLIO
USE_PERL_ATOF
Built under linux
Compiled at Aug 2 2018 22:17:56
%ENV:
PERL5LIB="/home/leo/.cpan/build/Protocol-WebSocket-0.24-0/blib/arch:/home/leo/.cpan/build/Protocol-WebSocket-0.24-0/blib/lib"
PERL5OPT=""
PERL5_CPANPLUS_IS_RUNNING="20104"
PERL5_CPAN_IS_RUNNING="20104"
PERL_USE_UNSAFE_INC="1"
@INC:
/home/leo/.cpan/build/Protocol-WebSocket-0.24-0/blib/arch
/home/leo/.cpan/build/Protocol-WebSocket-0.24-0/blib/lib
/home/leo/perl5/perlbrew/perls/perl-5.28.0/lib/site_perl/5.28.0/x86_64-linux
/home/leo/perl5/perlbrew/perls/perl-5.28.0/lib/site_perl/5.28.0
/home/leo/perl5/perlbrew/perls/perl-5.28.0/lib/5.28.0/x86_64-linux
/home/leo/perl5/perlbrew/perls/perl-5.28.0/lib/5.28.0
.