Bot-IRC v1.40 Perl 5 v5.30.3 x86_64-linux

Status
Pass
From
Slaven Rezić
Dist
Bot-IRC v1.40
Platform
Perl 5 v5.30.3 x86_64-linux
Date
2023-08-21T20:08:04
ID
70311164-405e-11ee-98a3-f53a6e8775ea
This distribution has been tested as part of the CPAN Testers
project, supporting the Perl programming language.  See
http://wiki.cpantesters.org/ for more information or email
questions to cpan-testers-discuss@perl.org


--
Dear Gryphon Shafer,

This is a computer-generated report for Bot-IRC-1.40
on perl 5.30.3, created by CPAN-Reporter-1.2019.

Thank you for uploading your work to CPAN.  Congratulations!
All tests were successful.

Sections of this report:

    * Tester comments
    * Program output
    * Prerequisites
    * Environment and other context

------------------------------
TESTER COMMENTS
------------------------------

Additional comments from tester:

none provided

------------------------------
PROGRAM OUTPUT
------------------------------

Output from '/usr/bin/make test':

PERL_DL_NONLAZY=1 "/opt/perl-5.30.3/bin/perl" "-MExtUtils::Command::MM" "-MTest::Harness" "-e" "undef *Test::Harness::Switches; test_harness(0, 'blib/lib', 'blib/arch')" t/*.t
t/00-compile.t ........... ok
t/author-eol.t ........... skipped: these tests are for testing by the author
t/author-no-tabs.t ....... skipped: these tests are for testing by the author
t/author-pod-coverage.t .. skipped: these tests are for testing by the author
t/author-pod-syntax.t .... skipped: these tests are for testing by the author
t/author-portability.t ... skipped: these tests are for testing by the author
t/author-synopsis.t ...... skipped: these tests are for testing by the author
t/bot-irc-api.t .......... ok
t/bot-irc-run.t .......... ok
t/convert.t .............. ok
t/functions.t ............ ok
t/greeting.t ............. ok
t/history.t .............. ok
t/infobot.t .............. ok
t/join.t ................. ok
t/karma.t ................ ok
t/math.t ................. ok
t/ping.t ................. ok
t/release-kwalitee.t ..... skipped: these tests are for release candidate testing
t/seen.t ................. ok
t/store-sqlite.t ......... ok
t/store.t ................ ok
All tests successful.
Files=22, Tests=70,  4 wallclock secs ( 0.05 usr  0.02 sys +  3.43 cusr  0.38 csys =  3.88 CPU)
Result: PASS

------------------------------
PREREQUISITES
------------------------------

Prerequisite modules loaded:

requires:

    Module                            Need  Have    
    --------------------------------- ----- --------
    Daemon::Device                    0     1.10    
    Date::Format                      0     2.24    
    Date::Parse                       0     2.33    
    DateTime                          0     1.59    
    DateTime::Format::Human::Duration 0     0.64    
    DBD::SQLite                       0     1.72    
    DBI                               0     1.643   
    Email::Mailer                     0     1.18    
    Email::Valid                      0     1.203   
    Encode                            0     3.19    
    Encode::Detect::Detector          0     1.01    
    exact                             1.14  1.20    
    exact::class                      1.10  1.16    
    File::Grep                        0     0.02    
    IO::Socket::IP                    0     0.42    
    IO::Socket::SSL                   0     2.083   
    JSON::XS                          0     4.03    
    Math::Expression                  0     1.48    
    Math::Units                       0     1.3     
    perl                              5.014 5.030003
    strict                            0     1.11    
    Time::Crontab                     0     0.04    
    warnings                          0     1.44    
    YAML::XS                          0     0.88    

build_requires:

    Module                            Need  Have    
    --------------------------------- ----- --------
    exact::class                      1.10  1.16    
    ExtUtils::MakeMaker               0     7.70    
    File::Spec                        0     3.78    
    IO::Handle                        0     1.51    
    IPC::Open3                        0     1.20    
    Test2::Mock                       0     0.000155
    Test2::V0                         0     0.000155
    Test::Lib                         0     0.003   
    Test::More                        0     1.302195
    Test::Output                      0     1.034   

configure_requires:

    Module                            Need  Have    
    --------------------------------- ----- --------
    ExtUtils::MakeMaker               0     7.70    
    perl                              5.014 5.030003


------------------------------
ENVIRONMENT AND OTHER CONTEXT
------------------------------

Environment variables:

    LANG = C
    PATH = /usr/local/bin:/usr/bin:/bin:/usr/local/sbin:/usr/sbin:/sbin:/home/cpansand/bin/linux-gnu:/home/cpansand/bin/sh:/home/cpansand/bin:/usr/games:/home/cpansand/devel:/home/eserte/src/srezic-misc/scripts
    PERL5LIB = 
    PERL5OPT = 
    PERL5_CPANPLUS_IS_RUNNING = 10421
    PERL5_CPAN_IS_RUNNING = 10421
    PERL5_CPAN_IS_RUNNING_IN_RECURSION = 6558,10421
    PERLDOC = -MPod::Perldoc::ToTextOverstrike
    PERL_BATCH = yes
    PERL_CANARY_STABILITY_NOPROMPT = 1
    PERL_CPAN_REPORTER_CONFIG = /var/tmp/cpansmoker-1023/2023082119/cpanreporter_000_config.ini
    PERL_EXTUTILS_AUTOINSTALL = --defaultdeps
    PERL_USE_UNSAFE_INC = 1
    SHELL = /usr/bin/zsh
    TERM = screen
    TMPDIR = /var/tmp/cpansmoker-1023/2023082119

Perl special variables (and OS-specific diagnostics, for MSWin32):

    $^X = /opt/perl-5.30.3/bin/perl
    $UID/$EUID = 1023 / 1023
    $GID = 1023 1023
    $EGID = 1023 1023

Perl module toolchain versions installed:

    Module              Have    
    ------------------- --------
    CPAN                2.36    
    CPAN::Meta          2.150010
    Cwd                 3.78    
    ExtUtils::CBuilder  0.280236
    ExtUtils::Command   7.70    
    ExtUtils::Install   2.22    
    ExtUtils::MakeMaker 7.70    
    ExtUtils::Manifest  1.75    
    ExtUtils::ParseXS   3.44    
    File::Spec          3.78    
    JSON                4.10    
    JSON::PP            4.16    
    Module::Build       0.4234  
    Module::Signature   0.88    
    Parse::CPAN::Meta   2.150010
    Test2               1.302195
    Test::Harness       3.47    
    Test::More          1.302195
    YAML                1.30    
    YAML::Syck          1.34    
    version             0.9929  


--

Summary of my perl5 (revision 5 version 30 subversion 3) configuration:
   
  Platform:
    osname=linux
    osvers=4.19.0-17-amd64
    archname=x86_64-linux
    uname='linux cloud12.bbbike.org 4.19.0-17-amd64 #1 smp debian 4.19.194-3 (2021-07-18) x86_64 gnulinux '
    config_args='-ds -e -Dprefix=/opt/perl-5.30.3 -Dcf_email=srezic@cpan.org'
    hint=recommended
    useposix=true
    d_sigaction=define
    useithreads=undef
    usemultiplicity=undef
    use64bitint=define
    use64bitall=define
    uselongdouble=undef
    usemymalloc=n
    default_inc_excludes_dot=define
    bincompat5005=undef
  Compiler:
    cc='cc'
    ccflags ='-fwrapv -fno-strict-aliasing -pipe -fstack-protector-strong -I/usr/local/include -D_LARGEFILE_SOURCE -D_FILE_OFFSET_BITS=64 -D_FORTIFY_SOURCE=2'
    optimize='-O2'
    cppflags='-fwrapv -fno-strict-aliasing -pipe -fstack-protector-strong -I/usr/local/include'
    ccversion=''
    gccversion='8.3.0'
    gccosandvers=''
    intsize=4
    longsize=8
    ptrsize=8
    doublesize=8
    byteorder=12345678
    doublekind=3
    d_longlong=define
    longlongsize=8
    d_longdbl=define
    longdblsize=16
    longdblkind=3
    ivtype='long'
    ivsize=8
    nvtype='double'
    nvsize=8
    Off_t='off_t'
    lseeksize=8
    alignbytes=8
    prototype=define
  Linker and Libraries:
    ld='cc'
    ldflags =' -fstack-protector-strong -L/usr/local/lib'
    libpth=/usr/local/lib /usr/lib/gcc/x86_64-linux-gnu/8/include-fixed /usr/include/x86_64-linux-gnu /usr/lib /lib/x86_64-linux-gnu /lib/../lib /usr/lib/x86_64-linux-gnu /usr/lib/../lib /lib /lib64 /usr/lib64
    libs=-lpthread -lnsl -ldb -ldl -lm -lcrypt -lutil -lc
    perllibs=-lpthread -lnsl -ldl -lm -lcrypt -lutil -lc
    libc=libc-2.28.so
    so=so
    useshrplib=false
    libperl=libperl.a
    gnulibc_version='2.28'
  Dynamic Linking:
    dlsrc=dl_dlopen.xs
    dlext=so
    d_dlsymun=undef
    ccdlflags='-Wl,-E'
    cccdlflags='-fPIC'
    lddlflags='-shared -O2 -L/usr/local/lib -fstack-protector-strong'


Characteristics of this binary (from libperl): 
  Compile-time options:
    HAS_TIMES
    PERLIO_LAYERS
    PERL_COPY_ON_WRITE
    PERL_DONT_CREATE_GVSV
    PERL_MALLOC_WRAP
    PERL_OP_PARENT
    PERL_PRESERVE_IVUV
    USE_64_BIT_ALL
    USE_64_BIT_INT
    USE_LARGE_FILES
    USE_LOCALE
    USE_LOCALE_COLLATE
    USE_LOCALE_CTYPE
    USE_LOCALE_NUMERIC
    USE_LOCALE_TIME
    USE_PERLIO
    USE_PERL_ATOF
  Locally applied patches:
    Devel::PatchPerl 2.08
  Built under linux
  Compiled at Sep  5 2021 12:40:43
  %ENV:
    PERL5LIB=""
    PERL5OPT=""
    PERL5_CPANPLUS_IS_RUNNING="10421"
    PERL5_CPAN_IS_RUNNING="10421"
    PERL5_CPAN_IS_RUNNING_IN_RECURSION="6558,10421"
    PERLDOC="-MPod::Perldoc::ToTextOverstrike"
    PERL_BATCH="yes"
    PERL_CANARY_STABILITY_NOPROMPT="1"
    PERL_CPAN_REPORTER_CONFIG="/var/tmp/cpansmoker-1023/2023082119/cpanreporter_000_config.ini"
    PERL_EXTUTILS_AUTOINSTALL="--defaultdeps"
    PERL_USE_UNSAFE_INC="1"
  @INC:
    /opt/perl-5.30.3/lib/site_perl/5.30.3/x86_64-linux
    /opt/perl-5.30.3/lib/site_perl/5.30.3
    /opt/perl-5.30.3/lib/5.30.3/x86_64-linux
    /opt/perl-5.30.3/lib/5.30.3
    .